{"text_format":"1","workbook":"xlsx","n_sheets":13,"sheets":["NewConst","Hourly Profiles","Monthly Profiles","Detailed Lighting","Detailed MEL","LookupTables","IntCalc","DHW","Appliances","Lighting","Sunrise Calc","Locations","Neutral Cost"],"not_rendered":{"charts":15,"images":2,"macros":1,"external_links":1,"defined_names":101,"comments":5,"pivot_tables":0},"unopened":[],"bounds":{"document_bytes":16777216,"sheet_cells":100000,"rows_first":2000,"rows_last":500,"rows_between":2000,"halvings":0,"cell_chars":16384,"cell_head_chars":4096},"cells_cut":0,"cells_raw":0,"read":"whole","date_system":"1900"}

{"sheet":"NewConst","index":0,"n_rows":437,"n_cols":26,"rows_kept":437,"cut":false,"hidden":false,"merged":[[268,2,268,5],[201,2,201,5],[233,2,233,5],[185,5,186,5],[148,2,148,3],[157,2,157,5],[245,2,245,5],[149,2,149,5],[182,5,183,5],[189,5,190,5],[392,2,392,5],[397,2,397,5],[428,2,428,5],[284,2,284,5],[320,2,320,5],[356,2,356,5],[367,2,367,5],[376,2,376,5],[89,2,90,2],[1,7,1,9],[88,6,88,8],[49,6,54,7],[6,4,6,5],[9,4,9,5],[8,4,8,5],[83,2,83,5],[2,2,3,4],[0,1,1,4],[90,6,91,6],[4,1,4,3],[184,6,184,8],[187,6,188,8],[192,6,192,8],[123,6,123,8],[127,6,127,8],[94,2,94,5],[178,2,178,5],[109,2,109,5],[108,4,108,5],[181,6,181,8]]}
[null,"New Construction - Benchmark and NCTH"]
[]
[null,null,"Last modified December 17, 2010.  This sheet contains the NCTH inputs (orange cells), the corresponding B10 Benchmark specifications, and specifications for modeling the NCTH."]
[]
[null,"Characteristics",null,null,"B10 Benchmark","New Construction \nTest House"]
["Default",null,"Building Site and Geometry",null,null,null,null,null,null,null,null,null,null,null,null,null,"Used for cell validation:"]
["Denver Intl AP, CO",null,"Site",null,"Denver Intl Ap, CO",null,null,null,null,null,null,null,null,null,null,null,"YES","NO"]
[null,null,"Climate Zone (IECC 2009, Building America)",null,{"$f":"Locations!$CZ$2","v":"5B"},{"$f":"\",  \" & Locations!$CY$2","v":",  Cold"},null,null,null,null,null,null,null,null,null,null,0,1,2,3]
[null,null,"Annual Heating Degree Days","deg-days",{"$f":"Locations!L2","v":5632.2},null,null,null,null,null,null,null,null,null,null,null,"Gas","Electric","None or Other"]
[null,null,"Annual Cooling Degree Days","deg-days",{"$f":"Locations!M2","v":952.2},null,null,null,null,null,null,null,null,null,null,null,"Slab on grade","Basement","Crawlspace","Exposed floor"]
[0,null,"Home Type (0=Single Family Detached, 1=Single Family Attached, 2=Multi-family)",null,{"$f":"HomeType","v":0},0,null,null,null,null,null,null,null,null,null,null,"DOE2","TRNSYS"]
[1800,null,"Finished Floor Area of unit, Above Grade","ft²",{"$f":"FFA","v":2296},2296,{"$f":"IF(HomeType=2,\"for the unit being modeled, not entire building\",\"\")","v":""}]
[2,null,"Num Floors of unit (Above Grade)","#",{"$f":"F13","v":2},2,{"$f":"IF(HomeType=2,\"for the unit being modeled, not entire building\",\"\")","v":""},null,null,null,null,null,null,null,null,null,"Gas","Electric","NA"]
[1,null,"Building Aspect Ratio (Width/Depth)","ratio",1,1,null,null,null,null,null,null,null,null,null,null,"Option","BAB","NCTH"]
[1,null,"Foundation Type (0=slab, 1=basement, 2=crawlspace, 3=exposed floor)","0/1/2/3",{"$f":"FndType&\" - \"&HLOOKUP(FndType,$Q$8:$T$10,3)","v":"1 - Basement"},1]
[900,null,"Basement Floor Area","sq ft",900,900,null,null,null,null,null,null,null,null,null,null,"Vented","Unvented"]
["NO",null,"Basement Finished?","YES/NO","NO","NO",null,null,null,null,null,null,null,null,null,null,13,14,15,16,17,18,19,20,21,"NA"]
[null,null,"Conditioned Floor Area(incl. conditioned basement)","ft²",{"$f":"FFA+IF(NewConst!F15=1,IF(OR(NewConst!F21=\"yes\", NewConst!F22=\"yes\",NewConst!F23=\"yes\"),NewConst!F16,0),0)","v":2296},{"$f":"E18","v":2296},null,null,null,null,null,null,null,null,null,null,"End Unit","Middle Unit"]
[null,null,"Total Floor Area (conditioned+unconditioned)","ft²",{"$f":"IntCalc!E8","v":3196},{"$f":"E19","v":3196},null,null,null,null,null,null,null,null,null,null,"Top","Middle Unit","Bottom"]
[2,null,"Foundation Height Above Grade","ft",2,2]
["NO",null,"Heated Slab?","YES/NO","NO","NO"]
["NO",null,"Basement or Crawlspace Walls Insulated?","YES/NO","NO","NO"]
["NO",null,"Supply Register(s) in Basement or Crawlspace?","YES/NO","NO","NO"]
["Vented",null,"Crawlspace Vented or Unvented?","Vented/Unvented","Vented","Vented"]
["Vented",null,"Attic Vented or Unvented","Vented/Unvented","Vented","Vented"]
[3,null,"Number of Bedrooms (6 maximum)","#",{"$f":"F26","v":3},3]
[2,null,"Number of Bathrooms (0.5 increments, 1 - minimum, 3.5 - maximum)","#",2,2]
[2,null,"Garage Type (0 = none, 1 = 1car, 2 = 2 car)","0/1/2",2,2]
[20,null,"Garage Depth","ft",20,20]
[10,null,"Garage Protrusion","ft",10,10]
[400,null,"Total Garage Floor Area","sq ft",400,400]
[8,null,"Basement Wall Height","ft",8,8]
[4,null,"Crawlspace Wall Height","ft",4,4]
[8,null,"Floor-to-floor Height","ft",8,8]
[0,"mf","Length of all common/party walls (assumed to be same for all floors and foundation)","ft",{"$f":"F35","v":0},0]
[0,"mf","Length of exterior walls adjacent to exterior hallways","ft",0,0]
[1,"mf","Unit location (0=ground floor, 1=middle floor(s), 2=top floor, 3=unit occupies ground and top floors)","0/1/2/3",{"$f":"F37","v":1},1]
[200,"mf","Number of units in multi-family complex","#",{"$f":"F38","v":200},200]
[50,"mf","Number of garages in multi-family complex ","#",50,50]
[null,"mf","Multi-family Common Area Finished Floor Area"]
[250,"mf","          Central Laundry","sq ft",250,250]
[1200,"mf","          Office","sq ft",1200,1200]
[3000,"mf","          Indoor Corridor","sq ft",3000,3000]
[225,"mf","          Workout Room","sq ft",225,225]
[50,"mf","          Central Restroom","sq ft",50,50]
[400,"mf","          Electrical Equipment Room","sq ft",{"$f":"F46","v":200},200]
[400,"mf","          Multi-purpose Room","sq ft",400,400]
[0,"mf","Number of Elevators","#",1,1]
[null,null,"Window Area and Orientation"]
[2,null,"Solar orientation neutrality option (Option 1 or Option 2)","1 or 2 ",1,null,{"$f":"IF($E$50=1,\"Note: Four rotations cases for the Benchmark must be modeled.\",\"\")","v":"Note: Four rotations cases for the Benchmark must be modeled."}]
[100,null,"Window area on south side","sqft",{"$f":"IF($E$50=1,$F51/$F$55*$E$55,IF($E$50=2,$E$55/4,\"error\"))","v":135.4757352919014},150]
[100,null,"Window area on west side","sqft",{"$f":"IF($E$50=1,$F52/$F$55*$E$55,IF($E$50=2,$E$55/4,\"error\"))","v":45.158578430633796},50]
[100,null,"Window area on north side","sqft",{"$f":"IF($E$50=1,$F53/$F$55*$E$55,IF($E$50=2,$E$55/4,\"error\"))","v":90.317156861267591},100]
[100,null,"Window area on east side","sqft",{"$f":"IF($E$50=1,$F54/$F$55*$E$55,IF($E$50=2,$E$55/4,\"error\"))","v":90.317156861267591},100]
[400,null,"Total Window area","sqft",{"$f":"IF(HomeType=2,0.3,0.15)*(A_ExWaLiv*E13+A_ExWaBsm)","v":361.26862744507036},{"$f":"SUM(F51:F54)","v":400}]
["user specified",null,"Percentage of Window Area on each façade that can be opened for nat. vent.","%",33]
[null,null,"Building Envelope Characteristics"]
[null,"cmt","Attic floor/Ceiling R-value","hr-F-ft²/Btu",{"$f":"VLOOKUP(ClimateZone,LookupTables!$H$5:$Q$24,2)","v":38}]
[null,"cmt","Framing Factor (below unconditioned space)","%",0.11]
[null,"cmt","Frame wall cavity R-value","hr-F-ft²/Btu",{"$f":"IF(HomeType=0,VLOOKUP(ClimateZone,LookupTables!$H$5:$Q$24,3),VLOOKUP(ClimateZone,LookupTables!$H$5:$Q$24,5))","v":13}]
[null,"cmt","Insulating sheathing R-value","hr-F-ft²/Btu",{"$f":"IF(HomeType=0,VLOOKUP(ClimateZone,LookupTables!$H$5:$Q$24,4),0)","v":5}]
[null,"cmt","Wall Framing","2x4 or 2x6",{"$f":"IF(E60>=19,\"2x6\",\"2x4\")&\", 16\"\" o.c\"","v":"2x4, 16\" o.c"}]
[null,"cmt","Wall Framing Factor","%",0.23]
[null,"cmt","Stud R-value","hr-F-ft²/Btu",{"$f":"IF(NewConst!$E$62=\"2x4\",4.38,6.88)","v":6.88}]
[null,null,"Remaining wall assembly components"]
[null,"cmt","1/2\" drywall R-value","hr-F-ft²/Btu",0.45]
[null,"cmt","1/2\" plywood R-value","hr-F-ft²/Btu",0.62]
[null,"cmt","Stucco R-value","hr-F-ft²/Btu",0.2]
[null,"cmt","Floor over unconditioned space R-value","hr-F-ft²/Btu",{"$f":"VLOOKUP(ClimateZone,LookupTables!$H$5:$Q$24,6)","v":30}]
[null,"cmt","Basement wall R-value (continuous insulation)","hr-F-ft²/Btu",{"$f":"VLOOKUP(ClimateZone,LookupTables!$H$5:$Q$24,7)","v":10}]
[null,"cmt","Crawlspace wall R-value (continuous insulation)","hr-F-ft²/Btu",{"$f":"VLOOKUP(ClimateZone,LookupTables!$H$5:$Q$24,8)","v":10}]
[null,"cmt","Floor/basement ceiling Framing Factor","%",0.13]
[null,"cmt","Slab insulation R-value (continuous insulation)",null,{"$f":"VLOOKUP(ClimateZone,LookupTables!$H$5:$Q$24,9)","v":10}]
[null,"cmt","Slab insulation depth","ft",{"$f":"VLOOKUP(ClimateZone,LookupTables!$H$5:$Q$24,10)","v":2}]
[null,"cmt","Window U-value (entire assembly)","Btu/hr-F-ft²",{"$f":"VLOOKUP(ClimateZone,LookupTables!$H$5:$T$24,12)","v":0.35}]
[null,"cmt","Window SHGC (entire assembly)",null,{"$f":"VLOOKUP(ClimateZone,LookupTables!$H$5:$T$24,13)","v":0.35}]
[null,"cmt","Door U-value (air to air)","Btu/hr-F-ft²",0.2]
[null,"cmt","Solar Absorptivity, opaque exterior wall",null,0.5]
[null,"cmt","Solar Absorptivity, opaque roof",null,0.75]
[null,"cmt","Total Emittance, exterior walls/roof",null,0.9]
[null,"cmt","Fraction of Floor Area - Carpet","%",80]
[null,"cmt","Carpet R-value","hr-F-ft²/Btu",2]
[null,"cmt","Unfinished attic - ventilation opening area","sqft","1 ft²  per 300 ft² ceiling area"]
[null,null,"Space Conditioning"]
["Gas or oil fired furnace",null,"Heating Equipment Type",null,{"$f":"VLOOKUP(NewConst!F85,LookupTables!B4:F15,3,FALSE)","v":"78% AFUE gas furnace"},"Gas or oil fired furnace"]
[null,"cmt",{"$f":"\"Heating System Efficiency\"&\" \"&IF(E86<1,\"(AFUE)\",\"(HSPF)\")","v":"Heating System Efficiency (AFUE)"},null,{"$f":"VLOOKUP(NewConst!F85,LookupTables!B4:F15,5,FALSE)","v":0.78}]
[null,"cmt","Heating Fuel Type",null,{"$f":"VLOOKUP(NewConst!F85,LookupTables!B4:F15,4,FALSE)","v":"Gas"}]
["YES",null,"Does the NCTH have a duct system for heating?","YES/NO",null,"YES"]
["Split system central (or mini-split) A/C",null,"Cooling Equipment Type",null,{"$f":"IF(NewConst!F85=\"Other Electric or No System\",LookupTables!D17,VLOOKUP(NewConst!F89,LookupTables!B16:F23,3,FALSE))","v":"13 SEER air conditioner"},"Split system central (or mini-split) A/C",{"$f":"IF(F89=\"No cooling system\",IF(NewConst!F88=\"YES\",\"If cooling load is non-zero, model the NCTH with a 13 SEER split system\",\"If cooling load is non-zero, model the NCTH with a 9 EER room A/C\"),\"\")","v":""}]
[13,null,"Cooling Equipment SEER rating (for DX cooling systems)",null,null,13,"(as installed"]
[null,null,null,null,{"$f":"IF(NewConst!F85=\"Other Electric or No System\",LookupTables!F17,VLOOKUP(NewConst!F89,LookupTables!B16:F23,5,FALSE))","v":13},{"$f":"IF(F89=\"No cooling system\",IF(NewConst!F88=\"YES\",13,9.7229),NewConst!$F$90)","v":13},"(for modeling)"]
[null,null,"Cooling System Approximate EER",null,{"$f":"-0.02*E91^2+1.12*E91","v":11.180000000000003},{"$f":"IF(NewConst!$F$90=\"NA\",NA(),-0.02*F91^2+1.12*F91)","v":11.180000000000003}]
[null,"cmt","Dehumidifier?","YES/NO","YES"]
[null,"cmt","Dehumidifier Energy Factor (EF)","L/kWh",1.2]
[null,null,"Distribution System"]
[null,"cmt","AH Fan Efficiency","W/cfm",0.36399999999999999]
[4,null,"Number of return registers ","#",{"$f":"Nreturns","v":4},4]
[null,"cmt","Supply Duct Surface Area","ft²",{"$f":"LookupTables!AF5","v":459.20000000000005}]
[null,"cmt","Return Duct Surface Area","ft²",{"$f":"LookupTables!AF6","v":367.36}]
[null,"cmt","Supply/return duct insulation (inside thermal envelope)","hr-F-ft²/Btu",{"$f":"LookupTables!AF8","v":"None"}]
[null,"cmt","Supply duct insulation within attic","hr-F-ft²/Btu",{"$f":"LookupTables!AF9","v":"R-8"}]
[null,"cmt","Supply/return duct insulation (all other locations)","hr-F-ft²/Btu",{"$f":"LookupTables!AF10","v":"R-6"}]
[null,"cmt","Duct material",null,{"$f":"LookupTables!AF12","v":"Sheet metal"}]
[null,"cmt","Duct leakage excluding air handler (inside and outside)",null,{"$f":"LookupTables!AF13","v":"10% of air handler flow (9% supply, 1% return)"}]
[null,"cmt","Air handler leakage (inside and outside)",null,{"$f":"LookupTables!AF14","v":"5% of air handler flow (1% supply, 4% return)"}]
[null,"cmt","Percent of duct/air handler leakage imbalance (supply minus return) made up by outside air (OA)","%",{"$f":"LookupTables!AF15","v":"0% OA"}]
[null,"cmt","Supply duct location",null,{"$f":"LookupTables!AF18","v":"65% crawlspace, 35% above-grade conditioned space"}]
[null,"cmt","Return duct and air handler location",null,{"$f":"LookupTables!AF25","v":"100% crawlspace"}]
[null,null,null,null,"see footnotes in House Simulation Protocols, p9"]
[null,null,"Domestic Hot Water (DHW)"]
["Gas",null,"Fuel Type (gas or electric)","G/E",{"$f":"IF(NewConst!F111=\"Gas\",\"Gas\",IF(NewConst!F111=\"Electric\",\"Electric\",NewConst!E87))","v":"Gas"},"Gas"]
[null,null,"Tank Setpoint","deg F",130,130]
[40,null,"Tank Nominal Volume","gal",{"$f":"HLOOKUP(Nbath,LookupTables!$AJ$12:$AV$14,2)","v":30},40]
[45,null,"Height","in",null,45]
[0.54,null,"Energy Factor (EF)",null,{"$f":"IF(E111=\"Gas\",0.67-(0.0019*V),IF(E111=\"Electric\",0.97-(0.00132*V),\"Fuel Type Not Defined\"))","v":0.61299999999999999},0.54]
[0.76,null,"Recovery Efficiency",null,{"$f":"IF(E111=\"Gas\",0.78,IF(E111=\"Electric\",1,\"Fuel Type Not Defined\"))","v":0.78},0.76]
[36,null,"Rated input power (Burner Capacity)",{"$f":"LookupTables!AK14","v":"kBtu/h"},{"$f":"HLOOKUP(Nbath,LookupTables!$AJ$12:$AV$14,3)","v":36},36]
[null,null,"Tank UA","Btu/hr-F",{"$f":"IF(E111=\"Gas\",DHW!$K$50,IF(E111=\"Electric\",DHW!$J$50,\"Fuel Type Not Defined\"))","v":11.030961713529027},{"$f":"DHW!N50","v":11.326496604965174}]
[null,null,"TRNSYS Inputs"]
[null,null,"Height (TRNSYS input)","m",null,{"$f":"F114*2.54/100","v":1.143}]
[null,null,"Volume (TRNSYS input)","m^3",null,{"$f":"IF(F111=\"Electric\",0.9*(F113/264.172),0.95*(F113/264.172))","v":0.14384567630180334}]
[null,null,"U_stdby (TRNSYS input)","kJ/(h m² K)",null,{"$f":"DHW!N47*5.678*3.6","v":12.73307259334336}]
[null,null,"Input Capacity (TRNSYS input)","kJ/hr",null,{"$f":"IF(F111=\"Electric\",F117*3600,F117*1055)","v":37980}]
["Split system central (or mini-split) A/C",null,"Low-Flow Fixture Options",null,null,null,{"$f":"IF(F124=\"No cooling system\",IF(NewConst!F123=\"YES\",\"If cooling load is non-zero, model the NCTH with a 13 SEER split system\",\"If cooling load is non-zero, model the NCTH with a 9 EER room A/C\"),\"\")","v":""}]
["NO",null,"Faucet aerators on all sinks?",null,"NO","NO"]
["NO","mf","Faucet aerators on all common area sinks?",null,"NO","NO"]
["NO",null,"Low-flow showerheads in all showers?",null,"NO","NO"]
["Split system central (or mini-split) A/C",null,"DHW Usage"]
[null,null,"Clothes washer DHW Use","gal/day (hot only)",{"$f":"2.35+0.78*N_br","v":4.6899999999999995},{"$f":"E129","v":4.6899999999999995}]
[null,"mf","Common area laundry water use (hot only)","gal/day (hot)",{"$f":"2.47*Nunits","v":494.00000000000006},{"$f":"E130","v":494.00000000000006}]
[null,null,"Dishwasher DHW Use","gal/day (hot only)",{"$f":"2.26+0.75*N_br","v":4.51},4.51]
[null,null,"Shower - water use","gal/day (hot and cold)",{"$f":"14+4.67*N_br","v":28.009999999999998},{"$f":"E132*IF($F$127=\"YES\",0.66,1)","v":28.009999999999998}]
[null,null,"Bath - water use","gal/day (hot and cold)",{"$f":"3.5+1.17*N_br","v":7.01},7.01]
[null,null,"Sinks - water use","gal/day (hot and cold)",{"$f":"12.5+4.16*N_br","v":24.98},{"$f":"E134*IF($F$125=\"YES\",0.44,1)","v":24.98}]
[2,"mf","How many sinks does mutli-family common area have? (Include kitch. & bath)","#",2,2]
[null,"mf","Office/public sink(s) water Use (hot and cold)","gal/day (hot and cold)",{"$f":"0.028*Nunits","v":5.6000000000000005},{"$f":"E136*IF($F$126=\"YES\",0.44,1)","v":5.6000000000000005}]
[null,null,"Shower DHW Use Sensible Gain","Btu/day",{"$f":"741+247*N_br","v":1482},{"$f":"E137*IF($F$127=\"YES\",0.66,1)","v":1482}]
[null,null,"Bath DHW Use Sensible Gain","Btu/day",{"$f":"185+62*N_br","v":371},371]
[null,null,"Sink DHW Use Sensible Gain","Btu/day",{"$f":"310+103*N_br","v":619},{"$f":"E139*IF($F$125=\"YES\",0.44,1)","v":619}]
[null,"mf","Office/public sink(s) DHW Use Sensible Gain","Btu/day",{"$f":"IF(HomeType=2, (0.69*Nunits), \"N/A\")","v":"N/A"},{"$f":"E140*IF($F$126=\"YES\",0.44,1)","v":{"$error":"#VALUE!"}}]
[null,null,"Shower DHW Use Latent Gain","Btu/day",{"$f":"703+235*N_br","v":1408},{"$f":"E141*IF($F$127=\"YES\",0.66,1)","v":1408}]
[null,null,null,"pints/day",{"$f":"0.7+0.23*N_br","v":1.3900000000000001},{"$f":"E142*IF($F$127=\"YES\",0.66,1)","v":1.3900000000000001}]
[null,null,"Bath DHW Use Latent Gain","Btu/day","negligible","negligible"]
[null,null,null,"pints/day","negligible","negligible"]
[null,null,"Sink DHW Use Latent Gain","Btu/day",{"$f":"140+47*N_br","v":281},{"$f":"E145*IF($F$125=\"YES\",0.44,1)","v":281}]
[null,null,null,"pints/day",{"$f":"0.14+0.05*N_br","v":0.29000000000000004},{"$f":"E146*IF($F$125=\"YES\",0.44,1)","v":0.29000000000000004}]
[null,"mf","Office/public sink(s) DHW Use Latent Gain","Btu/day",{"$f":"IF(HomeType=2, (0.314*Nunits), \"N/A\")","v":"N/A"},{"$f":"E147*IF($F$126=\"YES\",0.44,1)","v":{"$error":"#VALUE!"}}]
[null,"mf",null,"pints/day",{"$f":"IF(HomeType=2, (0.000314*Nunits), \"N/A\")","v":"N/A"},{"$f":"E148*IF($F$126=\"YES\",0.44,1)","v":{"$error":"#VALUE!"}}]
[null,null,"Use the DHW Event Schedule Generation Tool if necessary"]
[null,null,"DHW Distribution"]
["Copper",null,"Pipe material",null,"Copper","Copper",null,"Copper"]
[0,null,"Pipe insulation R-Value",null,0,0,null,"PEX"]
["Trunk and branch",null,"Pipe layout",null,"see comment","Trunk and branch",null,"Trunk and branch","Home run"]
["None",null,"Recirculation type",null,"None","None",null,"Demand control"]
[null,null,"Recirc Pump Energy","kWh/yr",null,{"$f":"IF(NewConst!F154=\"Demand control\",-0.13+0.72*N_br+(0.13-0.17*N_br)*NewConst!F152/2,IF(NewConst!F154=\"Timer control\",193,0))","v":0},null,"Timer control"]
["Basement or interior space",null,"Primary pipe location",null,"Inside conditioned space","Basement or interior space",null,"None"]
[null,null,"Internal Heat Gain from distribution system",null,"see monthly profiles","see monthly profiles",null,"Basement or interior space"]
[null,null,"Infiltration",null,null,null,null,"Attic or garage"]
[null,null,"Blower Door test completed?","YES/NO",null,"YES (mandatory)"]
[100,null,"Effective Leakage Area (ELA) to the outside ","in2",{"$f":"$E$163*CFA_total/CONVERT(1,\"in\",\"ft\")^2","v":119.02464000000002},100]
[null,null,"Specific Leakage Area, Above grade",null,{"$f":"IF(HomeType=2,0.00006+0.0009*T,0.00036)","v":3.6000000000000002E-4}]
[null,null,"Specific Leakage Area, Basement",null,{"$f":"IF(IntCalc!E33=0,0,0.00036*(IntCalc!$E$34/IntCalc!$E$33))","v":9.0000000000000006E-5}]
[null,null,"Specific Leakage Area, overall",null,{"$f":"((CFA_bsmt*SLA_bsmt)+(CFA_ag*SLA_ag))/CFA_total","v":3.6000000000000002E-4},{"$f":"F160/CFA_total*CONVERT(1,\"in\",\"ft\")^2","v":3.0245838172667444E-4}]
["YES","mf","Blower Door test completed for multi-family common areas?","YES/NO",null,"YES"]
[null,"mf","Effective Leakage Area (common areas)",null,null,{"$f":"IF(MultifamBlowerDoor=\"NO\",\"(using Benchmark values)\",IF(MultifamBlowerDoor=\"YES\",\"(enter below)\",\"Error\"))","v":"(enter below)"}]
[50,"mf","          Central Laundry","in2",{"$f":"IF(F41=0,\"N/A\",E173*NewConst!F41/CONVERT(1,\"in\",\"ft\")^2)","v":6.8400000000000007},6.8400000000000007]
[50,"mf","          Office","in2",{"$f":"IF(F42=0,\"N/A\",E174*NewConst!F42/CONVERT(1,\"in\",\"ft\")^2)","v":62.208000000000013},62.208000000000013]
[50,"mf","          Indoor Corridor","in2",{"$f":"IF(F43=0,\"N/A\",E175*NewConst!F43/CONVERT(1,\"in\",\"ft\")^2)","v":30.240000000000002},30.240000000000002]
[50,"mf","          Workout Room","in2",{"$f":"IF(F44=0,\"N/A\",E176*NewConst!F44/CONVERT(1,\"in\",\"ft\")^2)","v":6.1560000000000006},6.1560000000000006]
[50,"mf","          Central Restroom","in2",{"$f":"IF(F45=0,\"N/A\",E177*NewConst!F45/CONVERT(1,\"in\",\"ft\")^2)","v":1.3680000000000001},1.3680000000000001]
[50,"mf","          Multi-purpose Room","in2",{"$f":"IF(F47=0,\"N/A\",E178*NewConst!F47/CONVERT(1,\"in\",\"ft\")^2)","v":15.552000000000001},15.552000000000001]
[null,"mf"," Specific Leakage Area (common areas)"]
[null,"mf","          Central Laundry",null,{"$f":"IF(E41=0,\"N/A\",0.00019)","v":1.9000000000000001E-4},{"$f":"IF(F41=0,\"N/A\",F166/F41*CONVERT(1,\"in\",\"ft\")^2)","v":1.9000000000000001E-4}]
[null,"mf","          Office",null,{"$f":"IF(E42=0,\"N/A\",0.00036)","v":3.6000000000000002E-4},{"$f":"IF(F42=0,\"N/A\",F167/F42*CONVERT(1,\"in\",\"ft\")^2)","v":3.6000000000000008E-4}]
[null,"mf","          Indoor Corridor",null,{"$f":"IF(E43=0,\"N/A\",0.00007)","v":6.9999999999999994E-5},{"$f":"IF(F43=0,\"N/A\",F168/F43*CONVERT(1,\"in\",\"ft\")^2)","v":6.9999999999999994E-5}]
[null,"mf","          Workout Room",null,{"$f":"IF(E44=0,\"N/A\",0.00019)","v":1.9000000000000001E-4},{"$f":"IF(F44=0,\"N/A\",F169/F44*CONVERT(1,\"in\",\"ft\")^2)","v":1.9000000000000001E-4}]
[null,"mf","          Central Restroom",null,{"$f":"IF(E45=0,\"N/A\",0.00019)","v":1.9000000000000001E-4},{"$f":"IF(F45=0,\"N/A\",F170/F45*CONVERT(1,\"in\",\"ft\")^2)","v":1.9000000000000001E-4}]
[null,"mf","          Multi-purpose Room",null,{"$f":"IF(E47=0,\"N/A\",0.00027)","v":2.7E-4},{"$f":"IF(F47=0,\"N/A\",F171/F47*CONVERT(1,\"in\",\"ft\")^2)","v":2.7E-4}]
[null,null,"Mechanical Ventilation"]
["YES",null,"Does the NCTH have a whole-house fresh air mech. ventilation system?","YES/NO",null,"YES"]
[55,null,"Equivalent continuous ventilation rate for whole house ventilation","cfm",{"$f":"IF(NewConst!F180=\"NO\",0,MIN(NewConst!F181,NewConst!G181))","v":55},55,{"$f":"\"ASHRAE 62.2 continuous vent rate: \" & 0.01*IntCalc!$E$9+7.5*(N_br+1) & \" cfm\"","v":"ASHRAE 62.2 continuous vent rate: 52.96 cfm"}]
[null,null,"Infiltration rate attributed to continuous mechanical ventilation","ACH",{"$f":"$E$181*60/Volume","v":0.17966027874564461},{"$f":"IF(F180=\"NO\",0,F181*60/Volume)","v":0.17966027874564461},"(actual change in infiltration will need to be added in quadrature with natural infiltration rate)"]
[null,null,"Continuous mechanical ventilation fan efficiency","W/cfm",0.5,"Use Manufacturers Performance Data"]
[null,null,"Continuous mechanical ventilation fan energy","kWh/yr",{"$f":"E181*E183*8760/1000","v":240.9}]
[100,null,"Range hood fan flow rate ","cfm",{"$f":"F185","v":100},100,"ASHRAE 62.2: intermittent 100 cfm or continuous 5 ach"]
[null,null,"Range hood fan efficiency","W/cfm",0.5,"Use Manufacturers Performance Data","(actual change in infiltration will need to be added in quadrature with natural infiltration rate for duration of fan run time)"]
[null,null,"Range hood fan energy","kWh/yr",{"$f":"NewConst!F185*E186*30/60*365/1000","v":9.125}]
[50,null,"Bath exhaust fan flow rate","cfm",{"$f":"F188","v":50},50,"ASHRAE 62.2: intermittent 50 cfm or continuous 20 cfm\n(actual change in infiltration will need to be added in quadrature with natural infiltration rate for duration of fan run time)"]
[2,null,"# of spot ventilation bath fans","#",{"$f":"Nbath","v":2},2]
[null,null,"Bath exhaust fan efficiency","W/cfm",0.5,"Use Manufacturers Performance Data"]
[null,null,"Bath exhaust fan energy","kWh/yr",{"$f":"NewConst!F189*E190*NewConst!F188*60/60*365/1000","v":18.25}]
["YES",null,"Are the clothes dryer specifications known?","YES/NO",null,"YES"]
[null,null,"Clothes dryer (in-unit) exhaust flow rate","cfm",{"$f":"IF(AND($F$270=\"no\",$F$249=\"yes\",$F$250>0),0,100)","v":100},{"$f":"IF($F$270=\"yes\",IF($F$192=\"yes\",\"Use known spec.\",100),IF($F$249=\"yes\",\"N/A\",100))","v":"Use known spec."},"(actual change in infiltration will need to be added in quadrature with natural infiltration rate for duration of fan run time)"]
[null,"mf","Mechanical Ventialation (Multi-family common areas)"]
[null,"mfcmt","          Central Laundry","cfm",{"$f":"IF(HomeType=2, 0.12*NewConst!F41, \"N/A\")","v":"N/A"}]
[null,"mfcmt","          Office","cfm",{"$f":"IF(HomeType=2, 0.08*NewConst!F42, \"N/A\")","v":"N/A"}]
[null,"mfcmt","          Indoor Corridor","cfm",{"$f":"IF(HomeType=2, 0.05*NewConst!F43, \"N/A\")","v":"N/A"}]
[null,"mfcmt","          Workout Room","cfm",{"$f":"IF(HomeType=2, 0.06*NewConst!F44, \"N/A\")","v":"N/A"}]
[null,"mfcmt","          Electrical Equipment Room","cfm",{"$f":"IF(HomeType=2, 0.06*E46, \"N/A\")","v":"N/A"}]
[null,"mfcmt","          Multi-purpose Room","cfm",{"$f":"IF(HomeType=2, 0.06*NewConst!F47, \"N/A\")","v":"N/A"}]
[null,"mfcmt","          Central Restroom (only operating for 30 minutes per day)","cfm/toilet",{"$f":"IF(HomeType=2, 50, \"N/A\")","v":"N/A"}]
[null,null,"Lighting"]
["Option 1-Simplified",null,{"$f":"IF(HomeType=2,\"Lighting Analysis Method (Option 2- REQUIRED FOR MULTIFAMILY)\",\"Lighting Analysis Method\")","v":"Lighting Analysis Method"},"YES/NO",{"$f":"NewConst!F203","v":"Option 1-Simplified"},"Option 1-Simplified",{"$f":"IF(methLightingNCTH=I203,\"Complete Detailed Lighting sheet.\",\"\")","v":""},"Option 1-Simplified","Option 2-Detailed"]
[null,null,"Option 1 - Simplified Method"]
[0.86,null,"Interior hard-wired: % incandescent","%",0.66,0.86,null,"Basement or interior space"]
[0.14000000000000001,null,"% compact fluorescent","%",0.21,0.14000000000000001,null,"Attic or garage"]
[0,null,"% LED","%",0,0]
[0,null,"% linear fluorescent","%",0.13,0]
[0.86,null,"Exterior lighting:       % incandescent","%",0.66,0.66]
[0.14000000000000001,null,"% compact fluorescent","%",0.21,0.21]
[0,null,"% LED","%",0,0]
[0,null,"% linear fluorescent","%",0.13,0.13]
[0.86,null,"Garage lighting:       % incandescent","%",0.66,0.66]
[0.14000000000000001,null,"% compact fluorescent","%",0.21,0.21]
[0,null,"% LED","%",0,0]
[0,null,"% linear fluorescent","%",0.13,0.13]
[null,null,"Plug-In Lighting","kWh/yr",{"$f":"IF(NewConst!$F$203=NewConst!$H$203,0.2*(FFA*0.542+334),'Detailed Lighting'!$AT$25)","v":315.68640000000005},{"$f":"IF(NewConst!$F$203=NewConst!$H$203,NewConst!$E$217*(SRF_NCTH*0.9+0.1),'Detailed Lighting'!$AL$25-'Detailed Lighting'!$AL$16)","v":331.20424335164017}]
[null,null,"Plug In Lighting Sensible Load","kWh/yr",{"$f":"E217","v":315.68640000000005},{"$f":"F217","v":331.20424335164017}]
[null,null,"Hard-Wired Lighting","kWh/yr",{"$f":"IF(NewConst!$F$203=NewConst!$H$203,0.8*(FFA*0.542+334),'Detailed Lighting'!$AS$25)","v":1262.7456000000002},{"$f":"IF(NewConst!$F$203=NewConst!$H$203,(E219)*(((NewConst!$F$205+0.34)+(NewConst!$F$206-0.21)*0.27+(NewConst!$F$207*0.3)+((NewConst!$F$208-0.13)*0.17))*SRF_NCTH*0.9+0.1), 'Detailed Lighting'!$AI$25-'Detailed Lighting'!$AI$16-'Detailed Lighting'!$AI$22)","v":1515.3852171382036}]
[null,null,"Hard Wired Lighting Sensible Load","kWh/yr",{"$f":"E219","v":1262.7456000000002},{"$f":"F219","v":1515.3852171382036}]
[null,null,"Exterior Lighting","kWh/yr",{"$f":"IF(NewConst!$F$203=NewConst!$H$203,FFA*0.145,'Detailed Lighting'!$AI$22)","v":332.91999999999996},{"$f":"IF(NewConst!$F$203=NewConst!$H$203,E221*(((NewConst!$F$209+0.34)+(NewConst!$F$210-0.21)*0.27+(NewConst!$F$211*0.3)+((NewConst!$F$212-0.13)*0.17))*SRF_NCTH_Ext*0.9+0.1), 'Detailed Lighting'!$AU$22)","v":332.92000431464328}]
[null,null,"Garage Lighting","kWh/yr",{"$f":"IF(NewConst!$F$203=NewConst!$H$203,(NewConst!$F$31*0.08+8),'Detailed Lighting'!$AU$16)","v":40},{"$f":"IF(NewConst!$F$203=NewConst!$H$203,E222*(((NewConst!$F$213+0.34)+(NewConst!$F$214-0.21)*0.27+(NewConst!$F$215*0.3)+((NewConst!$F$216-0.13)*0.17))*SRF_NCTH_Gar*0.9+0.1), 'Detailed Lighting'!$AU$16)","v":40.000000518400014}]
[null,null,"Total Lighting","kWh/yr",{"$f":"SUM(E217,E219,E221,E222)","v":1951.3520000000003},{"$f":"SUM(F217,F219,F221,F222)","v":2219.5094653228871}]
[null,null,"Total Lighting Sensible Load","kWh/yr",{"$f":"SUM(E218,E220)","v":1578.4320000000002},{"$f":"SUM(F218,F220)","v":1846.5894604898438}]
[null,"mf","Multifamily Common Space Lighting"]
[null,"mf","Plug-In Lighting","kWh/yr",{"$f":"'Detailed Lighting'!$AT$40","v":3735.9194486265833},{"$f":"IF(HomeType=2,'Detailed Lighting'!$AL$40, 0)","v":0}]
[null,"mf","Plug In Lighting Sensible Load","kWh/yr",{"$f":"E226-SUM('Detailed Lighting'!AT38,'Detailed Lighting'!AT37,'Detailed Lighting'!AT36,'Detailed Lighting'!AT35)","v":3735.9194486265833},{"$f":"F226-SUM('Detailed Lighting'!AL38,'Detailed Lighting'!AL37,'Detailed Lighting'!AL36,'Detailed Lighting'!AL35)","v":0}]
[null,"mf","Hard-Wired Interior Lighting","kWh/yr",{"$f":"IF(HomeType=2,'Detailed Lighting'!$AS$40-'Detailed Lighting'!$AS$29-'Detailed Lighting'!$AS$35-'Detailed Lighting'!$AS$36-'Detailed Lighting'!$AS$37-'Detailed Lighting'!$AS$38, 0)","v":0},{"$f":"IF(HomeType=2,'Detailed Lighting'!$AI$40-'Detailed Lighting'!$AI$29-'Detailed Lighting'!$AI$35-'Detailed Lighting'!$AI$36-'Detailed Lighting'!$AI$37-'Detailed Lighting'!$AI$38, 0)","v":0}]
[null,"mf","Hard Wired Interior Lighting Sensible Load","kWh/yr",{"$f":"E228","v":0},{"$f":"F228","v":0}]
[null,"mf","Exterior Lighting","kWh/yr",{"$f":"IF(HomeType=2,'Detailed Lighting'!$AS$29+'Detailed Lighting'!$AS$35+'Detailed Lighting'!$AS$36+'Detailed Lighting'!$AS$37+'Detailed Lighting'!$AS$38, 0)","v":0},{"$f":"IF(HomeType=2,'Detailed Lighting'!$AI$29+'Detailed Lighting'!$AI$35+'Detailed Lighting'!$AI$36+'Detailed Lighting'!$AI$37+'Detailed Lighting'!$AI$38, 0)","v":0}]
[null,"mf","Enclosed Garage Lighting","kWh/yr",{"$f":"IF(HomeType=2,'Detailed Lighting'!$AS$16*NewConst!$F$39,0)","v":0},{"$f":"IF(HomeType=2,'Detailed Lighting'!$AI$16*NewConst!$F$39,0)","v":0}]
[null,"mf","Total Lighting","kWh/yr",{"$f":"SUM(E226,E230:E231,E228)","v":3735.9194486265833},{"$f":"SUM(F226,F230:F231,F228)","v":0}]
[null,"mf","Total Lighting Sensible Load","kWh/yr",{"$f":"SUM(E227,E229)","v":3735.9194486265833},{"$f":"SUM(F227,F229)","v":0}]
[null,null,"Refrigerator"]
["YES",null,"Is the Builder providing the refrigerator or are the refrigerator specifications known?","YES/NO",null,"YES",null,"Timer control"]
[434,null,"Refrigerator Specification Annual Electricity","kWh/yr",null,671,null,"None"]
[null,null,"Machine Energy","kWh/yr",{"$f":"Appliances!E4","v":434},{"$f":"IF(NewConst!F235=\"yes\", NewConst!F236, NewConst!E237)","v":671}]
[null,null,"Machine Energy","kWh/day",{"$f":"E237/365","v":1.189041095890411},{"$f":"F237/365","v":1.8383561643835618}]
[null,null,"Refrigerator Sensible Load","kWh/yr",{"$f":"Appliances!M4","v":434},{"$f":"F237*1","v":671}]
[null,null,"Refrigerator Sensible Load","kWh/day",{"$f":"E239/365","v":1.189041095890411},{"$f":"F239/365","v":1.8383561643835618}]
["YES","mf","Does the multi-family common area have a refrigerator?","YES/NO",null,"YES"]
["YES","mf","Is the Builder providing the refrigerator or are the refrigerator specifications known?","YES/NO",null,"YES"]
[434,"mf","Refrigerator Specification Annual Electricity","kWh/yr",null,434]
[null,"mf","Machine Energy","kWh/yr",{"$f":"IF(HomeType=2, IF(NewConst!$F$241=\"yes\", Appliances!$E$21,\"N/A\"),\"N/A\")","v":"N/A"},{"$f":"IF(HomeType=2, IF(NewConst!F241=\"yes\", IF(NewConst!F242=\"yes\", NewConst!F243, E244),\"N/A\"),\"N/A\")","v":"N/A"}]
[null,"mf","Refrigerator Sensible Load","kWh/yr",{"$f":"IF(HomeType=2, IF(NewConst!$F$241=\"yes\", Appliances!$M$21,0),0)","v":0},{"$f":"IF(F244=\"N/A\", 0, F244*Appliances!$I$4)","v":0}]
[null,null,"Clothes Washer - Either residential unit OR common area total"]
["YES",null,"Is the Builder providing an in-unit clothes washer?","YES/NO",null,"YES"]
["YES",null,"Are the clothes washer specifications known?","YES/NO",null,"YES"]
["NO","mf","Does the multi-family common area have a common laundry room?","YES/NO",null,"NO"]
[10,"mf","How many clothes washers does common laundry room have?","#",null,10]
[533,null,"kWh/yr (EnergyGuide Label)",null,null,533]
[43,null,"$/yr if Electric DHW (EnergyGuide Label)",null,null,43]
[20,null,"$/yr if Gas DHW (EnergyGuide Label)",null,null,20]
[8.0299999999999996E-2,null,"$/kWh (EnergyGuide Label)",null,null,8.0299999999999996E-2]
[0.68879999999999997,null,"$/therm (EnergyGuide Label)",null,null,0.68879999999999997,"If Model Number is available, the MEF may be found in one of the following databases (2003-2010):"]
[1.1599999999999999,null,"Modified Energy Factor (MEF, Energy-Star website)",null,null,1.1599999999999999,"California Energy Commission Appliance Efficiency Database"]
["YES",null,"Washer uses hot and cold water inlet valves to control temperature (varies hot water volume to control wash temperature, use this option for machines that use hot and cold inlet valves to control wash water temperature or machines that use both inlet valves AND internal electric heaters to control temperature of the wash water - manufacturer's literature)* (yes/no)","YES/NO",null,"YES","Federal Trade Commission Appliance Energy Data Archives"]
["NO",null,"Washer uses internal electric heater to adjust the temperature of wash water in tub (use this option for washers that have hot and cold water connections but use an internal electric heater to adjust the wash water temperature - manufacturer's literature)**","YES/NO",null,"NO","** Electric heating element in washer used to achieve mixed temperature under the NCTH operating conditions.  Cannot be used in conjunction with thermostatic control valves."]
["NO",null,"Washer uses a cold water connection only (all water is heated with internal electric heaters only, washer is not connected to the hot water system - manufacturer's literature)***","YES/NO",null,"NO","*** Cold water inlet only, for example, Asko machines.  Total water consumption under DOE test conditions must be known, input below."]
["2004 or later",null,"Test Date (new E-guide labels state that test was performed under the 2004 DOE procedure, otherwise use year<2004)","year",null,"2004 or later",null,"2004 or later"]
["NO",null,"Top loading vertical axis washer with sensor water level fill (manufacturer's literature)?","YES/NO",null,"NO",null,"2003 or earlier"]
[3.15,null,"Drum volume (Energy-Star Website - more accurate - or manufacturer's literature)","ft3",null,3.15]
[null,null,"Machine Energy","kWh/yr",{"$f":"Appliances!E43","v":77.5},{"$f":" IF(AND(NewConst!F247=\"yes\",F248=\"yes\"), Appliances!AF313, NewConst!E263)","v":67.372680886821499}]
[null,null,"Machine Energy","kWh/day",{"$f":"E263/365","v":0.21232876712328766},{"$f":"F263/365","v":0.1845826873611548}]
[null,null,"Clothes Washer Sensible Load","kWh/yr",{"$f":"Appliances!M43","v":62},{"$f":"IF(NewConst!F247=\"yes\",F263*Appliances!$I$5,NewConst!E265)","v":53.898144709457199}]
[null,null,"Clothes Washer Latent Load","kWh/yr",{"$f":"Appliances!N43","v":0},{"$f":"IF(NewConst!F247=\"yes\",F263*Appliances!$J$5,NewConst!E266)","v":0}]
[null,null,"Clothes Washer Sensible Load","kWh/day",{"$f":"E265/365","v":0.16986301369863013},{"$f":"F265/365","v":0.14766614988892382}]
[null,null,"Clothes Washer Latent Load","kWh/day",{"$f":"E266/365","v":0},{"$f":"F266/365","v":0}]
[null,null,{"$f":"\"Clothes Dryer (\" & NewConst!F271 & \") -  Either residential unit OR common area total\"","v":"Clothes Dryer (Gas) -  Either residential unit OR common area total"}]
["YES",null,"Is the Builder providing an in-unit clothes dryer?","YES/NO",null,"YES"]
["Gas",null,"Gas or Electric","G/E",null,"Gas","If Model Number is available, the EF may be found in one of the following databases (2003-2010):"]
[3.1,null,"EF if electric","lbs/kWh",null,3.1,"California Energy Commission Appliance Efficiency Database"]
[2.75,null,"EF if gas","lbs/kWh",null,2.75]
["NO",null,"Automatic Termination Control****","YES/NO",null,"NO","**** Dryer operation is terminated with a moisture sensor or temperature sensor rather than a timer"]
[5.7,null,"Dryer Capacity","ft3",null,5.7]
[7.0000000000000007E-2,null,"Assumed gas-electric total energy split (electrical energy/gas energy)","%",null,7.0000000000000007E-2]
[null,null,"Machine Energy","kWh/yr",{"$f":"IF(NewConst!$F$271=\"Gas\",Appliances!$E$45, Appliances!$E$44)","v":85.9},{"$f":"IF($F$270=\"NO\",IF($F$249=\"NO\",E277,IF(NewConst!$F$271=\"Gas\",Appliances!AI410,Appliances!AH410)),IF(NewConst!$F$271=\"Gas\",Appliances!AI410,Appliances!AH410))","v":77.69524695378982}]
[null,null,"Gas Consumption","therms/yr",{"$f":"IF(NewConst!$F$271=\"Gas\",Appliances!$H$45, Appliances!$H$44)","v":39},{"$f":"IF($F$270=\"NO\",IF($F$249=\"NO\",E278,IF(NewConst!$F$271=\"Gas\",Appliances!AI411,Appliances!AH411)),IF(NewConst!$F$271=\"Gas\",Appliances!AI411,Appliances!AH411))","v":35.219921403412513}]
[null,null,"Machine Energy","kWh/day",{"$f":"E277/365","v":0.23534246575342468},{"$f":"F277/365","v":0.21286369028435567}]
[null,null,"Gas Consumption","therms/day",{"$f":"E278/365","v":0.10684931506849316},{"$f":"IF(F278=\"NA\", \"NA\", F278/365)","v":9.6492935351815107E-2}]
[null,null,"Clothes Dryer Sensible Load (Electric)","kWh/yr",{"$f":"IF(NewConst!$F$271=\"Electric\",Appliances!$M$44, IF(NewConst!$F$271=\"Gas\", Appliances!$M$45, \"Dryer Error\"))","v":85.9},{"$f":"IF(NewConst!F270=\"yes\", F277*IF(NewConst!F271=\"Electric\", 0.15, IF(NewConst!F271=\"Gas\", 1, \"Dryer Error\")), E281)","v":77.69524695378982}]
[null,null,"Clothes Dryer Latent Load(Electric)","kWh/yr",{"$f":"IF(NewConst!$F$271=\"Electric\",Appliances!$N$44, IF(NewConst!$F$271=\"Gas\", Appliances!$N$45, \"Dryer Error\"))","v":0},{"$f":"IF(NewConst!F270=\"yes\", F277*IF(NewConst!F271=\"Electric\", 0.05, IF(NewConst!F271=\"Gas\", 0, \"Dryer Error\")), E282)","v":0}]
[null,null,"Clothes Dryer Sensible Load (Gas)","therms/yr",{"$f":"IF(NewConst!$F$271=\"Gas\", Appliances!$O$45,0)","v":3.9000000000000004},{"$f":"IF(NewConst!F270=\"yes\", IF(NewConst!F271=\"Gas\", NewConst!F278*0.1,0), E283)","v":3.5219921403412515}]
[null,null,"Clothes Dryer Latent Load(Gas)","therms/yr",{"$f":"IF(NewConst!$F$271=\"Gas\", Appliances!P45,0)","v":1.9500000000000002},{"$f":"IF(NewConst!F270=\"yes\", IF(NewConst!F271=\"Gas\", NewConst!F278*0.05,0), E284)","v":1.7609960701706258}]
[null,null,"Dishwasher"]
["YES",null,"Is the Builder providing the dishwasher or are the dishwasher specifications known?","YES/NO",null,"YES",{"$f":"IF(AND(F293=\"no\", F294=\"no\",F286=\"yes\"), \"Setpoint for DHW tank should be 140 F for selected Dishwasher.\", \"\")","v":""}]
[372,null,"kWh/yr (EnergyGuide Label)",null,null,372]
[31,null,"$/yr if Electric DHW (EnergyGuide Label)",null,null,31]
[21,null,"$/yr if Gas DHW (EnergyGuide Label)",null,null,21]
[8.4000000000000005E-2,null,"$/kWh (EnergyGuide Label)",null,null,8.4000000000000005E-2]
[0.82,null,"$/therm (EnergyGuide Label)",null,null,0.82]
[14,null,"Place setting capacity (manufacturer's literature)","#",null,14]
["YES",null,"Dishwasher uses an internal electric heater to adjust wash water temperature*****","YES/NO",null,"YES","***** Machine includes an internal electric heater to adjust water temperature from the supplied hot water temperature.  The test procedure assumes ∆T = 70ºF if dishwasher boosts from 120ºF to 140ºF; 90ºF if dishwasher does not boost."]
["NO",null,"Dishwasher uses a cold water connection only******","YES/NO",null,"NO","****** Cold water inlet only, for example, Asko machines.  Total water consumption under DOE test conditions must be known"]
[5,null,"Water Use if Cold Water Inlet Only (manufacturer's literature)","gal/cycle",null,5]
["2003-01-01",null,"Test Date","mm/dd/yyyy",null,"2004 or later",null,"2004 or later"]
[null,null,"Machine Energy","kWh/yr",{"$f":"Appliances!$E$9","v":175.2},{"$f":"IF(NewConst!F286=\"yes\", Appliances!AF140, NewConst!E297)","v":87.134641360199424},null,"6/15/2002 to 12/31/2003"]
[null,null,"Machine Energy","kWh/day",{"$f":"E297/365","v":0.48},{"$f":"F297/365","v":0.23872504482246418},null,"Before 6/15/2002"]
[null,null,"Dishwasher Sensible Load","kWh/yr",{"$f":"Appliances!$M$9","v":105.11999999999999},{"$f":"IF(NewConst!F286=\"yes\", NewConst!F297*0.6, NewConst!E299)","v":52.280784816119656}]
[null,null,"Dishwasher Latent Load","kWh/yr",{"$f":"Appliances!$N$9","v":26.279999999999998},{"$f":"IF(NewConst!F286=\"yes\", NewConst!F297*0.15, NewConst!E300)","v":13.070196204029914}]
[null,null,"Dishwasher Sensible Load","kWh/day",{"$f":"E299/365","v":0.28799999999999998},{"$f":"F299/365","v":0.1432350268934785}]
[null,null,"Dishwasher Latent Load","kWh/day",{"$f":"E300/365","v":7.1999999999999995E-2},{"$f":"F300/365","v":3.5808756723369625E-2}]
["YES","mf","Does multi-family common area have a dishwasher?","YES/NO",null,"YES"]
["YES","mf","Is the Builder providing the dishwasher or are the dishwasher specifications known?","YES/NO",null,"YES"]
[372,"mf","kWh/yr (EnergyGuide Label)",null,null,372]
[31,"mf","$/yr if Electric DHW (EnergyGuide Label)",null,null,31]
[21,"mf","$/yr if Gas DHW (EnergyGuide Label)",null,null,21]
[8.4000000000000005E-2,"mf","$/kWh (EnergyGuide Label)",null,null,8.4000000000000005E-2]
[0.82,"mf","$/therm (EnergyGuide Label)",null,null,0.82]
[14,"mf","Place setting capacity (manufacturer's literature)","#",null,14]
["YES","mf","Dishwasher uses an internal electric heater to adjust wash water temperature*****","YES/NO",null,"YES","***** Machine includes an internal electric heater to adjust water temperature from the supplied hot water temperature.  The test procedure assumes ∆T = 70ºF if dishwasher boosts from 120ºF to 140ºF; 90ºF if dishwasher does not boost."]
["NO","mf","Dishwasher uses a cold water connection only******","YES/NO",null,"NO","****** Cold water inlet only, for example, Asko machines.  Total water consumption under DOE test conditions must be known"]
[5,"mf","Water Use if Cold Water Inlet Only (manufacturer's literature)","gal/cycle",null,5]
["2003-01-01","mf","Test Date","mm/dd/yyyy",null,"2003-01-01"]
[null,"mf","Machine Energy","kWh/yr",{"$f":"IF(HomeType=2, IF(F303=\"yes\", Appliances!E22, \"N/A\"), \"N/A\")","v":"N/A"},{"$f":"IF(HomeType=2, IF(NewConst!F303=\"yes\", IF(NewConst!F304=\"yes\", Appliances!AG140, E315),\"N/A\"),\"N/A\")","v":"N/A"}]
[null,"mf","Machine Energy","kWh/day",{"$f":"IF(E315=\"N/A\", 0, E315/365)","v":0},{"$f":"IF(F315=\"N/A\", 0, F315/365)","v":0}]
[null,"mf","Dishwasher Sensible Load","kWh/yr",{"$f":"IF(HomeType=2, IF(F303=\"yes\", Appliances!$M$22,\"N/A\"),\"N/A\")","v":"N/A"},{"$f":"IF(F315=\"N/A\", 0, IF(NewConst!F304=\"yes\", NewConst!F315*0.6, E317))","v":0}]
[null,"mf","Dishwasher Latent Load","kWh/yr",{"$f":"IF(HomeType=2, IF(F303=\"yes\", Appliances!$N$22,\"N/A\"),\"N/A\")","v":"N/A"},{"$f":"IF(F315=\"N/A\", 0, IF(NewConst!F304=\"yes\", NewConst!F315*0.15, E318))","v":0}]
[null,"mf","Dishwasher Sensible Load","kWh/day",{"$f":"IF(E317=\"N/A\", 0, E317/365)","v":0},{"$f":"IF(F315=\"N/A\", 0, F317/365)","v":0}]
[null,"mf","Dishwasher Latent Load","kWh/day",{"$f":"IF(E318=\"N/A\", 0, E318/365)","v":0},{"$f":"IF(F315=\"N/A\", 0, F318/365)","v":0}]
[null,null,"Range"]
["YES",null,"Is the Builder providing the range or are the range specifications known?","YES/NO",null,"YES"]
[{"$f":"IF($F$325=\"Electric\",74%,40%)","v":0.4},null,"Cooktop Energy Factor (EF) using DOE test procedures","%",null,0.4]
[{"$f":"IF($F$325=\"Electric\",11%,5.8%)","v":5.7999999999999996E-2},null,"Oven Energy Factor (EF) using DOE test procedures","%",null,5.8000000000000003E-2]
["Gas",null,"Gas or Electric","G/E",null,"Gas"]
["electric glo-bar/hot surface",null,"Ignition type (if gas)",null,"electric glo-bar/hot surface","electric glo-bar/hot surface",null,"pilot light or spark"]
[null,null,"Electric Range/oven","kWh/yr",{"$f":"IF(NewConst!F325=\"Electric\",Appliances!$E$10,0)","v":0},{"$f":"IF(NewConst!$F$322=\"yes\", IF(NewConst!$F$325=\"Gas\", 0, Appliances!$H$54), NewConst!$E$327)","v":0},"**Assumes that the average household uses a range for an hour a day","electric glo-bar/hot surface"]
[null,null,"Electric Range/oven","kWh/day",{"$f":"E327/365","v":0},{"$f":"F327/365","v":0}]
[null,null,"Electric Range/oven Sensible Load","kWh/yr",{"$f":"IF(NewConst!$F$325=\"Electric\",Appliances!$M$10,0)","v":0},{"$f":"IF(F327=0,0,Appliances!$M$54)","v":0}]
[null,null,"Electric Range/oven Latent Load","kWh/yr",{"$f":"IF(NewConst!$F$325=\"Electric\",Appliances!$N$10,0)","v":0},{"$f":"IF(F327=0,0,Appliances!$N$54)","v":0}]
[null,null,"Gas Range/oven","therms/yr",{"$f":"IF(NewConst!$F$325=\"Gas\",Appliances!H11,0)","v":28.7},{"$f":"IF(NewConst!$F$322=\"yes\", IF(NewConst!$F$325=\"Gas\", Appliances!$H$56, 0), E331)","v":28.544827586206893}]
[null,null,"Gas Range/oven","therms/day",{"$f":"E331/365","v":7.8630136986301363E-2},{"$f":"F331/365","v":7.8205007085498338E-2}]
[null,null,"Gas Range/oven gas Sensible Load","therms/yr",{"$f":"IF(NewConst!$F$325=\"Gas\",Appliances!O11,0)","v":8.61},{"$f":"F331*Appliances!$I$11","v":8.5634482758620667}]
[null,null,"Gas Range/oven gas Latent Load","therms/yr",{"$f":"IF(NewConst!$F$325=\"Gas\",Appliances!P11,0)","v":5.74},{"$f":"F331*Appliances!$J$11","v":5.7089655172413787}]
[null,null,"Gas Range/oven ignitor electricity","kWh/yr",{"$f":"IF(NewConst!$F$325=\"Gas\",Appliances!E11,0)","v":79.900000000000006},{"$f":"IF(AND($F$325=\"Gas\",$F$326=$H$327),Appliances!$H$58,0)","v":79.900000000000006}]
[null,null,"Gas Range/oven ignitor electricity","kWh/day",{"$f":"E335/365","v":0.21890410958904111},{"$f":"F335/365","v":0.21890410958904111}]
[null,null,"Gas Range/oven ignitor electricity Sensible Load","kWh/yr",{"$f":"IF(NewConst!$F$325=\"Gas\",Appliances!M11,0)","v":23.970000000000002},{"$f":"IF($F$335=0,0,Appliances!$M$58)","v":23.970000000000002}]
[null,null,"Gas Range/oven ignitor electricity Latent Load","kWh/yr",{"$f":"IF(NewConst!$F$325=\"Gas\",Appliances!N11,0)","v":15.980000000000002},{"$f":"IF($F$335=0,0,Appliances!$N$58)","v":15.980000000000002}]
["NO","mf","Does multi-family common area have a range?","YES/NO",null,"YES"]
["NO","mf","Is the Builder providing the range or are the range specifications known?","YES/NO",null,"NO"]
[{"$f":"IF($F$325=\"Electric\",74%,40%)","v":0.4},"mf","Cooktop Energy Factor (EF) using DOE test procedures","%",null,0.4]
[{"$f":"IF($F$325=\"Electric\",11%,5.8%)","v":5.7999999999999996E-2},"mf","Oven Energy Factor (EF) using DOE test procedures","%",null,5.8000000000000003E-2]
["Gas","mf","Gas or Electric","G/E",null,"Gas"]
["electric glo-bar/hot surface","mf","Ignition type (if gas)",null,"electric glo-bar/hot surface","electric glo-bar/hot surface"]
[null,"mf","Electric Range/oven","kWh/yr",{"$f":"IF(HomeType=2, IF(NewConst!$F$339=\"YES\", IF(NewConst!$F$343=\"Electric\",Appliances!$E$23,0),\"N/A\"),\"N/A\")","v":"N/A"},{"$f":"IF(HomeType=2, IF(NewConst!$F$339=\"yes\", IF(NewConst!$F$340=\"yes\", IF(NewConst!$F$343=\"Gas\", 0, Appliances!H60),E345), \"N/A\"),\"N/A\")","v":"N/A"},"**Assumes 1 hour per week use of common area range"]
[null,"mf","Electric Range/oven","kWh/day",{"$f":"IF(E345=\"N/A\", 0, E345/365)","v":0},{"$f":"IF(F345=\"N/A\", 0, F345/365)","v":0}]
[null,"mf","Electric Range/oven Sensible Load","kWh/yr",{"$f":"IF(HomeType=2, IF(NewConst!$F$339=\"YES\", IF(NewConst!$F$343=\"Electric\",Appliances!$M$23,0),0),0)","v":0},{"$f":"IF(OR($F$345=\"N/A\",$F$345=0), 0,IF($F$340=\"no\",E347,Appliances!M60))","v":0}]
[null,"mf","Electric Range/oven Latent Load","kWh/yr",{"$f":"IF(HomeType=2, IF(NewConst!$F$339=\"YES\", IF(NewConst!$F$343=\"Electric\",Appliances!$N$23,0),0),0)","v":0},{"$f":"IF(OR($F$345=\"N/A\",$F$345=0),  0, IF($F$340=\"no\",E348,Appliances!N60))","v":0}]
[null,"mf","Gas Range/oven","therms/yr",{"$f":"IF(HomeType=2, IF(NewConst!$F$339=\"YES\", IF(NewConst!$F$343=\"Electric\",0,Appliances!$H$24),\"N/A\"),\"N/A\")","v":"N/A"},{"$f":"IF(HomeType=2, IF(NewConst!$F$339=\"yes\", IF(NewConst!$F$340=\"yes\", IF(NewConst!$F$343=\"Gas\",Appliances!$H$62, 0), E349),\"N/A\"),\"N/A\")","v":"N/A"}]
[null,"mf","Gas Range/oven","therms/day",{"$f":"IF(E349=\"N/A\", 0, E349/365)","v":0},{"$f":"IF(F349=\"N/A\", 0, F349/365)","v":0}]
[null,"mf","Gas Range/oven Sensible Load","therms/yr",{"$f":"IF(HomeType=2, IF(NewConst!$F$339=\"YES\", IF(NewConst!$F$343=\"Electric\",0,Appliances!$O$24),0),0)","v":0},{"$f":"IF(OR($F$349=\"N/A\",$F$349=0), 0,IF($F$340=\"no\",E351,Appliances!O62))","v":0}]
[null,"mf","Gas Range/oven Latent Load","therms/yr",{"$f":"IF(HomeType=2, IF(NewConst!$F$339=\"YES\", IF(NewConst!$F$343=\"Electric\",0,Appliances!$P$24),0),0)","v":0},{"$f":"IF(OR($F$349=\"N/A\",$F$349=0), 0, IF($F$340=\"no\",E352,Appliances!P62))","v":0}]
[null,"mf","Gas Range/oven ignitor electricity","kWh/yr",{"$f":"IF(HomeType=2,IF(NewConst!$F$339=\"YES\",IF(NewConst!$F$343=\"Gas\",Appliances!$E$11,0),\"N/A\"),\"N/A\")","v":"N/A"},{"$f":"IF(HomeType=2,IF(NewConst!$F$339=\"YES\",IF(F340=\"YES\",IF(AND($F$343=\"Gas\",$F$344=$H$327),Appliances!$H$58,0),E353),\"N/A\"),\"N/A\")","v":"N/A"}]
[null,"mf","Gas Range/oven ignitor electricity","kWh/day",{"$f":"IF(E353=\"N/A\", 0, E353/365)","v":0},{"$f":"IF(F353=\"N/A\", 0, F353/365)","v":0}]
[null,"mf","Gas Range/oven ignitor electricity Sensible Load","kWh/yr",{"$f":"IF(HomeType=2,IF(NewConst!$F$339=\"YES\",IF(NewConst!$F$343=\"Gas\",Appliances!M11,0),0),0)","v":0},{"$f":"IF(HomeType=2,IF(NewConst!$F$339=\"YES\",IF($F$353=0,0,Appliances!$M$64),0),0)","v":0}]
[null,"mf","Gas Range/oven ignitor electricity Latent Load","kWh/yr",{"$f":"IF(HomeType=2,IF(NewConst!$F$339=\"YES\",IF(NewConst!$F$343=\"Gas\",Appliances!N11,0),0),0)","v":0},{"$f":"IF(HomeType=2,IF(NewConst!$F$339=\"YES\",IF($F$353=0,0,Appliances!$N$64),0),0)","v":0}]
[null,null,"Other Miscellaneous Electric Loads/Miscellaneous Gas Loads"]
["Option 1-Simplified",null,"Detailed MEL Analysis?",null,null,"Option 1-Simplified",null,"Option 1-Simplified","Option 2-Detailed"]
[null,null,"Total MEL Energy","kWh/yr",{"$f":"'Detailed MEL'!E22","v":3317.096},{"$f":"'Detailed MEL'!E9","v":3317.096}]
[null,null,"Total MEL Energy","kWh/day",{"$f":"E359/365","v":9.0879342465753421},{"$f":"F359/365","v":9.0879342465753421}]
[null,null,"Total MGL Energy","therms/yr",{"$f":"'Detailed MEL'!E23","v":7.7960000000000003},{"$f":"'Detailed MEL'!E10","v":7.7960000000000003}]
[null,null,"Total MGL Energy","therms/day",{"$f":"E361/365","v":2.1358904109589041E-2},{"$f":"F361/365","v":2.1358904109589041E-2}]
[null,null,"MEL/MGL Savings vs Benchmark","%",null,{"$f":"'Detailed MEL'!E8","v":0}]
[null,null,"MEL/MGL + Recirc Pump Sensible Load ","kWh/yr",{"$f":"'Detailed MEL'!E30","v":2602.4584288300116},{"$f":"'Detailed MEL'!E18+F155","v":2602.4584288300116}]
[null,null,"MEL/MGL + Recirc Pump Sensible Load ","kWh/day",{"$f":"E364/365","v":7.1300230926849633},{"$f":"F364/365","v":7.1300230926849633}]
[null,null,"MEL/MGL Latent Load","kWh/yr",{"$f":"'Detailed MEL'!E31","v":70.911673810082064},{"$f":"'Detailed MEL'!E19","v":70.911673810082064}]
[null,null,"MEL/MGL Latent Load","kWh/day",{"$f":"E366/365","v":0.19427855838378646},{"$f":"F366/365","v":0.19427855838378646}]
[null,"mf",{"$f":"Appliances!B14","v":"Multi-Family Common Space MELs"}]
[null,"mf","Office","kWh/yr",{"$f":"Appliances!E15","v":3840},{"$f":"E369","v":3840}]
[null,"mf","Workout room","kWh/yr",{"$f":"Appliances!E16","v":2205},{"$f":"E370","v":2205}]
[null,"mf","Corridor/restroom/mech.","kWh/yr",{"$f":"Appliances!E17","v":0},0]
[null,"mf","Elevator","kWh/yr",{"$f":"Appliances!E18","v":1900},1900]
[null,"mf",{"$f":"\"Total \" & $C$368","v":"Total Multi-Family Common Space MELs"},"kWh/yr",{"$f":"SUM(E369:E372)","v":7945},7945]
[null,"mf",{"$f":"\"Total \" & $C$368","v":"Total Multi-Family Common Space MELs"},"kWh/day",{"$f":"E373/365","v":21.767123287671232},21.767123287671232]
[null,"mf",{"$f":"\"Total \" & $C$368 & \" Sensible Load\"","v":"Total Multi-Family Common Space MELs Sensible Load"},"kWh/yr",{"$f":"E373*1","v":7945},7945]
[null,"mf",{"$f":"\"Total \" & $C$368 & \" Sensible Load\"","v":"Total Multi-Family Common Space MELs Sensible Load"},"kWh/day",{"$f":"E375/365","v":21.767123287671232},21.767123287671232]
[null,"mf",{"$f":"Appliances!B19","v":"Multi-Purpose Room MELs"}]
[null,"mf","Television","kWh/yr",{"$f":"IF($E$47>0,Appliances!$E$20)","v":673},673]
[null,"mf","Refrigerator","kWh/yr",{"$f":"E244","v":"N/A"},"N/A"]
[null,"mf","Dishwasher","kWh/yr",{"$f":"E315","v":"N/A"},"N/A"]
[null,"mf","Range (electric)","kWh/yr",{"$f":"E345","v":"N/A"},"N/A"]
[null,"mf","Range (gas)","therms/yr",{"$f":"E349","v":"N/A"},"N/A"]
[null,"mf","Range ignitor electricity (gas only)","kWh/yr",{"$f":"E353","v":"N/A"},"N/A"]
[null,"mf","Microwave","kWh/yr",{"$f":"IF($E$47>0,Appliances!$E$25)","v":78},78]
[null,"mf","Total Multi-Purpose Room MEL Energy","kWh/yr",{"$f":"SUM(E378:E381,E383:E384)","v":751},751]
[null,"mf","Total Multi-Purpose Room MEL Energy","kWh/day",{"$f":"E385/365","v":2.0575342465753423},2.0575342465753423]
[null,"mf","Total MGL Energy","therms/yr",{"$f":"E382","v":"N/A"},"N/A"]
[null,"mf","Total MGL Energy","therms/day",{"$f":"E387/365","v":{"$error":"#VALUE!"}},{"$error":"#VALUE!"}]
[null,"mf","MEL/MGL Sensible Load","kWh/yr",{"$f":"SUM(Appliances!$M$20:$M$22,Appliances!$M$25)+E347+E351*Therms_to_kWh+E362","v":1216.2213589041096},1216.2213589041096]
[null,"mf","MEL/MGL Sensible Load","kWh/day",{"$f":"E389/365","v":3.3321133120660535},3.3321133120660535]
[null,"mf","MEL/MGL Latent Load","kWh/yr",{"$f":"SUM(Appliances!$N$20:$N$22,Appliances!$N$25)+E348+E356+E352*Therms_to_kWh","v":7.8},7.8]
[null,"mf","MEL/MGL Latent Load","kWh/day",{"$f":"E391/365","v":2.1369863013698628E-2},2.1369863013698628E-2]
[null,null,"Equipment Totals (no lights or water heater)"]
[null,null,"Total Sensible Internal Load","Btu/day",{"$f":"'Hourly Profiles'!AF7","v":41128.21683401362},{"$f":"((F$239+F$265+F$281+F$299+F$329+F$337+F$364)*3412.1416+(F$283+F$333)*100000)/365","v":35855.456118862574}]
[null,null,"Total Latent Internal Load","Btu/day",{"$f":"'Hourly Profiles'!AF8","v":0},{"$f":"((F$266+F$282+F$300+F$330+F$338+F$366)*3412.1416+(F$284+F$334)*100000)/365","v":2981.0416817264236}]
[null,"mf","Total Multi-Family Common Areas Sensible Internal Load","Btu/day",{"$f":"((E$375+E$389)*3412.1416)/365","v":85642.149330206143},{"$f":"((F$375+F$389)*3412.1416)/365","v":85642.149330206143}]
[null,"mf","Total Multi-Family Common Areas Latent Internal Load","Btu/day",{"$f":"((E$391)*3412.1416)/365","v":72.916998575342461},{"$f":"((F$391)*3412.1416)/365","v":72.916998575342461}]
[null,null,"Occupancy"]
[null,null,"Number of People","#",{"$f":"IF(HomeType=2, 0.92*N_br+0.63, 0.59*N_br+0.87)","v":2.64},{"$f":"E399","v":2.64}]
[null,null,"Occupant Sensible Load (for single zone models)","Btu/person/h",220,220]
[null,null,"Occupant Latent Load (for single zone models)","Btu/person/h",164,164]
[null,null,"Occupant Sensible Load","Btu/day",{"$f":"'Hourly Profiles'!AI33","v":9597.0195741640055},9597.0195741640055]
[null,null,"Occupant Latent Load","Btu/day",{"$f":"'Hourly Profiles'!AJ33","v":7154.1418643768075},7154.1418643768075]
[null,null,"Occupant Sensible Load","Btu/yr",{"$f":"E402*(365-$E$435)","v":3368553.870531566},3368553.870531566]
[null,null,"Occupant Latent Load","Btu/yr",{"$f":"E403*(365-$E$435)","v":2511103.7943962594},2511103.7943962594]
["YES","mf","Does the multi-family complex have an office?","YES/NO",null,"YES"]
[3,"mf","Number of employees that work in the office (maximum oocupancy)","#",{"$f":"IF(NewConst!$F$406=\"yes\", NewConst!$F$407, 0)","v":3},3]
[21,"mf","Number of office visitors per day","#",{"$f":"IF(NewConst!$F$406=\"yes\", NewConst!$F$408, 0)","v":21},21]
[null,"mf","Office Occupant Sensible Load","Btu/day",{"$f":"'Hourly Profiles'!CB33","v":6375},{"$f":"NewConst!E409","v":6375}]
[null,"mf","Office Occupant Latent Load","Btu/day",{"$f":"'Hourly Profiles'!CC33","v":5100},{"$f":"NewConst!E410","v":5100}]
[null,"mf","Office Occupant Sensible Load","Btu/yr",{"$f":"E409*260","v":1657500},{"$f":"NewConst!E411","v":1657500}]
[null,"mf","Office Occupant Latent Load","Btu/yr",{"$f":"E410*260","v":1326000},{"$f":"NewConst!E412","v":1326000}]
[null,"mf","Max occupancy of central restroom","#",0.33,0.33]
[null,"mf","Central Restroom Occupant Sensible Load","Btu/day",{"$f":"'Hourly Profiles'!CH33","v":565.95000000000005},{"$f":"E414","v":565.95000000000005}]
[null,"mf","Central Restroom Occupant Latent Load","Btu/day",{"$f":"'Hourly Profiles'!CI33","v":358.05},{"$f":"E415","v":358.05}]
[null,"mf","Central Restroom Occupant Sensible Load","Btu/yr",{"$f":"E414*365","v":206571.75000000003},{"$f":"E416","v":206571.75000000003}]
[null,"mf","Central Restroom Occupant Latent Load","Btu/yr",{"$f":"E415*365","v":130688.25},{"$f":"E417","v":130688.25}]
["YES","mf","Does the multi-family complex have a Workout Room?","YES/NO",null,"YES"]
[3,"mf","Max # of people in Workout Room","#",{"$f":"IF(NewConst!F418=\"yes\", NewConst!F419, 0)","v":3},3]
[null,"mf","Workout Room Occupant Sensible Load","Btu/day",{"$f":"'Hourly Profiles'!CE33","v":30885},{"$f":"NewConst!E420","v":30885}]
[null,"mf","Workout Room Occupant Latent Load","Btu/day",{"$f":"'Hourly Profiles'!CF33","v":47415},{"$f":"NewConst!E421","v":47415}]
[null,"mf","Workout Room Occupant Sensible Load","Btu/yr",{"$f":"E420*365","v":11273025},{"$f":"NewConst!E422","v":11273025}]
[null,"mf","Workout Room Occupant Latent Load","Btu/yr",{"$f":"E421*365","v":17306475},{"$f":"NewConst!E423","v":17306475}]
[null,"mf","Max # of people in Laundry Room","#",{"$f":"IF(NewConst!F249=\"yes\", 'Monthly Profiles'!D48, 0)","v":0},{"$f":"NewConst!E424","v":0}]
[null,"mf","Laundry Occupant Sensible Load","Btu/day",{"$f":"'Hourly Profiles'!BY33","v":32341.343952377836},{"$f":"NewConst!E425","v":32341.343952377836}]
[null,"mf","Laundry Occupant Latent Load","Btu/day",{"$f":"'Hourly Profiles'!BZ33","v":25873.07516190227},{"$f":"NewConst!E426","v":25873.07516190227}]
[null,"mf","Laundry Occupant Sensible Load","Btu/yr",{"$f":"E425*365","v":11804590.54261791},{"$f":"NewConst!E427","v":11804590.54261791}]
[null,"mf","Laundry Occupant Latent Load","Btu/yr",{"$f":"E426*365","v":9443672.4340943284},{"$f":"NewConst!E428","v":9443672.4340943284}]
[null,null,"Operating Conditions"]
[null,null,"Heating Setpoint","deg F",71,{"$f":"E430","v":71}]
[null,null,"Cooling Setpoint","deg F",76,{"$f":"E431","v":76}]
[null,null,"Dehumidification Setpoint","%RH",0.6,{"$f":"\"60% (if has dehum.)\"","v":"60% (if has dehum.)"}]
[null,null,"Minimum Internal Temp for Natural Ventilation","deg F",{"$f":"E430+1","v":72},{"$f":"F430+1","v":72}]
[null,null,"Interior shading multiplier (constant year round)",null,0.7,0.7]
[null,null,"Vacation days - no occupancy, no DHW use\n(May 26-28, Aug 12-18, Dec 22-25)","days",14,14]
[null,null,"Internal Furniture Mass","lbs/sqft-floor area",8,{"$f":"E436","v":8}]
[null,null,"Fraction of floor area covered by lightweight furniture","%",40,{"$f":"E437","v":40}]

{"sheet":"Hourly Profiles","index":1,"n_rows":152,"n_cols":87,"rows_kept":152,"cut":false,"hidden":false,"merged":[[38,15,38,17],[1,1,1,35],[5,78,5,80],[5,81,5,83],[5,75,5,77],[1,52,1,75],[4,57,4,59],[4,61,4,63],[2,15,2,29],[4,15,4,17],[5,84,5,86],[8,70,31,70],[42,70,65,70],[39,84,39,86],[2,14,5,14],[3,15,3,29],[37,15,37,29],[36,14,39,14],[39,78,39,80],[39,81,39,83],[35,1,35,32],[39,75,39,77],[35,52,35,75],[38,53,38,56],[38,61,38,63],[36,15,36,29]]}
[null,null,null,null,null,null,null,null,null,null,null,null,null,null,null,"Winter (October - March)","Summer (April - September)","Annual Average",null,null,null,null,null,null,null,null,null,null,null,{"$f":"COLUMN()","v":30}]
[null,"Benchmark Normalized Hourly Profiles",null,null,null,null,null,null,null,null,null,null,null,null,null,null,null,null,null,null,null,null,null,null,null,null,null,null,null,null,null,null,null,null,null,null,null,null,null,null,null,null,null,null,null,null,null,null,null,null,null,null,"Benchmark Normalized Hourly Profiles (Common Areas)"]
[null,null,null,null,null,null,null,null,null,null,null,null,null,null,"Misc Elec Loads\n(Total of disaggregation at right)","Disaggregation of Misc Elec Loads (Figure 23 in HSP)",null,null,null,null,null,null,null,null,null,null,null,null,null,null,"Combined Equipment","Equipment Sensible","Equipment Latent",null,null,null,null,null,null,null,null,null,null,null,null,null,null,null,null,null,null,null,null,null,null,null,null,null,null,null,null,null,null,null,null,null,null,null,null,null,null,null,"Combined Equipment","Equipment Sensible","Equipment Latent","Occupancy","Sensible Load","Latent Load","Occupancy","Sensible Load","Latent Load","Occupancy","Sensible Load","Latent Load","Occupancy","Sensible Load","Latent Load"]
[null,null,null,null,null,null,null,null,null,null,null,null,null,null,null,"Select Schedule to view:",null,null,null,null,null,null,null,null,null,null,null,null,null,null,"(Excludes space","Load (no lights,","Load (no lights,","Occupancy","Sensible Load","Latent Load",null,null,null,null,null,null,null,null,null,null,null,null,null,null,null,null,null,null,null,null,null,null,null,null,null,null,null,null,null,null,null,null,null,null,null,null,"(Excludes space","Load (no lights,","Load (no lights,","(Fraction of","(Occupants -","(Occupants -","(Fraction of","(Occupants -","(Occupants -","(Fraction of","(Occupants -","(Occupants -","(Fraction of","(Occupants -","(Occupants -"]
[null,null,null,null,null,null,null,null,null,null,null,null,null,null,null,"Annual Average",null,null,null,null,null,null,null,null,null,null,null,null,null,null,"conditioning, lighting","water heater or","water heater or","(Fraction of","(Occupants -","(Occupants -","Lighting","Lighting","Lighting","Lighting","Lighting","Lighting","Lighting","Lighting","Lighting","Lighting","Lighting","Lighting","Lighting",null,null,null,null,"Common Laundry",null,null,null,"Office",null,null,"Indoor Corridor","Workout Room",null,null,"Central Restroom",null,null,"Multi-Purpose Room",null,null,null,"Outdoor","conditioning, lighting","water heater or","water heater or","Hours)","Btu/hr)","Btu/hr)","Hours)","Btu/hr)","Btu/hr)","Hours)","Btu/hr)","Btu/hr)","Hours)","Btu/hr)","Btu/hr)"]
[null,null,"Hour","Occ","Lights","Clothes Washer","Dish-Washer","Combined DHW","Bath","Shower","Sinks","Fridge","Clothes Dryer","Range",null,"Water heater","Refrigerator","Freezer","Cooking appliances","Dishwasher","Clothes washer","Clothes dryer","Home Entertainment appliances","Waterbed heater","Spa heater","Spa pump","Pool heater","Pool pump","Miscellaneous appliances","Ceiling Fans (FSEC)","and DHW)","occupancy)","occupancy)","max occupancy)","Btu/hr)","Btu/hr)","Jan","Feb","Mar","Apr","May","Jun","Jul","Aug","Sep","Oct","Nov","Dec","Annual Average",null,null,null,"Hour","Occ","Lights","Clothes Washer Energy","Clothes Dryer Energy","Occ","Lights","Equipment","Lights","Occ.","Lights","Equipment","Occ","Water","Lights","Lights","Television","Fridge","Dishwasher, Range, Microwave","Lighting","and DHW)","occupancy)","occupancy)",{"$f":"LookupTables!AX7","v":"Common Laundry "},null,null,{"$f":"LookupTables!AX8","v":"Office "},null,null,{"$f":"LookupTables!AX9","v":"Workout room"},null,null,"Central Restroom"]
[null,null,"Sensible (Btu/day)",null,null,{"$f":"NewConst!$E$265*kWh_to_Btu/365","v":579.57260273972599},{"$f":"NewConst!$E$299*kWh_to_Btu/365","v":982.65599999999984},{"$f":"'Monthly Profiles'!$AC$18","v":4254.8852198547174},{"$f":"NewConst!E138","v":371},{"$f":"NewConst!E137","v":1482},{"$f":"NewConst!E139","v":619},{"$f":"NewConst!$E$239*kWh_to_Btu/365","v":4057.0082191780821},{"$f":"(NewConst!$E$281*kWh_to_Btu+NewConst!$E$283*Therms_to_Btu)/365","v":1871.4816438356165},{"$f":"((NewConst!$E$329+NewConst!$E$337)*kWh_to_Btu+NewConst!$E$333*Therms_to_Btu)/365","v":2582.9743561643836},{"$f":"NewConst!$E$364*kWh_to_Btu/365","v":24327.638792241094},null,null,null,null,null,null,null,null,null,null,null,null,null,null,null,null,{"$f":"SUM($F7:$O7)","v":41128.21683401362},null,null,null,null,null,null,null,null,null,null,null,null,null,null,null,null,null,null,null,null,"Sensible (Btu/day)",{"$f":"NewConst!E425","v":32341.343952377836},null,{"$f":"NewConst!E265/365*kWh_to_Btu","v":579.57260273972599},{"$f":"(NewConst!E281*kWh_to_Btu+NewConst!E283*Therms_to_Btu)/365","v":1871.4816438356165},{"$f":"NewConst!E409","v":6375},null,{"$f":"Appliances!M15*kWh_to_Btu/365","v":35896.109589041094},null,{"$f":"NewConst!E420","v":30885},null,{"$f":"Appliances!M16*kWh_to_Btu/365","v":20612.219178082192},{"$f":"NewConst!E414","v":565.95000000000005},{"$f":"IF(NewConst!$E$140=\"N/A\",0,NewConst!$E$140)","v":0},null,null,{"$f":"Appliances!M20*kWh_to_Btu/365","v":6291.1671232876715},{"$f":"Appliances!M21*kWh_to_Btu/365","v":4057.0082191780821},null,null,null,{"$f":"SUM($BB7:$BU7)-$BB7-$BF7-$BJ7-$BM7","v":69307.558356164402},null,null,{"$f":"VLOOKUP(BX6,LookupTables!$AX$5:$AZ$10,2,FALSE)","v":250},{"$f":"VLOOKUP(BX6,LookupTables!$AX$5:$AZ$10,3,FALSE)","v":200},null,{"$f":"VLOOKUP(CA6,LookupTables!$AX$5:$AZ$10,2,FALSE)","v":250},{"$f":"VLOOKUP(CA6,LookupTables!$AX$5:$AZ$10,3,FALSE)","v":200},null,{"$f":"VLOOKUP(CD6,LookupTables!$AX$5:$AZ$10,2,FALSE)","v":710},{"$f":"VLOOKUP(CD6,LookupTables!$AX$5:$AZ$10,3,FALSE)","v":1090},null,{"$f":"VLOOKUP(CG6,LookupTables!$AX$5:$AZ$10,2,FALSE)","v":245},{"$f":"VLOOKUP(CG6,LookupTables!$AX$5:$AZ$10,3,FALSE)","v":155}]
[null,null,"Latent (Btu/day)",null,null,{"$f":"NewConst!$E$266*kWh_to_Btu/365","v":0},{"$f":"NewConst!$E$300*kWh_to_Btu/365","v":245.66399999999996},0,0,{"$f":"NewConst!E141","v":1408},{"$f":"NewConst!E145","v":281},0,{"$f":"(NewConst!$E$282*kWh_to_Btu+NewConst!E284*Therms_to_Btu)/365","v":534.2465753424658},{"$f":"((NewConst!$E$330+NewConst!$E$338)*kWh_to_Btu+NewConst!$E$334*Therms_to_Btu)/365","v":1721.9829041095891},{"$f":"NewConst!$E$366*kWh_to_Btu/365","v":662.87844120547948},null,null,null,null,null,null,null,null,null,null,null,null,null,null,null,null,null,{"$f":"SUM($F8:$O8)","v":4853.7719206575339},null,null,null,null,null,null,null,null,null,null,null,null,null,null,null,null,null,null,null,"Latent (Btu/day)",{"$f":"NewConst!E426","v":25873.07516190227},null,{"$f":"NewConst!E266/365*kWh_to_Btu","v":0},{"$f":"(NewConst!E282*kWh_to_Btu+NewConst!E284*Therms_to_Btu)/365","v":534.2465753424658},{"$f":"NewConst!E410","v":5100},null,{"$f":"Appliances!N15*kWh_to_Btu/365","v":0},null,{"$f":"NewConst!E421","v":47415},null,{"$f":"Appliances!N16*kWh_to_Btu/365","v":0},{"$f":"NewConst!E415","v":358.05},{"$f":"IF(NewConst!$E$147=\"N/A\",0,NewConst!$E$147)","v":0},null,null,{"$f":"Appliances!N20*kWh_to_Btu/365","v":0},{"$f":"Appliances!N21*kWh_to_Btu/365","v":0},null,null,null,null,{"$f":"SUM($BB8:$BU8)-$BB8-$BF8-$BJ8-$BM8","v":534.2465753424724}]
[null,null,1,6.0518788725154128E-2,8.0000000000000002E-3,9.3457939999999993E-3,1.5358362E-2,6.2305299999999997E-3,7.7220077220077213E-3,1.0689990281827018E-2,1.4164305949008497E-2,3.9761431E-2,9.9009900000000001E-3,7.0721359999999997E-3,3.6999999999999998E-2,{"$f":"IF(selSchedule=$P$1,Q73,IF(selSchedule=$Q$1,Q101,IF(selSchedule=$R$1,Q129,\"Error\")))","v":2.5521063189568712E-2},4.0960079840319366E-2,4.0352852852852852E-2,4.0000000000000001E-3,3.4905274187427729E-3,2.502502502502502E-3,1.2991017964071858E-2,4.4937188434695907E-2,3.4438916528468776E-2,2.3844026210167003E-2,2.3844026210167006E-2,2.994035785288271E-3,2.9940357852882701E-3,4.3500000000000004E-2,5.6872037914691947E-2,2.8737864077669904E-2,{"$f":"($L$7*$L9+$O$7*$O9+$N$7*$N9+$G$7*$G9+$M$7*$M9+$F$7*$F9+$I9*$I$7+$J9*$J$7+$K9*$K$7+$H9*$H$7)/$AF$7","v":2.8513894438161012E-2},{"$f":"($L$8*$L9+$O$8*$O9+$N$8*$N9+$G$8*$G9+$M$8*$M9+$F$8*$F9+$I9*$I$8+$J9*$J$8+$K9*$K$8+$H9*$H$8)/$AG$8","v":1.335020342987487E-2},{"$f":"D9/MAX($D$9:$D$32)","v":1},{"$f":"$AH9*NewConst!$E$400*N_occ","v":580.80000000000007},{"$f":"$AH9*NewConst!$E$401*N_occ","v":432.96000000000004},{"$f":"IF(NewConst!$F$203=NewConst!$I$203,'Detailed Lighting'!BD11,Lighting!BH21)","v":2.3899622995976207E-2},{"$f":"IF(NewConst!$F$203=NewConst!$I$203,'Detailed Lighting'!BE11,Lighting!BI21)","v":2.7276184291198248E-2},{"$f":"IF(NewConst!$F$203=NewConst!$I$203,'Detailed Lighting'!BF11,Lighting!BJ21)","v":3.2287800161502921E-2},{"$f":"IF(NewConst!$F$203=NewConst!$I$203,'Detailed Lighting'!BG11,Lighting!BK21)","v":3.9449605425336744E-2},{"$f":"IF(NewConst!$F$203=NewConst!$I$203,'Detailed Lighting'!BH11,Lighting!BL21)","v":4.5313036475053886E-2},{"$f":"IF(NewConst!$F$203=NewConst!$I$203,'Detailed Lighting'!BI11,Lighting!BM21)","v":4.8450764764901066E-2},{"$f":"IF(NewConst!$F$203=NewConst!$I$203,'Detailed Lighting'!BJ11,Lighting!BN21)","v":4.7560672593435778E-2},{"$f":"IF(NewConst!$F$203=NewConst!$I$203,'Detailed Lighting'!BK11,Lighting!BO21)","v":4.2313159232650437E-2},{"$f":"IF(NewConst!$F$203=NewConst!$I$203,'Detailed Lighting'!BL11,Lighting!BP21)","v":3.5447509676188142E-2},{"$f":"IF(NewConst!$F$203=NewConst!$I$203,'Detailed Lighting'!BM11,Lighting!BQ21)","v":2.9332097839659191E-2},{"$f":"IF(NewConst!$F$203=NewConst!$I$203,'Detailed Lighting'!BN11,Lighting!BR21)","v":2.4849289546139488E-2},{"$f":"IF(NewConst!$F$203=NewConst!$I$203,'Detailed Lighting'!BO11,Lighting!BS21)","v":2.3008213022485718E-2},{"$f":"IF(NewConst!$F$203=NewConst!$I$203,'Detailed Lighting'!BP11,Lighting!BG21)","v":3.2619105570216002E-2},null,null,null,1,3.4410248540092747E-3,4.1666666666666664E-2,3.4410248540092747E-3,4.3518154613620685E-3,0,1.6822429906542057E-2,2.3190442726633873E-2,4.1666666666666664E-2,0,0,0,0,0,9.9009900000000001E-3,1.6822429906542057E-2,0,4.1666666666666664E-2,"No profile available *Assuming 1 h/wk use (data from appliance usage list from PSNH: The Northeast Utility System)",{"$f":"IF(AVERAGE('Sunrise Calc'!$G$2:$G$13)>'Hourly Profiles'!BA9, 1/12, \"0.000\")","v":8.3333333333333329E-2},2.8737864077669904E-2,{"$f":"($BD9*$BD$7+$BE9*$BE$7+$BH9*$BH$7+$BL9*$BL$7+$BN9*$BN$7+$BQ9*$BQ$7+$BR9*$BR$7)/$BV$7","v":1.459620527896007E-2},{"$f":"($BD9*$BD$8+$BE9*$BE$8+$BH9*$BH$8+$BL9*$BL$8+$BN9*$BN$8+$BQ9*$BQ$8+$BR9*$BR$8)/$BW$8","v":4.3518154613620148E-3},{"$f":"BB9/MAX($BB$9:$BB$32)","v":4.4514947340877881E-2},{"$f":"$BX9*NewConst!$F$250*BY$7","v":111.2873683521947},{"$f":"$BX9*NewConst!$F$250*BZ$7","v":89.029894681755763},{"$f":"BF9/MAX($BF$9:$BF$32)","v":0},{"$f":"$CA9*CB$7*NewConst!$E$407","v":0},{"$f":"$CA9*CC$7*NewConst!$E$407","v":0},{"$f":"BJ9/MAX($BJ$9:$BJ$32)","v":0},{"$f":"$CD9*CE$7*NewConst!$F$419","v":0},{"$f":"$CD9*CF$7*NewConst!$F$419","v":0},0,{"$f":"$CG9*CH$7*NewConst!$E$413","v":0},{"$f":"$CG9*CI$7*NewConst!$E$413","v":0}]
[null,null,2,6.0518788725154128E-2,8.0000000000000002E-3,7.476636E-3,6.8259389999999996E-3,3.1152649999999999E-3,3.8610038610038607E-3,4.8590864917395539E-3,6.7988668555240784E-3,3.8909401000000003E-2,5.9405940000000004E-3,7.0721359999999997E-3,3.5000000000000003E-2,{"$f":"IF(selSchedule=$P$1,Q74,IF(selSchedule=$Q$1,Q102,IF(selSchedule=$R$1,Q130,\"Error\")))","v":2.051504513540622E-2},3.9961077844311382E-2,4.0352852852852852E-2,1.0000000000000005E-3,0,5.0050050050050039E-4,1.497005988023952E-3,1.9482053838484545E-2,3.6926478717523498E-2,2.8814205136608356E-2,2.8814205136608359E-2,2.994035785288271E-3,2.9940357852882701E-3,2.2999999999999993E-2,5.6872037914691947E-2,2.6019417475728154E-2,{"$f":"($L$7*$L10+$O$7*$O10+$N$7*$N10+$G$7*$G10+$M$7*$M10+$F$7*$F10+$I10*$I$7+$J10*$J$7+$K10*$K$7+$H10*$H$7)/$AF$7","v":2.6158342234672661E-2},{"$f":"($L$8*$L10+$O$8*$O10+$N$8*$N10+$G$8*$G10+$M$8*$M10+$F$8*$F10+$I10*$I$8+$J10*$J$8+$K10*$K$8+$H10*$H$8)/$AG$8","v":1.0091439889569811E-2},1,{"$f":"$AH10*NewConst!$E$400*N_occ","v":580.80000000000007},{"$f":"$AH10*NewConst!$E$401*N_occ","v":432.96000000000004},{"$f":"IF(NewConst!$F$203=NewConst!$I$203,'Detailed Lighting'!BD12,Lighting!BH22)","v":1.4339773797585725E-2},{"$f":"IF(NewConst!$F$203=NewConst!$I$203,'Detailed Lighting'!BE12,Lighting!BI22)","v":1.6365710574718948E-2},{"$f":"IF(NewConst!$F$203=NewConst!$I$203,'Detailed Lighting'!BF12,Lighting!BJ22)","v":1.937268009690175E-2},{"$f":"IF(NewConst!$F$203=NewConst!$I$203,'Detailed Lighting'!BG12,Lighting!BK22)","v":2.3669763255202047E-2},{"$f":"IF(NewConst!$F$203=NewConst!$I$203,'Detailed Lighting'!BH12,Lighting!BL22)","v":2.718782188503233E-2},{"$f":"IF(NewConst!$F$203=NewConst!$I$203,'Detailed Lighting'!BI12,Lighting!BM22)","v":2.9070458858940641E-2},{"$f":"IF(NewConst!$F$203=NewConst!$I$203,'Detailed Lighting'!BJ12,Lighting!BN22)","v":2.8536403556061466E-2},{"$f":"IF(NewConst!$F$203=NewConst!$I$203,'Detailed Lighting'!BK12,Lighting!BO22)","v":2.5387895539590262E-2},{"$f":"IF(NewConst!$F$203=NewConst!$I$203,'Detailed Lighting'!BL12,Lighting!BP22)","v":2.1268505805712885E-2},{"$f":"IF(NewConst!$F$203=NewConst!$I$203,'Detailed Lighting'!BM12,Lighting!BQ22)","v":1.7599258703795514E-2},{"$f":"IF(NewConst!$F$203=NewConst!$I$203,'Detailed Lighting'!BN12,Lighting!BR22)","v":1.4909573727683693E-2},{"$f":"IF(NewConst!$F$203=NewConst!$I$203,'Detailed Lighting'!BO12,Lighting!BS22)","v":1.3804927813491432E-2},{"$f":"IF(NewConst!$F$203=NewConst!$I$203,'Detailed Lighting'!BP12,Lighting!BG22)","v":1.9571463342129603E-2},null,null,null,2,3.9757616333060859E-3,4.1666666666666664E-2,3.9757616333060859E-3,3.4814523690896546E-3,0,1.6822429906542057E-2,2.3190442726633873E-2,4.1666666666666664E-2,0,0,0,0,0,5.9405940000000004E-3,1.6822429906542057E-2,0,4.1666666666666664E-2,null,{"$f":"IF(AVERAGE('Sunrise Calc'!$G$2:$G$13)>'Hourly Profiles'!BA10, 1/12, \"0.000\")","v":8.3333333333333329E-2},2.6019417475728154E-2,{"$f":"($BD10*$BD$7+$BE10*$BE$7+$BH10*$BH$7+$BL10*$BL$7+$BN10*$BN$7+$BQ10*$BQ$7+$BR10*$BR$7)/$BV$7","v":1.4577174890428358E-2},{"$f":"($BD10*$BD$8+$BE10*$BE$8+$BH10*$BH$8+$BL10*$BL$8+$BN10*$BN$8+$BQ10*$BQ$8+$BR10*$BR$8)/$BW$8","v":3.4814523690896116E-3},5.1432589782167852E-2,{"$f":"$BX10*NewConst!$F$250*BY$7","v":128.58147445541962},{"$f":"$BX10*NewConst!$F$250*BZ$7","v":102.86517956433569},0,{"$f":"$CA10*CB$7*NewConst!$E$407","v":0},{"$f":"$CA10*CC$7*NewConst!$E$407","v":0},0,{"$f":"$CD10*CE$7*NewConst!$F$419","v":0},{"$f":"$CD10*CF$7*NewConst!$F$419","v":0},0,{"$f":"$CG10*CH$7*NewConst!$E$413","v":0},{"$f":"$CG10*CI$7*NewConst!$E$413","v":0}]
[null,null,3,6.0518788725154128E-2,8.0000000000000002E-3,3.738318E-3,5.1194539999999998E-3,7.7899999999999996E-4,3.8610038610038607E-3,3.4013605442176878E-3,5.0991501416430586E-3,3.805737E-2,3.9603959999999997E-3,3.5360679999999999E-3,3.4000000000000002E-2,{"$f":"IF(selSchedule=$P$1,Q75,IF(selSchedule=$Q$1,Q103,IF(selSchedule=$R$1,Q131,\"Error\")))","v":1.8519558676028086E-2},3.8962075848303399E-2,4.0352852852852852E-2,1.0000000000000005E-3,0,5.0050050050050039E-4,1.497005988023952E-3,9.9910269192422709E-3,5.0425051917589239E-2,2.3844026210167003E-2,2.3844026210167006E-2,3.4940357852882705E-3,3.4940357852882701E-3,1.9E-2,5.6872037914691947E-2,2.4854368932038837E-2,2.4757349303124773E-2,7.8747799964802526E-3,1,{"$f":"$AH11*NewConst!$E$400*N_occ","v":580.80000000000007},{"$f":"$AH11*NewConst!$E$401*N_occ","v":432.96000000000004},{"$f":"IF(NewConst!$F$203=NewConst!$I$203,'Detailed Lighting'!BD13,Lighting!BH23)","v":9.5598491983904833E-3},{"$f":"IF(NewConst!$F$203=NewConst!$I$203,'Detailed Lighting'!BE13,Lighting!BI23)","v":1.0910473716479298E-2},{"$f":"IF(NewConst!$F$203=NewConst!$I$203,'Detailed Lighting'!BF13,Lighting!BJ23)","v":1.2915120064601167E-2},{"$f":"IF(NewConst!$F$203=NewConst!$I$203,'Detailed Lighting'!BG13,Lighting!BK23)","v":1.5779842170134697E-2},{"$f":"IF(NewConst!$F$203=NewConst!$I$203,'Detailed Lighting'!BH13,Lighting!BL23)","v":1.8125214590021553E-2},{"$f":"IF(NewConst!$F$203=NewConst!$I$203,'Detailed Lighting'!BI13,Lighting!BM23)","v":1.9380305905960425E-2},{"$f":"IF(NewConst!$F$203=NewConst!$I$203,'Detailed Lighting'!BJ13,Lighting!BN23)","v":1.9024269037374312E-2},{"$f":"IF(NewConst!$F$203=NewConst!$I$203,'Detailed Lighting'!BK13,Lighting!BO23)","v":1.6925263693060175E-2},{"$f":"IF(NewConst!$F$203=NewConst!$I$203,'Detailed Lighting'!BL13,Lighting!BP23)","v":1.4179003870475257E-2},{"$f":"IF(NewConst!$F$203=NewConst!$I$203,'Detailed Lighting'!BM13,Lighting!BQ23)","v":1.1732839135863676E-2},{"$f":"IF(NewConst!$F$203=NewConst!$I$203,'Detailed Lighting'!BN13,Lighting!BR23)","v":9.9397158184557945E-3},{"$f":"IF(NewConst!$F$203=NewConst!$I$203,'Detailed Lighting'!BO13,Lighting!BS23)","v":9.2032852089942874E-3},{"$f":"IF(NewConst!$F$203=NewConst!$I$203,'Detailed Lighting'!BP13,Lighting!BG23)","v":1.3047642228086399E-2},null,null,null,3,1.6345500133115325E-3,4.1666666666666664E-2,1.6345500133115325E-3,4.0552472965877636E-3,0,1.6822429906542057E-2,2.3190442726633873E-2,4.1666666666666664E-2,0,0,0,0,0,3.9603959999999997E-3,1.6822429906542057E-2,0,4.1666666666666664E-2,null,{"$f":"IF(AVERAGE('Sunrise Calc'!$G$2:$G$13)>'Hourly Profiles'!BA11, 1/12, \"0.000\")","v":8.3333333333333329E-2},2.4854368932038837E-2,1.4573090841808849E-2,4.0552472965877133E-3,2.1145417675148818E-2,{"$f":"$BX11*NewConst!$F$250*BY$7","v":52.863544187872051},{"$f":"$BX11*NewConst!$F$250*BZ$7","v":42.290835350297641},0,{"$f":"$CA11*CB$7*NewConst!$E$407","v":0},{"$f":"$CA11*CC$7*NewConst!$E$407","v":0},0,{"$f":"$CD11*CE$7*NewConst!$F$419","v":0},{"$f":"$CD11*CF$7*NewConst!$F$419","v":0},0,{"$f":"$CG11*CH$7*NewConst!$E$413","v":0},{"$f":"$CG11*CI$7*NewConst!$E$413","v":0}]
[null,null,4,6.0518788725154128E-2,8.0000000000000002E-3,3.738318E-3,3.4129690000000001E-3,7.7899999999999996E-4,3.8610038610038607E-3,4.8590864917395539E-3,5.0991501416430586E-3,3.6921329000000003E-2,1.9801979999999999E-3,3.5360679999999999E-3,3.4000000000000002E-2,{"$f":"IF(selSchedule=$P$1,Q76,IF(selSchedule=$Q$1,Q104,IF(selSchedule=$R$1,Q132,\"Error\")))","v":1.6524072216649952E-2},3.7963073852295415E-2,4.0352852852852852E-2,1.5000000000000002E-3,0,5.0050050050050039E-4,9.980039920159682E-4,9.999999999999998E-4,5.7932559425096751E-2,2.8814205136608356E-2,2.8814205136608359E-2,3.991053677932406E-3,3.9910536779324043E-3,1.4999999999999999E-2,5.6872037914691947E-2,2.4077669902912623E-2,2.4566935753613937E-2,7.993315068270947E-3,1,{"$f":"$AH12*NewConst!$E$400*N_occ","v":580.80000000000007},{"$f":"$AH12*NewConst!$E$401*N_occ","v":432.96000000000004},{"$f":"IF(NewConst!$F$203=NewConst!$I$203,'Detailed Lighting'!BD14,Lighting!BH24)","v":9.5598491983904833E-3},{"$f":"IF(NewConst!$F$203=NewConst!$I$203,'Detailed Lighting'!BE14,Lighting!BI24)","v":1.0910473716479298E-2},{"$f":"IF(NewConst!$F$203=NewConst!$I$203,'Detailed Lighting'!BF14,Lighting!BJ24)","v":1.2915120064601167E-2},{"$f":"IF(NewConst!$F$203=NewConst!$I$203,'Detailed Lighting'!BG14,Lighting!BK24)","v":1.5779842170134697E-2},{"$f":"IF(NewConst!$F$203=NewConst!$I$203,'Detailed Lighting'!BH14,Lighting!BL24)","v":1.8125214590021553E-2},{"$f":"IF(NewConst!$F$203=NewConst!$I$203,'Detailed Lighting'!BI14,Lighting!BM24)","v":1.9380305905960425E-2},{"$f":"IF(NewConst!$F$203=NewConst!$I$203,'Detailed Lighting'!BJ14,Lighting!BN24)","v":1.9024269037374312E-2},{"$f":"IF(NewConst!$F$203=NewConst!$I$203,'Detailed Lighting'!BK14,Lighting!BO24)","v":1.6925263693060175E-2},{"$f":"IF(NewConst!$F$203=NewConst!$I$203,'Detailed Lighting'!BL14,Lighting!BP24)","v":1.4179003870475257E-2},{"$f":"IF(NewConst!$F$203=NewConst!$I$203,'Detailed Lighting'!BM14,Lighting!BQ24)","v":1.1732839135863676E-2},{"$f":"IF(NewConst!$F$203=NewConst!$I$203,'Detailed Lighting'!BN14,Lighting!BR24)","v":9.9397158184557945E-3},{"$f":"IF(NewConst!$F$203=NewConst!$I$203,'Detailed Lighting'!BO14,Lighting!BS24)","v":9.2032852089942874E-3},{"$f":"IF(NewConst!$F$203=NewConst!$I$203,'Detailed Lighting'!BP14,Lighting!BG24)","v":1.3047642228086399E-2},null,null,null,4,4.0758825621957017E-3,4.1666666666666664E-2,4.0758825621957017E-3,1.6672288567529344E-3,0,1.6822429906542057E-2,2.3190442726633873E-2,4.1666666666666664E-2,0,0,0,0,0,1.9801979999999999E-3,1.6822429906542057E-2,0,4.1666666666666664E-2,null,{"$f":"IF(AVERAGE('Sunrise Calc'!$G$2:$G$13)>'Hourly Profiles'!BA12, 1/12, \"0.000\")","v":8.3333333333333329E-2},2.4077669902912623E-2,1.4529023451639271E-2,1.6672288567529138E-3,5.2727807941388101E-2,{"$f":"$BX12*NewConst!$F$250*BY$7","v":131.81951985347027},{"$f":"$BX12*NewConst!$F$250*BZ$7","v":105.45561588277621},0,{"$f":"$CA12*CB$7*NewConst!$E$407","v":0},{"$f":"$CA12*CC$7*NewConst!$E$407","v":0},0,{"$f":"$CD12*CE$7*NewConst!$F$419","v":0},{"$f":"$CD12*CF$7*NewConst!$F$419","v":0},0,{"$f":"$CG12*CH$7*NewConst!$E$413","v":0},{"$f":"$CG12*CI$7*NewConst!$E$413","v":0}]
[null,null,5,6.0518788725154128E-2,2.4E-2,7.476636E-3,3.4129690000000001E-3,3.1152649999999999E-3,7.7220077220077213E-3,1.3605442176870751E-2,6.7988668555240784E-3,3.6353309E-2,3.9603959999999997E-3,7.0721359999999997E-3,3.2000000000000001E-2,{"$f":"IF(selSchedule=$P$1,Q77,IF(selSchedule=$Q$1,Q105,IF(selSchedule=$R$1,Q133,\"Error\")))","v":2.3549648946840519E-2},3.6963073852295414E-2,4.0348384098384101E-2,6.5000000000000014E-3,1.9940179461615157E-3,4.5045045045045027E-3,2.4950099800399206E-3,4.999999999999999E-4,4.9906623040951413E-2,4.6694510197997717E-2,4.669451019799771E-2,8.4821073558648125E-3,8.4821073558648107E-3,1.6E-2,5.6872037914691947E-2,2.4077669902912623E-2,2.4310021140782831E-2,1.1828207862348042E-2,1,{"$f":"$AH13*NewConst!$E$400*N_occ","v":580.80000000000007},{"$f":"$AH13*NewConst!$E$401*N_occ","v":432.96000000000004},{"$f":"IF(NewConst!$F$203=NewConst!$I$203,'Detailed Lighting'!BD15,Lighting!BH25)","v":9.5598491983904833E-3},{"$f":"IF(NewConst!$F$203=NewConst!$I$203,'Detailed Lighting'!BE15,Lighting!BI25)","v":1.0910473716479298E-2},{"$f":"IF(NewConst!$F$203=NewConst!$I$203,'Detailed Lighting'!BF15,Lighting!BJ25)","v":1.2915120064601167E-2},{"$f":"IF(NewConst!$F$203=NewConst!$I$203,'Detailed Lighting'!BG15,Lighting!BK25)","v":1.5779842170134697E-2},{"$f":"IF(NewConst!$F$203=NewConst!$I$203,'Detailed Lighting'!BH15,Lighting!BL25)","v":1.8125214590021553E-2},{"$f":"IF(NewConst!$F$203=NewConst!$I$203,'Detailed Lighting'!BI15,Lighting!BM25)","v":1.9380305905960425E-2},{"$f":"IF(NewConst!$F$203=NewConst!$I$203,'Detailed Lighting'!BJ15,Lighting!BN25)","v":1.9024269037374312E-2},{"$f":"IF(NewConst!$F$203=NewConst!$I$203,'Detailed Lighting'!BK15,Lighting!BO25)","v":1.6925263693060175E-2},{"$f":"IF(NewConst!$F$203=NewConst!$I$203,'Detailed Lighting'!BL15,Lighting!BP25)","v":1.4179003870475257E-2},{"$f":"IF(NewConst!$F$203=NewConst!$I$203,'Detailed Lighting'!BM15,Lighting!BQ25)","v":1.1732839135863676E-2},{"$f":"IF(NewConst!$F$203=NewConst!$I$203,'Detailed Lighting'!BN15,Lighting!BR25)","v":9.9397158184557945E-3},{"$f":"IF(NewConst!$F$203=NewConst!$I$203,'Detailed Lighting'!BO15,Lighting!BS25)","v":9.2032852089942874E-3},{"$f":"IF(NewConst!$F$203=NewConst!$I$203,'Detailed Lighting'!BP15,Lighting!BG25)","v":1.3047642228086399E-2},null,null,null,5,4.7977140065892715E-3,4.1666666666666664E-2,4.7977140065892715E-3,4.157369899414393E-3,0,1.6822429906542057E-2,2.3190442726633873E-2,4.1666666666666664E-2,0,0,0,0,0,3.9603959999999997E-3,1.6822429906542057E-2,0,4.1666666666666664E-2,null,{"$f":"IF(AVERAGE('Sunrise Calc'!$G$2:$G$13)>'Hourly Profiles'!BA13, 1/12, \"0.000\")","v":8.3333333333333329E-2},2.4077669902912623E-2,1.4602299831608836E-2,4.1573698994143418E-3,6.2065807548897754E-2,{"$f":"$BX13*NewConst!$F$250*BY$7","v":155.1645188722444},{"$f":"$BX13*NewConst!$F$250*BZ$7","v":124.13161509779552},0,{"$f":"$CA13*CB$7*NewConst!$E$407","v":0},{"$f":"$CA13*CC$7*NewConst!$E$407","v":0},0,{"$f":"$CD13*CE$7*NewConst!$F$419","v":0},{"$f":"$CD13*CF$7*NewConst!$F$419","v":0},0,{"$f":"$CG13*CH$7*NewConst!$E$413","v":0},{"$f":"$CG13*CI$7*NewConst!$E$413","v":0}]
[null,null,6,6.0518788725154128E-2,0.05,1.1214953E-2,1.0238908E-2,2.1806854000000001E-2,1.9305019305019305E-2,5.1506316812439265E-2,1.8130311614730877E-2,3.6353309E-2,5.9405940000000004E-3,1.0608204E-2,3.5999999999999997E-2,{"$f":"IF(selSchedule=$P$1,Q78,IF(selSchedule=$Q$1,Q106,IF(selSchedule=$R$1,Q134,\"Error\")))","v":3.1075225677031092E-2},3.6463073852295413E-2,4.0343915343915349E-2,1.1500000000000002E-2,3.4895314057826515E-3,9.0090090090090055E-3,3.4930139720558877E-3,4.999999999999999E-4,5.3910627044955417E-2,6.6560912578155704E-2,6.656091257815569E-2,1.4955268389662031E-2,1.4955268389662024E-2,1.7500000000000002E-2,5.6872037914691947E-2,2.7184466019417475E-2,3.0778459415868972E-2,2.5842861303684315E-2,1,{"$f":"$AH14*NewConst!$E$400*N_occ","v":580.80000000000007},{"$f":"$AH14*NewConst!$E$401*N_occ","v":432.96000000000004},{"$f":"IF(NewConst!$F$203=NewConst!$I$203,'Detailed Lighting'!BD16,Lighting!BH26)","v":1.046786451174443E-2},{"$f":"IF(NewConst!$F$203=NewConst!$I$203,'Detailed Lighting'!BE16,Lighting!BI26)","v":1.1747934907070776E-2},{"$f":"IF(NewConst!$F$203=NewConst!$I$203,'Detailed Lighting'!BF16,Lighting!BJ26)","v":1.3540695432430968E-2},{"$f":"IF(NewConst!$F$203=NewConst!$I$203,'Detailed Lighting'!BG16,Lighting!BK26)","v":1.6664961402907252E-2},{"$f":"IF(NewConst!$F$203=NewConst!$I$203,'Detailed Lighting'!BH16,Lighting!BL26)","v":1.8765663664446833E-2},{"$f":"IF(NewConst!$F$203=NewConst!$I$203,'Detailed Lighting'!BI16,Lighting!BM26)","v":1.9943599965884854E-2},{"$f":"IF(NewConst!$F$203=NewConst!$I$203,'Detailed Lighting'!BJ16,Lighting!BN26)","v":1.9683500840876427E-2},{"$f":"IF(NewConst!$F$203=NewConst!$I$203,'Detailed Lighting'!BK16,Lighting!BO26)","v":1.7749518270534247E-2},{"$f":"IF(NewConst!$F$203=NewConst!$I$203,'Detailed Lighting'!BL16,Lighting!BP26)","v":1.5125141755857944E-2},{"$f":"IF(NewConst!$F$203=NewConst!$I$203,'Detailed Lighting'!BM16,Lighting!BQ26)","v":1.2770755063530531E-2},{"$f":"IF(NewConst!$F$203=NewConst!$I$203,'Detailed Lighting'!BN16,Lighting!BR26)","v":1.06017598741972E-2},{"$f":"IF(NewConst!$F$203=NewConst!$I$203,'Detailed Lighting'!BO16,Lighting!BS26)","v":1.0014898224714816E-2},{"$f":"IF(NewConst!$F$203=NewConst!$I$203,'Detailed Lighting'!BP16,Lighting!BG26)","v":1.3844991759640518E-2},null,null,null,6,1.1243378049801061E-2,4.1666666666666664E-2,1.1243378049801061E-2,4.893632604136687E-3,0,1.6822429906542057E-2,2.3190442726633873E-2,4.1666666666666664E-2,0,0,0,0,0,5.9405940000000004E-3,1.6822429906542057E-2,0,4.1666666666666664E-2,null,{"$f":"IF(AVERAGE('Sunrise Calc'!$G$2:$G$13)>'Hourly Profiles'!BA14, 1/12, \"0.000\")","v":8.3333333333333329E-2},2.7184466019417475E-2,1.4676081574092972E-2,4.8936326041366263E-3,0.14545038267809252,{"$f":"$BX14*NewConst!$F$250*BY$7","v":363.62595669523131},{"$f":"$BX14*NewConst!$F$250*BZ$7","v":290.90076535618505},0,{"$f":"$CA14*CB$7*NewConst!$E$407","v":0},{"$f":"$CA14*CC$7*NewConst!$E$407","v":0},0,{"$f":"$CD14*CE$7*NewConst!$F$419","v":0},{"$f":"$CD14*CF$7*NewConst!$F$419","v":0},0,{"$f":"$CG14*CH$7*NewConst!$E$413","v":0},{"$f":"$CG14*CI$7*NewConst!$E$413","v":0}]
[null,null,7,6.0518788725154128E-2,5.6000000000000001E-2,2.2429906999999999E-2,2.0477815999999999E-2,7.4766355000000007E-2,4.6332046332046323E-2,0.11758989310009718,4.249291784702549E-2,3.7773359999999999E-2,1.5841583999999999E-2,2.4752474999999999E-2,4.2000000000000003E-2,{"$f":"IF(selSchedule=$P$1,Q79,IF(selSchedule=$Q$1,Q107,IF(selSchedule=$R$1,Q135,\"Error\")))","v":4.1594784353059175E-2},3.6962075848303397E-2,4.0343915343915349E-2,2.8500000000000008E-2,1.4956130609171487E-2,2.1521521521521515E-2,1.5977045908183635E-2,4.9925224327018935E-3,5.990169273751364E-2,5.6630425984312602E-2,5.6630425984312588E-2,2.591650099403579E-2,2.5916500994035779E-2,2.5500000000000002E-2,5.6872037914691947E-2,3.4174757281553399E-2,4.4679668573997348E-2,5.3868474081366552E-2,1,{"$f":"$AH15*NewConst!$E$400*N_occ","v":580.80000000000007},{"$f":"$AH15*NewConst!$E$401*N_occ","v":432.96000000000004},{"$f":"IF(NewConst!$F$203=NewConst!$I$203,'Detailed Lighting'!BD17,Lighting!BH27)","v":2.2584908780539908E-2},{"$f":"IF(NewConst!$F$203=NewConst!$I$203,'Detailed Lighting'!BE17,Lighting!BI27)","v":2.2923467049048581E-2},{"$f":"IF(NewConst!$F$203=NewConst!$I$203,'Detailed Lighting'!BF17,Lighting!BJ27)","v":2.1888709297376616E-2},{"$f":"IF(NewConst!$F$203=NewConst!$I$203,'Detailed Lighting'!BG17,Lighting!BK27)","v":2.8476468069080219E-2},{"$f":"IF(NewConst!$F$203=NewConst!$I$203,'Detailed Lighting'!BH17,Lighting!BL27)","v":2.7312160262676785E-2},{"$f":"IF(NewConst!$F$203=NewConst!$I$203,'Detailed Lighting'!BI17,Lighting!BM27)","v":2.7460498590911923E-2},{"$f":"IF(NewConst!$F$203=NewConst!$I$203,'Detailed Lighting'!BJ17,Lighting!BN27)","v":2.84806442689183E-2},{"$f":"IF(NewConst!$F$203=NewConst!$I$203,'Detailed Lighting'!BK17,Lighting!BO27)","v":2.8748814270421721E-2},{"$f":"IF(NewConst!$F$203=NewConst!$I$203,'Detailed Lighting'!BL17,Lighting!BP27)","v":2.7750914111194548E-2},{"$f":"IF(NewConst!$F$203=NewConst!$I$203,'Detailed Lighting'!BM17,Lighting!BQ27)","v":2.6621262932581023E-2},{"$f":"IF(NewConst!$F$203=NewConst!$I$203,'Detailed Lighting'!BN17,Lighting!BR27)","v":1.943643150730048E-2},{"$f":"IF(NewConst!$F$203=NewConst!$I$203,'Detailed Lighting'!BO17,Lighting!BS27)","v":2.0845498431544984E-2},{"$f":"IF(NewConst!$F$203=NewConst!$I$203,'Detailed Lighting'!BP17,Lighting!BG27)","v":2.4485252369186514E-2},null,null,null,7,2.3085964689168754E-2,4.1666666666666664E-2,2.3085964689168754E-2,1.1468161989141995E-2,0,1.6822429906542057E-2,2.3190442726633873E-2,4.1666666666666664E-2,3.4482758620689655E-2,5.8823529411764705E-2,4.7619047619047616E-2,7.1428571428571425E-2,7.1428571428571425E-2,1.5841583999999999E-2,1.6822429906542057E-2,0,4.1666666666666664E-2,null,{"$f":"IF(AVERAGE('Sunrise Calc'!$G$2:$G$13)>'Hourly Profiles'!BA15, 1/12, \"0.000\")","v":"0.000"},3.4174757281553399E-2,2.9114651048081395E-2,1.1468161989141853E-2,0.29865244979394251,{"$f":"$BX15*NewConst!$F$250*BY$7","v":746.63112448485629},{"$f":"$BX15*NewConst!$F$250*BZ$7","v":597.30489958788496},0,{"$f":"$CA15*CB$7*NewConst!$E$407","v":0},{"$f":"$CA15*CC$7*NewConst!$E$407","v":0},0.5,{"$f":"$CD15*CE$7*NewConst!$F$419","v":1065},{"$f":"$CD15*CF$7*NewConst!$F$419","v":1635},0.5,{"$f":"$CG15*CH$7*NewConst!$E$413","v":40.425000000000004},{"$f":"$CG15*CI$7*NewConst!$E$413","v":25.575000000000003}]
[null,null,8,5.3443893615832683E-2,0.05,4.8598131000000003E-2,3.0716724000000001E-2,7.9439252000000002E-2,5.7915057915057903E-2,0.11661807580174928,6.2322946175637391E-2,3.9761431E-2,3.1683167999999998E-2,4.2432814999999999E-2,4.3999999999999997E-2,{"$f":"IF(selSchedule=$P$1,Q80,IF(selSchedule=$Q$1,Q108,IF(selSchedule=$R$1,Q136,\"Error\")))","v":5.2114343029087254E-2},3.746107784431138E-2,4.0844415844415852E-2,4.6000000000000013E-2,2.5424724826519442E-2,3.4534534534534533E-2,2.8461077844311379E-2,9.4865403788634093E-3,5.8385250922564372E-2,2.4345486169378962E-2,2.4345486169378962E-2,4.3880715705765419E-2,4.3880715705765391E-2,3.2500000000000001E-2,2.3696682464454978E-2,4.1165048543689318E-2,4.9354760598762371E-2,6.3542097640108722E-2,0.88309589041095882,{"$f":"$AH16*NewConst!$E$400*N_occ","v":512.90209315068489},{"$f":"$AH16*NewConst!$E$401*N_occ","v":382.34519671232869},{"$f":"IF(NewConst!$F$203=NewConst!$I$203,'Detailed Lighting'!BD18,Lighting!BH28)","v":4.7225844522917025E-2},{"$f":"IF(NewConst!$F$203=NewConst!$I$203,'Detailed Lighting'!BE18,Lighting!BI28)","v":4.5649765912749912E-2},{"$f":"IF(NewConst!$F$203=NewConst!$I$203,'Detailed Lighting'!BF18,Lighting!BJ28)","v":3.8865033610421922E-2},{"$f":"IF(NewConst!$F$203=NewConst!$I$203,'Detailed Lighting'!BG18,Lighting!BK28)","v":5.249606974135828E-2},{"$f":"IF(NewConst!$F$203=NewConst!$I$203,'Detailed Lighting'!BH18,Lighting!BL28)","v":4.4692114385792604E-2},{"$f":"IF(NewConst!$F$203=NewConst!$I$203,'Detailed Lighting'!BI18,Lighting!BM28)","v":4.2746686533482472E-2},{"$f":"IF(NewConst!$F$203=NewConst!$I$203,'Detailed Lighting'!BJ18,Lighting!BN28)","v":4.6370307879795188E-2},{"$f":"IF(NewConst!$F$203=NewConst!$I$203,'Detailed Lighting'!BK18,Lighting!BO28)","v":5.1116723467765593E-2},{"$f":"IF(NewConst!$F$203=NewConst!$I$203,'Detailed Lighting'!BL18,Lighting!BP28)","v":5.34263873045146E-2},{"$f":"IF(NewConst!$F$203=NewConst!$I$203,'Detailed Lighting'!BM18,Lighting!BQ28)","v":5.4787329411307248E-2},{"$f":"IF(NewConst!$F$203=NewConst!$I$203,'Detailed Lighting'!BN18,Lighting!BR28)","v":3.740241159181E-2},{"$f":"IF(NewConst!$F$203=NewConst!$I$203,'Detailed Lighting'!BO18,Lighting!BS28)","v":4.287035183867114E-2},{"$f":"IF(NewConst!$F$203=NewConst!$I$203,'Detailed Lighting'!BP18,Lighting!BG28)","v":4.6123035655756331E-2},null,null,null,8,3.7388593343930306E-2,4.1666666666666664E-2,3.7388593343930306E-2,2.3547512283079722E-2,0,1.6822429906542057E-2,3.5137034434293744E-2,4.1666666666666664E-2,6.8965517241379309E-2,5.8823529411764705E-2,9.5238095238095233E-2,7.1428571428571425E-2,7.1428571428571425E-2,3.1683167999999998E-2,1.6822429906542057E-2,0,4.1666666666666664E-2,null,{"$f":"IF(AVERAGE('Sunrise Calc'!$G$2:$G$13)>'Hourly Profiles'!BA16, 1/12, \"0.000\")","v":"0.000"},4.1165048543689318E-2,4.990987367564155E-2,2.3547512283079431E-2,0.4836789428926539,{"$f":"$BX16*NewConst!$F$250*BY$7","v":1209.1973572316349},{"$f":"$BX16*NewConst!$F$250*BZ$7","v":967.35788578530787},0,{"$f":"$CA16*CB$7*NewConst!$E$407","v":0},{"$f":"$CA16*CC$7*NewConst!$E$407","v":0},1,{"$f":"$CD16*CE$7*NewConst!$F$419","v":2130},{"$f":"$CD16*CF$7*NewConst!$F$419","v":3270},0.5,{"$f":"$CG16*CH$7*NewConst!$E$413","v":40.425000000000004},{"$f":"$CG16*CI$7*NewConst!$E$413","v":25.575000000000003}]
[null,null,9,2.4728556254600131E-2,2.1999999999999999E-2,7.2897195999999997E-2,5.8020478E-2,7.6323987999999995E-2,6.5637065637065631E-2,9.4752186588921289E-2,6.5722379603399425E-2,4.0613462000000003E-2,4.8316831999999997E-2,4.5968883000000002E-2,3.6999999999999998E-2,{"$f":"IF(selSchedule=$P$1,Q81,IF(selSchedule=$Q$1,Q109,IF(selSchedule=$R$1,Q137,\"Error\")))","v":5.4603811434302908E-2},3.7961077844311381E-2,4.1344916344916341E-2,4.3500000000000011E-2,5.2393767747705933E-2,6.4491137844431251E-2,4.3441117764471057E-2,1.7971585244267195E-2,6.1370325549430046E-2,2.3844026210167003E-2,2.3844026210167006E-2,8.4279324055666016E-2,8.4279324055665988E-2,3.2500000000000001E-2,2.3696682464454978E-2,4.1941747572815533E-2,4.628262256166403E-2,6.0907238725818366E-2,0.4086095702758491,{"$f":"$AH17*NewConst!$E$400*N_occ","v":237.32043841621316},{"$f":"$AH17*NewConst!$E$401*N_occ","v":176.91159954663163},{"$f":"IF(NewConst!$F$203=NewConst!$I$203,'Detailed Lighting'!BD19,Lighting!BH29)","v":4.5119493768682795E-2},{"$f":"IF(NewConst!$F$203=NewConst!$I$203,'Detailed Lighting'!BE19,Lighting!BI29)","v":4.0730939199668373E-2},{"$f":"IF(NewConst!$F$203=NewConst!$I$203,'Detailed Lighting'!BF19,Lighting!BJ29)","v":3.1370516916852935E-2},{"$f":"IF(NewConst!$F$203=NewConst!$I$203,'Detailed Lighting'!BG19,Lighting!BK29)","v":4.164800661769371E-2},{"$f":"IF(NewConst!$F$203=NewConst!$I$203,'Detailed Lighting'!BH19,Lighting!BL29)","v":3.3673815186028105E-2},{"$f":"IF(NewConst!$F$203=NewConst!$I$203,'Detailed Lighting'!BI19,Lighting!BM29)","v":3.1829071428418822E-2},{"$f":"IF(NewConst!$F$203=NewConst!$I$203,'Detailed Lighting'!BJ19,Lighting!BN29)","v":3.4895017356187205E-2},{"$f":"IF(NewConst!$F$203=NewConst!$I$203,'Detailed Lighting'!BK19,Lighting!BO29)","v":3.9921780545311848E-2},{"$f":"IF(NewConst!$F$203=NewConst!$I$203,'Detailed Lighting'!BL19,Lighting!BP29)","v":4.4427415355229052E-2},{"$f":"IF(NewConst!$F$203=NewConst!$I$203,'Detailed Lighting'!BM19,Lighting!BQ29)","v":4.9090118439820925E-2},{"$f":"IF(NewConst!$F$203=NewConst!$I$203,'Detailed Lighting'!BN19,Lighting!BR29)","v":3.6056453966279205E-2},{"$f":"IF(NewConst!$F$203=NewConst!$I$203,'Detailed Lighting'!BO19,Lighting!BS29)","v":4.2474794205498996E-2},{"$f":"IF(NewConst!$F$203=NewConst!$I$203,'Detailed Lighting'!BP19,Lighting!BG29)","v":3.9956588261754224E-2},null,null,null,9,5.0844239393186261E-2,4.1666666666666664E-2,5.0844239393186261E-2,3.8136087136368749E-2,0.11764705882352941,8.411214953271029E-2,7.0274068868587489E-2,4.1666666666666664E-2,6.8965517241379309E-2,5.8823529411764705E-2,9.5238095238095233E-2,7.1428571428571425E-2,7.1428571428571425E-2,4.8316831999999997E-2,8.411214953271029E-2,{"$f":"1/9","v":0.1111111111111111},4.1666666666666664E-2,null,{"$f":"IF(AVERAGE('Sunrise Calc'!$G$2:$G$13)>'Hourly Profiles'!BA17, 1/12, \"0.000\")","v":"0.000"},4.1941747572815533E-2,7.870041584908391E-2,3.8136087136368277E-2,0.65774841368483028,{"$f":"$BX17*NewConst!$F$250*BY$7","v":1644.3710342120758},{"$f":"$BX17*NewConst!$F$250*BZ$7","v":1315.4968273696604},1,{"$f":"$CA17*CB$7*NewConst!$E$407","v":750},{"$f":"$CA17*CC$7*NewConst!$E$407","v":600},1,{"$f":"$CD17*CE$7*NewConst!$F$419","v":2130},{"$f":"$CD17*CF$7*NewConst!$F$419","v":3270},0.5,{"$f":"$CG17*CH$7*NewConst!$E$413","v":40.425000000000004},{"$f":"$CG17*CI$7*NewConst!$E$413","v":25.575000000000003}]
[null,null,10,1.4638755684462032E-2,1.4999999999999999E-2,8.5981308000000006E-2,6.4846416000000004E-2,6.6978193000000005E-2,5.7915057915057903E-2,7.4344023323615172E-2,6.175637393767705E-2,4.1181482999999998E-2,6.8118812000000001E-2,4.8090523000000003E-2,3.2000000000000001E-2,{"$f":"IF(selSchedule=$P$1,Q82,IF(selSchedule=$Q$1,Q110,IF(selSchedule=$R$1,Q138,\"Error\")))","v":5.8094784353059176E-2},3.9460079840319365E-2,4.2345917345917347E-2,4.1000000000000009E-2,7.8863310169391923E-2,9.4447741154327997E-2,5.7422155688622759E-2,2.6456630109670986E-2,6.3857887738484775E-2,1.9375307242937609E-2,1.9375307242937609E-2,0.12066003976143144,0.12066003976143139,3.2000000000000001E-2,2.3696682464454978E-2,4.2718446601941747E-2,4.2931302750646758E-2,5.7352461345219499E-2,0.24188778382435727,{"$f":"$AH18*NewConst!$E$400*N_occ","v":140.4884248451867},{"$f":"$AH18*NewConst!$E$401*N_occ","v":104.72773488459373},{"$f":"IF(NewConst!$F$203=NewConst!$I$203,'Detailed Lighting'!BD20,Lighting!BH30)","v":2.3129432937109194E-2},{"$f":"IF(NewConst!$F$203=NewConst!$I$203,'Detailed Lighting'!BE20,Lighting!BI30)","v":2.0449538374867432E-2},{"$f":"IF(NewConst!$F$203=NewConst!$I$203,'Detailed Lighting'!BF20,Lighting!BJ30)","v":1.6220507670313872E-2},{"$f":"IF(NewConst!$F$203=NewConst!$I$203,'Detailed Lighting'!BG20,Lighting!BK30)","v":2.021243666021097E-2},{"$f":"IF(NewConst!$F$203=NewConst!$I$203,'Detailed Lighting'!BH20,Lighting!BL30)","v":1.8163598674242113E-2},{"$f":"IF(NewConst!$F$203=NewConst!$I$203,'Detailed Lighting'!BI20,Lighting!BM30)","v":1.8187373472853867E-2},{"$f":"IF(NewConst!$F$203=NewConst!$I$203,'Detailed Lighting'!BJ20,Lighting!BN30)","v":1.8929925966292581E-2},{"$f":"IF(NewConst!$F$203=NewConst!$I$203,'Detailed Lighting'!BK20,Lighting!BO30)","v":1.9960213782293488E-2},{"$f":"IF(NewConst!$F$203=NewConst!$I$203,'Detailed Lighting'!BL20,Lighting!BP30)","v":2.1514112739470612E-2},{"$f":"IF(NewConst!$F$203=NewConst!$I$203,'Detailed Lighting'!BM20,Lighting!BQ30)","v":2.3954160871937406E-2},{"$f":"IF(NewConst!$F$203=NewConst!$I$203,'Detailed Lighting'!BN20,Lighting!BR30)","v":2.0023256238411932E-2},{"$f":"IF(NewConst!$F$203=NewConst!$I$203,'Detailed Lighting'!BO20,Lighting!BS30)","v":2.2819377248412605E-2},{"$f":"IF(NewConst!$F$203=NewConst!$I$203,'Detailed Lighting'!BP20,Lighting!BG30)","v":2.0646600373843985E-2},null,null,null,10,5.6409041526672234E-2,4.1666666666666664E-2,5.6409041526672234E-2,5.1860746031402186E-2,0.11764705882352941,8.411214953271029E-2,7.0274068868587489E-2,4.1666666666666664E-2,6.8965517241379309E-2,5.8823529411764705E-2,4.7619047619047616E-2,0.14285714285714285,0.14285714285714285,6.8118812000000001E-2,8.411214953271029E-2,{"$f":"1/9","v":0.1111111111111111},4.1666666666666664E-2,null,{"$f":"IF(AVERAGE('Sunrise Calc'!$G$2:$G$13)>'Hourly Profiles'!BA18, 1/12, \"0.000\")","v":"0.000"},4.2718446601941747E-2,6.495554277717866E-2,5.1860746031401547E-2,0.72973768561522856,{"$f":"$BX18*NewConst!$F$250*BY$7","v":1824.3442140380714},{"$f":"$BX18*NewConst!$F$250*BZ$7","v":1459.4753712304571},1,{"$f":"$CA18*CB$7*NewConst!$E$407","v":750},{"$f":"$CA18*CC$7*NewConst!$E$407","v":600},1,{"$f":"$CD18*CE$7*NewConst!$F$419","v":2130},{"$f":"$CD18*CF$7*NewConst!$F$419","v":3270},1,{"$f":"$CG18*CH$7*NewConst!$E$413","v":80.850000000000009},{"$f":"$CG18*CI$7*NewConst!$E$413","v":51.150000000000006}]
[null,null,11,1.4638755684462032E-2,1.4999999999999999E-2,8.4112149999999997E-2,5.6313993E-2,6.0747664E-2,4.6332046332046323E-2,5.9766763848396506E-2,5.4390934844192627E-2,3.9761431E-2,7.8019801999999999E-2,4.2432814999999999E-2,3.3000000000000002E-2,{"$f":"IF(selSchedule=$P$1,Q83,IF(selSchedule=$Q$1,Q111,IF(selSchedule=$R$1,Q139,\"Error\")))","v":5.5079739217652954E-2},4.0459081836327349E-2,4.1854354354354362E-2,4.3500000000000011E-2,7.3379760817447764E-2,0.10141728554902209,7.6419161676646724E-2,3.2452143569292123E-2,5.6350380230977264E-2,1.5403112605400369E-2,1.5403112605400369E-2,0.12708250497017895,0.12708250497017889,3.2500000000000001E-2,2.3696682464454978E-2,4.3495145631067961E-2,4.1862555825060925E-2,5.1484734684995766E-2,0.24188778382435727,{"$f":"$AH19*NewConst!$E$400*N_occ","v":140.4884248451867},{"$f":"$AH19*NewConst!$E$401*N_occ","v":104.72773488459373},{"$f":"IF(NewConst!$F$203=NewConst!$I$203,'Detailed Lighting'!BD21,Lighting!BH31)","v":1.8832921804372297E-2},{"$f":"IF(NewConst!$F$203=NewConst!$I$203,'Detailed Lighting'!BE21,Lighting!BI31)","v":1.6486872464178324E-2},{"$f":"IF(NewConst!$F$203=NewConst!$I$203,'Detailed Lighting'!BF21,Lighting!BJ31)","v":1.3260434758857352E-2},{"$f":"IF(NewConst!$F$203=NewConst!$I$203,'Detailed Lighting'!BG21,Lighting!BK31)","v":1.6024264300694369E-2},{"$f":"IF(NewConst!$F$203=NewConst!$I$203,'Detailed Lighting'!BH21,Lighting!BL31)","v":1.5133146943141577E-2},{"$f":"IF(NewConst!$F$203=NewConst!$I$203,'Detailed Lighting'!BI21,Lighting!BM31)","v":1.5522000803608518E-2},{"$f":"IF(NewConst!$F$203=NewConst!$I$203,'Detailed Lighting'!BJ21,Lighting!BN31)","v":1.5810598856776093E-2},{"$f":"IF(NewConst!$F$203=NewConst!$I$203,'Detailed Lighting'!BK21,Lighting!BO31)","v":1.60600384039227E-2},{"$f":"IF(NewConst!$F$203=NewConst!$I$203,'Detailed Lighting'!BL21,Lighting!BP31)","v":1.7037214720388105E-2},{"$f":"IF(NewConst!$F$203=NewConst!$I$203,'Detailed Lighting'!BM21,Lighting!BQ31)","v":1.9042991123495848E-2},{"$f":"IF(NewConst!$F$203=NewConst!$I$203,'Detailed Lighting'!BN21,Lighting!BR31)","v":1.6890622224401148E-2},{"$f":"IF(NewConst!$F$203=NewConst!$I$203,'Detailed Lighting'!BO21,Lighting!BS31)","v":1.8979018714549285E-2},{"$f":"IF(NewConst!$F$203=NewConst!$I$203,'Detailed Lighting'!BP21,Lighting!BG31)","v":1.6873733233144762E-2},null,null,null,11,5.6473513336942067E-2,4.1666666666666664E-2,5.6473513336942067E-2,5.7536802819821681E-2,0.11764705882352941,8.411214953271029E-2,7.0274068868587489E-2,4.1666666666666664E-2,6.8965517241379309E-2,5.8823529411764705E-2,4.7619047619047616E-2,7.1428571428571425E-2,7.1428571428571425E-2,7.8019801999999999E-2,8.411214953271029E-2,0.1111111111111111,4.1666666666666664E-2,null,{"$f":"IF(AVERAGE('Sunrise Calc'!$G$2:$G$13)>'Hourly Profiles'!BA19, 1/12, \"0.000\")","v":"0.000"},4.3495145631067961E-2,6.5109349987194573E-2,5.7536802819820966E-2,0.7305717276116962,{"$f":"$BX19*NewConst!$F$250*BY$7","v":1826.4293190292403},{"$f":"$BX19*NewConst!$F$250*BZ$7","v":1461.1434552233923},1,{"$f":"$CA19*CB$7*NewConst!$E$407","v":750},{"$f":"$CA19*CC$7*NewConst!$E$407","v":600},1,{"$f":"$CD19*CE$7*NewConst!$F$419","v":2130},{"$f":"$CD19*CF$7*NewConst!$F$419","v":3270},0.5,{"$f":"$CG19*CH$7*NewConst!$E$413","v":40.425000000000004},{"$f":"$CG19*CI$7*NewConst!$E$413","v":25.575000000000003}]
[null,null,12,1.4638755684462032E-2,1.4999999999999999E-2,7.4766355000000007E-2,4.7781570000000002E-2,4.8286603999999997E-2,3.4749034749034742E-2,4.7133138969873666E-2,4.9858356940509913E-2,3.9761431E-2,8.1188119000000003E-2,4.9504949999999999E-2,3.3000000000000002E-2,{"$f":"IF(selSchedule=$P$1,Q84,IF(selSchedule=$Q$1,Q112,IF(selSchedule=$R$1,Q140,\"Error\")))","v":5.1564694082246745E-2},4.2457085828343323E-2,4.1863291863291865E-2,4.6000000000000006E-2,6.7896211465503592E-2,0.10788782794770821,9.4916167664670675E-2,3.8447657028913257E-2,5.0359314538419034E-2,1.3908110423852121E-2,1.3908110423852121E-2,0.12058250497017894,0.12058250497017889,3.3000000000000002E-2,2.3696682464454978E-2,4.4271844660194175E-2,4.0198229158134154E-2,4.9983397285859085E-2,0.24188778382435727,{"$f":"$AH20*NewConst!$E$400*N_occ","v":140.4884248451867},{"$f":"$AH20*NewConst!$E$401*N_occ","v":104.72773488459373},{"$f":"IF(NewConst!$F$203=NewConst!$I$203,'Detailed Lighting'!BD22,Lighting!BH32)","v":1.8659613778098119E-2},{"$f":"IF(NewConst!$F$203=NewConst!$I$203,'Detailed Lighting'!BE22,Lighting!BI32)","v":1.6327030725951982E-2},{"$f":"IF(NewConst!$F$203=NewConst!$I$203,'Detailed Lighting'!BF22,Lighting!BJ32)","v":1.3141034534334859E-2},{"$f":"IF(NewConst!$F$203=NewConst!$I$203,'Detailed Lighting'!BG22,Lighting!BK32)","v":1.5855326326859421E-2},{"$f":"IF(NewConst!$F$203=NewConst!$I$203,'Detailed Lighting'!BH22,Lighting!BL32)","v":1.5010907853794303E-2},{"$f":"IF(NewConst!$F$203=NewConst!$I$203,'Detailed Lighting'!BI22,Lighting!BM32)","v":1.5414487879209833E-2},{"$f":"IF(NewConst!$F$203=NewConst!$I$203,'Detailed Lighting'!BJ22,Lighting!BN32)","v":1.5684774808390711E-2},{"$f":"IF(NewConst!$F$203=NewConst!$I$203,'Detailed Lighting'!BK22,Lighting!BO32)","v":1.5902717341305554E-2},{"$f":"IF(NewConst!$F$203=NewConst!$I$203,'Detailed Lighting'!BL22,Lighting!BP32)","v":1.6856630442692141E-2},{"$f":"IF(NewConst!$F$203=NewConst!$I$203,'Detailed Lighting'!BM22,Lighting!BQ32)","v":1.8844889661750616E-2},{"$f":"IF(NewConst!$F$203=NewConst!$I$203,'Detailed Lighting'!BN22,Lighting!BR32)","v":1.6764261416472387E-2},{"$f":"IF(NewConst!$F$203=NewConst!$I$203,'Detailed Lighting'!BO22,Lighting!BS32)","v":1.8824110479209729E-2},{"$f":"IF(NewConst!$F$203=NewConst!$I$203,'Detailed Lighting'!BP22,Lighting!BG32)","v":1.6721547392738768E-2},null,null,null,12,6.4589376512085184E-2,4.1666666666666664E-2,6.4589376512085184E-2,5.760256358679338E-2,0.11764705882352941,8.411214953271029E-2,7.0274068868587489E-2,4.1666666666666664E-2,3.4482758620689655E-2,5.8823529411764705E-2,4.7619047619047616E-2,7.1428571428571425E-2,7.1428571428571425E-2,8.1188119000000003E-2,8.411214953271029E-2,0.1111111111111111,4.1666666666666664E-2,null,{"$f":"IF(AVERAGE('Sunrise Calc'!$G$2:$G$13)>'Hourly Profiles'!BA20, 1/12, \"0.000\")","v":"0.000"},4.4271844660194175E-2,6.5178993214090042E-2,5.7602563586792666E-2,0.83556289657879257,{"$f":"$BX20*NewConst!$F$250*BY$7","v":2088.9072414469815},{"$f":"$BX20*NewConst!$F$250*BZ$7","v":1671.1257931575851},1,{"$f":"$CA20*CB$7*NewConst!$E$407","v":750},{"$f":"$CA20*CC$7*NewConst!$E$407","v":600},0.5,{"$f":"$CD20*CE$7*NewConst!$F$419","v":1065},{"$f":"$CD20*CF$7*NewConst!$F$419","v":1635},0.5,{"$f":"$CG20*CH$7*NewConst!$E$413","v":40.425000000000004},{"$f":"$CG20*CI$7*NewConst!$E$413","v":25.575000000000003}]
[null,null,13,1.4638755684462032E-2,1.4999999999999999E-2,6.7289719999999997E-2,4.0955630999999999E-2,4.2056074999999998E-2,3.0888030888030885E-2,3.4013605442176874E-2,4.8725212464589225E-2,4.1749503E-2,7.4059405999999994E-2,5.6577085999999999E-2,3.2000000000000001E-2,{"$f":"IF(selSchedule=$P$1,Q85,IF(selSchedule=$Q$1,Q113,IF(selSchedule=$R$1,Q141,\"Error\")))","v":4.9560180541624879E-2},4.2457085828343323E-2,4.2363792363792369E-2,4.200000000000001E-2,6.4895224416660111E-2,8.0433727140313965E-2,9.2426147704590816E-2,3.9944666001994006E-2,3.5910537403074733E-2,1.3908110423852121E-2,1.3908110423852121E-2,0.11958250497017896,0.11958250497017889,3.2000000000000001E-2,2.3696682464454978E-2,4.3495145631067961E-2,3.8484950164046253E-2,4.7354333507762372E-2,0.24188778382435727,{"$f":"$AH21*NewConst!$E$400*N_occ","v":140.4884248451867},{"$f":"$AH21*NewConst!$E$401*N_occ","v":104.72773488459373},{"$f":"IF(NewConst!$F$203=NewConst!$I$203,'Detailed Lighting'!BD23,Lighting!BH33)","v":1.8664031157895226E-2},{"$f":"IF(NewConst!$F$203=NewConst!$I$203,'Detailed Lighting'!BE23,Lighting!BI33)","v":1.6328453996544541E-2},{"$f":"IF(NewConst!$F$203=NewConst!$I$203,'Detailed Lighting'!BF23,Lighting!BJ33)","v":1.3141631941761293E-2},{"$f":"IF(NewConst!$F$203=NewConst!$I$203,'Detailed Lighting'!BG23,Lighting!BK33)","v":1.5853912626447912E-2},{"$f":"IF(NewConst!$F$203=NewConst!$I$203,'Detailed Lighting'!BH23,Lighting!BL33)","v":1.5009898099194783E-2},{"$f":"IF(NewConst!$F$203=NewConst!$I$203,'Detailed Lighting'!BI23,Lighting!BM33)","v":1.5413631346221802E-2},{"$f":"IF(NewConst!$F$203=NewConst!$I$203,'Detailed Lighting'!BJ23,Lighting!BN33)","v":1.5683758207973249E-2},{"$f":"IF(NewConst!$F$203=NewConst!$I$203,'Detailed Lighting'!BK23,Lighting!BO33)","v":1.590141807163626E-2},{"$f":"IF(NewConst!$F$203=NewConst!$I$203,'Detailed Lighting'!BL23,Lighting!BP33)","v":1.6855244219998174E-2},{"$f":"IF(NewConst!$F$203=NewConst!$I$203,'Detailed Lighting'!BM23,Lighting!BQ33)","v":1.88438065240553E-2},{"$f":"IF(NewConst!$F$203=NewConst!$I$203,'Detailed Lighting'!BN23,Lighting!BR33)","v":1.6783798971952479E-2},{"$f":"IF(NewConst!$F$203=NewConst!$I$203,'Detailed Lighting'!BO23,Lighting!BS33)","v":1.8838991839394189E-2},{"$f":"IF(NewConst!$F$203=NewConst!$I$203,'Detailed Lighting'!BP23,Lighting!BG33)","v":1.6725584413917419E-2},null,null,null,13,6.2038315470428054E-2,4.1666666666666664E-2,6.2038315470428054E-2,6.5880683664406567E-2,5.8823529411764705E-2,7.4766355140186924E-2,6.605762473647224E-2,4.1666666666666664E-2,0,5.8823529411764705E-2,0,7.1428571428571425E-2,7.1428571428571425E-2,7.4059405999999994E-2,7.4766355140186924E-2,0.1111111111111111,4.1666666666666664E-2,null,{"$f":"IF(AVERAGE('Sunrise Calc'!$G$2:$G$13)>'Hourly Profiles'!BA21, 1/12, \"0.000\")","v":"0.000"},4.3495145631067961E-2,4.9035380755763608E-2,6.5880683664405748E-2,0.80256099954209481,{"$f":"$BX21*NewConst!$F$250*BY$7","v":2006.4024988552371},{"$f":"$BX21*NewConst!$F$250*BZ$7","v":1605.1219990841896},0.5,{"$f":"$CA21*CB$7*NewConst!$E$407","v":375},{"$f":"$CA21*CC$7*NewConst!$E$407","v":300},0,{"$f":"$CD21*CE$7*NewConst!$F$419","v":0},{"$f":"$CD21*CF$7*NewConst!$F$419","v":0},0.5,{"$f":"$CG21*CH$7*NewConst!$E$413","v":40.425000000000004},{"$f":"$CG21*CI$7*NewConst!$E$413","v":25.575000000000003}]
[null,null,14,1.4638755684462032E-2,1.4999999999999999E-2,5.9813084000000002E-2,4.6075085000000002E-2,3.7383178000000003E-2,2.3166023166023161E-2,2.915451895043732E-2,4.5325779036827191E-2,4.1749503E-2,6.7326733E-2,4.5968883000000002E-2,3.3000000000000002E-2,{"$f":"IF(selSchedule=$P$1,Q86,IF(selSchedule=$Q$1,Q114,IF(selSchedule=$R$1,Q142,\"Error\")))","v":4.7555667001003013E-2},4.2957085828343317E-2,4.2864292864292865E-2,3.8000000000000006E-2,6.1395732881276255E-2,5.3480126833420245E-2,8.8937125748503015E-2,4.0943170488534394E-2,2.8447850835910546E-2,1.3908110423852121E-2,1.3908110423852121E-2,9.0231610337972168E-2,9.023161033797214E-2,3.1500000000000007E-2,2.3696682464454978E-2,4.1941747572815533E-2,3.7341485482413284E-2,4.1639120114788243E-2,0.24188778382435727,{"$f":"$AH22*NewConst!$E$400*N_occ","v":140.4884248451867},{"$f":"$AH22*NewConst!$E$401*N_occ","v":104.72773488459373},{"$f":"IF(NewConst!$F$203=NewConst!$I$203,'Detailed Lighting'!BD24,Lighting!BH34)","v":1.876330294789583E-2},{"$f":"IF(NewConst!$F$203=NewConst!$I$203,'Detailed Lighting'!BE24,Lighting!BI34)","v":1.6376895372817564E-2},{"$f":"IF(NewConst!$F$203=NewConst!$I$203,'Detailed Lighting'!BF24,Lighting!BJ34)","v":1.3169544780238384E-2},{"$f":"IF(NewConst!$F$203=NewConst!$I$203,'Detailed Lighting'!BG24,Lighting!BK34)","v":1.5855410967785054E-2},{"$f":"IF(NewConst!$F$203=NewConst!$I$203,'Detailed Lighting'!BH24,Lighting!BL34)","v":1.5011146584358528E-2},{"$f":"IF(NewConst!$F$203=NewConst!$I$203,'Detailed Lighting'!BI24,Lighting!BM34)","v":1.5415130109337233E-2},{"$f":"IF(NewConst!$F$203=NewConst!$I$203,'Detailed Lighting'!BJ24,Lighting!BN34)","v":1.5685260828250301E-2},{"$f":"IF(NewConst!$F$203=NewConst!$I$203,'Detailed Lighting'!BK24,Lighting!BO34)","v":1.5902978936481186E-2},{"$f":"IF(NewConst!$F$203=NewConst!$I$203,'Detailed Lighting'!BL24,Lighting!BP34)","v":1.6859119266201948E-2},{"$f":"IF(NewConst!$F$203=NewConst!$I$203,'Detailed Lighting'!BM24,Lighting!BQ34)","v":1.8856086658154657E-2},{"$f":"IF(NewConst!$F$203=NewConst!$I$203,'Detailed Lighting'!BN24,Lighting!BR34)","v":1.7046461596662274E-2},{"$f":"IF(NewConst!$F$203=NewConst!$I$203,'Detailed Lighting'!BO24,Lighting!BS34)","v":1.9070768335975468E-2},{"$f":"IF(NewConst!$F$203=NewConst!$I$203,'Detailed Lighting'!BP24,Lighting!BG34)","v":1.6802081413190215E-2},null,null,null,14,6.400533776022907E-2,4.1666666666666664E-2,6.400533776022907E-2,6.3278620375212896E-2,0.11764705882352941,8.411214953271029E-2,7.0274068868587489E-2,4.1666666666666664E-2,6.8965517241379309E-2,5.8823529411764705E-2,4.7619047619047616E-2,7.1428571428571425E-2,7.1428571428571425E-2,6.7326733E-2,8.411214953271029E-2,0.1111111111111111,4.1666666666666664E-2,null,{"$f":"IF(AVERAGE('Sunrise Calc'!$F$2:$F$13)<'Hourly Profiles'!BA22, 1/12, \"0.000 \")","v":"0.000 "},4.1941747572815533E-2,6.532737736544815E-2,6.3278620375212105E-2,0.82800745731667413,{"$f":"$BX22*NewConst!$F$250*BY$7","v":2070.0186432916853},{"$f":"$BX22*NewConst!$F$250*BZ$7","v":1656.0149146333483},1,{"$f":"$CA22*CB$7*NewConst!$E$407","v":750},{"$f":"$CA22*CC$7*NewConst!$E$407","v":600},1,{"$f":"$CD22*CE$7*NewConst!$F$419","v":2130},{"$f":"$CD22*CF$7*NewConst!$F$419","v":3270},0.5,{"$f":"$CG22*CH$7*NewConst!$E$413","v":40.425000000000004},{"$f":"$CG22*CI$7*NewConst!$E$413","v":25.575000000000003}]
[null,null,16,1.4638755684462032E-2,2.5999999999999999E-2,4.8598131000000003E-2,3.5836176999999997E-2,3.7383178000000003E-2,2.3166023166023161E-2,2.623906705539359E-2,4.305949008498583E-2,4.1749503E-2,5.7425743000000001E-2,5.6577085999999999E-2,3.6999999999999998E-2,{"$f":"IF(selSchedule=$P$1,Q87,IF(selSchedule=$Q$1,Q115,IF(selSchedule=$R$1,Q143,\"Error\")))","v":4.6055667001003012E-2},4.3956087824351307E-2,4.3364793364793375E-2,4.8500000000000008E-2,5.0413693982986112E-2,7.5428722135308962E-2,7.5441117764471072E-2,4.3438683948155525E-2,2.4443846831906538E-2,2.3844026210167003E-2,2.3844026210167006E-2,7.4788270377733612E-2,7.4788270377733584E-2,3.2000000000000001E-2,2.3696682464454978E-2,4.3106796116504857E-2,3.9381374892927673E-2,4.3363958766541547E-2,0.24188778382435727,{"$f":"$AH23*NewConst!$E$400*N_occ","v":140.4884248451867},{"$f":"$AH23*NewConst!$E$401*N_occ","v":104.72773488459373},{"$f":"IF(NewConst!$F$203=NewConst!$I$203,'Detailed Lighting'!BD26,Lighting!BH36)","v":2.4591169112131557E-2},{"$f":"IF(NewConst!$F$203=NewConst!$I$203,'Detailed Lighting'!BE26,Lighting!BI36)","v":1.9673333443736112E-2},{"$f":"IF(NewConst!$F$203=NewConst!$I$203,'Detailed Lighting'!BF26,Lighting!BJ36)","v":1.5208891057091367E-2},{"$f":"IF(NewConst!$F$203=NewConst!$I$203,'Detailed Lighting'!BG26,Lighting!BK36)","v":1.6066872193603088E-2},{"$f":"IF(NewConst!$F$203=NewConst!$I$203,'Detailed Lighting'!BH26,Lighting!BL36)","v":1.5167384936649191E-2},{"$f":"IF(NewConst!$F$203=NewConst!$I$203,'Detailed Lighting'!BI26,Lighting!BM36)","v":1.5564945568781758E-2},{"$f":"IF(NewConst!$F$203=NewConst!$I$203,'Detailed Lighting'!BJ26,Lighting!BN36)","v":1.5834768506862263E-2},{"$f":"IF(NewConst!$F$203=NewConst!$I$203,'Detailed Lighting'!BK26,Lighting!BO36)","v":1.6085651096903367E-2},{"$f":"IF(NewConst!$F$203=NewConst!$I$203,'Detailed Lighting'!BL26,Lighting!BP36)","v":1.7280080494772525E-2},{"$f":"IF(NewConst!$F$203=NewConst!$I$203,'Detailed Lighting'!BM26,Lighting!BQ36)","v":1.9962902670983006E-2},{"$f":"IF(NewConst!$F$203=NewConst!$I$203,'Detailed Lighting'!BN26,Lighting!BR36)","v":2.671294475571798E-2},{"$f":"IF(NewConst!$F$203=NewConst!$I$203,'Detailed Lighting'!BO26,Lighting!BS36)","v":2.8891383441698427E-2},{"$f":"IF(NewConst!$F$203=NewConst!$I$203,'Detailed Lighting'!BP26,Lighting!BG36)","v":2.0369704214756798E-2},null,null,null,16,6.0621199797634362E-2,4.1666666666666664E-2,6.0621199797634362E-2,6.5284968481251204E-2,0.11764705882352941,8.411214953271029E-2,7.0274068868587489E-2,4.1666666666666664E-2,6.8965517241379309E-2,5.8823529411764705E-2,4.7619047619047616E-2,7.1428571428571425E-2,7.1428571428571425E-2,5.7425743000000001E-2,8.411214953271029E-2,0.1111111111111111,4.1666666666666664E-2,null,{"$f":"IF(AVERAGE('Sunrise Calc'!$F$2:$F$13)<'Hourly Profiles'!BA23, 1/12, \"0.000 \")","v":"0.000 "},4.3106796116504857E-2,6.5353254629733917E-2,6.5284968481250399E-2,0.78422842938444437,{"$f":"$BX23*NewConst!$F$250*BY$7","v":1960.5710734611107},{"$f":"$BX23*NewConst!$F$250*BZ$7","v":1568.4568587688887},1,{"$f":"$CA23*CB$7*NewConst!$E$407","v":750},{"$f":"$CA23*CC$7*NewConst!$E$407","v":600},1,{"$f":"$CD23*CE$7*NewConst!$F$419","v":2130},{"$f":"$CD23*CF$7*NewConst!$F$419","v":3270},1,{"$f":"$CG23*CH$7*NewConst!$E$413","v":80.850000000000009},{"$f":"$CG23*CI$7*NewConst!$E$413","v":51.150000000000006}]
[null,null,15,1.4638755684462032E-2,1.4999999999999999E-2,5.2336449E-2,3.7542661999999997E-2,3.2710280000000001E-2,2.3166023166023161E-2,2.5267249757045678E-2,4.1359773371104809E-2,4.1181482999999998E-2,6.0594058999999999E-2,4.3847242000000002E-2,3.5000000000000003E-2,{"$f":"IF(selSchedule=$P$1,Q88,IF(selSchedule=$Q$1,Q116,IF(selSchedule=$R$1,Q144,\"Error\")))","v":4.3554162487462383E-2},4.4955089820359284E-2,4.3865293865293864E-2,5.9000000000000004E-2,3.9431655084695962E-2,9.7877817937698189E-2,6.1446107784431138E-2,4.5435692921236288E-2,2.4443846831906538E-2,5.7607680629233542E-2,5.7607680629233542E-2,6.1321073558648131E-2,6.1321073558648097E-2,3.3000000000000002E-2,2.3696682464454978E-2,4.1165048543689318E-2,3.7036448458229287E-2,3.8629417002512483E-2,0.24188778382435727,{"$f":"$AH24*NewConst!$E$400*N_occ","v":140.4884248451867},{"$f":"$AH24*NewConst!$E$401*N_occ","v":104.72773488459373},{"$f":"IF(NewConst!$F$203=NewConst!$I$203,'Detailed Lighting'!BD25,Lighting!BH35)","v":1.9640071385896515E-2},{"$f":"IF(NewConst!$F$203=NewConst!$I$203,'Detailed Lighting'!BE25,Lighting!BI35)","v":1.6832198192493583E-2},{"$f":"IF(NewConst!$F$203=NewConst!$I$203,'Detailed Lighting'!BF25,Lighting!BJ35)","v":1.3437636443270166E-2},{"$f":"IF(NewConst!$F$203=NewConst!$I$203,'Detailed Lighting'!BG25,Lighting!BK35)","v":1.5875498871840314E-2},{"$f":"IF(NewConst!$F$203=NewConst!$I$203,'Detailed Lighting'!BH25,Lighting!BL35)","v":1.5026624733937814E-2},{"$f":"IF(NewConst!$F$203=NewConst!$I$203,'Detailed Lighting'!BI25,Lighting!BM35)","v":1.5431392676517977E-2},{"$f":"IF(NewConst!$F$203=NewConst!$I$203,'Detailed Lighting'!BJ25,Lighting!BN35)","v":1.5701525219736771E-2},{"$f":"IF(NewConst!$F$203=NewConst!$I$203,'Detailed Lighting'!BK25,Lighting!BO35)","v":1.592165715234448E-2},{"$f":"IF(NewConst!$F$203=NewConst!$I$203,'Detailed Lighting'!BL25,Lighting!BP35)","v":1.690437197247617E-2},{"$f":"IF(NewConst!$F$203=NewConst!$I$203,'Detailed Lighting'!BM25,Lighting!BQ35)","v":1.8988016617825728E-2},{"$f":"IF(NewConst!$F$203=NewConst!$I$203,'Detailed Lighting'!BN25,Lighting!BR35)","v":1.8815534380760959E-2},{"$f":"IF(NewConst!$F$203=NewConst!$I$203,'Detailed Lighting'!BO25,Lighting!BS35)","v":2.0786475646983254E-2},{"$f":"IF(NewConst!$F$203=NewConst!$I$203,'Detailed Lighting'!BP25,Lighting!BG35)","v":1.7387205190656962E-2},null,null,null,15,5.7237061835039633E-2,4.1666666666666664E-2,5.7237061835039633E-2,6.1833172928638991E-2,0.11764705882352941,8.411214953271029E-2,7.0274068868587489E-2,4.1666666666666664E-2,6.8965517241379309E-2,5.8823529411764705E-2,4.7619047619047616E-2,0.14285714285714285,0.14285714285714285,6.0594058999999999E-2,8.411214953271029E-2,0.1111111111111111,4.1666666666666664E-2,null,{"$f":"IF(AVERAGE('Sunrise Calc'!$F$2:$F$13)<'Hourly Profiles'!BA24, 1/12, \"0.000 \")","v":"0.000 "},4.1165048543689318E-2,6.5231748031294501E-2,6.1833172928638228E-2,0.74044940145221416,{"$f":"$BX24*NewConst!$F$250*BY$7","v":1851.1235036305354},{"$f":"$BX24*NewConst!$F$250*BZ$7","v":1480.8988029044283},1,{"$f":"$CA24*CB$7*NewConst!$E$407","v":750},{"$f":"$CA24*CC$7*NewConst!$E$407","v":600},1,{"$f":"$CD24*CE$7*NewConst!$F$419","v":2130},{"$f":"$CD24*CF$7*NewConst!$F$419","v":3270},0.5,{"$f":"$CG24*CH$7*NewConst!$E$413","v":40.425000000000004},{"$f":"$CG24*CI$7*NewConst!$E$413","v":25.575000000000003}]
[null,null,17,1.7852054658416792E-2,5.6000000000000001E-2,5.0467289999999998E-2,3.7542661999999997E-2,4.3613707000000002E-2,3.8610038610038609E-2,3.0126336248785232E-2,4.8158640226628885E-2,4.4021585000000002E-2,5.5445544999999999E-2,9.1937765000000005E-2,4.3999999999999997E-2,{"$f":"IF(selSchedule=$P$1,Q89,IF(selSchedule=$Q$1,Q117,IF(selSchedule=$R$1,Q145,\"Error\")))","v":4.6569207622868605E-2},4.5954091816367268E-2,4.3360324610324609E-2,0.11000000000000001,5.5383798653988084E-2,6.6442190693687703E-2,6.0945109780439127E-2,5.0429710867397809E-2,2.4443846831906538E-2,0.12621293095449151,0.12621293095449151,3.6889662027833017E-2,3.6889662027832996E-2,4.4999999999999998E-2,2.3696682464454978E-2,5.0873786407766991E-2,4.6944517599839267E-2,5.815618203597693E-2,0.29498367423531618,{"$f":"$AH25*NewConst!$E$400*N_occ","v":171.32651799587165},{"$f":"$AH25*NewConst!$E$401*N_occ","v":127.71613159692249},{"$f":"IF(NewConst!$F$203=NewConst!$I$203,'Detailed Lighting'!BD27,Lighting!BH37)","v":4.1885450185072212E-2},{"$f":"IF(NewConst!$F$203=NewConst!$I$203,'Detailed Lighting'!BE27,Lighting!BI37)","v":3.113326913158591E-2},{"$f":"IF(NewConst!$F$203=NewConst!$I$203,'Detailed Lighting'!BF27,Lighting!BJ37)","v":2.3071798144044975E-2},{"$f":"IF(NewConst!$F$203=NewConst!$I$203,'Detailed Lighting'!BG27,Lighting!BK37)","v":1.7345029995198602E-2},{"$f":"IF(NewConst!$F$203=NewConst!$I$203,'Detailed Lighting'!BH27,Lighting!BL37)","v":1.609296385157508E-2},{"$f":"IF(NewConst!$F$203=NewConst!$I$203,'Detailed Lighting'!BI27,Lighting!BM37)","v":1.6381125018333748E-2},{"$f":"IF(NewConst!$F$203=NewConst!$I$203,'Detailed Lighting'!BJ27,Lighting!BN37)","v":1.6647049089736368E-2},{"$f":"IF(NewConst!$F$203=NewConst!$I$203,'Detailed Lighting'!BK27,Lighting!BO37)","v":1.7126205674404437E-2},{"$f":"IF(NewConst!$F$203=NewConst!$I$203,'Detailed Lighting'!BL27,Lighting!BP37)","v":1.9461503632001272E-2},{"$f":"IF(NewConst!$F$203=NewConst!$I$203,'Detailed Lighting'!BM27,Lighting!BQ37)","v":2.481986223720406E-2},{"$f":"IF(NewConst!$F$203=NewConst!$I$203,'Detailed Lighting'!BN27,Lighting!BR37)","v":4.9065252325709248E-2},{"$f":"IF(NewConst!$F$203=NewConst!$I$203,'Detailed Lighting'!BO27,Lighting!BS37)","v":5.2284144378683797E-2},{"$f":"IF(NewConst!$F$203=NewConst!$I$203,'Detailed Lighting'!BP27,Lighting!BG37)","v":3.0256497911281623E-2},null,null,null,17,6.4880131734870672E-2,4.1666666666666664E-2,6.4880131734870672E-2,5.8381377376026757E-2,0.11764705882352941,8.411214953271029E-2,7.0274068868587489E-2,4.1666666666666664E-2,6.8965517241379309E-2,5.8823529411764705E-2,9.5238095238095233E-2,7.1428571428571425E-2,7.1428571428571425E-2,5.5445544999999999E-2,8.411214953271029E-2,0.1111111111111111,4.1666666666666664E-2,null,{"$f":"IF(AVERAGE('Sunrise Calc'!$F$2:$F$13)<'Hourly Profiles'!BA25, 1/12, \"0.000 \")","v":"0.000 "},5.0873786407766991E-2,7.936446330372629E-2,5.8381377376026035E-2,0.83932426244521485,{"$f":"$BX25*NewConst!$F$250*BY$7","v":2098.3106561130376},{"$f":"$BX25*NewConst!$F$250*BZ$7","v":1678.6485248904298},1,{"$f":"$CA25*CB$7*NewConst!$E$407","v":750},{"$f":"$CA25*CC$7*NewConst!$E$407","v":600},1,{"$f":"$CD25*CE$7*NewConst!$F$419","v":2130},{"$f":"$CD25*CF$7*NewConst!$F$419","v":3270},0.5,{"$f":"$CG25*CH$7*NewConst!$E$413","v":40.425000000000004},{"$f":"$CG25*CI$7*NewConst!$E$413","v":25.575000000000003}]
[null,null,18,3.3472693336531821E-2,7.8E-2,4.8598131000000003E-2,4.9488055000000003E-2,5.7632399000000001E-2,4.6332046332046323E-2,3.8872691933916431E-2,6.5155807365439078E-2,4.8281737999999998E-2,5.4257425999999997E-2,0.149929279,5.2999999999999999E-2,{"$f":"IF(selSchedule=$P$1,Q90,IF(selSchedule=$Q$1,Q118,IF(selSchedule=$R$1,Q146,\"Error\")))","v":5.0084252758274828E-2},4.6953093812375252E-2,4.3355855855855864E-2,0.16100000000000003,7.1335942223280213E-2,3.6006065946185703E-2,5.9445109780439119E-2,5.4925224327018934E-2,2.4443846831906538E-2,0.12172298878032697,0.12172298878032697,2.3449304174950301E-2,2.3449304174950295E-2,5.7000000000000002E-2,2.3696682464454978E-2,6.3300970873786402E-2,5.8626286154065378E-2,8.3954093639349359E-2,0.55309589041095886,{"$f":"$AH26*NewConst!$E$400*N_occ","v":321.2380931506849},{"$f":"$AH26*NewConst!$E$401*N_occ","v":239.46839671232877},{"$f":"IF(NewConst!$F$203=NewConst!$I$203,'Detailed Lighting'!BD28,Lighting!BH38)","v":7.762566664481528E-2},{"$f":"IF(NewConst!$F$203=NewConst!$I$203,'Detailed Lighting'!BE28,Lighting!BI38)","v":6.0193624032716879E-2},{"$f":"IF(NewConst!$F$203=NewConst!$I$203,'Detailed Lighting'!BF28,Lighting!BJ38)","v":4.6086115793757376E-2},{"$f":"IF(NewConst!$F$203=NewConst!$I$203,'Detailed Lighting'!BG28,Lighting!BK38)","v":2.3284326694436915E-2},{"$f":"IF(NewConst!$F$203=NewConst!$I$203,'Detailed Lighting'!BH28,Lighting!BL38)","v":2.0466842805204843E-2},{"$f":"IF(NewConst!$F$203=NewConst!$I$203,'Detailed Lighting'!BI28,Lighting!BM38)","v":2.0073298596170158E-2},{"$f":"IF(NewConst!$F$203=NewConst!$I$203,'Detailed Lighting'!BJ28,Lighting!BN38)","v":2.0312325251772619E-2},{"$f":"IF(NewConst!$F$203=NewConst!$I$203,'Detailed Lighting'!BK28,Lighting!BO38)","v":2.1866862575866203E-2},{"$f":"IF(NewConst!$F$203=NewConst!$I$203,'Detailed Lighting'!BL28,Lighting!BP38)","v":2.8235005368752505E-2},{"$f":"IF(NewConst!$F$203=NewConst!$I$203,'Detailed Lighting'!BM28,Lighting!BQ38)","v":4.0883932693467198E-2},{"$f":"IF(NewConst!$F$203=NewConst!$I$203,'Detailed Lighting'!BN28,Lighting!BR38)","v":8.7031058919219167E-2},{"$f":"IF(NewConst!$F$203=NewConst!$I$203,'Detailed Lighting'!BO28,Lighting!BS38)","v":9.0953763485702888E-2},{"$f":"IF(NewConst!$F$203=NewConst!$I$203,'Detailed Lighting'!BP28,Lighting!BG38)","v":5.1372480997497284E-2},null,null,null,18,7.7300436360381738E-2,4.1666666666666664E-2,7.7300436360381738E-2,6.6177251829180855E-2,0,1.6822429906542057E-2,3.5137034434293744E-2,4.1666666666666664E-2,6.8965517241379309E-2,5.8823529411764705E-2,4.7619047619047616E-2,7.1428571428571425E-2,7.1428571428571425E-2,5.4257425999999997E-2,1.6822429906542057E-2,0,4.1666666666666664E-2,null,{"$f":"IF(AVERAGE('Sunrise Calc'!$F$2:$F$13)<'Hourly Profiles'!BA26, 1/12, \"0.000 \")","v":"0.000 "},6.3300970873786402E-2,3.7232733091911982E-2,6.6177251829180037E-2,1,{"$f":"$BX26*NewConst!$F$250*BY$7","v":2500},{"$f":"$BX26*NewConst!$F$250*BZ$7","v":2000},0,{"$f":"$CA26*CB$7*NewConst!$E$407","v":0},{"$f":"$CA26*CC$7*NewConst!$E$407","v":0},1,{"$f":"$CD26*CE$7*NewConst!$F$419","v":2130},{"$f":"$CD26*CF$7*NewConst!$F$419","v":3270},0.5,{"$f":"$CG26*CH$7*NewConst!$E$413","v":40.425000000000004},{"$f":"$CG26*CI$7*NewConst!$E$413","v":25.575000000000003}]
[null,null,19,5.4281208363947835E-2,0.105,4.8598131000000003E-2,8.7030716999999994E-2,6.8535825999999994E-2,7.7220077220077218E-2,4.2274052478134115E-2,7.4787535410764869E-2,4.9701789000000003E-2,5.1485149000000001E-2,0.11669024,5.8000000000000003E-2,{"$f":"IF(selSchedule=$P$1,Q91,IF(selSchedule=$Q$1,Q119,IF(selSchedule=$R$1,Q147,\"Error\")))","v":5.1582748244734203E-2},4.5954091816367268E-2,4.2855355355355354E-2,0.115,8.9307004062736867E-2,3.6006065946185703E-2,4.7446107784431132E-2,6.9895314057826508E-2,2.4443846831906538E-2,6.8045056374760382E-2,6.8045056374760382E-2,1.3476143141153085E-2,1.347614314115308E-2,6.6000000000000003E-2,5.6872037914691947E-2,6.3300970873786402E-2,6.2081387797301373E-2,7.5983955552524823E-2,0.89693150684931511,{"$f":"$AH27*NewConst!$E$400*N_occ","v":520.93781917808224},{"$f":"$AH27*NewConst!$E$401*N_occ","v":388.33546520547952},{"$f":"IF(NewConst!$F$203=NewConst!$I$203,'Detailed Lighting'!BD29,Lighting!BH39)","v":0.1157944395695156},{"$f":"IF(NewConst!$F$203=NewConst!$I$203,'Detailed Lighting'!BE29,Lighting!BI39)","v":0.10341524109618247},{"$f":"IF(NewConst!$F$203=NewConst!$I$203,'Detailed Lighting'!BF29,Lighting!BJ39)","v":8.8695204464781102E-2},{"$f":"IF(NewConst!$F$203=NewConst!$I$203,'Detailed Lighting'!BG29,Lighting!BK39)","v":4.2221698596689221E-2},{"$f":"IF(NewConst!$F$203=NewConst!$I$203,'Detailed Lighting'!BH29,Lighting!BL39)","v":3.5164694113811089E-2},{"$f":"IF(NewConst!$F$203=NewConst!$I$203,'Detailed Lighting'!BI29,Lighting!BM39)","v":3.2328026949494729E-2},{"$f":"IF(NewConst!$F$203=NewConst!$I$203,'Detailed Lighting'!BJ29,Lighting!BN39)","v":3.244596096533979E-2},{"$f":"IF(NewConst!$F$203=NewConst!$I$203,'Detailed Lighting'!BK29,Lighting!BO39)","v":3.7201010723610456E-2},{"$f":"IF(NewConst!$F$203=NewConst!$I$203,'Detailed Lighting'!BL29,Lighting!BP39)","v":5.2244032531885823E-2},{"$f":"IF(NewConst!$F$203=NewConst!$I$203,'Detailed Lighting'!BM29,Lighting!BQ39)","v":7.5028670101379286E-2},{"$f":"IF(NewConst!$F$203=NewConst!$I$203,'Detailed Lighting'!BN29,Lighting!BR39)","v":0.11922643714261331},{"$f":"IF(NewConst!$F$203=NewConst!$I$203,'Detailed Lighting'!BO29,Lighting!BS39)","v":0.11973068272674137},{"$f":"IF(NewConst!$F$203=NewConst!$I$203,'Detailed Lighting'!BP29,Lighting!BG39)","v":7.9971913622316398E-2},null,null,null,19,7.4966809659242462E-2,4.1666666666666664E-2,7.4966809659242462E-2,7.884587017225711E-2,0,1.6822429906542057E-2,2.3190442726633873E-2,4.1666666666666664E-2,6.8965517241379309E-2,5.8823529411764705E-2,4.7619047619047616E-2,0,0,5.1485149000000001E-2,1.6822429906542057E-2,0,4.1666666666666664E-2,null,{"$f":"IF(AVERAGE('Sunrise Calc'!$F$2:$F$13)<'Hourly Profiles'!BA27, 1/12, \"0.000 \")","v":8.3333333333333329E-2},6.3300970873786402E-2,3.1367866485531082E-2,7.8845870172256138E-2,0.96981095048080068,{"$f":"$BX27*NewConst!$F$250*BY$7","v":2424.527376202002},{"$f":"$BX27*NewConst!$F$250*BZ$7","v":1939.6219009616016},0,{"$f":"$CA27*CB$7*NewConst!$E$407","v":0},{"$f":"$CA27*CC$7*NewConst!$E$407","v":0},1,{"$f":"$CD27*CE$7*NewConst!$F$419","v":2130},{"$f":"$CD27*CF$7*NewConst!$F$419","v":3270},0,{"$f":"$CG27*CH$7*NewConst!$E$413","v":0},{"$f":"$CG27*CI$7*NewConst!$E$413","v":0}]
[null,null,20,5.4281208363947835E-2,0.126,4.8598131000000003E-2,0.11092150200000001,6.5420561000000002E-2,0.10038610038610038,4.2274052478134115E-2,6.9121813031161466E-2,4.8281737999999998E-2,5.0693069E-2,6.0113154000000002E-2,0.06,{"$f":"IF(selSchedule=$P$1,Q92,IF(selSchedule=$Q$1,Q120,IF(selSchedule=$R$1,Q148,\"Error\")))","v":5.3079739217652959E-2},4.5454091816367267E-2,4.2354854854854851E-2,6.9500000000000006E-2,0.10727806590219352,3.6506566446686199E-2,3.5447105788423153E-2,8.5365403788634109E-2,3.4438916528468776E-2,6.1099144951541992E-2,6.1099144951541985E-2,7.9850894632206779E-3,7.9850894632206761E-3,7.5499999999999998E-2,5.6872037914691947E-2,5.8640776699029125E-2,5.9907294858678538E-2,5.6979118141199457E-2,0.89693150684931511,{"$f":"$AH28*NewConst!$E$400*N_occ","v":520.93781917808224},{"$f":"$AH28*NewConst!$E$401*N_occ","v":388.33546520547952},{"$f":"IF(NewConst!$F$203=NewConst!$I$203,'Detailed Lighting'!BD30,Lighting!BH40)","v":0.12251923909611673},{"$f":"IF(NewConst!$F$203=NewConst!$I$203,'Detailed Lighting'!BE30,Lighting!BI40)","v":0.1322295716408029},{"$f":"IF(NewConst!$F$203=NewConst!$I$203,'Detailed Lighting'!BF30,Lighting!BJ40)","v":0.13296665934794538},{"$f":"IF(NewConst!$F$203=NewConst!$I$203,'Detailed Lighting'!BG30,Lighting!BK40)","v":8.251340000084223E-2},{"$f":"IF(NewConst!$F$203=NewConst!$I$203,'Detailed Lighting'!BH30,Lighting!BL40)","v":6.9595425707041428E-2},{"$f":"IF(NewConst!$F$203=NewConst!$I$203,'Detailed Lighting'!BI30,Lighting!BM40)","v":6.1701206356899317E-2},{"$f":"IF(NewConst!$F$203=NewConst!$I$203,'Detailed Lighting'!BJ30,Lighting!BN40)","v":6.1447616824084186E-2},{"$f":"IF(NewConst!$F$203=NewConst!$I$203,'Detailed Lighting'!BK30,Lighting!BO40)","v":7.1668980273370417E-2},{"$f":"IF(NewConst!$F$203=NewConst!$I$203,'Detailed Lighting'!BL30,Lighting!BP40)","v":9.5266175226541183E-2},{"$f":"IF(NewConst!$F$203=NewConst!$I$203,'Detailed Lighting'!BM30,Lighting!BQ40)","v":0.11788418075629312},{"$f":"IF(NewConst!$F$203=NewConst!$I$203,'Detailed Lighting'!BN30,Lighting!BR40)","v":0.11876590936508105},{"$f":"IF(NewConst!$F$203=NewConst!$I$203,'Detailed Lighting'!BO30,Lighting!BS40)","v":0.11208719227278781},{"$f":"IF(NewConst!$F$203=NewConst!$I$203,'Detailed Lighting'!BP30,Lighting!BG40)","v":0.10393975481875536},null,null,null,20,7.0876010089964719E-2,4.1666666666666664E-2,7.0876010089964719E-2,7.6465588293242473E-2,0,1.6822429906542057E-2,2.3190442726633873E-2,4.1666666666666664E-2,6.8965517241379309E-2,5.8823529411764705E-2,9.5238095238095233E-2,0,0,5.0693069E-2,1.6822429906542057E-2,0,4.1666666666666664E-2,null,{"$f":"IF(AVERAGE('Sunrise Calc'!$F$2:$F$13)<'Hourly Profiles'!BA28, 1/12, \"0.000 \")","v":8.3333333333333329E-2},5.8640776699029125E-2,4.5431392895869067E-2,7.6465588293241529E-2,0.91689016811670054,{"$f":"$BX28*NewConst!$F$250*BY$7","v":2292.2254202917516},{"$f":"$BX28*NewConst!$F$250*BZ$7","v":1833.7803362334012},0,{"$f":"$CA28*CB$7*NewConst!$E$407","v":0},{"$f":"$CA28*CC$7*NewConst!$E$407","v":0},1,{"$f":"$CD28*CE$7*NewConst!$F$419","v":2130},{"$f":"$CD28*CF$7*NewConst!$F$419","v":3270},0,{"$f":"$CG28*CH$7*NewConst!$E$413","v":0},{"$f":"$CG28*CI$7*NewConst!$E$413","v":0}]
[null,null,21,5.4281208363947835E-2,0.128,4.8598131000000003E-2,9.0443685999999995E-2,5.9190030999999997E-2,0.10038610038610038,4.1788143828960157E-2,5.6657223796033988E-2,4.6861686999999999E-2,5.2277228000000002E-2,3.5360678999999999E-2,6.2E-2,{"$f":"IF(selSchedule=$P$1,Q93,IF(selSchedule=$Q$1,Q121,IF(selSchedule=$R$1,Q149,\"Error\")))","v":4.9070712136409234E-2},4.4955089820359284E-2,4.1854354354354362E-2,4.3999999999999997E-2,7.2840419799542422E-2,3.1001060941180693E-2,3.89500998003992E-2,9.683998005982053E-2,4.0429982221027005E-2,5.1163229165227114E-2,5.1163229165227107E-2,3.991053677932406E-3,3.9910536779324043E-3,8.0999999999999989E-2,5.6872037914691947E-2,5.6310679611650483E-2,5.8128839422613099E-2,4.674612360905335E-2,0.89693150684931511,{"$f":"$AH29*NewConst!$E$400*N_occ","v":520.93781917808224},{"$f":"$AH29*NewConst!$E$401*N_occ","v":388.33546520547952},{"$f":"IF(NewConst!$F$203=NewConst!$I$203,'Detailed Lighting'!BD31,Lighting!BH41)","v":0.10571329609521296},{"$f":"IF(NewConst!$F$203=NewConst!$I$203,'Detailed Lighting'!BE31,Lighting!BI41)","v":0.12274465897573474},{"$f":"IF(NewConst!$F$203=NewConst!$I$203,'Detailed Lighting'!BF31,Lighting!BJ41)","v":0.14281605108627382},{"$f":"IF(NewConst!$F$203=NewConst!$I$203,'Detailed Lighting'!BG31,Lighting!BK41)","v":0.13594269490706479},{"$f":"IF(NewConst!$F$203=NewConst!$I$203,'Detailed Lighting'!BH31,Lighting!BL41)","v":0.12343961026325907},{"$f":"IF(NewConst!$F$203=NewConst!$I$203,'Detailed Lighting'!BI31,Lighting!BM41)","v":0.11092550583600207},{"$f":"IF(NewConst!$F$203=NewConst!$I$203,'Detailed Lighting'!BJ31,Lighting!BN41)","v":0.10989434569554628},{"$f":"IF(NewConst!$F$203=NewConst!$I$203,'Detailed Lighting'!BK31,Lighting!BO41)","v":0.12299731154114305},{"$f":"IF(NewConst!$F$203=NewConst!$I$203,'Detailed Lighting'!BL31,Lighting!BP41)","v":0.14210195291561115},{"$f":"IF(NewConst!$F$203=NewConst!$I$203,'Detailed Lighting'!BM31,Lighting!BQ41)","v":0.12974232876140787},{"$f":"IF(NewConst!$F$203=NewConst!$I$203,'Detailed Lighting'!BN31,Lighting!BR41)","v":0.10991388039840605},{"$f":"IF(NewConst!$F$203=NewConst!$I$203,'Detailed Lighting'!BO31,Lighting!BS41)","v":0.10177039346090398},{"$f":"IF(NewConst!$F$203=NewConst!$I$203,'Detailed Lighting'!BP31,Lighting!BG41)","v":0.12026121861334653},null,null,null,21,5.212356237344247E-2,4.1666666666666664E-2,5.212356237344247E-2,7.2293003157548344E-2,0,1.6822429906542057E-2,2.3190442726633873E-2,4.1666666666666664E-2,6.8965517241379309E-2,5.8823529411764705E-2,9.5238095238095233E-2,0,0,5.2277228000000002E-2,1.6822429906542057E-2,0,4.1666666666666664E-2,null,{"$f":"IF(AVERAGE('Sunrise Calc'!$F$2:$F$13)<'Hourly Profiles'!BA29, 1/12, \"0.000 \")","v":8.3333333333333329E-2},5.6310679611650483E-2,4.5161908270200717E-2,7.2293003157547456E-2,0.67429842349708913,{"$f":"$BX29*NewConst!$F$250*BY$7","v":1685.7460587427229},{"$f":"$BX29*NewConst!$F$250*BZ$7","v":1348.5968469941783},0,{"$f":"$CA29*CB$7*NewConst!$E$407","v":0},{"$f":"$CA29*CC$7*NewConst!$E$407","v":0},1,{"$f":"$CD29*CE$7*NewConst!$F$419","v":2130},{"$f":"$CD29*CF$7*NewConst!$F$419","v":3270},0,{"$f":"$CG29*CH$7*NewConst!$E$413","v":0},{"$f":"$CG29*CI$7*NewConst!$E$413","v":0}]
[null,null,22,6.0518788725154128E-2,8.7999999999999995E-2,4.6728972000000001E-2,6.6552900999999998E-2,4.8286603999999997E-2,7.7220077220077218E-2,4.0816326530612249E-2,4.8158640226628885E-2,4.6009656000000003E-2,5.4257425999999997E-2,2.4752474999999999E-2,0.06,{"$f":"IF(selSchedule=$P$1,Q94,IF(selSchedule=$Q$1,Q122,IF(selSchedule=$R$1,Q150,\"Error\")))","v":4.5561685055165502E-2},4.4456087824351301E-2,4.1353853853853852E-2,1.9000000000000003E-2,3.7904269210350963E-2,2.5495555435675193E-2,4.1953093812375254E-2,0.1078160518444666,3.3422975214020004E-2,4.272231556046048E-2,4.2722315560460473E-2,2.991053677932406E-3,2.9910536779324043E-3,8.5500000000000007E-2,5.6872037914691947E-2,5.3592233009708737E-2,5.4188605210244982E-2,4.0944343917019593E-2,1,{"$f":"$AH30*NewConst!$E$400*N_occ","v":580.80000000000007},{"$f":"$AH30*NewConst!$E$401*N_occ","v":432.96000000000004},{"$f":"IF(NewConst!$F$203=NewConst!$I$203,'Detailed Lighting'!BD32,Lighting!BH42)","v":8.8984646798258862E-2},{"$f":"IF(NewConst!$F$203=NewConst!$I$203,'Detailed Lighting'!BE32,Lighting!BI42)","v":0.10155648168864986},{"$f":"IF(NewConst!$F$203=NewConst!$I$203,'Detailed Lighting'!BF32,Lighting!BJ42)","v":0.12021605921347911},{"$f":"IF(NewConst!$F$203=NewConst!$I$203,'Detailed Lighting'!BG32,Lighting!BK42)","v":0.14688136317862785},{"$f":"IF(NewConst!$F$203=NewConst!$I$203,'Detailed Lighting'!BH32,Lighting!BL42)","v":0.16138072365325679},{"$f":"IF(NewConst!$F$203=NewConst!$I$203,'Detailed Lighting'!BI32,Lighting!BM42)","v":0.16116338181338788},{"$f":"IF(NewConst!$F$203=NewConst!$I$203,'Detailed Lighting'!BJ32,Lighting!BN42)","v":0.15869021070326275},{"$f":"IF(NewConst!$F$203=NewConst!$I$203,'Detailed Lighting'!BK32,Lighting!BO42)","v":0.15754313487998561},{"$f":"IF(NewConst!$F$203=NewConst!$I$203,'Detailed Lighting'!BL32,Lighting!BP42)","v":0.13198049730510508},{"$f":"IF(NewConst!$F$203=NewConst!$I$203,'Detailed Lighting'!BM32,Lighting!BQ42)","v":0.1092111941076848},{"$f":"IF(NewConst!$F$203=NewConst!$I$203,'Detailed Lighting'!BN32,Lighting!BR42)","v":9.2520507701028251E-2},{"$f":"IF(NewConst!$F$203=NewConst!$I$203,'Detailed Lighting'!BO32,Lighting!BS42)","v":8.5665690609834838E-2},{"$f":"IF(NewConst!$F$203=NewConst!$I$203,'Detailed Lighting'!BP32,Lighting!BG42)","v":0.11886589949813355},null,null,null,22,4.5390682736244296E-2,4.1666666666666664E-2,4.5390682736244296E-2,5.316564595640913E-2,0,1.6822429906542057E-2,2.3190442726633873E-2,4.1666666666666664E-2,6.8965517241379309E-2,5.8823529411764705E-2,4.7619047619047616E-2,0,0,5.4257425999999997E-2,1.6822429906542057E-2,0,4.1666666666666664E-2,null,{"$f":"IF(AVERAGE('Sunrise Calc'!$F$2:$F$13)<'Hourly Profiles'!BA30, 1/12, \"0.000 \")","v":8.3333333333333329E-2},5.3592233009708737E-2,3.0427109335290692E-2,5.3165645956408471E-2,0.58719827304245431,{"$f":"$BX30*NewConst!$F$250*BY$7","v":1467.9956826061357},{"$f":"$BX30*NewConst!$F$250*BZ$7","v":1174.3965460849086},0,{"$f":"$CA30*CB$7*NewConst!$E$407","v":0},{"$f":"$CA30*CC$7*NewConst!$E$407","v":0},1,{"$f":"$CD30*CE$7*NewConst!$F$419","v":2130},{"$f":"$CD30*CF$7*NewConst!$F$419","v":3270},0,{"$f":"$CG30*CH$7*NewConst!$E$413","v":0},{"$f":"$CG30*CI$7*NewConst!$E$413","v":0}]
[null,null,23,6.0518788725154128E-2,4.9000000000000002E-2,3.1775701000000003E-2,4.4368601000000001E-2,4.2056074999999998E-2,6.5637065637065631E-2,2.915451895043732E-2,3.9660056657223788E-2,4.4021585000000002E-2,4.3564355999999999E-2,1.5558699E-2,5.1999999999999998E-2,{"$f":"IF(selSchedule=$P$1,Q95,IF(selSchedule=$Q$1,Q123,IF(selSchedule=$R$1,Q151,\"Error\")))","v":3.8043630892678038E-2},4.3457085828343324E-2,4.0853353353353355E-2,1.3000000000000001E-2,2.1943161524417752E-2,1.500002997008985E-2,3.3469061876247513E-2,8.8854935194416756E-2,3.3422975214020004E-2,2.3844026210167003E-2,2.3844026210167006E-2,2.991053677932406E-3,2.9910536779324043E-3,7.4999999999999997E-2,5.6872037914691947E-2,4.5048543689320389E-2,4.615852574601758E-2,3.0415398507194866E-2,1,{"$f":"$AH31*NewConst!$E$400*N_occ","v":580.80000000000007},{"$f":"$AH31*NewConst!$E$401*N_occ","v":432.96000000000004},{"$f":"IF(NewConst!$F$203=NewConst!$I$203,'Detailed Lighting'!BD33,Lighting!BH43)","v":6.6592813018866645E-2},{"$f":"IF(NewConst!$F$203=NewConst!$I$203,'Detailed Lighting'!BE33,Lighting!BI43)","v":7.6001108497725053E-2},{"$f":"IF(NewConst!$F$203=NewConst!$I$203,'Detailed Lighting'!BF33,Lighting!BJ43)","v":8.996524502949263E-2},{"$f":"IF(NewConst!$F$203=NewConst!$I$203,'Detailed Lighting'!BG33,Lighting!BK43)","v":0.10992057063828223},{"$f":"IF(NewConst!$F$203=NewConst!$I$203,'Detailed Lighting'!BH33,Lighting!BL43)","v":0.12625816590531089},{"$f":"IF(NewConst!$F$203=NewConst!$I$203,'Detailed Lighting'!BI33,Lighting!BM43)","v":0.13500098805547539},{"$f":"IF(NewConst!$F$203=NewConst!$I$203,'Detailed Lighting'!BJ33,Lighting!BN43)","v":0.13252087606567856},{"$f":"IF(NewConst!$F$203=NewConst!$I$203,'Detailed Lighting'!BK33,Lighting!BO43)","v":0.11789944558923897},{"$f":"IF(NewConst!$F$203=NewConst!$I$203,'Detailed Lighting'!BL33,Lighting!BP43)","v":9.8769314656063423E-2},{"$f":"IF(NewConst!$F$203=NewConst!$I$203,'Detailed Lighting'!BM33,Lighting!BQ43)","v":8.1729611685355447E-2},{"$f":"IF(NewConst!$F$203=NewConst!$I$203,'Detailed Lighting'!BN33,Lighting!BR43)","v":6.9238920324238909E-2},{"$f":"IF(NewConst!$F$203=NewConst!$I$203,'Detailed Lighting'!BO33,Lighting!BS43)","v":6.4109029165966572E-2},{"$f":"IF(NewConst!$F$203=NewConst!$I$203,'Detailed Lighting'!BP33,Lighting!BG43)","v":9.0888379220282312E-2},null,null,null,23,2.8762012299198749E-2,4.1666666666666664E-2,2.8762012299198749E-2,4.6298158801678924E-2,0,1.6822429906542057E-2,2.3190442726633873E-2,4.1666666666666664E-2,3.4482758620689655E-2,5.8823529411764705E-2,4.7619047619047616E-2,0,0,4.3564355999999999E-2,1.6822429906542057E-2,0,4.1666666666666664E-2,null,{"$f":"IF(AVERAGE('Sunrise Calc'!$F$2:$F$13)<'Hourly Profiles'!BA31, 1/12, \"0.000 \")","v":8.3333333333333329E-2},4.5048543689320389E-2,3.0102615174941241E-2,4.6298158801678348E-2,0.37208085301236338,{"$f":"$BX31*NewConst!$F$250*BY$7","v":930.20213253090844},{"$f":"$BX31*NewConst!$F$250*BZ$7","v":744.16170602472675},0,{"$f":"$CA31*CB$7*NewConst!$E$407","v":0},{"$f":"$CA31*CC$7*NewConst!$E$407","v":0},0.5,{"$f":"$CD31*CE$7*NewConst!$F$419","v":1065},{"$f":"$CD31*CF$7*NewConst!$F$419","v":1635},0,{"$f":"$CG31*CH$7*NewConst!$E$413","v":0},{"$f":"$CG31*CI$7*NewConst!$E$413","v":0}]
[null,null,24,6.0518788725154128E-2,0.02,1.6822429999999999E-2,3.0716724000000001E-2,2.3364486E-2,3.8610038610038609E-2,2.0894071914480079E-2,2.7195467422096314E-2,4.1181482999999998E-2,2.3762376000000002E-2,1.0608204E-2,4.4999999999999998E-2,{"$f":"IF(selSchedule=$P$1,Q96,IF(selSchedule=$Q$1,Q124,IF(selSchedule=$R$1,Q152,\"Error\")))","v":3.0525576730190577E-2},4.2458083832335333E-2,4.0853353353353355E-2,7.000000000000001E-3,5.9830498514446689E-3,4.5045045045045027E-3,2.4486027944111782E-2,6.9893818544366895E-2,3.7942420031972277E-2,2.3844026210167003E-2,2.3844026210167006E-2,2.991053677932406E-3,2.9910536779324043E-3,6.4500000000000002E-2,5.6872037914691947E-2,3.6504854368932041E-2,3.7326180911648188E-2,2.1714744407934267E-2,1,{"$f":"$AH32*NewConst!$E$400*N_occ","v":580.80000000000007},{"$f":"$AH32*NewConst!$E$401*N_occ","v":432.96000000000004},{"$f":"IF(NewConst!$F$203=NewConst!$I$203,'Detailed Lighting'!BD34,Lighting!BH44)","v":4.6286849496125312E-2},{"$f":"IF(NewConst!$F$203=NewConst!$I$203,'Detailed Lighting'!BE34,Lighting!BI44)","v":5.2826299282119758E-2},{"$f":"IF(NewConst!$F$203=NewConst!$I$203,'Detailed Lighting'!BF34,Lighting!BJ44)","v":6.2532390025067483E-2},{"$f":"IF(NewConst!$F$203=NewConst!$I$203,'Detailed Lighting'!BG34,Lighting!BK44)","v":7.6402793019434631E-2},{"$f":"IF(NewConst!$F$203=NewConst!$I$203,'Detailed Lighting'!BH34,Lighting!BL44)","v":8.775861024612723E-2},{"$f":"IF(NewConst!$F$203=NewConst!$I$203,'Detailed Lighting'!BI34,Lighting!BM44)","v":9.3835507657284864E-2},{"$f":"IF(NewConst!$F$203=NewConst!$I$203,'Detailed Lighting'!BJ34,Lighting!BN44)","v":9.2111649402900286E-2},{"$f":"IF(NewConst!$F$203=NewConst!$I$203,'Detailed Lighting'!BK34,Lighting!BO44)","v":8.1948691552039141E-2},{"$f":"IF(NewConst!$F$203=NewConst!$I$203,'Detailed Lighting'!BL34,Lighting!BP44)","v":6.8651858887916639E-2},{"$f":"IF(NewConst!$F$203=NewConst!$I$203,'Detailed Lighting'!BM34,Lighting!BQ44)","v":5.6808025730720149E-2},{"$f":"IF(NewConst!$F$203=NewConst!$I$203,'Detailed Lighting'!BN34,Lighting!BR44)","v":4.812608657054749E-2},{"$f":"IF(NewConst!$F$203=NewConst!$I$203,'Detailed Lighting'!BO34,Lighting!BS44)","v":4.4560439029765822E-2},{"$f":"IF(NewConst!$F$203=NewConst!$I$203,'Detailed Lighting'!BP34,Lighting!BG44)","v":6.3174035443195498E-2},null,null,null,24,2.383939996212597E-2,4.1666666666666664E-2,2.383939996212597E-2,2.9337038630195482E-2,0,1.6822429906542057E-2,2.3190442726633873E-2,4.1666666666666664E-2,0,0,0,0,0,2.3762376000000002E-2,1.6822429906542057E-2,0,4.1666666666666664E-2,null,{"$f":"IF(AVERAGE('Sunrise Calc'!$F$2:$F$13)<'Hourly Profiles'!BA32, 1/12, \"0.000 \")","v":8.3333333333333329E-2},3.6504854368932041E-2,1.5441448240480011E-2,2.9337038630195121E-2,0.30839929351736767,{"$f":"$BX32*NewConst!$F$250*BY$7","v":770.9982337934191},{"$f":"$BX32*NewConst!$F$250*BZ$7","v":616.79858703473531},0,{"$f":"$CA32*CB$7*NewConst!$E$407","v":0},{"$f":"$CA32*CC$7*NewConst!$E$407","v":0},0,{"$f":"$CD32*CE$7*NewConst!$F$419","v":0},{"$f":"$CD32*CF$7*NewConst!$F$419","v":0},0,{"$f":"$CG32*CH$7*NewConst!$E$413","v":0},{"$f":"$CG32*CI$7*NewConst!$E$413","v":0}]
[null,null,null,{"$f":"SUM(D9:D32)","v":1.0000000000000004},1,1.000000003,1.0000000009999999,1.00000037,0.99999999999999989,1,1,1,1.0000000009999999,1.0000000009999999,1.0000000000000004,1,0.99999999999999989,1,1.0000000000000002,1,1,1,1,1.0000000000000004,1,1,1.0000000000000002,0.99999999999999967,1,1.0000000000000004,0.99999999999999989,1.0000000384525145,1.0000000005154535,16.523794032651523,9597.0195741640055,7154.1418643768075,0.99999999999999989,0.99999999999999989,0.99999999999999989,1,0.99999999999999989,1,1,0.99999999999999989,0.99999999999999978,1,1.0000000000000002,1.0000000000000002,1,null,null,null,null,{"$f":"SUM(BB9:BB32)","v":0.99999999999999967},{"$f":"SUM(BC9:BC32)","v":0.99999999999999956},{"$f":"SUM(BD9:BD32)","v":0.99999999999999967},{"$f":"SUM(BE9:BE32)","v":1},{"$f":"SUM(BF9:BF32)","v":1},{"$f":"SUM(BH9:BH32)","v":0.99999999999999967},{"$f":"SUM(BI9:BI32)","v":0.99999999999999956},{"$f":"SUM(BJ9:BJ32)","v":1.0000000000000002},{"$f":"SUM(BK9:BK32)","v":1},{"$f":"SUM(BL9:BL32)","v":1},{"$f":"SUM(BO9:BO32)","v":1.0000000009999999},{"$f":"SUM(BM9:BM32)","v":0.99999999999999978},null,1.0000000009999999,1,1.0000000000000002,0.99999999999999956,null,1,0.99999999999999989,0.99999999999999978,0.99999999999998745,{"$f":"SUM(BX9:BX32)","v":12.936537580951136},32341.343952377836,25873.07516190227,8.5,6375,5100,14.5,30885,47415,{"$f":"SUM(CG9:CG32)","v":7},{"$f":"SUM(CH9:CH32)","v":565.95000000000005},{"$f":"SUM(CI9:CI32)","v":358.05}]
[]
[]
[null,"NCTH Normalized Hourly Profiles",null,null,null,null,null,null,null,null,null,null,null,null,null,null,null,null,null,null,null,null,null,null,null,null,null,null,null,null,null,null,null,null,null,null,null,null,null,null,null,null,null,null,null,null,null,null,null,null,null,null,"NCTH Normalized Hourly Profiles (Common Areas)"]
[null,null,null,null,null,null,null,null,null,null,null,null,null,null,{"$f":"O3","v":"Misc Elec Loads\n(Total of disaggregation at right)"},"Disaggregation of Misc Elec Loads (Figure 23 in HSP)",null,null,null,null,null,null,null,null,null,null,null,null,null,null,"Combined Equipment","Equipment Sensible","Equipment Latent",null,null,null,null,null,null,null,null,null,null,null,null,null,null,null,null,null,null,null,null,null,null,null,null,null,null,null,null,null,null,null,null,null,null,null,null,null,null,null,"Combined Equipment","Equipment Sensible","Equipment Latent","Occupancy","Sensible Load","Latent Load","Occupancy","Sensible Load","Latent Load","Occupancy","Sensible Load","Latent Load","Occupancy","Sensible Load","Latent Load"]
[null,null,null,null,null,null,null,null,null,null,null,null,null,null,null,"Select Schedule to view:",null,null,null,null,null,null,null,null,null,null,null,null,null,null,"(Excludes space","Load (no lights,","Load (no lights,",{"$f":"AH4","v":"Occupancy"},"Sensible Load","Latent Load",null,null,null,null,null,null,null,null,null,null,null,null,null,null,null,null,null,null,null,null,null,null,null,null,null,null,null,null,null,null,null,null,null,null,null,null,"(Excludes space","Load (no lights,","Load (no lights,","(Fraction of","(Occupants -","(Occupants -","(Fraction of","(Occupants -","(Occupants -","(Fraction of","(Occupants -","(Occupants -","(Fraction of","(Occupants -","(Occupants -"]
[null,null,null,null,null,null,null,null,null,null,null,null,null,null,null,{"$f":"P5","v":"Annual Average"},null,null,null,null,null,null,null,null,null,null,null,null,null,null,"conditioning, lighting","water heater or","water heater or","(Fraction of","(Occupants -","(Occupants -","Lighting","Lighting","Lighting","Lighting","Lighting","Lighting","Lighting","Lighting","Lighting","Lighting","Lighting","Lighting","Lighting",null,null,null,null,"Common Laundry",null,null,null,"Office",null,null,"Indoor Corridor","Workout Room",null,null,"Central Restroom",null,null,"Multi-Purpose Room",null,null,null,"Outdoor","conditioning, lighting","water heater or","water heater or","max occupancy)","Btu/hr)","Btu/hr)","max occupancy)","Btu/hr)","Btu/hr)","max occupancy)","Btu/hr)","Btu/hr)","Hours)","Btu/hr)","Btu/hr)"]
[null,null,"Hour","Occ",{"$f":"E6","v":"Lights"},"Clothes Washer","Dish-Washer","Combined DHW","Bath","Showers","Sinks","Fridge","Clothes Dryer","Range",null,"Water heater","Refrigerator","Freezer","Cooking appliances","Dishwasher","Clothes washer","Clothes dryer","Home Entertainment appliances","Waterbed heater","Spa heater","Spa pump","Pool heater","Pool pump","Miscellaneous appliances","Ceiling Fans (FSEC)","and DHW)","occupancy)","occupancy)","max occupancy)","Btu/hr)","Btu/hr)","Jan","Feb","Mar","Apr","May","Jun","Jul","Aug","Sep","Oct","Nov","Dec","Annual Average",null,null,null,"Hour","Occ","Lights","Clothes Washer Energy","Clothes Dryer Energy","Occ","Lights","Equipment","Lights","Occ.","Lights","Equipment","Occ","Water","Lights","Lights",{"$f":"BQ6","v":"Television"},"Fridge","Dishwasher, Range, Microwave","Lights","and DHW)","occupancy)","occupancy)","Common Laundry",null,null,"Office",null,null,"Workout Room",null,null,"Central Restroom"]
[null,null,"Sensible (kWh/yr)",null,null,{"$f":"NewConst!$F$265*kWh_to_Btu/365","v":503.83690342100812},{"$f":"NewConst!$F$299*kWh_to_Btu/365","v":488.71791176054865},{"$f":"'Monthly Profiles'!$AC$40","v":4254.8852198547174},{"$f":"NewConst!F138","v":371},{"$f":"NewConst!F137","v":1482},{"$f":"NewConst!F139","v":619},{"$f":"NewConst!$F$239*kWh_to_Btu/365","v":6272.4712328767127},{"$f":"(NewConst!$F$281*kWh_to_Btu+NewConst!$F$283*Therms_to_Btu)/365","v":1691.2202647683728},{"$f":"((NewConst!$F$329+NewConst!$F$337)*kWh_to_Btu+NewConst!$F$333*Therms_to_Btu)/365","v":2570.2204591402924},{"$f":"NewConst!$F$364*kWh_to_Btu/365","v":24327.638792241094},null,null,null,null,null,null,null,null,null,null,null,null,null,null,null,null,{"$f":"SUM($F41:$O41)","v":42580.990784062742},null,null,null,null,null,null,null,null,null,null,null,null,null,null,null,null,null,null,null,null,null,{"$f":"NewConst!F425","v":32341.343952377836},null,{"$f":"NewConst!F265/365*kWh_to_Btu","v":503.83690342100806},{"$f":"(NewConst!F281*kWh_to_Btu+NewConst!F283*Therms_to_Btu)/365","v":1691.2202647683728},{"$f":"NewConst!F409","v":6375},null,{"$f":"BH7","v":35896.109589041094},null,{"$f":"NewConst!F420","v":30885},null,{"$f":"BL7","v":20612.219178082192},{"$f":"NewConst!F414","v":565.95000000000005},{"$f":"IF(NewConst!$F$140=\"N/A\",0,NewConst!$F$140)","v":{"$error":"#VALUE!"}},null,null,6291.1671232876715,{"$f":"BR7","v":4057.0082191780821},null,null,null,{"$f":"SUM($BB41:$BU41)-$BB41-$BF41-$BJ41-$BM41","v":{"$error":"#VALUE!"}},null,null,null,null,null,null,null,null,null,null,null,{"$f":"VLOOKUP(CG40,LookupTables!$AX$5:$AZ$10,2,FALSE)","v":245},{"$f":"VLOOKUP(CG40,LookupTables!$AX$5:$AZ$10,3,FALSE)","v":155}]
[null,null,"Latent (kWh/yr)",null,null,{"$f":"NewConst!$F$266*kWh_to_Btu/365","v":0},{"$f":"NewConst!$F$300*kWh_to_Btu/365","v":122.17947794013716},null,0,{"$f":"NewConst!F141","v":1408},{"$f":"NewConst!F145","v":281},0,{"$f":"(NewConst!$F$282*kWh_to_Btu+NewConst!F318*Therms_to_Btu)/365","v":0},{"$f":"((NewConst!$F$330+NewConst!$F$338)*kWh_to_Btu+NewConst!$F$334*Therms_to_Btu)/365","v":1713.4803060935285},{"$f":"NewConst!$F$366*kWh_to_Btu/365","v":662.87844120547948},null,null,null,null,null,null,null,null,null,null,null,null,null,null,null,null,null,{"$f":"SUM($F42:$O42)","v":4187.5382252391446},null,null,null,null,null,null,null,null,null,null,null,null,null,null,null,null,null,null,null,null,{"$f":"NewConst!F426","v":25873.07516190227},null,{"$f":"NewConst!F266/365*kWh_to_Btu","v":0},{"$f":"(NewConst!F282*kWh_to_Btu+NewConst!F284*Therms_to_Btu)/365","v":482.46467675907553},{"$f":"NewConst!F410","v":5100},null,{"$f":"BH8","v":0},null,{"$f":"NewConst!F421","v":47415},null,{"$f":"BL8","v":0},{"$f":"NewConst!F415","v":358.05},{"$f":"IF(NewConst!$F$147=\"N/A\",0,NewConst!$F$147)","v":{"$error":"#VALUE!"}},null,null,0,0,null,null,null,null,{"$f":"SUM($BB42:$BU42)-$BB42-$BF42-$BJ42-$BM42","v":{"$error":"#VALUE!"}}]
[null,null,1,{"$f":"'Hourly Profiles'!D9","v":6.0518788725154128E-2},{"$f":"E9","v":8.0000000000000002E-3},{"$f":"'Hourly Profiles'!F9","v":9.3457939999999993E-3},{"$f":"'Hourly Profiles'!G9","v":1.5358362E-2},{"$f":"(F43*'Monthly Profiles'!V$40+G43*'Monthly Profiles'!T$40+I43*'Monthly Profiles'!W$40+J43*'Monthly Profiles'!X$40+K43*'Monthly Profiles'!Y$40)/'Monthly Profiles'!AA$40","v":1.1549641881782147E-2},{"$f":"'Hourly Profiles'!I9","v":7.7220077220077213E-3},{"$f":"'Hourly Profiles'!J9","v":1.0689990281827018E-2},{"$f":"'Hourly Profiles'!K9","v":1.4164305949008497E-2},{"$f":"'Hourly Profiles'!L9","v":3.9761431E-2},{"$f":"'Hourly Profiles'!M9","v":9.9009900000000001E-3},{"$f":"'Hourly Profiles'!N9","v":7.0721359999999997E-3},{"$f":"'Hourly Profiles'!O9","v":3.6999999999999998E-2},{"$f":"P9","v":2.5521063189568712E-2},{"$f":"Q9","v":4.0960079840319366E-2},4.0352852852852852E-2,4.0000000000000001E-3,3.4905274187427729E-3,2.502502502502502E-3,1.2991017964071858E-2,4.4937188434695907E-2,3.4438916528468776E-2,2.3844026210167003E-2,2.3844026210167006E-2,2.994035785288271E-3,2.9940357852882701E-3,4.3500000000000004E-2,5.6872037914691947E-2,{"$f":"((L43*NewConst!F$238+O43*NewConst!$F$155/365+N43*NewConst!F$328+G43*NewConst!F$298+M43*NewConst!F$279+F43*NewConst!F$264)*3412+(M43*NewConst!F$280+N43*NewConst!F$332)*100000)/((NewConst!F$238+NewConst!$F$155/365+NewConst!F$328+NewConst!F$298+NewConst!F$279+NewConst!F$264)*3412+(NewConst!F$280+NewConst!F$332)*100000)","v":1.6433309800070808E-2},{"$f":"($L$41*$L43+$O$41*$O43+$N$41*$N43+$G$41*$G43+$M$41*$M43+$F$41*$F43+$I43*$I$41+$J43*$J$41+$K43*$K$41+$H43*$H$41)/$AF$41","v":2.9902520971337769E-2},{"$f":"($L$42*$L43+$O$42*$O43+$N$42*$N43+$G$42*$G43+$M$42*$M43+$F$42*$F43+$I43*$I$42+$J43*$J$42+$K43*$K$42+$H43*$H$42)/$AG$42","v":1.3743784038888509E-2},{"$f":"D43/MAX($D$9:$D$32)","v":1},{"$f":"$AH43*NewConst!$E$400*N_occ","v":580.80000000000007},{"$f":"$AH43*NewConst!$E$401*N_occ","v":432.96000000000004},{"$f":"IF(NewConst!$F$203=NewConst!$I$203,'Detailed Lighting'!BD11,Lighting!BH21)","v":2.3899622995976207E-2},{"$f":"IF(NewConst!$F$203=NewConst!$I$203,'Detailed Lighting'!BE11,Lighting!BI21)","v":2.7276184291198248E-2},{"$f":"IF(NewConst!$F$203=NewConst!$I$203,'Detailed Lighting'!BF11,Lighting!BJ21)","v":3.2287800161502921E-2},{"$f":"IF(NewConst!$F$203=NewConst!$I$203,'Detailed Lighting'!BG11,Lighting!BK21)","v":3.9449605425336744E-2},{"$f":"IF(NewConst!$F$203=NewConst!$I$203,'Detailed Lighting'!BH11,Lighting!BL21)","v":4.5313036475053886E-2},{"$f":"IF(NewConst!$F$203=NewConst!$I$203,'Detailed Lighting'!BI11,Lighting!BM21)","v":4.8450764764901066E-2},{"$f":"IF(NewConst!$F$203=NewConst!$I$203,'Detailed Lighting'!BJ11,Lighting!BN21)","v":4.7560672593435778E-2},{"$f":"IF(NewConst!$F$203=NewConst!$I$203,'Detailed Lighting'!BK11,Lighting!BO21)","v":4.2313159232650437E-2},{"$f":"IF(NewConst!$F$203=NewConst!$I$203,'Detailed Lighting'!BL11,Lighting!BP21)","v":3.5447509676188142E-2},{"$f":"IF(NewConst!$F$203=NewConst!$I$203,'Detailed Lighting'!BM11,Lighting!BQ21)","v":2.9332097839659191E-2},{"$f":"IF(NewConst!$F$203=NewConst!$I$203,'Detailed Lighting'!BN11,Lighting!BR21)","v":2.4849289546139488E-2},{"$f":"IF(NewConst!$F$203=NewConst!$I$203,'Detailed Lighting'!BO11,Lighting!BS21)","v":2.3008213022485718E-2},{"$f":"IF(NewConst!$F$203=NewConst!$I$203,'Detailed Lighting'!BP11,Lighting!BG21)","v":3.2619105570216002E-2},null,null,null,1,{"$f":"BB9","v":3.4410248540092747E-3},4.1666666666666664E-2,{"$f":"BD9","v":3.4410248540092747E-3},4.3518154613620685E-3,0,1.6822429906542057E-2,2.3190442726633873E-2,4.1666666666666664E-2,0,0,0,0,{"$f":"BN9","v":0},9.9009900000000001E-3,{"$f":"BP9","v":1.6822429906542057E-2},0,4.1666666666666664E-2,{"$f":"BS9","v":"No profile available *Assuming 1 h/wk use (data from appliance usage list from PSNH: The Northeast Utility System)"},{"$f":"IF(AVERAGE('Sunrise Calc'!$G$2:$G$13)>'Hourly Profiles'!BA43, 1/12, \"0.000\")","v":8.3333333333333329E-2},2.8737864077669904E-2,{"$f":"($BD43*$BD$41+$BE43*$BE$41+$BH43*$BH$41+$BL43*$BL$41+$BN43*$BN$41+$BQ43*$BQ$41+$BR43*$BR$41)/$BV$41","v":{"$error":"#VALUE!"}},{"$f":"($BD43*$BD$42+$BE43*$BE$42+$BH43*$BH$42+$BL43*$BL$42+$BN43*$BN$42+$BQ43*$BQ$42+$BR43*$BR$42)/$BW$42","v":{"$error":"#VALUE!"}},{"$f":"BB43/MAX($BB$43:$BB$66)","v":4.4514947340877881E-2},{"$f":"BX43*250*NewConst!$F$250","v":111.2873683521947},{"$f":"BX43*200*NewConst!$F$250","v":89.029894681755763},{"$f":"BF43/MAX($BF$43:$BF$66)","v":0},{"$f":"CA43*250*N_emp","v":0},{"$f":"CA43*200*N_emp","v":0},{"$f":"BJ43/MAX($BJ$43:$BJ$66)","v":0},{"$f":"CD43*710*NewConst!$F$419","v":0},{"$f":"CD43*1090*NewConst!$F$419","v":0},0,{"$f":"$CG43*CH$7*NewConst!$E$413","v":0},{"$f":"$CG43*CI$7*NewConst!$E$413","v":0}]
[null,null,2,{"$f":"'Hourly Profiles'!D10","v":6.0518788725154128E-2},{"$f":"E10","v":8.0000000000000002E-3},{"$f":"'Hourly Profiles'!F10","v":7.476636E-3},{"$f":"'Hourly Profiles'!G10","v":6.8259389999999996E-3},{"$f":"(F44*'Monthly Profiles'!V$40+G44*'Monthly Profiles'!T$40+I44*'Monthly Profiles'!W$40+J44*'Monthly Profiles'!X$40+K44*'Monthly Profiles'!Y$40)/'Monthly Profiles'!AA$40","v":5.910429236386525E-3},{"$f":"'Hourly Profiles'!I10","v":3.8610038610038607E-3},{"$f":"'Hourly Profiles'!J10","v":4.8590864917395539E-3},{"$f":"'Hourly Profiles'!K10","v":6.7988668555240784E-3},{"$f":"'Hourly Profiles'!L10","v":3.8909401000000003E-2},{"$f":"'Hourly Profiles'!M10","v":5.9405940000000004E-3},{"$f":"'Hourly Profiles'!N10","v":7.0721359999999997E-3},{"$f":"'Hourly Profiles'!O10","v":3.5000000000000003E-2},{"$f":"P10","v":2.051504513540622E-2},3.9961077844311382E-2,4.0352852852852852E-2,1.0000000000000005E-3,0,5.0050050050050039E-4,1.497005988023952E-3,1.9482053838484545E-2,3.6926478717523498E-2,2.8814205136608356E-2,2.8814205136608359E-2,2.994035785288271E-3,2.9940357852882701E-3,2.2999999999999993E-2,5.6872037914691947E-2,{"$f":"((L44*NewConst!F$238+O44*NewConst!$F$155/365+N44*NewConst!F$328+G44*NewConst!F$298+M44*NewConst!F$279+F44*NewConst!F$264)*3412+(M44*NewConst!F$280+N44*NewConst!F$332)*100000)/((NewConst!F$238+NewConst!$F$155/365+NewConst!F$328+NewConst!F$298+NewConst!F$279+NewConst!F$264)*3412+(NewConst!F$280+NewConst!F$332)*100000)","v":1.4327683040785593E-2},{"$f":"($L$41*$L44+$O$41*$O44+$N$41*$N44+$G$41*$G44+$M$41*$M44+$F$41*$F44+$I44*$I$41+$J44*$J$41+$K44*$K$41+$H44*$H$41)/$AF$41","v":2.7449866601113745E-2},{"$f":"($L$42*$L44+$O$42*$O44+$N$42*$N44+$G$42*$G44+$M$42*$M44+$F$42*$F44+$I44*$I$42+$J44*$J$42+$K44*$K$42+$H44*$H$42)/$AG$42","v":1.0723430764118023E-2},1,{"$f":"$AH44*NewConst!$E$400*N_occ","v":580.80000000000007},{"$f":"$AH44*NewConst!$E$401*N_occ","v":432.96000000000004},{"$f":"IF(NewConst!$F$203=NewConst!$I$203,'Detailed Lighting'!BD12,Lighting!BH22)","v":1.4339773797585725E-2},{"$f":"IF(NewConst!$F$203=NewConst!$I$203,'Detailed Lighting'!BE12,Lighting!BI22)","v":1.6365710574718948E-2},{"$f":"IF(NewConst!$F$203=NewConst!$I$203,'Detailed Lighting'!BF12,Lighting!BJ22)","v":1.937268009690175E-2},{"$f":"IF(NewConst!$F$203=NewConst!$I$203,'Detailed Lighting'!BG12,Lighting!BK22)","v":2.3669763255202047E-2},{"$f":"IF(NewConst!$F$203=NewConst!$I$203,'Detailed Lighting'!BH12,Lighting!BL22)","v":2.718782188503233E-2},{"$f":"IF(NewConst!$F$203=NewConst!$I$203,'Detailed Lighting'!BI12,Lighting!BM22)","v":2.9070458858940641E-2},{"$f":"IF(NewConst!$F$203=NewConst!$I$203,'Detailed Lighting'!BJ12,Lighting!BN22)","v":2.8536403556061466E-2},{"$f":"IF(NewConst!$F$203=NewConst!$I$203,'Detailed Lighting'!BK12,Lighting!BO22)","v":2.5387895539590262E-2},{"$f":"IF(NewConst!$F$203=NewConst!$I$203,'Detailed Lighting'!BL12,Lighting!BP22)","v":2.1268505805712885E-2},{"$f":"IF(NewConst!$F$203=NewConst!$I$203,'Detailed Lighting'!BM12,Lighting!BQ22)","v":1.7599258703795514E-2},{"$f":"IF(NewConst!$F$203=NewConst!$I$203,'Detailed Lighting'!BN12,Lighting!BR22)","v":1.4909573727683693E-2},{"$f":"IF(NewConst!$F$203=NewConst!$I$203,'Detailed Lighting'!BO12,Lighting!BS22)","v":1.3804927813491432E-2},{"$f":"IF(NewConst!$F$203=NewConst!$I$203,'Detailed Lighting'!BP12,Lighting!BG22)","v":1.9571463342129603E-2},null,null,null,2,{"$f":"BB10","v":3.9757616333060859E-3},4.1666666666666664E-2,3.9757616333060859E-3,3.4814523690896546E-3,0,1.6822429906542057E-2,2.3190442726633873E-2,4.1666666666666664E-2,0,0,0,0,0,5.9405940000000004E-3,1.6822429906542057E-2,0,4.1666666666666664E-2,null,{"$f":"IF(AVERAGE('Sunrise Calc'!$G$2:$G$13)>'Hourly Profiles'!BA44, 1/12, \"0.000\")","v":8.3333333333333329E-2},2.6019417475728154E-2,{"$f":"($BD44*$BD$41+$BE44*$BE$41+$BH44*$BH$41+$BL44*$BL$41+$BN44*$BN$41+$BQ44*$BQ$41+$BR44*$BR$41)/$BV$41","v":{"$error":"#VALUE!"}},{"$f":"($BD44*$BD$42+$BE44*$BE$42+$BH44*$BH$42+$BL44*$BL$42+$BN44*$BN$42+$BQ44*$BQ$42+$BR44*$BR$42)/$BW$42","v":{"$error":"#VALUE!"}},5.1432589782167852E-2,{"$f":"BX44*250*NewConst!$F$250","v":128.58147445541962},{"$f":"BX44*200*NewConst!$F$250","v":102.8651795643357},0,0,0,0,{"$f":"CD44*710*NewConst!$F$419","v":0},{"$f":"CD44*1090*NewConst!$F$419","v":0},0,{"$f":"$CG44*CH$7*NewConst!$E$413","v":0},{"$f":"$CG44*CI$7*NewConst!$E$413","v":0}]
[null,null,3,{"$f":"'Hourly Profiles'!D11","v":6.0518788725154128E-2},8.0000000000000002E-3,{"$f":"'Hourly Profiles'!F11","v":3.738318E-3},{"$f":"'Hourly Profiles'!G11","v":5.1194539999999998E-3},{"$f":"(F45*'Monthly Profiles'!V$40+G45*'Monthly Profiles'!T$40+I45*'Monthly Profiles'!W$40+J45*'Monthly Profiles'!X$40+K45*'Monthly Profiles'!Y$40)/'Monthly Profiles'!AA$40","v":4.1344859986665152E-3},{"$f":"'Hourly Profiles'!I11","v":3.8610038610038607E-3},{"$f":"'Hourly Profiles'!J11","v":3.4013605442176878E-3},{"$f":"'Hourly Profiles'!K11","v":5.0991501416430586E-3},{"$f":"'Hourly Profiles'!L11","v":3.805737E-2},{"$f":"'Hourly Profiles'!M11","v":3.9603959999999997E-3},{"$f":"'Hourly Profiles'!N11","v":3.5360679999999999E-3},{"$f":"'Hourly Profiles'!O11","v":3.4000000000000002E-2},1.8519558676028086E-2,3.8962075848303399E-2,4.0352852852852852E-2,1.0000000000000005E-3,0,5.0050050050050039E-4,1.497005988023952E-3,9.9910269192422709E-3,5.0425051917589239E-2,2.3844026210167003E-2,2.3844026210167006E-2,3.4940357852882705E-3,3.4940357852882701E-3,1.9E-2,5.6872037914691947E-2,{"$f":"((L45*NewConst!F$238+O45*NewConst!$F$155/365+N45*NewConst!F$328+G45*NewConst!F$298+M45*NewConst!F$279+F45*NewConst!F$264)*3412+(M45*NewConst!F$280+N45*NewConst!F$332)*100000)/((NewConst!F$238+NewConst!$F$155/365+NewConst!F$328+NewConst!F$298+NewConst!F$279+NewConst!F$264)*3412+(NewConst!F$280+NewConst!F$332)*100000)","v":1.2116881703809857E-2},{"$f":"($L$41*$L45+$O$41*$O45+$N$41*$N45+$G$41*$G45+$M$41*$M45+$F$41*$F45+$I45*$I$41+$J45*$J$41+$K45*$K$41+$H45*$H$41)/$AF$41","v":2.6144218129946575E-2},{"$f":"($L$42*$L45+$O$42*$O45+$N$42*$N45+$G$42*$G45+$M$42*$M45+$F$42*$F45+$I45*$I$42+$J45*$J$42+$K45*$K$42+$H45*$H$42)/$AG$42","v":8.464237704024399E-3},1,{"$f":"$AH45*NewConst!$E$400*N_occ","v":580.80000000000007},{"$f":"$AH45*NewConst!$E$401*N_occ","v":432.96000000000004},{"$f":"IF(NewConst!$F$203=NewConst!$I$203,'Detailed Lighting'!BD13,Lighting!BH23)","v":9.5598491983904833E-3},{"$f":"IF(NewConst!$F$203=NewConst!$I$203,'Detailed Lighting'!BE13,Lighting!BI23)","v":1.0910473716479298E-2},{"$f":"IF(NewConst!$F$203=NewConst!$I$203,'Detailed Lighting'!BF13,Lighting!BJ23)","v":1.2915120064601167E-2},{"$f":"IF(NewConst!$F$203=NewConst!$I$203,'Detailed Lighting'!BG13,Lighting!BK23)","v":1.5779842170134697E-2},{"$f":"IF(NewConst!$F$203=NewConst!$I$203,'Detailed Lighting'!BH13,Lighting!BL23)","v":1.8125214590021553E-2},{"$f":"IF(NewConst!$F$203=NewConst!$I$203,'Detailed Lighting'!BI13,Lighting!BM23)","v":1.9380305905960425E-2},{"$f":"IF(NewConst!$F$203=NewConst!$I$203,'Detailed Lighting'!BJ13,Lighting!BN23)","v":1.9024269037374312E-2},{"$f":"IF(NewConst!$F$203=NewConst!$I$203,'Detailed Lighting'!BK13,Lighting!BO23)","v":1.6925263693060175E-2},{"$f":"IF(NewConst!$F$203=NewConst!$I$203,'Detailed Lighting'!BL13,Lighting!BP23)","v":1.4179003870475257E-2},{"$f":"IF(NewConst!$F$203=NewConst!$I$203,'Detailed Lighting'!BM13,Lighting!BQ23)","v":1.1732839135863676E-2},{"$f":"IF(NewConst!$F$203=NewConst!$I$203,'Detailed Lighting'!BN13,Lighting!BR23)","v":9.9397158184557945E-3},{"$f":"IF(NewConst!$F$203=NewConst!$I$203,'Detailed Lighting'!BO13,Lighting!BS23)","v":9.2032852089942874E-3},{"$f":"IF(NewConst!$F$203=NewConst!$I$203,'Detailed Lighting'!BP13,Lighting!BG23)","v":1.3047642228086399E-2},null,null,null,3,1.6345500133115325E-3,4.1666666666666664E-2,1.6345500133115325E-3,4.0552472965877636E-3,0,1.6822429906542057E-2,2.3190442726633873E-2,4.1666666666666664E-2,0,0,0,0,0,3.9603959999999997E-3,1.6822429906542057E-2,0,4.1666666666666664E-2,null,{"$f":"IF(AVERAGE('Sunrise Calc'!$G$2:$G$13)>'Hourly Profiles'!BA45, 1/12, \"0.000\")","v":8.3333333333333329E-2},2.4854368932038837E-2,{"$error":"#VALUE!"},{"$error":"#VALUE!"},2.1145417675148818E-2,{"$f":"BX45*250*NewConst!$F$250","v":52.863544187872044},{"$f":"BX45*200*NewConst!$F$250","v":42.290835350297641},0,0,0,0,{"$f":"CD45*710*NewConst!$F$419","v":0},{"$f":"CD45*1090*NewConst!$F$419","v":0},0,{"$f":"$CG45*CH$7*NewConst!$E$413","v":0},{"$f":"$CG45*CI$7*NewConst!$E$413","v":0}]
[null,null,4,{"$f":"'Hourly Profiles'!D12","v":6.0518788725154128E-2},8.0000000000000002E-3,{"$f":"'Hourly Profiles'!F12","v":3.738318E-3},{"$f":"'Hourly Profiles'!G12","v":3.4129690000000001E-3},{"$f":"(F46*'Monthly Profiles'!V$40+G46*'Monthly Profiles'!T$40+I46*'Monthly Profiles'!W$40+J46*'Monthly Profiles'!X$40+K46*'Monthly Profiles'!Y$40)/'Monthly Profiles'!AA$40","v":4.6066850606044677E-3},{"$f":"'Hourly Profiles'!I12","v":3.8610038610038607E-3},{"$f":"'Hourly Profiles'!J12","v":4.8590864917395539E-3},{"$f":"'Hourly Profiles'!K12","v":5.0991501416430586E-3},{"$f":"'Hourly Profiles'!L12","v":3.6921329000000003E-2},{"$f":"'Hourly Profiles'!M12","v":1.9801979999999999E-3},{"$f":"'Hourly Profiles'!N12","v":3.5360679999999999E-3},{"$f":"'Hourly Profiles'!O12","v":3.4000000000000002E-2},1.6524072216649952E-2,3.7963073852295415E-2,4.0352852852852852E-2,1.5000000000000002E-3,0,5.0050050050050039E-4,9.980039920159682E-4,9.999999999999998E-4,5.7932559425096751E-2,2.8814205136608356E-2,2.8814205136608359E-2,3.991053677932406E-3,3.9910536779324043E-3,1.4999999999999999E-2,5.6872037914691947E-2,{"$f":"((L46*NewConst!F$238+O46*NewConst!$F$155/365+N46*NewConst!F$328+G46*NewConst!F$298+M46*NewConst!F$279+F46*NewConst!F$264)*3412+(M46*NewConst!F$280+N46*NewConst!F$332)*100000)/((NewConst!F$238+NewConst!$F$155/365+NewConst!F$328+NewConst!F$298+NewConst!F$279+NewConst!F$264)*3412+(NewConst!F$280+NewConst!F$332)*100000)","v":1.0995374701131671E-2},2.5976555929790621E-2,8.9045872813928069E-3,1,{"$f":"$AH46*NewConst!$E$400*N_occ","v":580.80000000000007},{"$f":"$AH46*NewConst!$E$401*N_occ","v":432.96000000000004},{"$f":"IF(NewConst!$F$203=NewConst!$I$203,'Detailed Lighting'!BD14,Lighting!BH24)","v":9.5598491983904833E-3},{"$f":"IF(NewConst!$F$203=NewConst!$I$203,'Detailed Lighting'!BE14,Lighting!BI24)","v":1.0910473716479298E-2},{"$f":"IF(NewConst!$F$203=NewConst!$I$203,'Detailed Lighting'!BF14,Lighting!BJ24)","v":1.2915120064601167E-2},{"$f":"IF(NewConst!$F$203=NewConst!$I$203,'Detailed Lighting'!BG14,Lighting!BK24)","v":1.5779842170134697E-2},{"$f":"IF(NewConst!$F$203=NewConst!$I$203,'Detailed Lighting'!BH14,Lighting!BL24)","v":1.8125214590021553E-2},{"$f":"IF(NewConst!$F$203=NewConst!$I$203,'Detailed Lighting'!BI14,Lighting!BM24)","v":1.9380305905960425E-2},{"$f":"IF(NewConst!$F$203=NewConst!$I$203,'Detailed Lighting'!BJ14,Lighting!BN24)","v":1.9024269037374312E-2},{"$f":"IF(NewConst!$F$203=NewConst!$I$203,'Detailed Lighting'!BK14,Lighting!BO24)","v":1.6925263693060175E-2},{"$f":"IF(NewConst!$F$203=NewConst!$I$203,'Detailed Lighting'!BL14,Lighting!BP24)","v":1.4179003870475257E-2},{"$f":"IF(NewConst!$F$203=NewConst!$I$203,'Detailed Lighting'!BM14,Lighting!BQ24)","v":1.1732839135863676E-2},{"$f":"IF(NewConst!$F$203=NewConst!$I$203,'Detailed Lighting'!BN14,Lighting!BR24)","v":9.9397158184557945E-3},{"$f":"IF(NewConst!$F$203=NewConst!$I$203,'Detailed Lighting'!BO14,Lighting!BS24)","v":9.2032852089942874E-3},{"$f":"IF(NewConst!$F$203=NewConst!$I$203,'Detailed Lighting'!BP14,Lighting!BG24)","v":1.3047642228086399E-2},null,null,null,4,4.0758825621957017E-3,4.1666666666666664E-2,4.0758825621957017E-3,1.6672288567529344E-3,0,1.6822429906542057E-2,2.3190442726633873E-2,4.1666666666666664E-2,0,0,0,0,0,1.9801979999999999E-3,1.6822429906542057E-2,0,4.1666666666666664E-2,null,{"$f":"IF(AVERAGE('Sunrise Calc'!$G$2:$G$13)>'Hourly Profiles'!BA46, 1/12, \"0.000\")","v":8.3333333333333329E-2},2.4077669902912623E-2,{"$error":"#VALUE!"},{"$error":"#VALUE!"},5.2727807941388101E-2,{"$f":"BX46*250*NewConst!$F$250","v":131.81951985347024},{"$f":"BX46*200*NewConst!$F$250","v":105.4556158827762},0,0,0,0,{"$f":"CD46*710*NewConst!$F$419","v":0},{"$f":"CD46*1090*NewConst!$F$419","v":0},0,{"$f":"$CG46*CH$7*NewConst!$E$413","v":0},{"$f":"$CG46*CI$7*NewConst!$E$413","v":0}]
[null,null,5,{"$f":"'Hourly Profiles'!D13","v":6.0518788725154128E-2},2.4E-2,{"$f":"'Hourly Profiles'!F13","v":7.476636E-3},{"$f":"'Hourly Profiles'!G13","v":3.4129690000000001E-3},{"$f":"(F47*'Monthly Profiles'!V$40+G47*'Monthly Profiles'!T$40+I47*'Monthly Profiles'!W$40+J47*'Monthly Profiles'!X$40+K47*'Monthly Profiles'!Y$40)/'Monthly Profiles'!AA$40","v":9.3896064049789636E-3},{"$f":"'Hourly Profiles'!I13","v":7.7220077220077213E-3},{"$f":"'Hourly Profiles'!J13","v":1.3605442176870751E-2},{"$f":"'Hourly Profiles'!K13","v":6.7988668555240784E-3},{"$f":"'Hourly Profiles'!L13","v":3.6353309E-2},{"$f":"'Hourly Profiles'!M13","v":3.9603959999999997E-3},{"$f":"'Hourly Profiles'!N13","v":7.0721359999999997E-3},{"$f":"'Hourly Profiles'!O13","v":3.2000000000000001E-2},2.3549648946840519E-2,3.6963073852295414E-2,4.0348384098384101E-2,6.5000000000000014E-3,1.9940179461615157E-3,4.5045045045045027E-3,2.4950099800399206E-3,4.999999999999999E-4,4.9906623040951413E-2,4.6694510197997717E-2,4.669451019799771E-2,8.4821073558648125E-3,8.4821073558648107E-3,1.6E-2,5.6872037914691947E-2,{"$f":"((L47*NewConst!F$238+O47*NewConst!$F$155/365+N47*NewConst!F$328+G47*NewConst!F$298+M47*NewConst!F$279+F47*NewConst!F$264)*3412+(M47*NewConst!F$280+N47*NewConst!F$332)*100000)/((NewConst!F$238+NewConst!$F$155/365+NewConst!F$328+NewConst!F$298+NewConst!F$279+NewConst!F$264)*3412+(NewConst!F$280+NewConst!F$332)*100000)","v":1.2808797935751015E-2},2.5927242815031365E-2,1.3089794497468069E-2,1,{"$f":"$AH47*NewConst!$E$400*N_occ","v":580.80000000000007},{"$f":"$AH47*NewConst!$E$401*N_occ","v":432.96000000000004},{"$f":"IF(NewConst!$F$203=NewConst!$I$203,'Detailed Lighting'!BD15,Lighting!BH25)","v":9.5598491983904833E-3},{"$f":"IF(NewConst!$F$203=NewConst!$I$203,'Detailed Lighting'!BE15,Lighting!BI25)","v":1.0910473716479298E-2},{"$f":"IF(NewConst!$F$203=NewConst!$I$203,'Detailed Lighting'!BF15,Lighting!BJ25)","v":1.2915120064601167E-2},{"$f":"IF(NewConst!$F$203=NewConst!$I$203,'Detailed Lighting'!BG15,Lighting!BK25)","v":1.5779842170134697E-2},{"$f":"IF(NewConst!$F$203=NewConst!$I$203,'Detailed Lighting'!BH15,Lighting!BL25)","v":1.8125214590021553E-2},{"$f":"IF(NewConst!$F$203=NewConst!$I$203,'Detailed Lighting'!BI15,Lighting!BM25)","v":1.9380305905960425E-2},{"$f":"IF(NewConst!$F$203=NewConst!$I$203,'Detailed Lighting'!BJ15,Lighting!BN25)","v":1.9024269037374312E-2},{"$f":"IF(NewConst!$F$203=NewConst!$I$203,'Detailed Lighting'!BK15,Lighting!BO25)","v":1.6925263693060175E-2},{"$f":"IF(NewConst!$F$203=NewConst!$I$203,'Detailed Lighting'!BL15,Lighting!BP25)","v":1.4179003870475257E-2},{"$f":"IF(NewConst!$F$203=NewConst!$I$203,'Detailed Lighting'!BM15,Lighting!BQ25)","v":1.1732839135863676E-2},{"$f":"IF(NewConst!$F$203=NewConst!$I$203,'Detailed Lighting'!BN15,Lighting!BR25)","v":9.9397158184557945E-3},{"$f":"IF(NewConst!$F$203=NewConst!$I$203,'Detailed Lighting'!BO15,Lighting!BS25)","v":9.2032852089942874E-3},{"$f":"IF(NewConst!$F$203=NewConst!$I$203,'Detailed Lighting'!BP15,Lighting!BG25)","v":1.3047642228086399E-2},null,null,null,5,4.7977140065892715E-3,4.1666666666666664E-2,4.7977140065892715E-3,4.157369899414393E-3,0,1.6822429906542057E-2,2.3190442726633873E-2,4.1666666666666664E-2,0,0,0,0,0,3.9603959999999997E-3,1.6822429906542057E-2,0,4.1666666666666664E-2,null,{"$f":"IF(AVERAGE('Sunrise Calc'!$G$2:$G$13)>'Hourly Profiles'!BA47, 1/12, \"0.000\")","v":8.3333333333333329E-2},2.4077669902912623E-2,{"$error":"#VALUE!"},{"$error":"#VALUE!"},6.2065807548897754E-2,{"$f":"BX47*250*NewConst!$F$250","v":155.16451887224437},{"$f":"BX47*200*NewConst!$F$250","v":124.1316150977955},0,0,0,0,{"$f":"CD47*710*NewConst!$F$419","v":0},{"$f":"CD47*1090*NewConst!$F$419","v":0},0,{"$f":"$CG47*CH$7*NewConst!$E$413","v":0},{"$f":"$CG47*CI$7*NewConst!$E$413","v":0}]
[null,null,6,{"$f":"'Hourly Profiles'!D14","v":6.0518788725154128E-2},0.05,{"$f":"'Hourly Profiles'!F14","v":1.1214953E-2},{"$f":"'Hourly Profiles'!G14","v":1.0238908E-2},{"$f":"(F48*'Monthly Profiles'!V$40+G48*'Monthly Profiles'!T$40+I48*'Monthly Profiles'!W$40+J48*'Monthly Profiles'!X$40+K48*'Monthly Profiles'!Y$40)/'Monthly Profiles'!AA$40","v":2.9254309834369982E-2},{"$f":"'Hourly Profiles'!I14","v":1.9305019305019305E-2},{"$f":"'Hourly Profiles'!J14","v":5.1506316812439265E-2},{"$f":"'Hourly Profiles'!K14","v":1.8130311614730877E-2},{"$f":"'Hourly Profiles'!L14","v":3.6353309E-2},{"$f":"'Hourly Profiles'!M14","v":5.9405940000000004E-3},{"$f":"'Hourly Profiles'!N14","v":1.0608204E-2},{"$f":"'Hourly Profiles'!O14","v":3.5999999999999997E-2},3.1075225677031092E-2,3.6463073852295413E-2,4.0343915343915349E-2,1.1500000000000002E-2,3.4895314057826515E-3,9.0090090090090055E-3,3.4930139720558877E-3,4.999999999999999E-4,5.3910627044955417E-2,6.6560912578155704E-2,6.656091257815569E-2,1.4955268389662031E-2,1.4955268389662024E-2,1.7500000000000002E-2,5.6872037914691947E-2,{"$f":"((L48*NewConst!F$238+O48*NewConst!$F$155/365+N48*NewConst!F$328+G48*NewConst!F$298+M48*NewConst!F$279+F48*NewConst!F$264)*3412+(M48*NewConst!F$280+N48*NewConst!F$332)*100000)/((NewConst!F$238+NewConst!$F$155/365+NewConst!F$328+NewConst!F$298+NewConst!F$279+NewConst!F$264)*3412+(NewConst!F$280+NewConst!F$332)*100000)","v":1.4974278476826091E-2},3.2196942676503221E-2,2.887306624724267E-2,1,{"$f":"$AH48*NewConst!$E$400*N_occ","v":580.80000000000007},{"$f":"$AH48*NewConst!$E$401*N_occ","v":432.96000000000004},{"$f":"IF(NewConst!$F$203=NewConst!$I$203,'Detailed Lighting'!BD16,Lighting!BH26)","v":1.046786451174443E-2},{"$f":"IF(NewConst!$F$203=NewConst!$I$203,'Detailed Lighting'!BE16,Lighting!BI26)","v":1.1747934907070776E-2},{"$f":"IF(NewConst!$F$203=NewConst!$I$203,'Detailed Lighting'!BF16,Lighting!BJ26)","v":1.3540695432430968E-2},{"$f":"IF(NewConst!$F$203=NewConst!$I$203,'Detailed Lighting'!BG16,Lighting!BK26)","v":1.6664961402907252E-2},{"$f":"IF(NewConst!$F$203=NewConst!$I$203,'Detailed Lighting'!BH16,Lighting!BL26)","v":1.8765663664446833E-2},{"$f":"IF(NewConst!$F$203=NewConst!$I$203,'Detailed Lighting'!BI16,Lighting!BM26)","v":1.9943599965884854E-2},{"$f":"IF(NewConst!$F$203=NewConst!$I$203,'Detailed Lighting'!BJ16,Lighting!BN26)","v":1.9683500840876427E-2},{"$f":"IF(NewConst!$F$203=NewConst!$I$203,'Detailed Lighting'!BK16,Lighting!BO26)","v":1.7749518270534247E-2},{"$f":"IF(NewConst!$F$203=NewConst!$I$203,'Detailed Lighting'!BL16,Lighting!BP26)","v":1.5125141755857944E-2},{"$f":"IF(NewConst!$F$203=NewConst!$I$203,'Detailed Lighting'!BM16,Lighting!BQ26)","v":1.2770755063530531E-2},{"$f":"IF(NewConst!$F$203=NewConst!$I$203,'Detailed Lighting'!BN16,Lighting!BR26)","v":1.06017598741972E-2},{"$f":"IF(NewConst!$F$203=NewConst!$I$203,'Detailed Lighting'!BO16,Lighting!BS26)","v":1.0014898224714816E-2},{"$f":"IF(NewConst!$F$203=NewConst!$I$203,'Detailed Lighting'!BP16,Lighting!BG26)","v":1.3844991759640518E-2},null,null,null,6,1.1243378049801061E-2,4.1666666666666664E-2,1.1243378049801061E-2,4.893632604136687E-3,0,1.6822429906542057E-2,2.3190442726633873E-2,4.1666666666666664E-2,0,0,0,0,0,5.9405940000000004E-3,1.6822429906542057E-2,0,4.1666666666666664E-2,null,{"$f":"IF(AVERAGE('Sunrise Calc'!$G$2:$G$13)>'Hourly Profiles'!BA48, 1/12, \"0.000\")","v":8.3333333333333329E-2},2.7184466019417475E-2,{"$error":"#VALUE!"},{"$error":"#VALUE!"},0.14545038267809252,{"$f":"BX48*250*NewConst!$F$250","v":363.62595669523131},{"$f":"BX48*200*NewConst!$F$250","v":290.90076535618505},0,0,0,0,{"$f":"CD48*710*NewConst!$F$419","v":0},{"$f":"CD48*1090*NewConst!$F$419","v":0},0,{"$f":"$CG48*CH$7*NewConst!$E$413","v":0},{"$f":"$CG48*CI$7*NewConst!$E$413","v":0}]
[null,null,7,{"$f":"'Hourly Profiles'!D15","v":6.0518788725154128E-2},5.6000000000000001E-2,{"$f":"'Hourly Profiles'!F15","v":2.2429906999999999E-2},{"$f":"'Hourly Profiles'!G15","v":2.0477815999999999E-2},{"$f":"(F49*'Monthly Profiles'!V$40+G49*'Monthly Profiles'!T$40+I49*'Monthly Profiles'!W$40+J49*'Monthly Profiles'!X$40+K49*'Monthly Profiles'!Y$40)/'Monthly Profiles'!AA$40","v":6.6738103841399596E-2},{"$f":"'Hourly Profiles'!I15","v":4.6332046332046323E-2},{"$f":"'Hourly Profiles'!J15","v":0.11758989310009718},{"$f":"'Hourly Profiles'!K15","v":4.249291784702549E-2},{"$f":"'Hourly Profiles'!L15","v":3.7773359999999999E-2},{"$f":"'Hourly Profiles'!M15","v":1.5841583999999999E-2},{"$f":"'Hourly Profiles'!N15","v":2.4752474999999999E-2},{"$f":"'Hourly Profiles'!O15","v":4.2000000000000003E-2},4.1594784353059175E-2,3.6962075848303397E-2,4.0343915343915349E-2,2.8500000000000008E-2,1.4956130609171487E-2,2.1521521521521515E-2,1.5977045908183635E-2,4.9925224327018935E-3,5.990169273751364E-2,5.6630425984312602E-2,5.6630425984312588E-2,2.591650099403579E-2,2.5916500994035779E-2,2.5500000000000002E-2,5.6872037914691947E-2,{"$f":"((L49*NewConst!F$238+O49*NewConst!$F$155/365+N49*NewConst!F$328+G49*NewConst!F$298+M49*NewConst!F$279+F49*NewConst!F$264)*3412+(M49*NewConst!F$280+N49*NewConst!F$332)*100000)/((NewConst!F$238+NewConst!$F$155/365+NewConst!F$328+NewConst!F$298+NewConst!F$279+NewConst!F$264)*3412+(NewConst!F$280+NewConst!F$332)*100000)","v":2.4145550731493555E-2},4.396648418046431E-2,5.976371027015414E-2,1,{"$f":"$AH49*NewConst!$E$400*N_occ","v":580.80000000000007},{"$f":"$AH49*NewConst!$E$401*N_occ","v":432.96000000000004},{"$f":"IF(NewConst!$F$203=NewConst!$I$203,'Detailed Lighting'!BD17,Lighting!BH27)","v":2.2584908780539908E-2},{"$f":"IF(NewConst!$F$203=NewConst!$I$203,'Detailed Lighting'!BE17,Lighting!BI27)","v":2.2923467049048581E-2},{"$f":"IF(NewConst!$F$203=NewConst!$I$203,'Detailed Lighting'!BF17,Lighting!BJ27)","v":2.1888709297376616E-2},{"$f":"IF(NewConst!$F$203=NewConst!$I$203,'Detailed Lighting'!BG17,Lighting!BK27)","v":2.8476468069080219E-2},{"$f":"IF(NewConst!$F$203=NewConst!$I$203,'Detailed Lighting'!BH17,Lighting!BL27)","v":2.7312160262676785E-2},{"$f":"IF(NewConst!$F$203=NewConst!$I$203,'Detailed Lighting'!BI17,Lighting!BM27)","v":2.7460498590911923E-2},{"$f":"IF(NewConst!$F$203=NewConst!$I$203,'Detailed Lighting'!BJ17,Lighting!BN27)","v":2.84806442689183E-2},{"$f":"IF(NewConst!$F$203=NewConst!$I$203,'Detailed Lighting'!BK17,Lighting!BO27)","v":2.8748814270421721E-2},{"$f":"IF(NewConst!$F$203=NewConst!$I$203,'Detailed Lighting'!BL17,Lighting!BP27)","v":2.7750914111194548E-2},{"$f":"IF(NewConst!$F$203=NewConst!$I$203,'Detailed Lighting'!BM17,Lighting!BQ27)","v":2.6621262932581023E-2},{"$f":"IF(NewConst!$F$203=NewConst!$I$203,'Detailed Lighting'!BN17,Lighting!BR27)","v":1.943643150730048E-2},{"$f":"IF(NewConst!$F$203=NewConst!$I$203,'Detailed Lighting'!BO17,Lighting!BS27)","v":2.0845498431544984E-2},{"$f":"IF(NewConst!$F$203=NewConst!$I$203,'Detailed Lighting'!BP17,Lighting!BG27)","v":2.4485252369186514E-2},null,null,null,7,2.3085964689168754E-2,4.1666666666666664E-2,2.3085964689168754E-2,1.1468161989141995E-2,0,1.6822429906542057E-2,2.3190442726633873E-2,4.1666666666666664E-2,3.4482758620689655E-2,5.8823529411764705E-2,4.7619047619047616E-2,7.1428571428571425E-2,7.1428571428571425E-2,1.5841583999999999E-2,1.6822429906542057E-2,0,4.1666666666666664E-2,null,{"$f":"IF(AVERAGE('Sunrise Calc'!$G$2:$G$13)>'Hourly Profiles'!BA49, 1/12, \"0.000\")","v":"0.000"},3.4174757281553399E-2,{"$error":"#VALUE!"},{"$error":"#VALUE!"},0.29865244979394251,{"$f":"BX49*250*NewConst!$F$250","v":746.6311244848564},{"$f":"BX49*200*NewConst!$F$250","v":597.30489958788507},0,0,0,0.5,{"$f":"CD49*710*NewConst!$F$419","v":1065},{"$f":"CD49*1090*NewConst!$F$419","v":1635},0.5,{"$f":"$CG49*CH$7*NewConst!$E$413","v":40.425000000000004},{"$f":"$CG49*CI$7*NewConst!$E$413","v":25.575000000000003}]
[null,null,8,{"$f":"'Hourly Profiles'!D16","v":5.3443893615832683E-2},0.05,{"$f":"'Hourly Profiles'!F16","v":4.8598131000000003E-2},{"$f":"'Hourly Profiles'!G16","v":3.0716724000000001E-2},{"$f":"(F50*'Monthly Profiles'!V$40+G50*'Monthly Profiles'!T$40+I50*'Monthly Profiles'!W$40+J50*'Monthly Profiles'!X$40+K50*'Monthly Profiles'!Y$40)/'Monthly Profiles'!AA$40","v":7.8649647191515376E-2},{"$f":"'Hourly Profiles'!I16","v":5.7915057915057903E-2},{"$f":"'Hourly Profiles'!J16","v":0.11661807580174928},{"$f":"'Hourly Profiles'!K16","v":6.2322946175637391E-2},{"$f":"'Hourly Profiles'!L16","v":3.9761431E-2},{"$f":"'Hourly Profiles'!M16","v":3.1683167999999998E-2},{"$f":"'Hourly Profiles'!N16","v":4.2432814999999999E-2},{"$f":"'Hourly Profiles'!O16","v":4.3999999999999997E-2},5.2114343029087254E-2,3.746107784431138E-2,4.0844415844415852E-2,4.6000000000000013E-2,2.5424724826519442E-2,3.4534534534534533E-2,2.8461077844311379E-2,9.4865403788634093E-3,5.8385250922564372E-2,2.4345486169378962E-2,2.4345486169378962E-2,4.3880715705765419E-2,4.3880715705765391E-2,3.2500000000000001E-2,2.3696682464454978E-2,{"$f":"((L50*NewConst!F$238+O50*NewConst!$F$155/365+N50*NewConst!F$328+G50*NewConst!F$298+M50*NewConst!F$279+F50*NewConst!F$264)*3412+(M50*NewConst!F$280+N50*NewConst!F$332)*100000)/((NewConst!F$238+NewConst!$F$155/365+NewConst!F$328+NewConst!F$298+NewConst!F$279+NewConst!F$264)*3412+(NewConst!F$280+NewConst!F$332)*100000)","v":3.7263561293544328E-2},4.9071154768094663E-2,6.8617498085718362E-2,0.88309589041095882,{"$f":"$AH50*NewConst!$E$400*N_occ","v":512.90209315068489},{"$f":"$AH50*NewConst!$E$401*N_occ","v":382.34519671232869},{"$f":"IF(NewConst!$F$203=NewConst!$I$203,'Detailed Lighting'!BD18,Lighting!BH28)","v":4.7225844522917025E-2},{"$f":"IF(NewConst!$F$203=NewConst!$I$203,'Detailed Lighting'!BE18,Lighting!BI28)","v":4.5649765912749912E-2},{"$f":"IF(NewConst!$F$203=NewConst!$I$203,'Detailed Lighting'!BF18,Lighting!BJ28)","v":3.8865033610421922E-2},{"$f":"IF(NewConst!$F$203=NewConst!$I$203,'Detailed Lighting'!BG18,Lighting!BK28)","v":5.249606974135828E-2},{"$f":"IF(NewConst!$F$203=NewConst!$I$203,'Detailed Lighting'!BH18,Lighting!BL28)","v":4.4692114385792604E-2},{"$f":"IF(NewConst!$F$203=NewConst!$I$203,'Detailed Lighting'!BI18,Lighting!BM28)","v":4.2746686533482472E-2},{"$f":"IF(NewConst!$F$203=NewConst!$I$203,'Detailed Lighting'!BJ18,Lighting!BN28)","v":4.6370307879795188E-2},{"$f":"IF(NewConst!$F$203=NewConst!$I$203,'Detailed Lighting'!BK18,Lighting!BO28)","v":5.1116723467765593E-2},{"$f":"IF(NewConst!$F$203=NewConst!$I$203,'Detailed Lighting'!BL18,Lighting!BP28)","v":5.34263873045146E-2},{"$f":"IF(NewConst!$F$203=NewConst!$I$203,'Detailed Lighting'!BM18,Lighting!BQ28)","v":5.4787329411307248E-2},{"$f":"IF(NewConst!$F$203=NewConst!$I$203,'Detailed Lighting'!BN18,Lighting!BR28)","v":3.740241159181E-2},{"$f":"IF(NewConst!$F$203=NewConst!$I$203,'Detailed Lighting'!BO18,Lighting!BS28)","v":4.287035183867114E-2},{"$f":"IF(NewConst!$F$203=NewConst!$I$203,'Detailed Lighting'!BP18,Lighting!BG28)","v":4.6123035655756331E-2},null,null,null,8,3.7388593343930306E-2,4.1666666666666664E-2,3.7388593343930306E-2,2.3547512283079722E-2,0,1.6822429906542057E-2,3.5137034434293744E-2,4.1666666666666664E-2,6.8965517241379309E-2,5.8823529411764705E-2,9.5238095238095233E-2,7.1428571428571425E-2,7.1428571428571425E-2,3.1683167999999998E-2,1.6822429906542057E-2,0,4.1666666666666664E-2,null,{"$f":"IF(AVERAGE('Sunrise Calc'!$G$2:$G$13)>'Hourly Profiles'!BA50, 1/12, \"0.000\")","v":"0.000"},4.1165048543689318E-2,{"$error":"#VALUE!"},{"$error":"#VALUE!"},0.4836789428926539,{"$f":"BX50*250*NewConst!$F$250","v":1209.1973572316347},{"$f":"BX50*200*NewConst!$F$250","v":967.35788578530776},0,0,0,1,{"$f":"CD50*710*NewConst!$F$419","v":2130},{"$f":"CD50*1090*NewConst!$F$419","v":3270},0.5,{"$f":"$CG50*CH$7*NewConst!$E$413","v":40.425000000000004},{"$f":"$CG50*CI$7*NewConst!$E$413","v":25.575000000000003}]
[null,null,9,{"$f":"'Hourly Profiles'!D17","v":2.4728556254600131E-2},2.1999999999999999E-2,{"$f":"'Hourly Profiles'!F17","v":7.2897195999999997E-2},{"$f":"'Hourly Profiles'!G17","v":5.8020478E-2},{"$f":"(F51*'Monthly Profiles'!V$40+G51*'Monthly Profiles'!T$40+I51*'Monthly Profiles'!W$40+J51*'Monthly Profiles'!X$40+K51*'Monthly Profiles'!Y$40)/'Monthly Profiles'!AA$40","v":7.7360985997348086E-2},{"$f":"'Hourly Profiles'!I17","v":6.5637065637065631E-2},{"$f":"'Hourly Profiles'!J17","v":9.4752186588921289E-2},{"$f":"'Hourly Profiles'!K17","v":6.5722379603399425E-2},{"$f":"'Hourly Profiles'!L17","v":4.0613462000000003E-2},{"$f":"'Hourly Profiles'!M17","v":4.8316831999999997E-2},{"$f":"'Hourly Profiles'!N17","v":4.5968883000000002E-2},{"$f":"'Hourly Profiles'!O17","v":3.6999999999999998E-2},5.4603811434302908E-2,3.7961077844311381E-2,4.1344916344916341E-2,4.3500000000000011E-2,5.2393767747705933E-2,6.4491137844431251E-2,4.3441117764471057E-2,1.7971585244267195E-2,6.1370325549430046E-2,2.3844026210167003E-2,2.3844026210167006E-2,8.4279324055666016E-2,8.4279324055665988E-2,3.2500000000000001E-2,2.3696682464454978E-2,{"$f":"((L51*NewConst!F$238+O51*NewConst!$F$155/365+N51*NewConst!F$328+G51*NewConst!F$298+M51*NewConst!F$279+F51*NewConst!F$264)*3412+(M51*NewConst!F$280+N51*NewConst!F$332)*100000)/((NewConst!F$238+NewConst!$F$155/365+NewConst!F$328+NewConst!F$298+NewConst!F$279+NewConst!F$264)*3412+(NewConst!F$280+NewConst!F$332)*100000)","v":4.6645972870231873E-2},4.5899267383828934E-2,6.262898223952966E-2,0.4086095702758491,{"$f":"$AH51*NewConst!$E$400*N_occ","v":237.32043841621316},{"$f":"$AH51*NewConst!$E$401*N_occ","v":176.91159954663163},{"$f":"IF(NewConst!$F$203=NewConst!$I$203,'Detailed Lighting'!BD19,Lighting!BH29)","v":4.5119493768682795E-2},{"$f":"IF(NewConst!$F$203=NewConst!$I$203,'Detailed Lighting'!BE19,Lighting!BI29)","v":4.0730939199668373E-2},{"$f":"IF(NewConst!$F$203=NewConst!$I$203,'Detailed Lighting'!BF19,Lighting!BJ29)","v":3.1370516916852935E-2},{"$f":"IF(NewConst!$F$203=NewConst!$I$203,'Detailed Lighting'!BG19,Lighting!BK29)","v":4.164800661769371E-2},{"$f":"IF(NewConst!$F$203=NewConst!$I$203,'Detailed Lighting'!BH19,Lighting!BL29)","v":3.3673815186028105E-2},{"$f":"IF(NewConst!$F$203=NewConst!$I$203,'Detailed Lighting'!BI19,Lighting!BM29)","v":3.1829071428418822E-2},{"$f":"IF(NewConst!$F$203=NewConst!$I$203,'Detailed Lighting'!BJ19,Lighting!BN29)","v":3.4895017356187205E-2},{"$f":"IF(NewConst!$F$203=NewConst!$I$203,'Detailed Lighting'!BK19,Lighting!BO29)","v":3.9921780545311848E-2},{"$f":"IF(NewConst!$F$203=NewConst!$I$203,'Detailed Lighting'!BL19,Lighting!BP29)","v":4.4427415355229052E-2},{"$f":"IF(NewConst!$F$203=NewConst!$I$203,'Detailed Lighting'!BM19,Lighting!BQ29)","v":4.9090118439820925E-2},{"$f":"IF(NewConst!$F$203=NewConst!$I$203,'Detailed Lighting'!BN19,Lighting!BR29)","v":3.6056453966279205E-2},{"$f":"IF(NewConst!$F$203=NewConst!$I$203,'Detailed Lighting'!BO19,Lighting!BS29)","v":4.2474794205498996E-2},{"$f":"IF(NewConst!$F$203=NewConst!$I$203,'Detailed Lighting'!BP19,Lighting!BG29)","v":3.9956588261754224E-2},null,null,null,9,5.0844239393186261E-2,4.1666666666666664E-2,5.0844239393186261E-2,3.8136087136368749E-2,0.11764705882352941,8.411214953271029E-2,7.0274068868587489E-2,4.1666666666666664E-2,6.8965517241379309E-2,5.8823529411764705E-2,9.5238095238095233E-2,7.1428571428571425E-2,7.1428571428571425E-2,4.8316831999999997E-2,8.411214953271029E-2,0.1111111111111111,4.1666666666666664E-2,null,{"$f":"IF(AVERAGE('Sunrise Calc'!$G$2:$G$13)>'Hourly Profiles'!BA51, 1/12, \"0.000\")","v":"0.000"},4.1941747572815533E-2,{"$error":"#VALUE!"},{"$error":"#VALUE!"},0.65774841368483028,{"$f":"BX51*250*NewConst!$F$250","v":1644.3710342120758},{"$f":"BX51*200*NewConst!$F$250","v":1315.4968273696604},1,750,600,1,{"$f":"CD51*710*NewConst!$F$419","v":2130},{"$f":"CD51*1090*NewConst!$F$419","v":3270},0.5,{"$f":"$CG51*CH$7*NewConst!$E$413","v":40.425000000000004},{"$f":"$CG51*CI$7*NewConst!$E$413","v":25.575000000000003}]
[null,null,10,{"$f":"'Hourly Profiles'!D18","v":1.4638755684462032E-2},1.4999999999999999E-2,{"$f":"'Hourly Profiles'!F18","v":8.5981308000000006E-2},{"$f":"'Hourly Profiles'!G18","v":6.4846416000000004E-2},{"$f":"(F52*'Monthly Profiles'!V$40+G52*'Monthly Profiles'!T$40+I52*'Monthly Profiles'!W$40+J52*'Monthly Profiles'!X$40+K52*'Monthly Profiles'!Y$40)/'Monthly Profiles'!AA$40","v":7.008115833366263E-2},{"$f":"'Hourly Profiles'!I18","v":5.7915057915057903E-2},{"$f":"'Hourly Profiles'!J18","v":7.4344023323615172E-2},{"$f":"'Hourly Profiles'!K18","v":6.175637393767705E-2},{"$f":"'Hourly Profiles'!L18","v":4.1181482999999998E-2},{"$f":"'Hourly Profiles'!M18","v":6.8118812000000001E-2},{"$f":"'Hourly Profiles'!N18","v":4.8090523000000003E-2},{"$f":"'Hourly Profiles'!O18","v":3.2000000000000001E-2},5.8094784353059176E-2,3.9460079840319365E-2,4.2345917345917347E-2,4.1000000000000009E-2,7.8863310169391923E-2,9.4447741154327997E-2,5.7422155688622759E-2,2.6456630109670986E-2,6.3857887738484775E-2,1.9375307242937609E-2,1.9375307242937609E-2,0.12066003976143144,0.12066003976143139,3.2000000000000001E-2,2.3696682464454978E-2,{"$f":"((L52*NewConst!F$238+O52*NewConst!$F$155/365+N52*NewConst!F$328+G52*NewConst!F$298+M52*NewConst!F$279+F52*NewConst!F$264)*3412+(M52*NewConst!F$280+N52*NewConst!F$332)*100000)/((NewConst!F$238+NewConst!$F$155/365+NewConst!F$328+NewConst!F$298+NewConst!F$279+NewConst!F$264)*3412+(NewConst!F$280+NewConst!F$332)*100000)","v":5.5885105289033864E-2},4.2711365023944244E-2,5.5776709081809255E-2,0.24188778382435727,{"$f":"$AH52*NewConst!$E$400*N_occ","v":140.4884248451867},{"$f":"$AH52*NewConst!$E$401*N_occ","v":104.72773488459373},{"$f":"IF(NewConst!$F$203=NewConst!$I$203,'Detailed Lighting'!BD20,Lighting!BH30)","v":2.3129432937109194E-2},{"$f":"IF(NewConst!$F$203=NewConst!$I$203,'Detailed Lighting'!BE20,Lighting!BI30)","v":2.0449538374867432E-2},{"$f":"IF(NewConst!$F$203=NewConst!$I$203,'Detailed Lighting'!BF20,Lighting!BJ30)","v":1.6220507670313872E-2},{"$f":"IF(NewConst!$F$203=NewConst!$I$203,'Detailed Lighting'!BG20,Lighting!BK30)","v":2.021243666021097E-2},{"$f":"IF(NewConst!$F$203=NewConst!$I$203,'Detailed Lighting'!BH20,Lighting!BL30)","v":1.8163598674242113E-2},{"$f":"IF(NewConst!$F$203=NewConst!$I$203,'Detailed Lighting'!BI20,Lighting!BM30)","v":1.8187373472853867E-2},{"$f":"IF(NewConst!$F$203=NewConst!$I$203,'Detailed Lighting'!BJ20,Lighting!BN30)","v":1.8929925966292581E-2},{"$f":"IF(NewConst!$F$203=NewConst!$I$203,'Detailed Lighting'!BK20,Lighting!BO30)","v":1.9960213782293488E-2},{"$f":"IF(NewConst!$F$203=NewConst!$I$203,'Detailed Lighting'!BL20,Lighting!BP30)","v":2.1514112739470612E-2},{"$f":"IF(NewConst!$F$203=NewConst!$I$203,'Detailed Lighting'!BM20,Lighting!BQ30)","v":2.3954160871937406E-2},{"$f":"IF(NewConst!$F$203=NewConst!$I$203,'Detailed Lighting'!BN20,Lighting!BR30)","v":2.0023256238411932E-2},{"$f":"IF(NewConst!$F$203=NewConst!$I$203,'Detailed Lighting'!BO20,Lighting!BS30)","v":2.2819377248412605E-2},{"$f":"IF(NewConst!$F$203=NewConst!$I$203,'Detailed Lighting'!BP20,Lighting!BG30)","v":2.0646600373843985E-2},null,null,null,10,5.6409041526672234E-2,4.1666666666666664E-2,5.6409041526672234E-2,5.1860746031402186E-2,0.11764705882352941,8.411214953271029E-2,7.0274068868587489E-2,4.1666666666666664E-2,6.8965517241379309E-2,5.8823529411764705E-2,4.7619047619047616E-2,0.14285714285714285,0.14285714285714285,6.8118812000000001E-2,8.411214953271029E-2,0.1111111111111111,4.1666666666666664E-2,null,{"$f":"IF(AVERAGE('Sunrise Calc'!$G$2:$G$13)>'Hourly Profiles'!BA52, 1/12, \"0.000\")","v":"0.000"},4.2718446601941747E-2,{"$error":"#VALUE!"},{"$error":"#VALUE!"},0.72973768561522856,{"$f":"BX52*250*NewConst!$F$250","v":1824.3442140380714},{"$f":"BX52*200*NewConst!$F$250","v":1459.4753712304573},1,750,600,1,{"$f":"CD52*710*NewConst!$F$419","v":2130},{"$f":"CD52*1090*NewConst!$F$419","v":3270},1,{"$f":"$CG52*CH$7*NewConst!$E$413","v":80.850000000000009},{"$f":"$CG52*CI$7*NewConst!$E$413","v":51.150000000000006}]
[null,null,11,{"$f":"'Hourly Profiles'!D19","v":1.4638755684462032E-2},1.4999999999999999E-2,{"$f":"'Hourly Profiles'!F19","v":8.4112149999999997E-2},{"$f":"'Hourly Profiles'!G19","v":5.6313993E-2},{"$f":"(F53*'Monthly Profiles'!V$40+G53*'Monthly Profiles'!T$40+I53*'Monthly Profiles'!W$40+J53*'Monthly Profiles'!X$40+K53*'Monthly Profiles'!Y$40)/'Monthly Profiles'!AA$40","v":6.0459605685925358E-2},{"$f":"'Hourly Profiles'!I19","v":4.6332046332046323E-2},{"$f":"'Hourly Profiles'!J19","v":5.9766763848396506E-2},{"$f":"'Hourly Profiles'!K19","v":5.4390934844192627E-2},{"$f":"'Hourly Profiles'!L19","v":3.9761431E-2},{"$f":"'Hourly Profiles'!M19","v":7.8019801999999999E-2},{"$f":"'Hourly Profiles'!N19","v":4.2432814999999999E-2},{"$f":"'Hourly Profiles'!O19","v":3.3000000000000002E-2},5.5079739217652954E-2,4.0459081836327349E-2,4.1854354354354362E-2,4.3500000000000011E-2,7.3379760817447764E-2,0.10141728554902209,7.6419161676646724E-2,3.2452143569292123E-2,5.6350380230977264E-2,1.5403112605400369E-2,1.5403112605400369E-2,0.12708250497017895,0.12708250497017889,3.2500000000000001E-2,2.3696682464454978E-2,{"$f":"((L53*NewConst!F$238+O53*NewConst!$F$155/365+N53*NewConst!F$328+G53*NewConst!F$298+M53*NewConst!F$279+F53*NewConst!F$264)*3412+(M53*NewConst!F$280+N53*NewConst!F$332)*100000)/((NewConst!F$238+NewConst!$F$155/365+NewConst!F$328+NewConst!F$298+NewConst!F$279+NewConst!F$264)*3412+(NewConst!F$280+NewConst!F$332)*100000)","v":5.7484622887640571E-2},4.1328430975494324E-2,4.7975359517617965E-2,0.24188778382435727,{"$f":"$AH53*NewConst!$E$400*N_occ","v":140.4884248451867},{"$f":"$AH53*NewConst!$E$401*N_occ","v":104.72773488459373},{"$f":"IF(NewConst!$F$203=NewConst!$I$203,'Detailed Lighting'!BD21,Lighting!BH31)","v":1.8832921804372297E-2},{"$f":"IF(NewConst!$F$203=NewConst!$I$203,'Detailed Lighting'!BE21,Lighting!BI31)","v":1.6486872464178324E-2},{"$f":"IF(NewConst!$F$203=NewConst!$I$203,'Detailed Lighting'!BF21,Lighting!BJ31)","v":1.3260434758857352E-2},{"$f":"IF(NewConst!$F$203=NewConst!$I$203,'Detailed Lighting'!BG21,Lighting!BK31)","v":1.6024264300694369E-2},{"$f":"IF(NewConst!$F$203=NewConst!$I$203,'Detailed Lighting'!BH21,Lighting!BL31)","v":1.5133146943141577E-2},{"$f":"IF(NewConst!$F$203=NewConst!$I$203,'Detailed Lighting'!BI21,Lighting!BM31)","v":1.5522000803608518E-2},{"$f":"IF(NewConst!$F$203=NewConst!$I$203,'Detailed Lighting'!BJ21,Lighting!BN31)","v":1.5810598856776093E-2},{"$f":"IF(NewConst!$F$203=NewConst!$I$203,'Detailed Lighting'!BK21,Lighting!BO31)","v":1.60600384039227E-2},{"$f":"IF(NewConst!$F$203=NewConst!$I$203,'Detailed Lighting'!BL21,Lighting!BP31)","v":1.7037214720388105E-2},{"$f":"IF(NewConst!$F$203=NewConst!$I$203,'Detailed Lighting'!BM21,Lighting!BQ31)","v":1.9042991123495848E-2},{"$f":"IF(NewConst!$F$203=NewConst!$I$203,'Detailed Lighting'!BN21,Lighting!BR31)","v":1.6890622224401148E-2},{"$f":"IF(NewConst!$F$203=NewConst!$I$203,'Detailed Lighting'!BO21,Lighting!BS31)","v":1.8979018714549285E-2},{"$f":"IF(NewConst!$F$203=NewConst!$I$203,'Detailed Lighting'!BP21,Lighting!BG31)","v":1.6873733233144762E-2},null,null,null,11,5.6473513336942067E-2,4.1666666666666664E-2,5.6473513336942067E-2,5.7536802819821681E-2,0.11764705882352941,8.411214953271029E-2,7.0274068868587489E-2,4.1666666666666664E-2,6.8965517241379309E-2,5.8823529411764705E-2,4.7619047619047616E-2,7.1428571428571425E-2,7.1428571428571425E-2,7.8019801999999999E-2,8.411214953271029E-2,0.1111111111111111,4.1666666666666664E-2,null,{"$f":"IF(AVERAGE('Sunrise Calc'!$G$2:$G$13)>'Hourly Profiles'!BA53, 1/12, \"0.000\")","v":"0.000"},4.3495145631067961E-2,{"$error":"#VALUE!"},{"$error":"#VALUE!"},0.7305717276116962,{"$f":"BX53*250*NewConst!$F$250","v":1826.4293190292406},{"$f":"BX53*200*NewConst!$F$250","v":1461.1434552233925},1,750,600,1,{"$f":"CD53*710*NewConst!$F$419","v":2130},{"$f":"CD53*1090*NewConst!$F$419","v":3270},0.5,{"$f":"$CG53*CH$7*NewConst!$E$413","v":40.425000000000004},{"$f":"$CG53*CI$7*NewConst!$E$413","v":25.575000000000003}]
[null,null,12,{"$f":"'Hourly Profiles'!D20","v":1.4638755684462032E-2},1.4999999999999999E-2,{"$f":"'Hourly Profiles'!F20","v":7.4766355000000007E-2},{"$f":"'Hourly Profiles'!G20","v":4.7781570000000002E-2},{"$f":"(F54*'Monthly Profiles'!V$40+G54*'Monthly Profiles'!T$40+I54*'Monthly Profiles'!W$40+J54*'Monthly Profiles'!X$40+K54*'Monthly Profiles'!Y$40)/'Monthly Profiles'!AA$40","v":5.1313724348583563E-2},{"$f":"'Hourly Profiles'!I20","v":3.4749034749034742E-2},{"$f":"'Hourly Profiles'!J20","v":4.7133138969873666E-2},{"$f":"'Hourly Profiles'!K20","v":4.9858356940509913E-2},{"$f":"'Hourly Profiles'!L20","v":3.9761431E-2},{"$f":"'Hourly Profiles'!M20","v":8.1188119000000003E-2},{"$f":"'Hourly Profiles'!N20","v":4.9504949999999999E-2},{"$f":"'Hourly Profiles'!O20","v":3.3000000000000002E-2},5.1564694082246745E-2,4.2457085828343323E-2,4.1863291863291865E-2,4.6000000000000006E-2,6.7896211465503592E-2,0.10788782794770821,9.4916167664670675E-2,3.8447657028913257E-2,5.0359314538419034E-2,1.3908110423852121E-2,1.3908110423852121E-2,0.12058250497017894,0.12058250497017889,3.3000000000000002E-2,2.3696682464454978E-2,{"$f":"((L54*NewConst!F$238+O54*NewConst!$F$155/365+N54*NewConst!F$328+G54*NewConst!F$298+M54*NewConst!F$279+F54*NewConst!F$264)*3412+(M54*NewConst!F$280+N54*NewConst!F$332)*100000)/((NewConst!F$238+NewConst!$F$155/365+NewConst!F$328+NewConst!F$298+NewConst!F$279+NewConst!F$264)*3412+(NewConst!F$280+NewConst!F$332)*100000)","v":6.0392246884138988E-2},4.0152222863061048E-2,4.6068195753731715E-2,0.24188778382435727,{"$f":"$AH54*NewConst!$E$400*N_occ","v":140.4884248451867},{"$f":"$AH54*NewConst!$E$401*N_occ","v":104.72773488459373},{"$f":"IF(NewConst!$F$203=NewConst!$I$203,'Detailed Lighting'!BD22,Lighting!BH32)","v":1.8659613778098119E-2},{"$f":"IF(NewConst!$F$203=NewConst!$I$203,'Detailed Lighting'!BE22,Lighting!BI32)","v":1.6327030725951982E-2},{"$f":"IF(NewConst!$F$203=NewConst!$I$203,'Detailed Lighting'!BF22,Lighting!BJ32)","v":1.3141034534334859E-2},{"$f":"IF(NewConst!$F$203=NewConst!$I$203,'Detailed Lighting'!BG22,Lighting!BK32)","v":1.5855326326859421E-2},{"$f":"IF(NewConst!$F$203=NewConst!$I$203,'Detailed Lighting'!BH22,Lighting!BL32)","v":1.5010907853794303E-2},{"$f":"IF(NewConst!$F$203=NewConst!$I$203,'Detailed Lighting'!BI22,Lighting!BM32)","v":1.5414487879209833E-2},{"$f":"IF(NewConst!$F$203=NewConst!$I$203,'Detailed Lighting'!BJ22,Lighting!BN32)","v":1.5684774808390711E-2},{"$f":"IF(NewConst!$F$203=NewConst!$I$203,'Detailed Lighting'!BK22,Lighting!BO32)","v":1.5902717341305554E-2},{"$f":"IF(NewConst!$F$203=NewConst!$I$203,'Detailed Lighting'!BL22,Lighting!BP32)","v":1.6856630442692141E-2},{"$f":"IF(NewConst!$F$203=NewConst!$I$203,'Detailed Lighting'!BM22,Lighting!BQ32)","v":1.8844889661750616E-2},{"$f":"IF(NewConst!$F$203=NewConst!$I$203,'Detailed Lighting'!BN22,Lighting!BR32)","v":1.6764261416472387E-2},{"$f":"IF(NewConst!$F$203=NewConst!$I$203,'Detailed Lighting'!BO22,Lighting!BS32)","v":1.8824110479209729E-2},{"$f":"IF(NewConst!$F$203=NewConst!$I$203,'Detailed Lighting'!BP22,Lighting!BG32)","v":1.6721547392738768E-2},null,null,null,12,6.4589376512085184E-2,4.1666666666666664E-2,6.4589376512085184E-2,5.760256358679338E-2,0.11764705882352941,8.411214953271029E-2,7.0274068868587489E-2,4.1666666666666664E-2,3.4482758620689655E-2,5.8823529411764705E-2,4.7619047619047616E-2,7.1428571428571425E-2,7.1428571428571425E-2,8.1188119000000003E-2,8.411214953271029E-2,0.1111111111111111,4.1666666666666664E-2,null,{"$f":"IF(AVERAGE('Sunrise Calc'!$G$2:$G$13)>'Hourly Profiles'!BA54, 1/12, \"0.000\")","v":"0.000"},4.4271844660194175E-2,{"$error":"#VALUE!"},{"$error":"#VALUE!"},0.83556289657879257,{"$f":"BX54*250*NewConst!$F$250","v":2088.9072414469815},{"$f":"BX54*200*NewConst!$F$250","v":1671.1257931575851},1,750,600,0.5,{"$f":"CD54*710*NewConst!$F$419","v":1065},{"$f":"CD54*1090*NewConst!$F$419","v":1635},0.5,{"$f":"$CG54*CH$7*NewConst!$E$413","v":40.425000000000004},{"$f":"$CG54*CI$7*NewConst!$E$413","v":25.575000000000003}]
[null,null,13,{"$f":"'Hourly Profiles'!D21","v":1.4638755684462032E-2},1.4999999999999999E-2,{"$f":"'Hourly Profiles'!F21","v":6.7289719999999997E-2},{"$f":"'Hourly Profiles'!G21","v":4.0955630999999999E-2},{"$f":"(F55*'Monthly Profiles'!V$40+G55*'Monthly Profiles'!T$40+I55*'Monthly Profiles'!W$40+J55*'Monthly Profiles'!X$40+K55*'Monthly Profiles'!Y$40)/'Monthly Profiles'!AA$40","v":4.4207123876409439E-2},{"$f":"'Hourly Profiles'!I21","v":3.0888030888030885E-2},{"$f":"'Hourly Profiles'!J21","v":3.4013605442176874E-2},{"$f":"'Hourly Profiles'!K21","v":4.8725212464589225E-2},{"$f":"'Hourly Profiles'!L21","v":4.1749503E-2},{"$f":"'Hourly Profiles'!M21","v":7.4059405999999994E-2},{"$f":"'Hourly Profiles'!N21","v":5.6577085999999999E-2},{"$f":"'Hourly Profiles'!O21","v":3.2000000000000001E-2},4.9560180541624879E-2,4.2457085828343323E-2,4.2363792363792369E-2,4.200000000000001E-2,6.4895224416660111E-2,8.0433727140313965E-2,9.2426147704590816E-2,3.9944666001994006E-2,3.5910537403074733E-2,1.3908110423852121E-2,1.3908110423852121E-2,0.11958250497017896,0.11958250497017889,3.2000000000000001E-2,2.3696682464454978E-2,{"$f":"((L55*NewConst!F$238+O55*NewConst!$F$155/365+N55*NewConst!F$328+G55*NewConst!F$298+M55*NewConst!F$279+F55*NewConst!F$264)*3412+(M55*NewConst!F$280+N55*NewConst!F$332)*100000)/((NewConst!F$238+NewConst!$F$155/365+NewConst!F$328+NewConst!F$298+NewConst!F$279+NewConst!F$264)*3412+(NewConst!F$280+NewConst!F$332)*100000)","v":5.9757215962613491E-2},3.8633833587307459E-2,4.4117259735487746E-2,0.24188778382435727,{"$f":"$AH55*NewConst!$E$400*N_occ","v":140.4884248451867},{"$f":"$AH55*NewConst!$E$401*N_occ","v":104.72773488459373},{"$f":"IF(NewConst!$F$203=NewConst!$I$203,'Detailed Lighting'!BD23,Lighting!BH33)","v":1.8664031157895226E-2},{"$f":"IF(NewConst!$F$203=NewConst!$I$203,'Detailed Lighting'!BE23,Lighting!BI33)","v":1.6328453996544541E-2},{"$f":"IF(NewConst!$F$203=NewConst!$I$203,'Detailed Lighting'!BF23,Lighting!BJ33)","v":1.3141631941761293E-2},{"$f":"IF(NewConst!$F$203=NewConst!$I$203,'Detailed Lighting'!BG23,Lighting!BK33)","v":1.5853912626447912E-2},{"$f":"IF(NewConst!$F$203=NewConst!$I$203,'Detailed Lighting'!BH23,Lighting!BL33)","v":1.5009898099194783E-2},{"$f":"IF(NewConst!$F$203=NewConst!$I$203,'Detailed Lighting'!BI23,Lighting!BM33)","v":1.5413631346221802E-2},{"$f":"IF(NewConst!$F$203=NewConst!$I$203,'Detailed Lighting'!BJ23,Lighting!BN33)","v":1.5683758207973249E-2},{"$f":"IF(NewConst!$F$203=NewConst!$I$203,'Detailed Lighting'!BK23,Lighting!BO33)","v":1.590141807163626E-2},{"$f":"IF(NewConst!$F$203=NewConst!$I$203,'Detailed Lighting'!BL23,Lighting!BP33)","v":1.6855244219998174E-2},{"$f":"IF(NewConst!$F$203=NewConst!$I$203,'Detailed Lighting'!BM23,Lighting!BQ33)","v":1.88438065240553E-2},{"$f":"IF(NewConst!$F$203=NewConst!$I$203,'Detailed Lighting'!BN23,Lighting!BR33)","v":1.6783798971952479E-2},{"$f":"IF(NewConst!$F$203=NewConst!$I$203,'Detailed Lighting'!BO23,Lighting!BS33)","v":1.8838991839394189E-2},{"$f":"IF(NewConst!$F$203=NewConst!$I$203,'Detailed Lighting'!BP23,Lighting!BG33)","v":1.6725584413917419E-2},null,null,null,13,6.2038315470428054E-2,4.1666666666666664E-2,6.2038315470428054E-2,6.5880683664406567E-2,5.8823529411764705E-2,7.4766355140186924E-2,6.605762473647224E-2,4.1666666666666664E-2,0,5.8823529411764705E-2,0,7.1428571428571425E-2,7.1428571428571425E-2,7.4059405999999994E-2,7.4766355140186924E-2,0.1111111111111111,4.1666666666666664E-2,null,{"$f":"IF(AVERAGE('Sunrise Calc'!$G$2:$G$13)>'Hourly Profiles'!BA55, 1/12, \"0.000\")","v":"0.000"},4.3495145631067961E-2,{"$error":"#VALUE!"},{"$error":"#VALUE!"},0.80256099954209481,{"$f":"BX55*250*NewConst!$F$250","v":2006.4024988552369},{"$f":"BX55*200*NewConst!$F$250","v":1605.1219990841896},0.5,375,300,0,{"$f":"CD55*710*NewConst!$F$419","v":0},{"$f":"CD55*1090*NewConst!$F$419","v":0},0.5,{"$f":"$CG55*CH$7*NewConst!$E$413","v":40.425000000000004},{"$f":"$CG55*CI$7*NewConst!$E$413","v":25.575000000000003}]
[null,null,14,{"$f":"'Hourly Profiles'!D22","v":1.4638755684462032E-2},1.4999999999999999E-2,{"$f":"'Hourly Profiles'!F22","v":5.9813084000000002E-2},{"$f":"'Hourly Profiles'!G22","v":4.6075085000000002E-2},{"$f":"(F56*'Monthly Profiles'!V$40+G56*'Monthly Profiles'!T$40+I56*'Monthly Profiles'!W$40+J56*'Monthly Profiles'!X$40+K56*'Monthly Profiles'!Y$40)/'Monthly Profiles'!AA$40","v":3.9566789468033568E-2},{"$f":"'Hourly Profiles'!I22","v":2.3166023166023161E-2},{"$f":"'Hourly Profiles'!J22","v":2.915451895043732E-2},{"$f":"'Hourly Profiles'!K22","v":4.5325779036827191E-2},{"$f":"'Hourly Profiles'!L22","v":4.1749503E-2},{"$f":"'Hourly Profiles'!M22","v":6.7326733E-2},{"$f":"'Hourly Profiles'!N22","v":4.5968883000000002E-2},{"$f":"'Hourly Profiles'!O22","v":3.3000000000000002E-2},4.7555667001003013E-2,4.2957085828343317E-2,4.2864292864292865E-2,3.8000000000000006E-2,6.1395732881276255E-2,5.3480126833420245E-2,8.8937125748503015E-2,4.0943170488534394E-2,2.8447850835910546E-2,1.3908110423852121E-2,1.3908110423852121E-2,9.0231610337972168E-2,9.023161033797214E-2,3.1500000000000007E-2,2.3696682464454978E-2,{"$f":"((L56*NewConst!F$238+O56*NewConst!$F$155/365+N56*NewConst!F$328+G56*NewConst!F$298+M56*NewConst!F$279+F56*NewConst!F$264)*3412+(M56*NewConst!F$280+N56*NewConst!F$332)*100000)/((NewConst!F$238+NewConst!$F$155/365+NewConst!F$328+NewConst!F$298+NewConst!F$279+NewConst!F$264)*3412+(NewConst!F$280+NewConst!F$332)*100000)","v":5.3839090666916105E-2},3.751822728926632E-2,3.822229006331504E-2,0.24188778382435727,{"$f":"$AH56*NewConst!$E$400*N_occ","v":140.4884248451867},{"$f":"$AH56*NewConst!$E$401*N_occ","v":104.72773488459373},{"$f":"IF(NewConst!$F$203=NewConst!$I$203,'Detailed Lighting'!BD24,Lighting!BH34)","v":1.876330294789583E-2},{"$f":"IF(NewConst!$F$203=NewConst!$I$203,'Detailed Lighting'!BE24,Lighting!BI34)","v":1.6376895372817564E-2},{"$f":"IF(NewConst!$F$203=NewConst!$I$203,'Detailed Lighting'!BF24,Lighting!BJ34)","v":1.3169544780238384E-2},{"$f":"IF(NewConst!$F$203=NewConst!$I$203,'Detailed Lighting'!BG24,Lighting!BK34)","v":1.5855410967785054E-2},{"$f":"IF(NewConst!$F$203=NewConst!$I$203,'Detailed Lighting'!BH24,Lighting!BL34)","v":1.5011146584358528E-2},{"$f":"IF(NewConst!$F$203=NewConst!$I$203,'Detailed Lighting'!BI24,Lighting!BM34)","v":1.5415130109337233E-2},{"$f":"IF(NewConst!$F$203=NewConst!$I$203,'Detailed Lighting'!BJ24,Lighting!BN34)","v":1.5685260828250301E-2},{"$f":"IF(NewConst!$F$203=NewConst!$I$203,'Detailed Lighting'!BK24,Lighting!BO34)","v":1.5902978936481186E-2},{"$f":"IF(NewConst!$F$203=NewConst!$I$203,'Detailed Lighting'!BL24,Lighting!BP34)","v":1.6859119266201948E-2},{"$f":"IF(NewConst!$F$203=NewConst!$I$203,'Detailed Lighting'!BM24,Lighting!BQ34)","v":1.8856086658154657E-2},{"$f":"IF(NewConst!$F$203=NewConst!$I$203,'Detailed Lighting'!BN24,Lighting!BR34)","v":1.7046461596662274E-2},{"$f":"IF(NewConst!$F$203=NewConst!$I$203,'Detailed Lighting'!BO24,Lighting!BS34)","v":1.9070768335975468E-2},{"$f":"IF(NewConst!$F$203=NewConst!$I$203,'Detailed Lighting'!BP24,Lighting!BG34)","v":1.6802081413190215E-2},null,null,null,14,6.400533776022907E-2,4.1666666666666664E-2,6.400533776022907E-2,6.3278620375212896E-2,0.11764705882352941,8.411214953271029E-2,7.0274068868587489E-2,4.1666666666666664E-2,6.8965517241379309E-2,5.8823529411764705E-2,4.7619047619047616E-2,7.1428571428571425E-2,7.1428571428571425E-2,6.7326733E-2,8.411214953271029E-2,0.1111111111111111,4.1666666666666664E-2,null,{"$f":"IF(AVERAGE('Sunrise Calc'!$F$2:$F$13)<'Hourly Profiles'!BA56, 1/12, \"0.000 \")","v":"0.000 "},4.1941747572815533E-2,{"$error":"#VALUE!"},{"$error":"#VALUE!"},0.82800745731667413,{"$f":"BX56*250*NewConst!$F$250","v":2070.0186432916853},{"$f":"BX56*200*NewConst!$F$250","v":1656.0149146333483},1,750,600,1,{"$f":"CD56*710*NewConst!$F$419","v":2130},{"$f":"CD56*1090*NewConst!$F$419","v":3270},0.5,{"$f":"$CG56*CH$7*NewConst!$E$413","v":40.425000000000004},{"$f":"$CG56*CI$7*NewConst!$E$413","v":25.575000000000003}]
[null,null,15,{"$f":"'Hourly Profiles'!D24","v":1.4638755684462032E-2},2.5999999999999999E-2,{"$f":"'Hourly Profiles'!F24","v":5.2336449E-2},{"$f":"'Hourly Profiles'!G24","v":3.7542661999999997E-2},{"$f":"(F57*'Monthly Profiles'!V$40+G57*'Monthly Profiles'!T$40+I57*'Monthly Profiles'!W$40+J57*'Monthly Profiles'!X$40+K57*'Monthly Profiles'!Y$40)/'Monthly Profiles'!AA$40","v":3.5249839276602302E-2},{"$f":"'Hourly Profiles'!I24","v":2.3166023166023161E-2},{"$f":"'Hourly Profiles'!J24","v":2.5267249757045678E-2},{"$f":"'Hourly Profiles'!K24","v":4.1359773371104809E-2},{"$f":"'Hourly Profiles'!L24","v":4.1181482999999998E-2},{"$f":"'Hourly Profiles'!M24","v":6.0594058999999999E-2},{"$f":"'Hourly Profiles'!N24","v":4.3847242000000002E-2},{"$f":"'Hourly Profiles'!O24","v":3.5000000000000003E-2},4.6055667001003012E-2,4.3956087824351307E-2,4.3364793364793375E-2,4.8500000000000008E-2,5.0413693982986112E-2,7.5428722135308962E-2,7.5441117764471072E-2,4.3438683948155525E-2,2.4443846831906538E-2,2.3844026210167003E-2,2.3844026210167006E-2,7.4788270377733612E-2,7.4788270377733584E-2,3.2000000000000001E-2,2.3696682464454978E-2,{"$f":"((L57*NewConst!F$238+O57*NewConst!$F$155/365+N57*NewConst!F$328+G57*NewConst!F$298+M57*NewConst!F$279+F57*NewConst!F$264)*3412+(M57*NewConst!F$280+N57*NewConst!F$332)*100000)/((NewConst!F$238+NewConst!$F$155/365+NewConst!F$328+NewConst!F$298+NewConst!F$279+NewConst!F$264)*3412+(NewConst!F$280+NewConst!F$332)*100000)","v":4.9915587319307349E-2},3.737102306002895E-2,3.5848617930163397E-2,0.24188778382435727,{"$f":"$AH57*NewConst!$E$400*N_occ","v":140.4884248451867},{"$f":"$AH57*NewConst!$E$401*N_occ","v":104.72773488459373},{"$f":"IF(NewConst!$F$203=NewConst!$I$203,'Detailed Lighting'!BD25,Lighting!BH35)","v":1.9640071385896515E-2},{"$f":"IF(NewConst!$F$203=NewConst!$I$203,'Detailed Lighting'!BE25,Lighting!BI35)","v":1.6832198192493583E-2},{"$f":"IF(NewConst!$F$203=NewConst!$I$203,'Detailed Lighting'!BF25,Lighting!BJ35)","v":1.3437636443270166E-2},{"$f":"IF(NewConst!$F$203=NewConst!$I$203,'Detailed Lighting'!BG25,Lighting!BK35)","v":1.5875498871840314E-2},{"$f":"IF(NewConst!$F$203=NewConst!$I$203,'Detailed Lighting'!BH25,Lighting!BL35)","v":1.5026624733937814E-2},{"$f":"IF(NewConst!$F$203=NewConst!$I$203,'Detailed Lighting'!BI25,Lighting!BM35)","v":1.5431392676517977E-2},{"$f":"IF(NewConst!$F$203=NewConst!$I$203,'Detailed Lighting'!BJ25,Lighting!BN35)","v":1.5701525219736771E-2},{"$f":"IF(NewConst!$F$203=NewConst!$I$203,'Detailed Lighting'!BK25,Lighting!BO35)","v":1.592165715234448E-2},{"$f":"IF(NewConst!$F$203=NewConst!$I$203,'Detailed Lighting'!BL25,Lighting!BP35)","v":1.690437197247617E-2},{"$f":"IF(NewConst!$F$203=NewConst!$I$203,'Detailed Lighting'!BM25,Lighting!BQ35)","v":1.8988016617825728E-2},{"$f":"IF(NewConst!$F$203=NewConst!$I$203,'Detailed Lighting'!BN25,Lighting!BR35)","v":1.8815534380760959E-2},{"$f":"IF(NewConst!$F$203=NewConst!$I$203,'Detailed Lighting'!BO25,Lighting!BS35)","v":2.0786475646983254E-2},{"$f":"IF(NewConst!$F$203=NewConst!$I$203,'Detailed Lighting'!BP25,Lighting!BG35)","v":1.7387205190656962E-2},null,null,null,15,6.0621199797634362E-2,4.1666666666666664E-2,6.0621199797634362E-2,6.5284968481251204E-2,0.11764705882352941,8.411214953271029E-2,7.0274068868587489E-2,4.1666666666666664E-2,6.8965517241379309E-2,5.8823529411764705E-2,4.7619047619047616E-2,0.14285714285714285,7.1428571428571425E-2,6.0594058999999999E-2,8.411214953271029E-2,0.1111111111111111,4.1666666666666664E-2,null,{"$f":"IF(AVERAGE('Sunrise Calc'!$F$2:$F$13)<'Hourly Profiles'!BA57, 1/12, \"0.000 \")","v":"0.000 "},4.1165048543689318E-2,{"$error":"#VALUE!"},{"$error":"#VALUE!"},0.78422842938444437,{"$f":"BX57*250*NewConst!$F$250","v":1960.5710734611107},{"$f":"BX57*200*NewConst!$F$250","v":1568.4568587688887},1,750,600,1,{"$f":"CD57*710*NewConst!$F$419","v":2130},{"$f":"CD57*1090*NewConst!$F$419","v":3270},1,{"$f":"$CG57*CH$7*NewConst!$E$413","v":80.850000000000009},{"$f":"$CG57*CI$7*NewConst!$E$413","v":51.150000000000006}]
[null,null,16,{"$f":"'Hourly Profiles'!D23","v":1.4638755684462032E-2},1.4999999999999999E-2,{"$f":"'Hourly Profiles'!F23","v":4.8598131000000003E-2},{"$f":"'Hourly Profiles'!G23","v":3.5836176999999997E-2},{"$f":"(F58*'Monthly Profiles'!V$40+G58*'Monthly Profiles'!T$40+I58*'Monthly Profiles'!W$40+J58*'Monthly Profiles'!X$40+K58*'Monthly Profiles'!Y$40)/'Monthly Profiles'!AA$40","v":3.5510479022441047E-2},{"$f":"'Hourly Profiles'!I23","v":2.3166023166023161E-2},{"$f":"'Hourly Profiles'!J23","v":2.623906705539359E-2},{"$f":"'Hourly Profiles'!K23","v":4.305949008498583E-2},{"$f":"'Hourly Profiles'!L23","v":4.1749503E-2},{"$f":"'Hourly Profiles'!M23","v":5.7425743000000001E-2},{"$f":"'Hourly Profiles'!N23","v":5.6577085999999999E-2},{"$f":"'Hourly Profiles'!O23","v":3.6999999999999998E-2},4.3554162487462383E-2,4.4955089820359284E-2,4.3865293865293864E-2,5.9000000000000004E-2,3.9431655084695962E-2,9.7877817937698189E-2,6.1446107784431138E-2,4.5435692921236288E-2,2.4443846831906538E-2,5.7607680629233542E-2,5.7607680629233542E-2,6.1321073558648131E-2,6.1321073558648097E-2,3.3000000000000002E-2,2.3696682464454978E-2,{"$f":"((L58*NewConst!F$238+O58*NewConst!$F$155/365+N58*NewConst!F$328+G58*NewConst!F$298+M58*NewConst!F$279+F58*NewConst!F$264)*3412+(M58*NewConst!F$280+N58*NewConst!F$332)*100000)/((NewConst!F$238+NewConst!$F$155/365+NewConst!F$328+NewConst!F$298+NewConst!F$279+NewConst!F$264)*3412+(NewConst!F$280+NewConst!F$332)*100000)","v":5.2481845707249938E-2},3.9260650525529746E-2,4.1765109732671217E-2,0.24188778382435727,{"$f":"$AH58*NewConst!$E$400*N_occ","v":140.4884248451867},{"$f":"$AH58*NewConst!$E$401*N_occ","v":104.72773488459373},{"$f":"IF(NewConst!$F$203=NewConst!$I$203,'Detailed Lighting'!BD26,Lighting!BH36)","v":2.4591169112131557E-2},{"$f":"IF(NewConst!$F$203=NewConst!$I$203,'Detailed Lighting'!BE26,Lighting!BI36)","v":1.9673333443736112E-2},{"$f":"IF(NewConst!$F$203=NewConst!$I$203,'Detailed Lighting'!BF26,Lighting!BJ36)","v":1.5208891057091367E-2},{"$f":"IF(NewConst!$F$203=NewConst!$I$203,'Detailed Lighting'!BG26,Lighting!BK36)","v":1.6066872193603088E-2},{"$f":"IF(NewConst!$F$203=NewConst!$I$203,'Detailed Lighting'!BH26,Lighting!BL36)","v":1.5167384936649191E-2},{"$f":"IF(NewConst!$F$203=NewConst!$I$203,'Detailed Lighting'!BI26,Lighting!BM36)","v":1.5564945568781758E-2},{"$f":"IF(NewConst!$F$203=NewConst!$I$203,'Detailed Lighting'!BJ26,Lighting!BN36)","v":1.5834768506862263E-2},{"$f":"IF(NewConst!$F$203=NewConst!$I$203,'Detailed Lighting'!BK26,Lighting!BO36)","v":1.6085651096903367E-2},{"$f":"IF(NewConst!$F$203=NewConst!$I$203,'Detailed Lighting'!BL26,Lighting!BP36)","v":1.7280080494772525E-2},{"$f":"IF(NewConst!$F$203=NewConst!$I$203,'Detailed Lighting'!BM26,Lighting!BQ36)","v":1.9962902670983006E-2},{"$f":"IF(NewConst!$F$203=NewConst!$I$203,'Detailed Lighting'!BN26,Lighting!BR36)","v":2.671294475571798E-2},{"$f":"IF(NewConst!$F$203=NewConst!$I$203,'Detailed Lighting'!BO26,Lighting!BS36)","v":2.8891383441698427E-2},{"$f":"IF(NewConst!$F$203=NewConst!$I$203,'Detailed Lighting'!BP26,Lighting!BG36)","v":2.0369704214756798E-2},null,null,null,16,5.7237061835039633E-2,4.1666666666666664E-2,5.7237061835039633E-2,6.1833172928638991E-2,0.11764705882352941,8.411214953271029E-2,7.0274068868587489E-2,4.1666666666666664E-2,6.8965517241379309E-2,5.8823529411764705E-2,4.7619047619047616E-2,7.1428571428571425E-2,0.14285714285714285,5.7425743000000001E-2,8.411214953271029E-2,0.1111111111111111,4.1666666666666664E-2,null,{"$f":"IF(AVERAGE('Sunrise Calc'!$F$2:$F$13)<'Hourly Profiles'!BA58, 1/12, \"0.000 \")","v":"0.000 "},4.3106796116504857E-2,{"$error":"#VALUE!"},{"$error":"#VALUE!"},0.74044940145221416,{"$f":"BX58*250*NewConst!$F$250","v":1851.1235036305354},{"$f":"BX58*200*NewConst!$F$250","v":1480.8988029044283},1,750,600,1,{"$f":"CD58*710*NewConst!$F$419","v":2130},{"$f":"CD58*1090*NewConst!$F$419","v":3270},0.5,{"$f":"$CG58*CH$7*NewConst!$E$413","v":40.425000000000004},{"$f":"$CG58*CI$7*NewConst!$E$413","v":25.575000000000003}]
[null,null,17,{"$f":"'Hourly Profiles'!D25","v":1.7852054658416792E-2},5.6000000000000001E-2,{"$f":"'Hourly Profiles'!F25","v":5.0467289999999998E-2},{"$f":"'Hourly Profiles'!G25","v":3.7542661999999997E-2},{"$f":"(F59*'Monthly Profiles'!V$40+G59*'Monthly Profiles'!T$40+I59*'Monthly Profiles'!W$40+J59*'Monthly Profiles'!X$40+K59*'Monthly Profiles'!Y$40)/'Monthly Profiles'!AA$40","v":4.0466556597317051E-2},{"$f":"'Hourly Profiles'!I25","v":3.8610038610038609E-2},{"$f":"'Hourly Profiles'!J25","v":3.0126336248785232E-2},{"$f":"'Hourly Profiles'!K25","v":4.8158640226628885E-2},{"$f":"'Hourly Profiles'!L25","v":4.4021585000000002E-2},{"$f":"'Hourly Profiles'!M25","v":5.5445544999999999E-2},{"$f":"'Hourly Profiles'!N25","v":9.1937765000000005E-2},{"$f":"'Hourly Profiles'!O25","v":4.3999999999999997E-2},4.6569207622868605E-2,4.5954091816367268E-2,4.3360324610324609E-2,0.11000000000000001,5.5383798653988084E-2,6.6442190693687703E-2,6.0945109780439127E-2,5.0429710867397809E-2,2.4443846831906538E-2,0.12621293095449151,0.12621293095449151,3.6889662027833017E-2,3.6889662027832996E-2,4.4999999999999998E-2,2.3696682464454978E-2,{"$f":"((L59*NewConst!F$238+O59*NewConst!$F$155/365+N59*NewConst!F$328+G59*NewConst!F$298+M59*NewConst!F$279+F59*NewConst!F$264)*3412+(M59*NewConst!F$280+N59*NewConst!F$332)*100000)/((NewConst!F$238+NewConst!$F$155/365+NewConst!F$328+NewConst!F$298+NewConst!F$279+NewConst!F$264)*3412+(NewConst!F$280+NewConst!F$332)*100000)","v":6.3009861879730511E-2},4.6531292738400849E-2,5.9041276763101537E-2,0.29498367423531618,{"$f":"$AH59*NewConst!$E$400*N_occ","v":171.32651799587165},{"$f":"$AH59*NewConst!$E$401*N_occ","v":127.71613159692249},{"$f":"IF(NewConst!$F$203=NewConst!$I$203,'Detailed Lighting'!BD27,Lighting!BH37)","v":4.1885450185072212E-2},{"$f":"IF(NewConst!$F$203=NewConst!$I$203,'Detailed Lighting'!BE27,Lighting!BI37)","v":3.113326913158591E-2},{"$f":"IF(NewConst!$F$203=NewConst!$I$203,'Detailed Lighting'!BF27,Lighting!BJ37)","v":2.3071798144044975E-2},{"$f":"IF(NewConst!$F$203=NewConst!$I$203,'Detailed Lighting'!BG27,Lighting!BK37)","v":1.7345029995198602E-2},{"$f":"IF(NewConst!$F$203=NewConst!$I$203,'Detailed Lighting'!BH27,Lighting!BL37)","v":1.609296385157508E-2},{"$f":"IF(NewConst!$F$203=NewConst!$I$203,'Detailed Lighting'!BI27,Lighting!BM37)","v":1.6381125018333748E-2},{"$f":"IF(NewConst!$F$203=NewConst!$I$203,'Detailed Lighting'!BJ27,Lighting!BN37)","v":1.6647049089736368E-2},{"$f":"IF(NewConst!$F$203=NewConst!$I$203,'Detailed Lighting'!BK27,Lighting!BO37)","v":1.7126205674404437E-2},{"$f":"IF(NewConst!$F$203=NewConst!$I$203,'Detailed Lighting'!BL27,Lighting!BP37)","v":1.9461503632001272E-2},{"$f":"IF(NewConst!$F$203=NewConst!$I$203,'Detailed Lighting'!BM27,Lighting!BQ37)","v":2.481986223720406E-2},{"$f":"IF(NewConst!$F$203=NewConst!$I$203,'Detailed Lighting'!BN27,Lighting!BR37)","v":4.9065252325709248E-2},{"$f":"IF(NewConst!$F$203=NewConst!$I$203,'Detailed Lighting'!BO27,Lighting!BS37)","v":5.2284144378683797E-2},{"$f":"IF(NewConst!$F$203=NewConst!$I$203,'Detailed Lighting'!BP27,Lighting!BG37)","v":3.0256497911281623E-2},null,null,null,17,6.4880131734870672E-2,4.1666666666666664E-2,6.4880131734870672E-2,5.8381377376026757E-2,0.11764705882352941,8.411214953271029E-2,7.0274068868587489E-2,4.1666666666666664E-2,6.8965517241379309E-2,5.8823529411764705E-2,9.5238095238095233E-2,7.1428571428571425E-2,7.1428571428571425E-2,5.5445544999999999E-2,8.411214953271029E-2,0.1111111111111111,4.1666666666666664E-2,null,{"$f":"IF(AVERAGE('Sunrise Calc'!$F$2:$F$13)<'Hourly Profiles'!BA59, 1/12, \"0.000 \")","v":"0.000 "},5.0873786407766991E-2,{"$error":"#VALUE!"},{"$error":"#VALUE!"},0.83932426244521485,{"$f":"BX59*250*NewConst!$F$250","v":2098.3106561130371},{"$f":"BX59*200*NewConst!$F$250","v":1678.6485248904296},1,750,600,1,{"$f":"CD59*710*NewConst!$F$419","v":2130},{"$f":"CD59*1090*NewConst!$F$419","v":3270},0.5,{"$f":"$CG59*CH$7*NewConst!$E$413","v":40.425000000000004},{"$f":"$CG59*CI$7*NewConst!$E$413","v":25.575000000000003}]
[null,null,18,{"$f":"'Hourly Profiles'!D26","v":3.3472693336531821E-2},7.8E-2,{"$f":"'Hourly Profiles'!F26","v":4.8598131000000003E-2},{"$f":"'Hourly Profiles'!G26","v":4.9488055000000003E-2},{"$f":"(F60*'Monthly Profiles'!V$40+G60*'Monthly Profiles'!T$40+I60*'Monthly Profiles'!W$40+J60*'Monthly Profiles'!X$40+K60*'Monthly Profiles'!Y$40)/'Monthly Profiles'!AA$40","v":5.0303785813595792E-2},{"$f":"'Hourly Profiles'!I26","v":4.6332046332046323E-2},{"$f":"'Hourly Profiles'!J26","v":3.8872691933916431E-2},{"$f":"'Hourly Profiles'!K26","v":6.5155807365439078E-2},{"$f":"'Hourly Profiles'!L26","v":4.8281737999999998E-2},{"$f":"'Hourly Profiles'!M26","v":5.4257425999999997E-2},{"$f":"'Hourly Profiles'!N26","v":0.149929279},{"$f":"'Hourly Profiles'!O26","v":5.2999999999999999E-2},5.0084252758274828E-2,4.6953093812375252E-2,4.3355855855855864E-2,0.16100000000000003,7.1335942223280213E-2,3.6006065946185703E-2,5.9445109780439119E-2,5.4925224327018934E-2,2.4443846831906538E-2,{"$f":"Y26","v":0.12172298878032697},0.12172298878032697,2.3449304174950301E-2,2.3449304174950295E-2,5.7000000000000002E-2,2.3696682464454978E-2,{"$f":"((L60*NewConst!F$238+O60*NewConst!$F$155/365+N60*NewConst!F$328+G60*NewConst!F$298+M60*NewConst!F$279+F60*NewConst!F$264)*3412+(M60*NewConst!F$280+N60*NewConst!F$332)*100000)/((NewConst!F$238+NewConst!$F$155/365+NewConst!F$328+NewConst!F$298+NewConst!F$279+NewConst!F$264)*3412+(NewConst!F$280+NewConst!F$332)*100000)","v":8.1397226810650231E-2},5.7470744836345233E-2,8.8625192447721171E-2,0.55309589041095886,{"$f":"$AH60*NewConst!$E$400*N_occ","v":321.2380931506849},{"$f":"$AH60*NewConst!$E$401*N_occ","v":239.46839671232877},{"$f":"IF(NewConst!$F$203=NewConst!$I$203,'Detailed Lighting'!BD28,Lighting!BH38)","v":7.762566664481528E-2},{"$f":"IF(NewConst!$F$203=NewConst!$I$203,'Detailed Lighting'!BE28,Lighting!BI38)","v":6.0193624032716879E-2},{"$f":"IF(NewConst!$F$203=NewConst!$I$203,'Detailed Lighting'!BF28,Lighting!BJ38)","v":4.6086115793757376E-2},{"$f":"IF(NewConst!$F$203=NewConst!$I$203,'Detailed Lighting'!BG28,Lighting!BK38)","v":2.3284326694436915E-2},{"$f":"IF(NewConst!$F$203=NewConst!$I$203,'Detailed Lighting'!BH28,Lighting!BL38)","v":2.0466842805204843E-2},{"$f":"IF(NewConst!$F$203=NewConst!$I$203,'Detailed Lighting'!BI28,Lighting!BM38)","v":2.0073298596170158E-2},{"$f":"IF(NewConst!$F$203=NewConst!$I$203,'Detailed Lighting'!BJ28,Lighting!BN38)","v":2.0312325251772619E-2},{"$f":"IF(NewConst!$F$203=NewConst!$I$203,'Detailed Lighting'!BK28,Lighting!BO38)","v":2.1866862575866203E-2},{"$f":"IF(NewConst!$F$203=NewConst!$I$203,'Detailed Lighting'!BL28,Lighting!BP38)","v":2.8235005368752505E-2},{"$f":"IF(NewConst!$F$203=NewConst!$I$203,'Detailed Lighting'!BM28,Lighting!BQ38)","v":4.0883932693467198E-2},{"$f":"IF(NewConst!$F$203=NewConst!$I$203,'Detailed Lighting'!BN28,Lighting!BR38)","v":8.7031058919219167E-2},{"$f":"IF(NewConst!$F$203=NewConst!$I$203,'Detailed Lighting'!BO28,Lighting!BS38)","v":9.0953763485702888E-2},{"$f":"IF(NewConst!$F$203=NewConst!$I$203,'Detailed Lighting'!BP28,Lighting!BG38)","v":5.1372480997497284E-2},null,null,null,18,7.7300436360381738E-2,4.1666666666666664E-2,7.7300436360381738E-2,6.6177251829180855E-2,0,1.6822429906542057E-2,3.5137034434293744E-2,4.1666666666666664E-2,6.8965517241379309E-2,5.8823529411764705E-2,4.7619047619047616E-2,7.1428571428571425E-2,7.1428571428571425E-2,5.4257425999999997E-2,1.6822429906542057E-2,0,4.1666666666666664E-2,null,{"$f":"IF(AVERAGE('Sunrise Calc'!$F$2:$F$13)<'Hourly Profiles'!BA60, 1/12, \"0.000 \")","v":"0.000 "},6.3300970873786402E-2,{"$error":"#VALUE!"},{"$error":"#VALUE!"},1,{"$f":"BX60*250*NewConst!$F$250","v":2500},{"$f":"BX60*200*NewConst!$F$250","v":2000},0,0,0,1,{"$f":"CD60*710*NewConst!$F$419","v":2130},{"$f":"CD60*1090*NewConst!$F$419","v":3270},0.5,{"$f":"$CG60*CH$7*NewConst!$E$413","v":40.425000000000004},{"$f":"$CG60*CI$7*NewConst!$E$413","v":25.575000000000003}]
[null,null,19,{"$f":"'Hourly Profiles'!D27","v":5.4281208363947835E-2},0.105,{"$f":"'Hourly Profiles'!F27","v":4.8598131000000003E-2},{"$f":"'Hourly Profiles'!G27","v":8.7030716999999994E-2},{"$f":"(F61*'Monthly Profiles'!V$40+G61*'Monthly Profiles'!T$40+I61*'Monthly Profiles'!W$40+J61*'Monthly Profiles'!X$40+K61*'Monthly Profiles'!Y$40)/'Monthly Profiles'!AA$40","v":5.9229244887856788E-2},{"$f":"'Hourly Profiles'!I27","v":7.7220077220077218E-2},{"$f":"'Hourly Profiles'!J27","v":4.2274052478134115E-2},{"$f":"'Hourly Profiles'!K27","v":7.4787535410764869E-2},{"$f":"'Hourly Profiles'!L27","v":4.9701789000000003E-2},{"$f":"'Hourly Profiles'!M27","v":5.1485149000000001E-2},{"$f":"'Hourly Profiles'!N27","v":0.11669024},{"$f":"'Hourly Profiles'!O27","v":5.8000000000000003E-2},5.1582748244734203E-2,4.5954091816367268E-2,4.2855355355355354E-2,0.115,8.9307004062736867E-2,3.6006065946185703E-2,4.7446107784431132E-2,6.9895314057826508E-2,2.4443846831906538E-2,6.8045056374760382E-2,6.8045056374760382E-2,1.3476143141153085E-2,1.347614314115308E-2,6.6000000000000003E-2,5.6872037914691947E-2,{"$f":"((L61*NewConst!F$238+O61*NewConst!$F$155/365+N61*NewConst!F$328+G61*NewConst!F$298+M61*NewConst!F$279+F61*NewConst!F$264)*3412+(M61*NewConst!F$280+N61*NewConst!F$332)*100000)/((NewConst!F$238+NewConst!$F$155/365+NewConst!F$328+NewConst!F$298+NewConst!F$279+NewConst!F$264)*3412+(NewConst!F$280+NewConst!F$332)*100000)","v":7.17794980450943E-2},6.0270400795659818E-2,7.8701110515087352E-2,0.89693150684931511,{"$f":"$AH61*NewConst!$E$400*N_occ","v":520.93781917808224},{"$f":"$AH61*NewConst!$E$401*N_occ","v":388.33546520547952},{"$f":"IF(NewConst!$F$203=NewConst!$I$203,'Detailed Lighting'!BD29,Lighting!BH39)","v":0.1157944395695156},{"$f":"IF(NewConst!$F$203=NewConst!$I$203,'Detailed Lighting'!BE29,Lighting!BI39)","v":0.10341524109618247},{"$f":"IF(NewConst!$F$203=NewConst!$I$203,'Detailed Lighting'!BF29,Lighting!BJ39)","v":8.8695204464781102E-2},{"$f":"IF(NewConst!$F$203=NewConst!$I$203,'Detailed Lighting'!BG29,Lighting!BK39)","v":4.2221698596689221E-2},{"$f":"IF(NewConst!$F$203=NewConst!$I$203,'Detailed Lighting'!BH29,Lighting!BL39)","v":3.5164694113811089E-2},{"$f":"IF(NewConst!$F$203=NewConst!$I$203,'Detailed Lighting'!BI29,Lighting!BM39)","v":3.2328026949494729E-2},{"$f":"IF(NewConst!$F$203=NewConst!$I$203,'Detailed Lighting'!BJ29,Lighting!BN39)","v":3.244596096533979E-2},{"$f":"IF(NewConst!$F$203=NewConst!$I$203,'Detailed Lighting'!BK29,Lighting!BO39)","v":3.7201010723610456E-2},{"$f":"IF(NewConst!$F$203=NewConst!$I$203,'Detailed Lighting'!BL29,Lighting!BP39)","v":5.2244032531885823E-2},{"$f":"IF(NewConst!$F$203=NewConst!$I$203,'Detailed Lighting'!BM29,Lighting!BQ39)","v":7.5028670101379286E-2},{"$f":"IF(NewConst!$F$203=NewConst!$I$203,'Detailed Lighting'!BN29,Lighting!BR39)","v":0.11922643714261331},{"$f":"IF(NewConst!$F$203=NewConst!$I$203,'Detailed Lighting'!BO29,Lighting!BS39)","v":0.11973068272674137},{"$f":"IF(NewConst!$F$203=NewConst!$I$203,'Detailed Lighting'!BP29,Lighting!BG39)","v":7.9971913622316398E-2},null,null,null,19,7.4966809659242462E-2,4.1666666666666664E-2,7.4966809659242462E-2,7.884587017225711E-2,0,1.6822429906542057E-2,2.3190442726633873E-2,4.1666666666666664E-2,6.8965517241379309E-2,5.8823529411764705E-2,4.7619047619047616E-2,0,0,5.1485149000000001E-2,1.6822429906542057E-2,0,4.1666666666666664E-2,null,{"$f":"IF(AVERAGE('Sunrise Calc'!$F$2:$F$13)<'Hourly Profiles'!BA61, 1/12, \"0.000 \")","v":8.3333333333333329E-2},6.3300970873786402E-2,{"$error":"#VALUE!"},{"$error":"#VALUE!"},0.96981095048080068,{"$f":"BX61*250*NewConst!$F$250","v":2424.5273762020015},{"$f":"BX61*200*NewConst!$F$250","v":1939.6219009616013},0,0,0,1,{"$f":"CD61*710*NewConst!$F$419","v":2130},{"$f":"CD61*1090*NewConst!$F$419","v":3270},0,{"$f":"$CG61*CH$7*NewConst!$E$413","v":0},{"$f":"$CG61*CI$7*NewConst!$E$413","v":0}]
[null,null,20,{"$f":"'Hourly Profiles'!D28","v":5.4281208363947835E-2},0.126,{"$f":"'Hourly Profiles'!F28","v":4.8598131000000003E-2},{"$f":"'Hourly Profiles'!G28","v":0.11092150200000001},{"$f":"(F62*'Monthly Profiles'!V$40+G62*'Monthly Profiles'!T$40+I62*'Monthly Profiles'!W$40+J62*'Monthly Profiles'!X$40+K62*'Monthly Profiles'!Y$40)/'Monthly Profiles'!AA$40","v":6.050676179269876E-2},{"$f":"'Hourly Profiles'!I28","v":0.10038610038610038},{"$f":"'Hourly Profiles'!J28","v":4.2274052478134115E-2},{"$f":"'Hourly Profiles'!K28","v":6.9121813031161466E-2},{"$f":"'Hourly Profiles'!L28","v":4.8281737999999998E-2},{"$f":"'Hourly Profiles'!M28","v":5.0693069E-2},{"$f":"'Hourly Profiles'!N28","v":6.0113154000000002E-2},{"$f":"'Hourly Profiles'!O28","v":0.06},5.3079739217652959E-2,4.5454091816367267E-2,4.2354854854854851E-2,6.9500000000000006E-2,0.10727806590219352,3.6506566446686199E-2,3.5447105788423153E-2,8.5365403788634109E-2,3.4438916528468776E-2,6.1099144951541992E-2,6.1099144951541985E-2,7.9850894632206779E-3,7.9850894632206761E-3,7.5499999999999998E-2,5.6872037914691947E-2,{"$f":"((L62*NewConst!F$238+O62*NewConst!$F$155/365+N62*NewConst!F$328+G62*NewConst!F$298+M62*NewConst!F$279+F62*NewConst!F$264)*3412+(M62*NewConst!F$280+N62*NewConst!F$332)*100000)/((NewConst!F$238+NewConst!$F$155/365+NewConst!F$328+NewConst!F$298+NewConst!F$279+NewConst!F$264)*3412+(NewConst!F$280+NewConst!F$332)*100000)","v":5.4794629312715219E-2},5.8278712466900487E-2,5.6184045587482405E-2,0.89693150684931511,{"$f":"$AH62*NewConst!$E$400*N_occ","v":520.93781917808224},{"$f":"$AH62*NewConst!$E$401*N_occ","v":388.33546520547952},{"$f":"IF(NewConst!$F$203=NewConst!$I$203,'Detailed Lighting'!BD30,Lighting!BH40)","v":0.12251923909611673},{"$f":"IF(NewConst!$F$203=NewConst!$I$203,'Detailed Lighting'!BE30,Lighting!BI40)","v":0.1322295716408029},{"$f":"IF(NewConst!$F$203=NewConst!$I$203,'Detailed Lighting'!BF30,Lighting!BJ40)","v":0.13296665934794538},{"$f":"IF(NewConst!$F$203=NewConst!$I$203,'Detailed Lighting'!BG30,Lighting!BK40)","v":8.251340000084223E-2},{"$f":"IF(NewConst!$F$203=NewConst!$I$203,'Detailed Lighting'!BH30,Lighting!BL40)","v":6.9595425707041428E-2},{"$f":"IF(NewConst!$F$203=NewConst!$I$203,'Detailed Lighting'!BI30,Lighting!BM40)","v":6.1701206356899317E-2},{"$f":"IF(NewConst!$F$203=NewConst!$I$203,'Detailed Lighting'!BJ30,Lighting!BN40)","v":6.1447616824084186E-2},{"$f":"IF(NewConst!$F$203=NewConst!$I$203,'Detailed Lighting'!BK30,Lighting!BO40)","v":7.1668980273370417E-2},{"$f":"IF(NewConst!$F$203=NewConst!$I$203,'Detailed Lighting'!BL30,Lighting!BP40)","v":9.5266175226541183E-2},{"$f":"IF(NewConst!$F$203=NewConst!$I$203,'Detailed Lighting'!BM30,Lighting!BQ40)","v":0.11788418075629312},{"$f":"IF(NewConst!$F$203=NewConst!$I$203,'Detailed Lighting'!BN30,Lighting!BR40)","v":0.11876590936508105},{"$f":"IF(NewConst!$F$203=NewConst!$I$203,'Detailed Lighting'!BO30,Lighting!BS40)","v":0.11208719227278781},{"$f":"IF(NewConst!$F$203=NewConst!$I$203,'Detailed Lighting'!BP30,Lighting!BG40)","v":0.10393975481875536},null,null,null,20,7.0876010089964719E-2,4.1666666666666664E-2,7.0876010089964719E-2,7.6465588293242473E-2,0,1.6822429906542057E-2,2.3190442726633873E-2,4.1666666666666664E-2,6.8965517241379309E-2,5.8823529411764705E-2,9.5238095238095233E-2,0,0,5.0693069E-2,1.6822429906542057E-2,0,4.1666666666666664E-2,null,{"$f":"IF(AVERAGE('Sunrise Calc'!$F$2:$F$13)<'Hourly Profiles'!BA62, 1/12, \"0.000 \")","v":8.3333333333333329E-2},5.8640776699029125E-2,{"$error":"#VALUE!"},{"$error":"#VALUE!"},0.91689016811670054,{"$f":"BX62*250*NewConst!$F$250","v":2292.2254202917516},{"$f":"BX62*200*NewConst!$F$250","v":1833.7803362334012},0,0,0,1,{"$f":"CD62*710*NewConst!$F$419","v":2130},{"$f":"CD62*1090*NewConst!$F$419","v":3270},0,{"$f":"$CG62*CH$7*NewConst!$E$413","v":0},{"$f":"$CG62*CI$7*NewConst!$E$413","v":0}]
[null,null,21,{"$f":"'Hourly Profiles'!D29","v":5.4281208363947835E-2},0.128,{"$f":"'Hourly Profiles'!F29","v":4.8598131000000003E-2},{"$f":"'Hourly Profiles'!G29","v":9.0443685999999995E-2},{"$f":"(F63*'Monthly Profiles'!V$40+G63*'Monthly Profiles'!T$40+I63*'Monthly Profiles'!W$40+J63*'Monthly Profiles'!X$40+K63*'Monthly Profiles'!Y$40)/'Monthly Profiles'!AA$40","v":5.532322349267265E-2},{"$f":"'Hourly Profiles'!I29","v":0.10038610038610038},{"$f":"'Hourly Profiles'!J29","v":4.1788143828960157E-2},{"$f":"'Hourly Profiles'!K29","v":5.6657223796033988E-2},{"$f":"'Hourly Profiles'!L29","v":4.6861686999999999E-2},{"$f":"'Hourly Profiles'!M29","v":5.2277228000000002E-2},{"$f":"'Hourly Profiles'!N29","v":3.5360678999999999E-2},{"$f":"'Hourly Profiles'!O29","v":6.2E-2},4.9070712136409234E-2,4.4955089820359284E-2,4.1854354354354362E-2,4.3999999999999997E-2,7.2840419799542422E-2,3.1001060941180693E-2,3.89500998003992E-2,9.683998005982053E-2,4.0429982221027005E-2,5.1163229165227114E-2,5.1163229165227107E-2,3.991053677932406E-3,3.9910536779324043E-3,8.0999999999999989E-2,5.6872037914691947E-2,{"$f":"((L63*NewConst!F$238+O63*NewConst!$F$155/365+N63*NewConst!F$328+G63*NewConst!F$298+M63*NewConst!F$279+F63*NewConst!F$264)*3412+(M63*NewConst!F$280+N63*NewConst!F$332)*100000)/((NewConst!F$238+NewConst!$F$155/365+NewConst!F$328+NewConst!F$298+NewConst!F$279+NewConst!F$264)*3412+(NewConst!F$280+NewConst!F$332)*100000)","v":4.6971215791934383E-2},5.6829919484183949E-2,4.4775003613716308E-2,0.89693150684931511,{"$f":"$AH63*NewConst!$E$400*N_occ","v":520.93781917808224},{"$f":"$AH63*NewConst!$E$401*N_occ","v":388.33546520547952},{"$f":"IF(NewConst!$F$203=NewConst!$I$203,'Detailed Lighting'!BD31,Lighting!BH41)","v":0.10571329609521296},{"$f":"IF(NewConst!$F$203=NewConst!$I$203,'Detailed Lighting'!BE31,Lighting!BI41)","v":0.12274465897573474},{"$f":"IF(NewConst!$F$203=NewConst!$I$203,'Detailed Lighting'!BF31,Lighting!BJ41)","v":0.14281605108627382},{"$f":"IF(NewConst!$F$203=NewConst!$I$203,'Detailed Lighting'!BG31,Lighting!BK41)","v":0.13594269490706479},{"$f":"IF(NewConst!$F$203=NewConst!$I$203,'Detailed Lighting'!BH31,Lighting!BL41)","v":0.12343961026325907},{"$f":"IF(NewConst!$F$203=NewConst!$I$203,'Detailed Lighting'!BI31,Lighting!BM41)","v":0.11092550583600207},{"$f":"IF(NewConst!$F$203=NewConst!$I$203,'Detailed Lighting'!BJ31,Lighting!BN41)","v":0.10989434569554628},{"$f":"IF(NewConst!$F$203=NewConst!$I$203,'Detailed Lighting'!BK31,Lighting!BO41)","v":0.12299731154114305},{"$f":"IF(NewConst!$F$203=NewConst!$I$203,'Detailed Lighting'!BL31,Lighting!BP41)","v":0.14210195291561115},{"$f":"IF(NewConst!$F$203=NewConst!$I$203,'Detailed Lighting'!BM31,Lighting!BQ41)","v":0.12974232876140787},{"$f":"IF(NewConst!$F$203=NewConst!$I$203,'Detailed Lighting'!BN31,Lighting!BR41)","v":0.10991388039840605},{"$f":"IF(NewConst!$F$203=NewConst!$I$203,'Detailed Lighting'!BO31,Lighting!BS41)","v":0.10177039346090398},{"$f":"IF(NewConst!$F$203=NewConst!$I$203,'Detailed Lighting'!BP31,Lighting!BG41)","v":0.12026121861334653},null,null,null,21,5.212356237344247E-2,4.1666666666666664E-2,5.212356237344247E-2,7.2293003157548344E-2,0,1.6822429906542057E-2,2.3190442726633873E-2,4.1666666666666664E-2,6.8965517241379309E-2,5.8823529411764705E-2,9.5238095238095233E-2,0,0,5.2277228000000002E-2,1.6822429906542057E-2,0,4.1666666666666664E-2,null,{"$f":"IF(AVERAGE('Sunrise Calc'!$F$2:$F$13)<'Hourly Profiles'!BA63, 1/12, \"0.000 \")","v":8.3333333333333329E-2},5.6310679611650483E-2,{"$error":"#VALUE!"},{"$error":"#VALUE!"},0.67429842349708913,{"$f":"BX63*250*NewConst!$F$250","v":1685.7460587427229},{"$f":"BX63*200*NewConst!$F$250","v":1348.5968469941781},0,0,0,1,{"$f":"CD63*710*NewConst!$F$419","v":2130},{"$f":"CD63*1090*NewConst!$F$419","v":3270},0,{"$f":"$CG63*CH$7*NewConst!$E$413","v":0},{"$f":"$CG63*CI$7*NewConst!$E$413","v":0}]
[null,null,22,{"$f":"'Hourly Profiles'!D30","v":6.0518788725154128E-2},8.7999999999999995E-2,{"$f":"'Hourly Profiles'!F30","v":4.6728972000000001E-2},{"$f":"'Hourly Profiles'!G30","v":6.6552900999999998E-2},{"$f":"(F64*'Monthly Profiles'!V$40+G64*'Monthly Profiles'!T$40+I64*'Monthly Profiles'!W$40+J64*'Monthly Profiles'!X$40+K64*'Monthly Profiles'!Y$40)/'Monthly Profiles'!AA$40","v":4.8674780801168466E-2},{"$f":"'Hourly Profiles'!I30","v":7.7220077220077218E-2},{"$f":"'Hourly Profiles'!J30","v":4.0816326530612249E-2},{"$f":"'Hourly Profiles'!K30","v":4.8158640226628885E-2},{"$f":"'Hourly Profiles'!L30","v":4.6009656000000003E-2},{"$f":"'Hourly Profiles'!M30","v":5.4257425999999997E-2},{"$f":"'Hourly Profiles'!N30","v":2.4752474999999999E-2},{"$f":"'Hourly Profiles'!O30","v":0.06},4.5561685055165502E-2,4.4456087824351301E-2,4.1353853853853852E-2,1.9000000000000003E-2,3.7904269210350963E-2,2.5495555435675193E-2,4.1953093812375254E-2,0.1078160518444666,3.3422975214020004E-2,4.272231556046048E-2,4.2722315560460473E-2,2.991053677932406E-3,2.9910536779324043E-3,8.5500000000000007E-2,5.6872037914691947E-2,{"$f":"((L64*NewConst!F$238+O64*NewConst!$F$155/365+N64*NewConst!F$328+G64*NewConst!F$298+M64*NewConst!F$279+F64*NewConst!F$264)*3412+(M64*NewConst!F$280+N64*NewConst!F$332)*100000)/((NewConst!F$238+NewConst!$F$155/365+NewConst!F$328+NewConst!F$298+NewConst!F$279+NewConst!F$264)*3412+(NewConst!F$280+NewConst!F$332)*100000)","v":4.3559899339402429E-2},5.3680215720531714E-2,3.8523576524738437E-2,1,{"$f":"$AH64*NewConst!$E$400*N_occ","v":580.80000000000007},{"$f":"$AH64*NewConst!$E$401*N_occ","v":432.96000000000004},{"$f":"IF(NewConst!$F$203=NewConst!$I$203,'Detailed Lighting'!BD32,Lighting!BH42)","v":8.8984646798258862E-2},{"$f":"IF(NewConst!$F$203=NewConst!$I$203,'Detailed Lighting'!BE32,Lighting!BI42)","v":0.10155648168864986},{"$f":"IF(NewConst!$F$203=NewConst!$I$203,'Detailed Lighting'!BF32,Lighting!BJ42)","v":0.12021605921347911},{"$f":"IF(NewConst!$F$203=NewConst!$I$203,'Detailed Lighting'!BG32,Lighting!BK42)","v":0.14688136317862785},{"$f":"IF(NewConst!$F$203=NewConst!$I$203,'Detailed Lighting'!BH32,Lighting!BL42)","v":0.16138072365325679},{"$f":"IF(NewConst!$F$203=NewConst!$I$203,'Detailed Lighting'!BI32,Lighting!BM42)","v":0.16116338181338788},{"$f":"IF(NewConst!$F$203=NewConst!$I$203,'Detailed Lighting'!BJ32,Lighting!BN42)","v":0.15869021070326275},{"$f":"IF(NewConst!$F$203=NewConst!$I$203,'Detailed Lighting'!BK32,Lighting!BO42)","v":0.15754313487998561},{"$f":"IF(NewConst!$F$203=NewConst!$I$203,'Detailed Lighting'!BL32,Lighting!BP42)","v":0.13198049730510508},{"$f":"IF(NewConst!$F$203=NewConst!$I$203,'Detailed Lighting'!BM32,Lighting!BQ42)","v":0.1092111941076848},{"$f":"IF(NewConst!$F$203=NewConst!$I$203,'Detailed Lighting'!BN32,Lighting!BR42)","v":9.2520507701028251E-2},{"$f":"IF(NewConst!$F$203=NewConst!$I$203,'Detailed Lighting'!BO32,Lighting!BS42)","v":8.5665690609834838E-2},{"$f":"IF(NewConst!$F$203=NewConst!$I$203,'Detailed Lighting'!BP32,Lighting!BG42)","v":0.11886589949813355},null,null,null,22,4.5390682736244296E-2,4.1666666666666664E-2,4.5390682736244296E-2,5.316564595640913E-2,0,1.6822429906542057E-2,2.3190442726633873E-2,4.1666666666666664E-2,6.8965517241379309E-2,5.8823529411764705E-2,4.7619047619047616E-2,0,0,5.4257425999999997E-2,1.6822429906542057E-2,0,4.1666666666666664E-2,null,{"$f":"IF(AVERAGE('Sunrise Calc'!$F$2:$F$13)<'Hourly Profiles'!BA64, 1/12, \"0.000 \")","v":8.3333333333333329E-2},5.3592233009708737E-2,{"$error":"#VALUE!"},{"$error":"#VALUE!"},0.58719827304245431,{"$f":"BX64*250*NewConst!$F$250","v":1467.9956826061357},{"$f":"BX64*200*NewConst!$F$250","v":1174.3965460849086},0,0,0,1,{"$f":"CD64*710*NewConst!$F$419","v":2130},{"$f":"CD64*1090*NewConst!$F$419","v":3270},0,{"$f":"$CG64*CH$7*NewConst!$E$413","v":0},{"$f":"$CG64*CI$7*NewConst!$E$413","v":0}]
[null,null,23,{"$f":"'Hourly Profiles'!D31","v":6.0518788725154128E-2},4.9000000000000002E-2,{"$f":"'Hourly Profiles'!F31","v":3.1775701000000003E-2},{"$f":"'Hourly Profiles'!G31","v":4.4368601000000001E-2},{"$f":"(F65*'Monthly Profiles'!V$40+G65*'Monthly Profiles'!T$40+I65*'Monthly Profiles'!W$40+J65*'Monthly Profiles'!X$40+K65*'Monthly Profiles'!Y$40)/'Monthly Profiles'!AA$40","v":3.7107569643108351E-2},{"$f":"'Hourly Profiles'!I31","v":6.5637065637065631E-2},{"$f":"'Hourly Profiles'!J31","v":2.915451895043732E-2},{"$f":"'Hourly Profiles'!K31","v":3.9660056657223788E-2},{"$f":"'Hourly Profiles'!L31","v":4.4021585000000002E-2},{"$f":"'Hourly Profiles'!M31","v":4.3564355999999999E-2},{"$f":"'Hourly Profiles'!N31","v":1.5558699E-2},{"$f":"'Hourly Profiles'!O31","v":5.1999999999999998E-2},3.8043630892678038E-2,4.3457085828343324E-2,4.0853353353353355E-2,1.3000000000000001E-2,2.1943161524417752E-2,1.500002997008985E-2,3.3469061876247513E-2,8.8854935194416756E-2,3.3422975214020004E-2,2.3844026210167003E-2,2.3844026210167006E-2,2.991053677932406E-3,2.9910536779324043E-3,7.4999999999999997E-2,5.6872037914691947E-2,{"$f":"((L65*NewConst!F$238+O65*NewConst!$F$155/365+N65*NewConst!F$328+G65*NewConst!F$298+M65*NewConst!F$279+F65*NewConst!F$264)*3412+(M65*NewConst!F$280+N65*NewConst!F$332)*100000)/((NewConst!F$238+NewConst!$F$155/365+NewConst!F$328+NewConst!F$298+NewConst!F$279+NewConst!F$264)*3412+(NewConst!F$280+NewConst!F$332)*100000)","v":3.496169770804345E-2},4.5619357114352346E-2,2.8356558911375798E-2,1,{"$f":"$AH65*NewConst!$E$400*N_occ","v":580.80000000000007},{"$f":"$AH65*NewConst!$E$401*N_occ","v":432.96000000000004},{"$f":"IF(NewConst!$F$203=NewConst!$I$203,'Detailed Lighting'!BD33,Lighting!BH43)","v":6.6592813018866645E-2},{"$f":"IF(NewConst!$F$203=NewConst!$I$203,'Detailed Lighting'!BE33,Lighting!BI43)","v":7.6001108497725053E-2},{"$f":"IF(NewConst!$F$203=NewConst!$I$203,'Detailed Lighting'!BF33,Lighting!BJ43)","v":8.996524502949263E-2},{"$f":"IF(NewConst!$F$203=NewConst!$I$203,'Detailed Lighting'!BG33,Lighting!BK43)","v":0.10992057063828223},{"$f":"IF(NewConst!$F$203=NewConst!$I$203,'Detailed Lighting'!BH33,Lighting!BL43)","v":0.12625816590531089},{"$f":"IF(NewConst!$F$203=NewConst!$I$203,'Detailed Lighting'!BI33,Lighting!BM43)","v":0.13500098805547539},{"$f":"IF(NewConst!$F$203=NewConst!$I$203,'Detailed Lighting'!BJ33,Lighting!BN43)","v":0.13252087606567856},{"$f":"IF(NewConst!$F$203=NewConst!$I$203,'Detailed Lighting'!BK33,Lighting!BO43)","v":0.11789944558923897},{"$f":"IF(NewConst!$F$203=NewConst!$I$203,'Detailed Lighting'!BL33,Lighting!BP43)","v":9.8769314656063423E-2},{"$f":"IF(NewConst!$F$203=NewConst!$I$203,'Detailed Lighting'!BM33,Lighting!BQ43)","v":8.1729611685355447E-2},{"$f":"IF(NewConst!$F$203=NewConst!$I$203,'Detailed Lighting'!BN33,Lighting!BR43)","v":6.9238920324238909E-2},{"$f":"IF(NewConst!$F$203=NewConst!$I$203,'Detailed Lighting'!BO33,Lighting!BS43)","v":6.4109029165966572E-2},{"$f":"IF(NewConst!$F$203=NewConst!$I$203,'Detailed Lighting'!BP33,Lighting!BG43)","v":9.0888379220282312E-2},null,null,null,23,2.8762012299198749E-2,4.1666666666666664E-2,2.8762012299198749E-2,4.6298158801678924E-2,0,1.6822429906542057E-2,2.3190442726633873E-2,4.1666666666666664E-2,3.4482758620689655E-2,5.8823529411764705E-2,4.7619047619047616E-2,0,0,4.3564355999999999E-2,1.6822429906542057E-2,0,4.1666666666666664E-2,null,{"$f":"IF(AVERAGE('Sunrise Calc'!$F$2:$F$13)<'Hourly Profiles'!BA65, 1/12, \"0.000 \")","v":8.3333333333333329E-2},4.5048543689320389E-2,{"$error":"#VALUE!"},{"$error":"#VALUE!"},0.37208085301236338,{"$f":"BX65*250*NewConst!$F$250","v":930.20213253090844},{"$f":"BX65*200*NewConst!$F$250","v":744.16170602472675},0,0,0,0.5,{"$f":"CD65*710*NewConst!$F$419","v":1065},{"$f":"CD65*1090*NewConst!$F$419","v":1635},0,{"$f":"$CG65*CH$7*NewConst!$E$413","v":0},{"$f":"$CG65*CI$7*NewConst!$E$413","v":0}]
[null,null,24,{"$f":"'Hourly Profiles'!D32","v":6.0518788725154128E-2},0.02,{"$f":"'Hourly Profiles'!F32","v":1.6822429999999999E-2},{"$f":"'Hourly Profiles'!G32","v":3.0716724000000001E-2},{"$f":"(F66*'Monthly Profiles'!V$40+G66*'Monthly Profiles'!T$40+I66*'Monthly Profiles'!W$40+J66*'Monthly Profiles'!X$40+K66*'Monthly Profiles'!Y$40)/'Monthly Profiles'!AA$40","v":2.4405462032719955E-2},{"$f":"'Hourly Profiles'!I32","v":3.8610038610038609E-2},{"$f":"'Hourly Profiles'!J32","v":2.0894071914480079E-2},{"$f":"'Hourly Profiles'!K32","v":2.7195467422096314E-2},{"$f":"'Hourly Profiles'!L32","v":4.1181482999999998E-2},{"$f":"'Hourly Profiles'!M32","v":2.3762376000000002E-2},{"$f":"'Hourly Profiles'!N32","v":1.0608204E-2},{"$f":"'Hourly Profiles'!O32","v":4.4999999999999998E-2},3.0525576730190577E-2,4.2458083832335333E-2,4.0853353353353355E-2,7.000000000000001E-3,5.9830498514446689E-3,4.5045045045045027E-3,2.4486027944111782E-2,6.9893818544366895E-2,3.7942420031972277E-2,2.3844026210167003E-2,2.3844026210167006E-2,2.991053677932406E-3,2.9910536779324043E-3,6.4500000000000002E-2,5.6872037914691947E-2,{"$f":"((L66*NewConst!F$238+O66*NewConst!$F$155/365+N66*NewConst!F$328+G66*NewConst!F$298+M66*NewConst!F$279+F66*NewConst!F$264)*3412+(M66*NewConst!F$280+N66*NewConst!F$332)*100000)/((NewConst!F$238+NewConst!$F$155/365+NewConst!F$328+NewConst!F$298+NewConst!F$279+NewConst!F$264)*3412+(NewConst!F$280+NewConst!F$332)*100000)","v":2.4058846648432993E-2},3.7809350261881085E-2,2.121060313180665E-2,1,{"$f":"$AH66*NewConst!$E$400*N_occ","v":580.80000000000007},{"$f":"$AH66*NewConst!$E$401*N_occ","v":432.96000000000004},{"$f":"IF(NewConst!$F$203=NewConst!$I$203,'Detailed Lighting'!BD34,Lighting!BH44)","v":4.6286849496125312E-2},{"$f":"IF(NewConst!$F$203=NewConst!$I$203,'Detailed Lighting'!BE34,Lighting!BI44)","v":5.2826299282119758E-2},{"$f":"IF(NewConst!$F$203=NewConst!$I$203,'Detailed Lighting'!BF34,Lighting!BJ44)","v":6.2532390025067483E-2},{"$f":"IF(NewConst!$F$203=NewConst!$I$203,'Detailed Lighting'!BG34,Lighting!BK44)","v":7.6402793019434631E-2},{"$f":"IF(NewConst!$F$203=NewConst!$I$203,'Detailed Lighting'!BH34,Lighting!BL44)","v":8.775861024612723E-2},{"$f":"IF(NewConst!$F$203=NewConst!$I$203,'Detailed Lighting'!BI34,Lighting!BM44)","v":9.3835507657284864E-2},{"$f":"IF(NewConst!$F$203=NewConst!$I$203,'Detailed Lighting'!BJ34,Lighting!BN44)","v":9.2111649402900286E-2},{"$f":"IF(NewConst!$F$203=NewConst!$I$203,'Detailed Lighting'!BK34,Lighting!BO44)","v":8.1948691552039141E-2},{"$f":"IF(NewConst!$F$203=NewConst!$I$203,'Detailed Lighting'!BL34,Lighting!BP44)","v":6.8651858887916639E-2},{"$f":"IF(NewConst!$F$203=NewConst!$I$203,'Detailed Lighting'!BM34,Lighting!BQ44)","v":5.6808025730720149E-2},{"$f":"IF(NewConst!$F$203=NewConst!$I$203,'Detailed Lighting'!BN34,Lighting!BR44)","v":4.812608657054749E-2},{"$f":"IF(NewConst!$F$203=NewConst!$I$203,'Detailed Lighting'!BO34,Lighting!BS44)","v":4.4560439029765822E-2},{"$f":"IF(NewConst!$F$203=NewConst!$I$203,'Detailed Lighting'!BP34,Lighting!BG44)","v":6.3174035443195498E-2},null,null,null,24,2.383939996212597E-2,4.1666666666666664E-2,2.383939996212597E-2,2.9337038630195482E-2,0,1.6822429906542057E-2,2.3190442726633873E-2,4.1666666666666664E-2,0,0,0,0,0,2.3762376000000002E-2,1.6822429906542057E-2,0,4.1666666666666664E-2,null,{"$f":"IF(AVERAGE('Sunrise Calc'!$F$2:$F$13)<'Hourly Profiles'!BA66, 1/12, \"0.000 \")","v":8.3333333333333329E-2},3.6504854368932041E-2,{"$error":"#VALUE!"},{"$error":"#VALUE!"},0.30839929351736767,{"$f":"BX66*250*NewConst!$F$250","v":770.9982337934191},{"$f":"BX66*200*NewConst!$F$250","v":616.79858703473531},0,0,0,0,{"$f":"CD66*710*NewConst!$F$419","v":0},{"$f":"CD66*1090*NewConst!$F$419","v":0},0,{"$f":"$CG66*CH$7*NewConst!$E$413","v":0},{"$f":"$CG66*CI$7*NewConst!$E$413","v":0}]
[null,null,null,{"$f":"SUM(D43:D66)","v":1.0000000000000004},1,1.000000003,1.0000000009999999,1.0000000005198473,0.99999999999999989,1,1,1,1.0000000009999999,1.0000000009999999,1.0000000000000004,1,0.99999999999999989,1,1.0000000000000002,1,1,1,1,1.0000000000000004,1,1,1.0000000000000002,0.99999999999999967,1,1.0000000000000004,1.0000000008065486,1.0000000001989988,1.0000000004383625,16.523794032651523,9597.0195741640055,7154.1418643768075,0.99999999999999989,0.99999999999999989,0.99999999999999989,1,0.99999999999999989,1,1,0.99999999999999989,0.99999999999999978,1,1.0000000000000002,1.0000000000000002,1,null,null,null,null,{"$f":"SUM(BB43:BB66)","v":0.99999999999999967},{"$f":"SUM(BC43:BC66)","v":0.99999999999999956},0.99999999999999967,1,1,1,0.99999999999999967,0.99999999999999956,1.0000000000000002,{"$f":"SUM(BK43:BK66)","v":1},1,0.99999999999999978,0.99999999999999978,1.0000000009999999,1,1.0000000000000002,0.99999999999999956,null,{"$f":"SUM(BT43:BT66)","v":1},{"$f":"SUM(BU43:BU66)","v":0.99999999999999989},{"$f":"SUM(BV43:BV66)","v":{"$error":"#VALUE!"}},{"$error":"#VALUE!"},12.936537580951136,32341.343952377836,25873.075161902263,8.5,6375,5100,14.5,30885,47415,7,565.95000000000005,358.05]
[]
[]
[null,null,null,null,null,null,null,null,null,null,null,null,null,null,null,"Winter (October - March)"]
[null,null,null,"Clothes Washer","Dishwasher","Shower","Bath","Sinks",null,null,null,null,null,null,null,"Hour","Water heater","Refrigerator","Freezer","Cooking appliances","Dishwasher","Clothes washer","Clothes dryer","Home Entertainment","Waterbed heater","Spa heater/pump","Spa pump","Pool heater/pump","Pool pump","Other MELs","Ceiling Fans (FSEC)"]
[null,null,"Weekend ",1.1499999999999999,1.05,1.05,1.26,1.04]
[null,null,"Weekday ",0.94,0.98,0.98,0.9,0.98,null,null,null,null,null,null,null,1,3.7000000000000012E-2,4.2000000000000003E-2,4.1666666666666678E-2,5.0000000000000001E-3,9.9900099900099922E-4,0,1.7000000000000005E-2,4.8000000000000001E-2,3.1840796019900509E-2,2.186878727634195E-2,2.186878727634195E-2,1.9880715705765414E-3,1.9880715705765401E-3,3.9E-2,5.6872037914691947E-2]
[null,null,"Vacation (May 26–28, August 12–18, December 22–25)",0,0,0,0,0,null,null,null,null,null,null,null,2,3.1000000000000007E-2,4.0999999999999995E-2,4.1666666666666678E-2,0,0,0,0,2.7E-2,3.681592039800996E-2,3.1809145129224656E-2,3.1809145129224656E-2,1.9880715705765414E-3,1.9880715705765401E-3,2.2999999999999993E-2,5.6872037914691947E-2]
[null,null,"Not vacation",1.04,1.04,1.04,1.04,1.04,null,null,null,null,null,null,null,3,2.4000000000000004E-2,0.04,4.1666666666666678E-2,0,0,0,0,1.3999999999999997E-2,4.1791044776119418E-2,2.186878727634195E-2,2.186878727634195E-2,1.9880715705765414E-3,1.9880715705765401E-3,1.9E-2,5.6872037914691947E-2]
[null,null,null,null,null,null,null,null,null,null,null,null,null,null,null,4,1.7000000000000005E-2,3.9E-2,4.1666666666666678E-2,0,0,0,0,1.9999999999999996E-3,4.1791044776119418E-2,3.1809145129224656E-2,3.1809145129224656E-2,2.982107355864811E-3,2.9821073558648093E-3,1.4999999999999999E-2,5.6872037914691947E-2]
[null,null,null,null,null,null,null,null,null,null,null,null,null,null,null,5,1.4E-2,3.7000000000000005E-2,4.2658730158730167E-2,0,0,0,0,9.999999999999998E-4,4.7761194029850761E-2,4.2743538767395631E-2,4.2743538767395624E-2,5.9642147117296221E-3,5.9642147117296186E-3,1.6E-2,5.6872037914691947E-2]
[null,null,null,null,null,null,null,null,null,null,null,null,null,null,null,6,1.2000000000000002E-2,3.6000000000000004E-2,4.3650793650793662E-2,0,0,0,0,9.999999999999998E-4,4.7761194029850761E-2,5.3677932405566613E-2,5.3677932405566592E-2,1.491053677932406E-2,1.4910536779324048E-2,1.6E-2,5.6872037914691947E-2]
[null,null,null,null,null,null,null,null,null,null,null,null,null,null,null,7,2.0000000000000004E-2,3.6000000000000004E-2,4.3650793650793662E-2,2.5000000000000001E-2,9.9900099900099922E-4,0,9.0000000000000028E-3,4.9999999999999992E-3,5.2736318407960218E-2,5.3677932405566613E-2,5.3677932405566592E-2,2.7833001988071576E-2,2.7833001988071562E-2,2.7000000000000003E-2,5.6872037914691947E-2]
[null,null,null,null,null,null,null,null,null,null,null,null,null,null,null,8,2.8000000000000001E-2,3.6000000000000004E-2,4.3650793650793662E-2,0.05,9.9900099900099922E-4,0,1.8000000000000006E-2,9.9999999999999985E-3,5.7711442786069676E-2,3.1809145129224656E-2,3.1809145129224656E-2,3.9761431411530823E-2,3.9761431411530795E-2,3.7000000000000005E-2,2.3696682464454978E-2]
[null,null,null,null,null,null,null,null,null,null,null,null,null,null,null,9,4.0000000000000008E-2,3.7000000000000005E-2,4.3650793650793662E-2,4.4999999999999998E-2,5.0949050949050945E-2,4.8902195608782451E-2,2.7999999999999994E-2,1.6999999999999998E-2,6.3681592039801019E-2,2.186878727634195E-2,2.186878727634195E-2,7.3558648111332031E-2,7.3558648111331976E-2,3.4000000000000002E-2,2.3696682464454978E-2]
[null,null,null,null,null,null,null,null,null,null,null,null,null,null,null,10,5.3000000000000005E-2,3.9E-2,4.3650793650793662E-2,0.04,9.9900099900099903E-2,9.7804391217564901E-2,3.7000000000000012E-2,2.4E-2,6.8656716417910477E-2,2.186878727634195E-2,2.186878727634195E-2,0.11332007952286285,0.11332007952286276,0.03,2.3696682464454978E-2]
[null,null,null,null,null,null,null,null,null,null,null,null,null,null,null,11,5.7000000000000002E-2,0.04,4.1666666666666678E-2,0.04,9.9900099900099903E-2,0.12275449101796411,7.2000000000000022E-2,3.2999999999999995E-2,6.8656716417910477E-2,2.186878727634195E-2,2.186878727634195E-2,0.13916500994035788,0.13916500994035777,0.03,2.3696682464454978E-2]
[null,null,null,null,null,null,null,null,null,null,null,null,null,null,null,12,6.0000000000000005E-2,4.2000000000000003E-2,3.9682539682539694E-2,0.04,9.9900099900099903E-2,0.14670658682634735,0.10600000000000002,4.1999999999999996E-2,6.3681592039801019E-2,1.0934393638170975E-2,1.0934393638170975E-2,0.13916500994035788,0.13916500994035777,2.8999999999999998E-2,2.3696682464454978E-2]
[null,null,null,null,null,null,null,null,null,null,null,null,null,null,null,13,5.9000000000000011E-2,4.2000000000000003E-2,3.9682539682539694E-2,0.04,8.9910089910089919E-2,9.7804391217564901E-2,0.11100000000000002,4.299999999999999E-2,4.1791044776119418E-2,1.0934393638170975E-2,1.0934393638170975E-2,0.13916500994035788,0.13916500994035777,2.7999999999999994E-2,2.3696682464454978E-2]
[null,null,null,null,null,null,null,null,null,null,null,null,null,null,null,14,5.8000000000000003E-2,4.299999999999999E-2,3.9682539682539694E-2,0.04,7.992007992007992E-2,4.8902195608782451E-2,0.11500000000000002,4.3999999999999997E-2,2.6865671641791052E-2,1.0934393638170975E-2,1.0934393638170975E-2,8.9463220675944338E-2,8.9463220675944283E-2,2.7000000000000003E-2,2.3696682464454978E-2]
[null,null,null,null,null,null,null,null,null,null,null,null,null,null,null,15,5.5000000000000014E-2,4.4000000000000004E-2,3.9682539682539694E-2,0.05,6.4935064935064943E-2,9.7804391217564901E-2,9.2000000000000012E-2,4.5999999999999992E-2,2.6865671641791052E-2,2.186878727634195E-2,2.186878727634195E-2,7.057654075546721E-2,7.0576540755467168E-2,2.7999999999999994E-2,2.3696682464454978E-2]
[null,null,null,null,null,null,null,null,null,null,null,null,null,null,null,16,5.1000000000000011E-2,4.4999999999999998E-2,3.9682539682539694E-2,0.06,4.9950049950049952E-2,0.14670658682634735,6.9000000000000006E-2,4.8000000000000001E-2,2.6865671641791052E-2,2.186878727634195E-2,2.186878727634195E-2,5.9642147117296242E-2,5.9642147117296193E-2,0.03,2.3696682464454978E-2]
[null,null,null,null,null,null,null,null,null,null,null,null,null,null,null,17,4.7000000000000014E-2,4.5999999999999999E-2,4.0674603174603183E-2,0.11,4.9950049950049952E-2,8.2834331337325373E-2,6.7000000000000018E-2,5.3999999999999999E-2,2.6865671641791052E-2,0.19284294234592445,0.19284294234592442,3.6779324055666016E-2,3.6779324055665988E-2,4.6999999999999993E-2,2.3696682464454978E-2]
[null,null,null,null,null,null,null,null,null,null,null,null,null,null,null,18,4.4000000000000011E-2,4.7E-2,4.1666666666666678E-2,0.16,4.9950049950049952E-2,1.9960079840319365E-2,6.4000000000000001E-2,5.9999999999999991E-2,2.6865671641791052E-2,0.1500994035785288,0.1500994035785288,1.6898608349900601E-2,1.689860834990059E-2,6.4000000000000001E-2,2.3696682464454978E-2]
[null,null,null,null,null,null,null,null,null,null,null,null,null,null,null,19,4.8000000000000008E-2,4.5999999999999999E-2,4.1666666666666678E-2,0.12,7.4925074925074928E-2,1.9960079840319365E-2,4.1000000000000002E-2,6.9999999999999993E-2,2.6865671641791052E-2,4.2743538767395631E-2,4.2743538767395624E-2,7.9522862823061657E-3,7.9522862823061605E-3,7.8E-2,5.6872037914691947E-2]
[null,null,null,null,null,null,null,null,null,null,null,null,null,null,null,20,5.3000000000000005E-2,4.4999999999999998E-2,4.1666666666666678E-2,0.08,9.9900099900099903E-2,1.9960079840319365E-2,1.8000000000000006E-2,8.1000000000000003E-2,3.1840796019900509E-2,5.3677932405566613E-2,5.3677932405566592E-2,4.9701789264413529E-3,4.9701789264413494E-3,9.2999999999999999E-2,5.6872037914691947E-2]
[null,null,null,null,null,null,null,null,null,null,null,null,null,null,null,21,5.1000000000000011E-2,4.4999999999999998E-2,4.1666666666666678E-2,0.05,5.8941058941058944E-2,1.9960079840319365E-2,2.7999999999999994E-2,8.699999999999998E-2,3.681592039800996E-2,4.2743538767395631E-2,4.2743538767395624E-2,2.982107355864811E-3,2.9821073558648093E-3,8.6999999999999994E-2,5.6872037914691947E-2]
[null,null,null,null,null,null,null,null,null,null,null,null,null,null,null,22,5.000000000000001E-2,4.4999999999999998E-2,4.1666666666666678E-2,0.02,1.798201798201798E-2,1.9960079840319365E-2,3.7000000000000012E-2,9.2999999999999999E-2,3.681592039800996E-2,4.2743538767395631E-2,4.2743538767395624E-2,2.982107355864811E-3,2.9821073558648093E-3,0.08,5.6872037914691947E-2]
[null,null,null,null,null,null,null,null,null,null,null,null,null,null,null,23,4.7000000000000014E-2,4.4000000000000004E-2,4.1666666666666678E-2,1.4999999999999999E-2,8.9910089910089901E-3,9.9800399201596824E-3,3.6000000000000011E-2,8.1000000000000003E-2,3.681592039800996E-2,2.186878727634195E-2,2.186878727634195E-2,2.982107355864811E-3,2.9821073558648093E-3,6.8000000000000005E-2,5.6872037914691947E-2]
[null,null,null,null,null,null,null,null,null,null,null,null,null,null,null,24,4.4000000000000011E-2,4.299999999999999E-2,4.1666666666666678E-2,0.01,9.9900099900099922E-4,0,3.500000000000001E-2,6.8999999999999992E-2,3.1840796019900509E-2,2.186878727634195E-2,2.186878727634195E-2,2.982107355864811E-3,2.9821073558648093E-3,5.5E-2,5.6872037914691947E-2]
[]
[]
[null,null,null,null,null,null,null,null,null,null,null,null,null,null,null,{"$f":"Q1","v":"Summer (April - September)"}]
[null,null,null,null,null,null,null,null,null,null,null,null,null,null,null,"Hour","Water heater","Refrigerator","Freezer","Cooking appliances","Dishwasher","Clothes washer","Clothes dryer","Home Entertainment","Waterbed heater","Spa heater/pump","Spa pump","Pool heater/pump","Pool pump","Other MELs","Ceiling Fans (FSEC)"]
[null,null,null,null,null,null,null,null,null,null,null,null,null,null,null,1,1.4042126379137409E-2,3.992015968063873E-2,3.9039039039039027E-2,3.0000000000000005E-3,5.9820538384845467E-3,5.0050050050050041E-3,8.9820359281437123E-3,4.187437686939182E-2,3.7037037037037042E-2,2.5819265143992055E-2,2.5819265143992059E-2,4.000000000000001E-3,4.0000000000000001E-3,4.8000000000000008E-2,5.6872037914691947E-2]
[null,null,null,null,null,null,null,null,null,null,null,null,null,null,null,2,1.0030090270812435E-2,3.8922155688622763E-2,3.9039039039039027E-2,2.0000000000000009E-3,0,1.0010010010010008E-3,2.9940119760479039E-3,1.196410767696909E-2,3.7037037037037042E-2,2.5819265143992055E-2,2.5819265143992059E-2,4.000000000000001E-3,4.0000000000000001E-3,2.2999999999999996E-2,5.6872037914691947E-2]
[null,null,null,null,null,null,null,null,null,null,null,null,null,null,null,3,1.3039117352056167E-2,3.7924151696606796E-2,3.9039039039039027E-2,2.0000000000000009E-3,0,1.0010010010010008E-3,2.9940119760479039E-3,5.982053838484545E-3,5.9059059059059067E-2,2.5819265143992055E-2,2.5819265143992059E-2,5.0000000000000001E-3,5.0000000000000001E-3,1.9E-2,5.6872037914691947E-2]
[null,null,null,null,null,null,null,null,null,null,null,null,null,null,null,4,1.60481444332999E-2,3.6926147704590823E-2,3.9039039039039027E-2,3.0000000000000005E-3,0,1.0010010010010008E-3,1.9960079840319364E-3,0,7.4074074074074084E-2,2.5819265143992055E-2,2.5819265143992059E-2,5.0000000000000001E-3,5.0000000000000001E-3,1.4999999999999999E-2,5.6872037914691947E-2]
[null,null,null,null,null,null,null,null,null,null,null,null,null,null,null,5,3.3099297893681039E-2,3.6926147704590823E-2,3.8038038038038034E-2,1.3000000000000003E-2,3.9880358923230315E-3,9.0090090090090055E-3,4.9900199600798412E-3,0,5.2052052052052065E-2,5.0645481628599803E-2,5.0645481628599796E-2,1.1000000000000005E-2,1.1000000000000003E-2,1.6E-2,5.6872037914691947E-2]
[null,null,null,null,null,null,null,null,null,null,null,null,null,null,null,6,5.0150451354062181E-2,3.6926147704590823E-2,3.7037037037037035E-2,2.3000000000000003E-2,6.9790628115653031E-3,1.8018018018018011E-2,6.9860279441117754E-3,0,6.006006006006008E-2,7.9443892750744788E-2,7.9443892750744788E-2,1.5000000000000001E-2,1.4999999999999999E-2,1.9E-2,5.6872037914691947E-2]
[null,null,null,null,null,null,null,null,null,null,null,null,null,null,null,7,6.3189568706118346E-2,3.7924151696606796E-2,3.7037037037037035E-2,3.2000000000000015E-2,2.8913260219341975E-2,4.3043043043043031E-2,2.2954091816367265E-2,4.9850448654037878E-3,6.7067067067067068E-2,5.9582919563058591E-2,5.9582919563058591E-2,2.4000000000000004E-2,2.3999999999999997E-2,2.4000000000000004E-2,5.6872037914691947E-2]
[null,null,null,null,null,null,null,null,null,null,null,null,null,null,null,8,7.6228686058174511E-2,3.8922155688622763E-2,3.8038038038038034E-2,4.2000000000000016E-2,4.9850448654037885E-2,6.9069069069069067E-2,3.8922155688622756E-2,8.9730807577268201E-3,5.9059059059059067E-2,1.6881827209533268E-2,1.6881827209533268E-2,4.8000000000000008E-2,4.7999999999999994E-2,2.7999999999999997E-2,2.3696682464454978E-2]
[null,null,null,null,null,null,null,null,null,null,null,null,null,null,null,9,6.9207622868605809E-2,3.8922155688622763E-2,3.9039039039039027E-2,4.2000000000000016E-2,5.3838484546360914E-2,8.0080080080080066E-2,5.8882235528942124E-2,1.8943170488534396E-2,5.9059059059059067E-2,2.5819265143992055E-2,2.5819265143992059E-2,9.5000000000000015E-2,9.5000000000000001E-2,3.1000000000000003E-2,2.3696682464454978E-2]
[null,null,null,null,null,null,null,null,null,null,null,null,null,null,null,10,6.3189568706118346E-2,3.992015968063873E-2,4.1041041041041025E-2,4.2000000000000016E-2,5.782652043868395E-2,9.1091091091091078E-2,7.7844311377245512E-2,2.8913260219341971E-2,5.9059059059059067E-2,1.6881827209533268E-2,1.6881827209533268E-2,0.12800000000000003,0.128,3.4000000000000009E-2,2.3696682464454978E-2]
[null,null,null,null,null,null,null,null,null,null,null,null,null,null,null,11,5.3159478435305912E-2,4.0918163672654696E-2,4.2042042042042038E-2,4.7000000000000014E-2,4.6859421734795619E-2,8.0080080080080066E-2,8.0838323353293426E-2,3.1904287138584252E-2,4.4044044044044051E-2,8.9374379344587876E-3,8.9374379344587893E-3,0.11500000000000003,0.115,3.5000000000000003E-2,2.3696682464454978E-2]
[null,null,null,null,null,null,null,null,null,null,null,null,null,null,null,12,4.3129388164493479E-2,4.2914171656686644E-2,4.4044044044044037E-2,5.2000000000000011E-2,3.589232303090728E-2,6.9069069069069067E-2,8.3832335329341312E-2,3.4895314057826518E-2,3.7037037037037042E-2,1.6881827209533268E-2,1.6881827209533268E-2,0.10200000000000001,0.10199999999999999,3.7000000000000005E-2,2.3696682464454978E-2]
[null,null,null,null,null,null,null,null,null,null,null,null,null,null,null,13,4.0120361083249741E-2,4.2914171656686644E-2,4.504504504504505E-2,4.4000000000000018E-2,3.9880358923230309E-2,6.3063063063063043E-2,7.3852295409181631E-2,3.6889332003988029E-2,3.003003003003004E-2,1.6881827209533268E-2,1.6881827209533268E-2,0.10000000000000003,9.9999999999999992E-2,3.6000000000000011E-2,2.3696682464454978E-2]
[null,null,null,null,null,null,null,null,null,null,null,null,null,null,null,14,3.7111334002006016E-2,4.2914171656686644E-2,4.6046046046046035E-2,3.6000000000000011E-2,4.2871385842472583E-2,5.805805805805804E-2,6.2874251497005998E-2,3.7886340977068791E-2,3.003003003003004E-2,1.6881827209533268E-2,1.6881827209533268E-2,9.1000000000000011E-2,9.0999999999999984E-2,3.6000000000000011E-2,2.3696682464454978E-2]
[null,null,null,null,null,null,null,null,null,null,null,null,null,null,null,15,3.7111334002006016E-2,4.391217564870261E-2,4.7047047047047048E-2,4.7000000000000014E-2,3.589232303090728E-2,5.3053053053053037E-2,5.8882235528942124E-2,4.0877367896311058E-2,2.2022022022022025E-2,2.5819265143992055E-2,2.5819265143992059E-2,7.9000000000000015E-2,7.9000000000000001E-2,3.6000000000000011E-2,2.3696682464454978E-2]
[null,null,null,null,null,null,null,null,null,null,null,null,null,null,null,16,3.6108324974924763E-2,4.4910179640718577E-2,4.8048048048048041E-2,5.800000000000001E-2,2.8913260219341975E-2,4.9049049049049033E-2,5.389221556886227E-2,4.2871385842472576E-2,2.2022022022022025E-2,9.3346573982125133E-2,9.3346573982125133E-2,6.3000000000000028E-2,6.3E-2,3.6000000000000011E-2,2.3696682464454978E-2]
[null,null,null,null,null,null,null,null,null,null,null,null,null,null,null,17,4.6138415245737197E-2,4.5908183632734544E-2,4.6046046046046035E-2,0.11000000000000001,6.0817547357926223E-2,5.0050050050050032E-2,5.4890219560878237E-2,4.6859421734795619E-2,2.2022022022022025E-2,5.9582919563058591E-2,5.9582919563058591E-2,3.7000000000000012E-2,3.7000000000000005E-2,4.2999999999999997E-2,2.3696682464454978E-2]
[null,null,null,null,null,null,null,null,null,null,null,null,null,null,null,18,5.6168505516549637E-2,4.690618762475051E-2,4.504504504504505E-2,0.16200000000000003,9.2721834496510461E-2,5.2052052052052045E-2,5.4890219560878237E-2,4.9850448654037885E-2,2.2022022022022025E-2,9.3346573982125133E-2,9.3346573982125133E-2,3.0000000000000002E-2,0.03,0.05,2.3696682464454978E-2]
[null,null,null,null,null,null,null,null,null,null,null,null,null,null,null,19,5.5165496489468398E-2,4.5908183632734544E-2,4.4044044044044037E-2,0.11000000000000001,0.10368893320039881,5.2052052052052045E-2,5.389221556886227E-2,6.9790628115653036E-2,2.2022022022022025E-2,9.3346573982125133E-2,9.3346573982125133E-2,1.9000000000000003E-2,1.9E-2,5.4000000000000006E-2,5.6872037914691947E-2]
[null,null,null,null,null,null,null,null,null,null,null,null,null,null,null,20,5.3159478435305912E-2,4.5908183632734544E-2,4.3043043043043031E-2,5.9000000000000018E-2,0.11465603190428712,5.3053053053053037E-2,5.2894211576846303E-2,8.9730807577268201E-2,3.7037037037037042E-2,6.8520357497517378E-2,6.8520357497517378E-2,1.1000000000000005E-2,1.1000000000000003E-2,5.7999999999999996E-2,5.6872037914691947E-2]
[null,null,null,null,null,null,null,null,null,null,null,null,null,null,null,21,4.7141424272818457E-2,4.4910179640718577E-2,4.2042042042042038E-2,3.7999999999999999E-2,8.6739780658025914E-2,4.2042042042042024E-2,4.9900199600798403E-2,0.10667996011964108,4.4044044044044051E-2,5.9582919563058591E-2,5.9582919563058591E-2,5.0000000000000001E-3,5.0000000000000001E-3,7.4999999999999997E-2,5.6872037914691947E-2]
[null,null,null,null,null,null,null,null,null,null,null,null,null,null,null,22,4.1123370110330987E-2,4.391217564870261E-2,4.1041041041041025E-2,1.8000000000000006E-2,5.782652043868395E-2,3.1031031031031026E-2,4.6906187624750496E-2,0.12263210368893321,3.003003003003004E-2,4.270109235352533E-2,4.2701092353525323E-2,3.0000000000000005E-3,2.9999999999999996E-3,9.1000000000000011E-2,5.6872037914691947E-2]
[null,null,null,null,null,null,null,null,null,null,null,null,null,null,null,23,2.9087261785356065E-2,4.2914171656686644E-2,4.0040040040040033E-2,1.1000000000000005E-2,3.4895314057826511E-2,2.0020020020020016E-2,3.0938123752495009E-2,9.6709870388833497E-2,3.003003003003004E-2,2.5819265143992055E-2,2.5819265143992059E-2,3.0000000000000005E-3,2.9999999999999996E-3,8.199999999999999E-2,5.6872037914691947E-2]
[null,null,null,null,null,null,null,null,null,null,null,null,null,null,null,24,1.7051153460381142E-2,4.1916167664670677E-2,4.0040040040040033E-2,4.0000000000000018E-3,1.0967098703888338E-2,9.0090090090090055E-3,1.3972055888223551E-2,7.0787637088733799E-2,4.4044044044044051E-2,2.5819265143992055E-2,2.5819265143992059E-2,3.0000000000000005E-3,2.9999999999999996E-3,7.400000000000001E-2,5.6872037914691947E-2]
[]
[]
[null,null,null,null,null,null,null,null,null,null,null,null,null,null,null,{"$f":"R1","v":"Annual Average"}]
[null,null,null,null,null,null,null,null,null,null,null,null,null,null,null,"Hour","Water heater","Refrigerator","Freezer","Cooking appliances","Dishwasher","Clothes washer","Clothes dryer","Home Entertainment","Waterbed heater","Spa heater/pump","Spa pump","Pool heater/pump","Pool pump","Other MELs","Ceiling Fans (FSEC)"]
[null,null,null,null,null,null,null,null,null,null,null,null,null,null,null,1,{"$f":"AVERAGE(Q73,Q101)","v":2.5521063189568712E-2},{"$f":"AVERAGE(R73,R101)","v":4.0960079840319366E-2},4.0352852852852852E-2,4.0000000000000001E-3,3.4905274187427729E-3,2.502502502502502E-3,1.2991017964071858E-2,4.4937188434695907E-2,3.4438916528468776E-2,2.3844026210167003E-2,2.3844026210167006E-2,2.994035785288271E-3,2.9940357852882701E-3,4.3500000000000004E-2,5.6872037914691947E-2]
[null,null,null,null,null,null,null,null,null,null,null,null,null,null,null,2,{"$f":"AVERAGE(Q74,Q102)","v":2.051504513540622E-2},3.9961077844311382E-2,4.0352852852852852E-2,1.0000000000000005E-3,0,5.0050050050050039E-4,1.497005988023952E-3,1.9482053838484545E-2,3.6926478717523498E-2,2.8814205136608356E-2,2.8814205136608359E-2,2.994035785288271E-3,2.9940357852882701E-3,2.2999999999999993E-2,5.6872037914691947E-2]
[null,null,null,null,null,null,null,null,null,null,null,null,null,null,null,3,1.8519558676028086E-2,3.8962075848303399E-2,4.0352852852852852E-2,1.0000000000000005E-3,0,5.0050050050050039E-4,1.497005988023952E-3,9.9910269192422709E-3,5.0425051917589239E-2,2.3844026210167003E-2,2.3844026210167006E-2,3.4940357852882705E-3,3.4940357852882701E-3,1.9E-2,5.6872037914691947E-2]
[null,null,null,null,null,null,null,null,null,null,null,null,null,null,null,4,1.6524072216649952E-2,3.7963073852295415E-2,4.0352852852852852E-2,1.5000000000000002E-3,0,5.0050050050050039E-4,9.980039920159682E-4,9.999999999999998E-4,5.7932559425096751E-2,2.8814205136608356E-2,2.8814205136608359E-2,3.991053677932406E-3,3.9910536779324043E-3,1.4999999999999999E-2,5.6872037914691947E-2]
[null,null,null,null,null,null,null,null,null,null,null,null,null,null,null,5,2.3549648946840519E-2,3.6963073852295414E-2,4.0348384098384101E-2,6.5000000000000014E-3,1.9940179461615157E-3,4.5045045045045027E-3,2.4950099800399206E-3,4.999999999999999E-4,4.9906623040951413E-2,4.6694510197997717E-2,4.669451019799771E-2,8.4821073558648125E-3,8.4821073558648107E-3,1.6E-2,5.6872037914691947E-2]
[null,null,null,null,null,null,null,null,null,null,null,null,null,null,null,6,3.1075225677031092E-2,3.6463073852295413E-2,4.0343915343915349E-2,1.1500000000000002E-2,3.4895314057826515E-3,9.0090090090090055E-3,3.4930139720558877E-3,4.999999999999999E-4,5.3910627044955417E-2,6.6560912578155704E-2,6.656091257815569E-2,1.4955268389662031E-2,1.4955268389662024E-2,1.7500000000000002E-2,5.6872037914691947E-2]
[null,null,null,null,null,null,null,null,null,null,null,null,null,null,null,7,4.1594784353059175E-2,3.6962075848303397E-2,4.0343915343915349E-2,2.8500000000000008E-2,1.4956130609171487E-2,2.1521521521521515E-2,1.5977045908183635E-2,4.9925224327018935E-3,5.990169273751364E-2,5.6630425984312602E-2,5.6630425984312588E-2,2.591650099403579E-2,2.5916500994035779E-2,2.5500000000000002E-2,5.6872037914691947E-2]
[null,null,null,null,null,null,null,null,null,null,null,null,null,null,null,8,5.2114343029087254E-2,3.746107784431138E-2,4.0844415844415852E-2,4.6000000000000013E-2,2.5424724826519442E-2,3.4534534534534533E-2,2.8461077844311379E-2,9.4865403788634093E-3,5.8385250922564372E-2,2.4345486169378962E-2,2.4345486169378962E-2,4.3880715705765419E-2,4.3880715705765391E-2,3.2500000000000001E-2,2.3696682464454978E-2]
[null,null,null,null,null,null,null,null,null,null,null,null,null,null,null,9,5.4603811434302908E-2,3.7961077844311381E-2,4.1344916344916341E-2,4.3500000000000011E-2,5.2393767747705933E-2,6.4491137844431251E-2,4.3441117764471057E-2,1.7971585244267195E-2,6.1370325549430046E-2,2.3844026210167003E-2,2.3844026210167006E-2,8.4279324055666016E-2,8.4279324055665988E-2,3.2500000000000001E-2,2.3696682464454978E-2]
[null,null,null,null,null,null,null,null,null,null,null,null,null,null,null,10,5.8094784353059176E-2,3.9460079840319365E-2,4.2345917345917347E-2,4.1000000000000009E-2,7.8863310169391923E-2,9.4447741154327997E-2,5.7422155688622759E-2,2.6456630109670986E-2,6.3857887738484775E-2,1.9375307242937609E-2,1.9375307242937609E-2,0.12066003976143144,0.12066003976143139,3.2000000000000001E-2,2.3696682464454978E-2]
[null,null,null,null,null,null,null,null,null,null,null,null,null,null,null,11,5.5079739217652954E-2,4.0459081836327349E-2,4.1854354354354362E-2,4.3500000000000011E-2,7.3379760817447764E-2,0.10141728554902209,7.6419161676646724E-2,3.2452143569292123E-2,5.6350380230977264E-2,1.5403112605400369E-2,1.5403112605400369E-2,0.12708250497017895,0.12708250497017889,3.2500000000000001E-2,2.3696682464454978E-2]
[null,null,null,null,null,null,null,null,null,null,null,null,null,null,null,12,5.1564694082246745E-2,4.2457085828343323E-2,4.1863291863291865E-2,4.6000000000000006E-2,6.7896211465503592E-2,0.10788782794770821,9.4916167664670675E-2,3.8447657028913257E-2,5.0359314538419034E-2,1.3908110423852121E-2,1.3908110423852121E-2,0.12058250497017894,0.12058250497017889,3.3000000000000002E-2,2.3696682464454978E-2]
[null,null,null,null,null,null,null,null,null,null,null,null,null,null,null,13,4.9560180541624879E-2,4.2457085828343323E-2,4.2363792363792369E-2,4.200000000000001E-2,6.4895224416660111E-2,8.0433727140313965E-2,9.2426147704590816E-2,3.9944666001994006E-2,3.5910537403074733E-2,1.3908110423852121E-2,1.3908110423852121E-2,0.11958250497017896,0.11958250497017889,3.2000000000000001E-2,2.3696682464454978E-2]
[null,null,null,null,null,null,null,null,null,null,null,null,null,null,null,14,4.7555667001003013E-2,4.2957085828343317E-2,4.2864292864292865E-2,3.8000000000000006E-2,6.1395732881276255E-2,5.3480126833420245E-2,8.8937125748503015E-2,4.0943170488534394E-2,2.8447850835910546E-2,1.3908110423852121E-2,1.3908110423852121E-2,9.0231610337972168E-2,9.023161033797214E-2,3.1500000000000007E-2,2.3696682464454978E-2]
[null,null,null,null,null,null,null,null,null,null,null,null,null,null,null,15,4.6055667001003012E-2,4.3956087824351307E-2,4.3364793364793375E-2,4.8500000000000008E-2,5.0413693982986112E-2,7.5428722135308962E-2,7.5441117764471072E-2,4.3438683948155525E-2,2.4443846831906538E-2,2.3844026210167003E-2,2.3844026210167006E-2,7.4788270377733612E-2,7.4788270377733584E-2,3.2000000000000001E-2,2.3696682464454978E-2]
[null,null,null,null,null,null,null,null,null,null,null,null,null,null,null,16,4.3554162487462383E-2,4.4955089820359284E-2,4.3865293865293864E-2,5.9000000000000004E-2,3.9431655084695962E-2,9.7877817937698189E-2,6.1446107784431138E-2,4.5435692921236288E-2,2.4443846831906538E-2,5.7607680629233542E-2,5.7607680629233542E-2,6.1321073558648131E-2,6.1321073558648097E-2,3.3000000000000002E-2,2.3696682464454978E-2]
[null,null,null,null,null,null,null,null,null,null,null,null,null,null,null,17,4.6569207622868605E-2,4.5954091816367268E-2,4.3360324610324609E-2,0.11000000000000001,5.5383798653988084E-2,6.6442190693687703E-2,6.0945109780439127E-2,5.0429710867397809E-2,2.4443846831906538E-2,0.12621293095449151,0.12621293095449151,3.6889662027833017E-2,3.6889662027832996E-2,4.4999999999999998E-2,2.3696682464454978E-2]
[null,null,null,null,null,null,null,null,null,null,null,null,null,null,null,18,{"$f":"AVERAGE(Q90,Q118)","v":5.0084252758274828E-2},4.6953093812375252E-2,4.3355855855855864E-2,0.16100000000000003,7.1335942223280213E-2,3.6006065946185703E-2,5.9445109780439119E-2,5.4925224327018934E-2,2.4443846831906538E-2,0.12172298878032697,0.12172298878032697,2.3449304174950301E-2,2.3449304174950295E-2,5.7000000000000002E-2,2.3696682464454978E-2]
[null,null,null,null,null,null,null,null,null,null,null,null,null,null,null,19,5.1582748244734203E-2,4.5954091816367268E-2,4.2855355355355354E-2,0.115,8.9307004062736867E-2,3.6006065946185703E-2,4.7446107784431132E-2,6.9895314057826508E-2,2.4443846831906538E-2,6.8045056374760382E-2,6.8045056374760382E-2,1.3476143141153085E-2,1.347614314115308E-2,6.6000000000000003E-2,5.6872037914691947E-2]
[null,null,null,null,null,null,null,null,null,null,null,null,null,null,null,20,5.3079739217652959E-2,4.5454091816367267E-2,4.2354854854854851E-2,6.9500000000000006E-2,0.10727806590219352,3.6506566446686199E-2,3.5447105788423153E-2,8.5365403788634109E-2,3.4438916528468776E-2,6.1099144951541992E-2,6.1099144951541985E-2,7.9850894632206779E-3,7.9850894632206761E-3,7.5499999999999998E-2,5.6872037914691947E-2]
[null,null,null,null,null,null,null,null,null,null,null,null,null,null,null,21,4.9070712136409234E-2,4.4955089820359284E-2,4.1854354354354362E-2,4.3999999999999997E-2,7.2840419799542422E-2,3.1001060941180693E-2,3.89500998003992E-2,9.683998005982053E-2,4.0429982221027005E-2,5.1163229165227114E-2,5.1163229165227107E-2,3.991053677932406E-3,3.9910536779324043E-3,8.0999999999999989E-2,5.6872037914691947E-2]
[null,null,null,null,null,null,null,null,null,null,null,null,null,null,null,22,4.5561685055165502E-2,4.4456087824351301E-2,4.1353853853853852E-2,1.9000000000000003E-2,3.7904269210350963E-2,2.5495555435675193E-2,4.1953093812375254E-2,0.1078160518444666,3.3422975214020004E-2,4.272231556046048E-2,4.2722315560460473E-2,2.991053677932406E-3,2.9910536779324043E-3,8.5500000000000007E-2,5.6872037914691947E-2]
[null,null,null,null,null,null,null,null,null,null,null,null,null,null,null,23,3.8043630892678038E-2,4.3457085828343324E-2,4.0853353353353355E-2,1.3000000000000001E-2,2.1943161524417752E-2,1.500002997008985E-2,3.3469061876247513E-2,8.8854935194416756E-2,3.3422975214020004E-2,2.3844026210167003E-2,2.3844026210167006E-2,2.991053677932406E-3,2.9910536779324043E-3,7.4999999999999997E-2,5.6872037914691947E-2]
[null,null,null,null,null,null,null,null,null,null,null,null,null,null,null,24,3.0525576730190577E-2,4.2458083832335333E-2,4.0853353353353355E-2,7.000000000000001E-3,5.9830498514446689E-3,4.5045045045045027E-3,2.4486027944111782E-2,6.9893818544366895E-2,3.7942420031972277E-2,2.3844026210167003E-2,2.3844026210167006E-2,2.991053677932406E-3,2.9910536779324043E-3,6.4500000000000002E-2,5.6872037914691947E-2]

{"sheet":"Monthly Profiles","index":2,"n_rows":58,"n_cols":81,"rows_kept":58,"cut":false,"hidden":false,"merged":[[24,64,26,64],[24,61,26,61],[24,62,26,62],[24,63,26,63],[23,0,23,24],[24,39,26,39],[24,40,26,40],[24,41,26,41],[24,42,26,42],[24,34,26,34],[24,36,26,36],[24,35,26,35],[24,37,26,37],[24,38,26,38],[24,44,26,44],[24,43,26,43],[24,78,26,78],[24,80,26,80],[24,79,26,79],[24,73,26,73],[24,77,26,77],[24,74,26,74],[24,75,26,75],[24,76,26,76],[24,70,26,70],[24,71,26,71],[24,72,26,72],[24,56,26,56],[24,48,26,48],[24,50,26,50],[24,49,26,49],[24,55,26,55],[24,60,26,60],[24,68,26,68],[24,67,26,67],[24,66,26,66],[24,54,26,54],[24,65,26,65],[24,53,26,53],[24,52,26,52],[2,7,2,18],[24,7,24,18],[24,58,26,58],[24,59,26,59],[24,46,26,46],[24,47,26,47],[24,51,26,51]]}
[]
["Benchmark Monthly Profiles"]
[null,null,null,null,null,null,null,"Daily Energy Use Multipliers",null,null,null,null,null,null,null,null,null,null,null,null,null,null,null,null,null,"Common Area","Total DHW for ","Total DHW for ","Interior Heat Gain ","Wasted ","Wasted ","Wasted "]
[null,null,"Heating Active","Cooling Active","Estimated Interior Shading","Corrected Water Heater Recovery",null,"Refrigerator","Freezer","Spa Heater","Cooking Appliances","Dishwasher","Clothes washer","Clothes dryer","Home Entertainment","Waterbed heater","Spa pump","Ceiling Fans","Other MELs","Dishwasher DHW","Common Area Dishwasher","Clothes Washer DHW","Bath DHW","Shower DHW","Sinks DHW","Sinks","Unit","Common Areas","from DHW in Unit","Shower DHW","Bath DHW","Sinks DHW","Lighting Fraction"]
[null,"Month","(1=yes)","(1=yes)","Multiplier","Efficiency","Mains Temp (ºF)",null,null,null,null,null,null,null,null,null,null,null,null,"(gal/day)","(gal/day)","(gal/day)","(gal/day)","(gal/day)","(gal/day)","(gal/day)","(gal/day)","(gal/day)","(Btu/day)","(gal/day)","(gal/day)","(gal/day)","%"]
[1,"Jan",{"$f":"1","v":1},{"$f":"1","v":1},{"$f":"Locations!CI2","v":0.85},{"$f":"IF(NewConst!$F$111=\"Electric\", DHW!J53,DHW!K53)","v":0.76566868865834126},{"$f":"Locations!AA2","v":48.718290388117268},0.83664164971592903,0.83664164971592903,0.83664164971592903,1.0967699665858615,1.0967699665858615,1.010625275424766,1.1509530689285548,1.1369170125928769,1.2725933719095215,0.92131381900420672,0,1.154258712676234,{"$f":"Appliances!$AD$125","v":4.9989999999999997},{"$f":"0.1428*(2.5+0.833*1.56)","v":0.54256574400000002},{"$f":"IF(AND(HomeType=2,NewConst!F$249=\"Yes\"), 2.47*NewConst!$F$38,2.35+0.78*N_br)","v":4.6899999999999995},{"$f":"(3.5+1.17*N_br)*MAX((105-G6)/(120-G6),0)","v":5.5348670300905436},{"$f":"(14+4.67*N_br)*MAX((105-G6)/(120-G6),0)","v":22.115781100261927},{"$f":"(12.5+4.16*N_br)*MAX((105-G6)/(120-G6),0)","v":19.723392070137201},{"$f":"IF(NewConst!F$135>0,0.028*NewConst!$F$38*MAX((105-G6)/(120-G6),0),0)","v":4.4215770853790364},{"$f":"IF(AND(HomeType=2,NewConst!F$249=\"YES\"),SUM(T6,W6:Y6),SUM(T6,V6:Y6))","v":57.063040200489674},{"$f":"IF(HomeType=2,IF(NewConst!F$249=\"YES\",IF(NewConst!$F$135>0,IF(NewConst!$F$303=\"YES\",SUM(U6,V6,Z6),SUM(V6,Z6)),IF(NewConst!$F$303=\"YES\",SUM(U6,V6),V6)),IF(NewConst!$F$135>0,IF(NewConst!$F$303=\"YES\",SUM(U6,Z6),SUM(Z6)),IF(NewConst!$F$303=\"YES\",SUM(U6),0))),0)","v":0},{"$f":"($Z$20+735*(N_br-3))*(1+1/$Z$20*(362+(63*(N_br-3)))*SIN(2*PI()*(A6/12)+0.3))","v":4522.5618428124599},{"$f":"(1.6+0.3*N_br)","v":2.5},{"$f":"(0.2+0.05*N_br)","v":0.35000000000000003},{"$f":"(2.55+1.15*N_br)","v":6},{"$f":"IF(NewConst!$F$203=NewConst!$I$203,'Detailed Lighting'!BB11,Lighting!BC21)","v":0.11591771923020544}]
[2,"Feb",{"$f":"1","v":1},{"$f":"1","v":1},{"$f":"Locations!CJ2","v":0.85},{"$f":"IF(NewConst!$F$111=\"Electric\", DHW!J54,DHW!K54)","v":0.76566868865834126},{"$f":"Locations!AB2","v":47.641339778292384},0.83495826611489121,0.83495826611489121,0.83495826611489121,1.0967699665858615,1.0967699665858615,1.0018116829065269,1.1442419723167263,1.1289636167021313,1.2654392425039453,0.9284852177785069,0,1.1605684359598141,{"$f":"Appliances!$AD$125","v":4.9989999999999997},0.54256574400000002,{"$f":"IF(AND(HomeType=2,NewConst!F$249=\"Yes\"), 2.47*NewConst!$F$38,2.35+0.78*N_br)","v":4.6899999999999995},5.5568221816459911,22.203507747204593,19.801628829888283,{"$f":"IF(NewConst!F$135>0,0.028*NewConst!$F$38*MAX((105-G7)/(120-G7),0),0)","v":4.4391161508156287},{"$f":"IF(AND(HomeType=2,NewConst!F$249=\"YES\"),SUM(T7,W7:Y7),SUM(T7,V7:Y7))","v":57.250958758738875},{"$f":"IF(HomeType=2,IF(NewConst!F$249=\"YES\",IF(NewConst!$F$135>0,IF(NewConst!$F$303=\"YES\",SUM(U7,V7,Z7),SUM(V7,Z7)),IF(NewConst!$F$303=\"YES\",SUM(U7,V7),V7)),IF(NewConst!$F$135>0,IF(NewConst!$F$303=\"YES\",SUM(U7,Z7),SUM(Z7)),IF(NewConst!$F$303=\"YES\",SUM(U7),0))),0)","v":0},4609.9882894913962,2.5,0.35000000000000003,6,{"$f":"IF(NewConst!$F$203=NewConst!$I$203,'Detailed Lighting'!BB12,Lighting!BC22)","v":9.173891494051005E-2}]
[3,"Mar",{"$f":"1","v":1},{"$f":"1","v":1},{"$f":"Locations!CK2","v":0.85},{"$f":"IF(NewConst!$F$111=\"Electric\", DHW!J55,DHW!K55)","v":0.76566868865834126},{"$f":"Locations!AC2","v":49.150569276918105},1.0840990390685279,1.0840990390685279,1.0840990390685279,0.99063093756142329,0.99063093756142329,1.0223767321157518,1.0100200400801602,0.96110510342902988,0.90731194108364022,0.92131381900420672,0,1.012920911124042,{"$f":"Appliances!$AD$125","v":4.9989999999999997},0.54256574400000002,{"$f":"IF(AND(HomeType=2,NewConst!F$249=\"Yes\"), 2.47*NewConst!$F$38,2.35+0.78*N_br)","v":4.6899999999999995},5.5258666918442385,22.079818265129401,19.69131953812683,{"$f":"IF(NewConst!F$135>0,0.028*NewConst!$F$38*MAX((105-G8)/(120-G8),0),0)","v":4.4143870862093779},{"$f":"IF(AND(HomeType=2,NewConst!F$249=\"YES\"),SUM(T8,W8:Y8),SUM(T8,V8:Y8))","v":56.986004495100474},{"$f":"IF(HomeType=2,IF(NewConst!F$249=\"YES\",IF(NewConst!$F$135>0,IF(NewConst!$F$303=\"YES\",SUM(U8,V8,Z8),SUM(V8,Z8)),IF(NewConst!$F$303=\"YES\",SUM(U8,V8),V8)),IF(NewConst!$F$135>0,IF(NewConst!$F$303=\"YES\",SUM(U8,Z8),SUM(Z8)),IF(NewConst!$F$303=\"YES\",SUM(U8),0))),0)","v":0},4602.8318090634693,2.5,0.35000000000000003,6,{"$f":"IF(NewConst!$F$203=NewConst!$I$203,'Detailed Lighting'!BB13,Lighting!BC23)","v":8.5802989807230542E-2}]
[4,"Apr",{"$f":"1","v":1},{"$f":"1","v":1},{"$f":"Locations!CL2","v":0.85},{"$f":"IF(NewConst!$F$111=\"Electric\", DHW!J56,DHW!K56)","v":0.76566868865834126},{"$f":"Locations!AD2","v":52.85257495724705},1.083706249561619,1.083706249561619,1.083706249561619,0.98709296992727535,0.98709296992727535,1.0200264407775546,1.0072796756303304,0.96891896605853411,0.91320357706470279,0.91540796119007728,0,1.0101726760938607,{"$f":"Appliances!$AD$125","v":4.9989999999999997},0.54256574400000002,{"$f":"IF(AND(HomeType=2,NewConst!F$249=\"Yes\"), 2.47*NewConst!$F$38,2.35+0.78*N_br)","v":4.6899999999999995},5.4440427062832155,21.752872496860608,19.399741341363015,{"$f":"IF(NewConst!F$135>0,0.028*NewConst!$F$38*MAX((105-G9)/(120-G9),0),0)","v":4.3490212774873056},{"$f":"IF(AND(HomeType=2,NewConst!F$249=\"YES\"),SUM(T9,W9:Y9),SUM(T9,V9:Y9))","v":56.285656544506836},{"$f":"IF(HomeType=2,IF(NewConst!F$249=\"YES\",IF(NewConst!$F$135>0,IF(NewConst!$F$303=\"YES\",SUM(U9,V9,Z9),SUM(V9,Z9)),IF(NewConst!$F$303=\"YES\",SUM(U9,V9),V9)),IF(NewConst!$F$135>0,IF(NewConst!$F$303=\"YES\",SUM(U9,Z9),SUM(Z9)),IF(NewConst!$F$303=\"YES\",SUM(U9),0))),0)","v":0},4503.0099746799915,2.5,0.35000000000000003,6,{"$f":"IF(NewConst!$F$203=NewConst!$I$203,'Detailed Lighting'!BB14,Lighting!BC24)","v":6.7960689257294551E-2}]
[5,"May",{"$f":"1","v":1},{"$f":"1","v":1},{"$f":"Locations!CM2","v":0.85},{"$f":"IF(NewConst!$F$111=\"Electric\", DHW!J57,DHW!K57)","v":0.76566868865834126},{"$f":"Locations!AE2","v":57.782371989067066},1.0840990390685279,1.0840990390685279,1.0840990390685279,0.99063093756142329,0.99063093756142329,1.0223767321157518,1.0100200400801602,0.96110510342902988,0.90731194108364022,0.92131381900420672,1.5,1.012920911124042,{"$f":"Appliances!$AD$125","v":4.9989999999999997},0.54256574400000002,{"$f":"IF(AND(HomeType=2,NewConst!F$249=\"Yes\"), 2.47*NewConst!$F$38,2.35+0.78*N_br)","v":4.6899999999999995},5.3199645010330041,21.25709068101775,18.957591046477095,{"$f":"IF(NewConst!F$135>0,0.028*NewConst!$F$38*MAX((105-G10)/(120-G10),0),0)","v":4.2499003146626002},{"$f":"IF(AND(HomeType=2,NewConst!F$249=\"YES\"),SUM(T10,W10:Y10),SUM(T10,V10:Y10))","v":55.223646228527855},{"$f":"IF(HomeType=2,IF(NewConst!F$249=\"YES\",IF(NewConst!$F$135>0,IF(NewConst!$F$303=\"YES\",SUM(U10,V10,Z10),SUM(V10,Z10)),IF(NewConst!$F$303=\"YES\",SUM(U10,V10),V10)),IF(NewConst!$F$135>0,IF(NewConst!$F$303=\"YES\",SUM(U10,Z10),SUM(Z10)),IF(NewConst!$F$303=\"YES\",SUM(U10),0))),0)","v":0},4337.2699662510095,2.5,0.35000000000000003,6,{"$f":"IF(NewConst!$F$203=NewConst!$I$203,'Detailed Lighting'!BB15,Lighting!BC25)","v":6.1138912853048587E-2}]
[6,"Jun",{"$f":"1","v":1},{"$f":"1","v":1},{"$f":"Locations!CN2","v":0.85},{"$f":"IF(NewConst!$F$111=\"Electric\", DHW!J58,DHW!K58)","v":0.76720076667410919},{"$f":"Locations!AF2","v":62.654932805562403},1.0958827242757947,1.0958827242757947,1.0958827242757947,0.88960230623075431,0.88960230623075431,0.99574009694951759,0.87378477886004557,0.99314194020999746,0.91320357706470279,1.1595167508407644,3,0.88846512475725092,{"$f":"Appliances!$AD$125","v":4.9989999999999997},0.54256574400000002,{"$f":"IF(AND(HomeType=2,NewConst!F$249=\"Yes\"), 2.47*NewConst!$F$38,2.35+0.78*N_br)","v":4.6899999999999995},5.1763636447844386,20.683301810329834,18.445872160729714,{"$f":"IF(NewConst!F$135>0,0.028*NewConst!$F$38*MAX((105-G11)/(120-G11),0),0)","v":4.135183510812106},{"$f":"IF(AND(HomeType=2,NewConst!F$249=\"YES\"),SUM(T11,W11:Y11),SUM(T11,V11:Y11))","v":53.994537615843988},{"$f":"IF(HomeType=2,IF(NewConst!F$249=\"YES\",IF(NewConst!$F$135>0,IF(NewConst!$F$303=\"YES\",SUM(U11,V11,Z11),SUM(V11,Z11)),IF(NewConst!$F$303=\"YES\",SUM(U11,V11),V11)),IF(NewConst!$F$135>0,IF(NewConst!$F$303=\"YES\",SUM(U11,Z11),SUM(Z11)),IF(NewConst!$F$303=\"YES\",SUM(U11),0))),0)","v":0},4150.0216851885953,2.5,0.35000000000000003,6,{"$f":"IF(NewConst!$F$203=NewConst!$I$203,'Detailed Lighting'!BB16,Lighting!BC26)","v":5.5334985704423606E-2}]
[7,"Jul",{"$f":"1","v":1},{"$f":"1","v":1},{"$f":"Locations!CO2","v":0.7},{"$f":"IF(NewConst!$F$111=\"Electric\", DHW!J59,DHW!K59)","v":0.76720076667410919},{"$f":"Locations!AG2","v":66.200149341478465},1.0958827242757947,1.0958827242757947,1.0958827242757947,0.89628513398414478,0.89628513398414478,0.99887381873378056,0.88083143030246547,0.99626748526179942,0.90731194108364022,1.1575481315693881,3,0.88336125970119961,{"$f":"Appliances!$AD$125","v":4.9989999999999997},0.54256574400000002,{"$f":"IF(AND(HomeType=2,NewConst!F$249=\"Yes\"), 2.47*NewConst!$F$38,2.35+0.78*N_br)","v":4.6899999999999995},5.0555336081245246,20.200498767984012,18.01529665206143,{"$f":"IF(NewConst!F$135>0,0.028*NewConst!$F$38*MAX((105-G12)/(120-G12),0),0)","v":4.038657375962531},{"$f":"IF(AND(HomeType=2,NewConst!F$249=\"YES\"),SUM(T12,W12:Y12),SUM(T12,V12:Y12))","v":52.960329028169966},{"$f":"IF(HomeType=2,IF(NewConst!F$249=\"YES\",IF(NewConst!$F$135>0,IF(NewConst!$F$303=\"YES\",SUM(U12,V12,Z12),SUM(V12,Z12)),IF(NewConst!$F$303=\"YES\",SUM(U12,V12),V12)),IF(NewConst!$F$135>0,IF(NewConst!$F$303=\"YES\",SUM(U12,Z12),SUM(Z12)),IF(NewConst!$F$303=\"YES\",SUM(U12),0))),0)","v":0},3991.4381571875397,2.5,0.35000000000000003,6,{"$f":"IF(NewConst!$F$203=NewConst!$I$203,'Detailed Lighting'!BB17,Lighting!BC27)","v":5.8249592301554083E-2}]
[8,"Aug",{"$f":"1","v":1},{"$f":"1","v":1},{"$f":"Locations!CP2","v":0.7},{"$f":"IF(NewConst!$F$111=\"Electric\", DHW!J60,DHW!K60)","v":0.76720076667410919},{"$f":"Locations!AH2","v":67.493906273288161},1.0958827242757947,1.0958827242757947,1.0958827242757947,0.89628513398414478,0.89628513398414478,0.99887381873378056,0.88083143030246547,0.99626748526179942,0.90731194108364022,1.1575481315693881,3,0.88336125970119961,{"$f":"Appliances!$AD$125","v":4.9989999999999997},0.54256574400000002,{"$f":"IF(AND(HomeType=2,NewConst!F$249=\"Yes\"), 2.47*NewConst!$F$38,2.35+0.78*N_br)","v":4.6899999999999995},5.0073753037639088,20.008071648848372,17.843685461914756,{"$f":"IF(NewConst!F$135>0,0.028*NewConst!$F$38*MAX((105-G13)/(120-G13),0),0)","v":4.0001856920225238},{"$f":"IF(AND(HomeType=2,NewConst!F$249=\"YES\"),SUM(T13,W13:Y13),SUM(T13,V13:Y13))","v":52.548132414527032},{"$f":"IF(HomeType=2,IF(NewConst!F$249=\"YES\",IF(NewConst!$F$135>0,IF(NewConst!$F$303=\"YES\",SUM(U13,V13,Z13),SUM(V13,Z13)),IF(NewConst!$F$303=\"YES\",SUM(U13,V13),V13)),IF(NewConst!$F$135>0,IF(NewConst!$F$303=\"YES\",SUM(U13,Z13),SUM(Z13)),IF(NewConst!$F$303=\"YES\",SUM(U13),0))),0)","v":0},3904.0117105086038,2.5,0.35000000000000003,6,{"$f":"IF(NewConst!$F$203=NewConst!$I$203,'Detailed Lighting'!BB18,Lighting!BC28)","v":6.5473480080343274E-2}]
[9,"Sep",{"$f":"1","v":1},{"$f":"1","v":1},{"$f":"Locations!CQ2","v":0.7},{"$f":"IF(NewConst!$F$111=\"Electric\", DHW!J61,DHW!K61)","v":0.76720076667410919},{"$f":"Locations!AI2","v":66.198965919317473},1.0958827242757947,1.0958827242757947,1.0958827242757947,0.88960230623075431,0.88960230623075431,0.99574009694951759,0.87378477886004557,0.99314194020999746,0.91320357706470279,1.1595167508407644,1.5,0.88846512475725092,{"$f":"Appliances!$AD$125","v":4.9989999999999997},0.54256574400000002,{"$f":"IF(AND(HomeType=2,NewConst!F$249=\"Yes\"), 2.47*NewConst!$F$38,2.35+0.78*N_br)","v":4.6899999999999995},5.055576599098222,20.200670547894607,18.015449849568274,{"$f":"IF(NewConst!F$135>0,0.028*NewConst!$F$38*MAX((105-G14)/(120-G14),0),0)","v":4.0386917196790364},{"$f":"IF(AND(HomeType=2,NewConst!F$249=\"YES\"),SUM(T14,W14:Y14),SUM(T14,V14:Y14))","v":52.960696996561097},{"$f":"IF(HomeType=2,IF(NewConst!F$249=\"YES\",IF(NewConst!$F$135>0,IF(NewConst!$F$303=\"YES\",SUM(U14,V14,Z14),SUM(V14,Z14)),IF(NewConst!$F$303=\"YES\",SUM(U14,V14),V14)),IF(NewConst!$F$135>0,IF(NewConst!$F$303=\"YES\",SUM(U14,Z14),SUM(Z14)),IF(NewConst!$F$303=\"YES\",SUM(U14),0))),0)","v":0},3911.1681909365307,2.5,0.35000000000000003,6,{"$f":"IF(NewConst!$F$203=NewConst!$I$203,'Detailed Lighting'!BB19,Lighting!BC29)","v":7.5633588935449747E-2}]
[10,"Oct",{"$f":"1","v":1},{"$f":"1","v":1},{"$f":"Locations!CR2","v":0.85},{"$f":"IF(NewConst!$F$111=\"Electric\", DHW!J62,DHW!K62)","v":0.76566868865834126},{"$f":"Locations!AJ2","v":62.65287443846379},0.93091113137406212,0.93091113137406212,0.93091113137406212,1.0849767411387015,1.0849767411387015,0.9636194486608235,1.0100200400801602,0.86733875187497811,0.90731194108364022,0.92131381900420672,0,0.97758646073599431,{"$f":"Appliances!$AD$125","v":4.9989999999999997},0.54256574400000002,{"$f":"IF(AND(HomeType=2,NewConst!F$249=\"Yes\"), 2.47*NewConst!$F$38,2.35+0.78*N_br)","v":4.6899999999999995},5.1764294597090306,20.683564788366613,18.446106690946021,{"$f":"IF(NewConst!F$135>0,0.028*NewConst!$F$38*MAX((105-G15)/(120-G15),0),0)","v":4.1352360876420224},{"$f":"IF(AND(HomeType=2,NewConst!F$249=\"YES\"),SUM(T15,W15:Y15),SUM(T15,V15:Y15))","v":53.995100939021668},{"$f":"IF(HomeType=2,IF(NewConst!F$249=\"YES\",IF(NewConst!$F$135>0,IF(NewConst!$F$303=\"YES\",SUM(U15,V15,Z15),SUM(V15,Z15)),IF(NewConst!$F$303=\"YES\",SUM(U15,V15),V15)),IF(NewConst!$F$135>0,IF(NewConst!$F$303=\"YES\",SUM(U15,Z15),SUM(Z15)),IF(NewConst!$F$303=\"YES\",SUM(U15),0))),0)","v":0},4010.9900253200085,2.5,0.35000000000000003,6,{"$f":"IF(NewConst!$F$203=NewConst!$I$203,'Detailed Lighting'!BB20,Lighting!BC30)","v":9.4449084525061039E-2}]
[11,"Nov",{"$f":"1","v":1},{"$f":"1","v":1},{"$f":"Locations!CS2","v":0.85},{"$f":"IF(NewConst!$F$111=\"Electric\", DHW!J63,DHW!K63)","v":0.76566868865834126},{"$f":"Locations!AK2","v":57.779975222135477},0.92541207827733762,0.92541207827733762,0.92541207827733762,1.0845836336237962,1.0845836336237962,0.95931058120746215,1.0072796756303304,0.85991558237694909,0.91320357706470279,0.91540796119007728,0,0.97366041069287768,{"$f":"Appliances!$AD$125","v":4.9989999999999997},0.54256574400000002,{"$f":"IF(AND(HomeType=2,NewConst!F$249=\"Yes\"), 2.47*NewConst!$F$38,2.35+0.78*N_br)","v":4.6899999999999995},5.3200296026013749,21.257350808682528,18.957823034662248,{"$f":"IF(NewConst!F$135>0,0.028*NewConst!$F$38*MAX((105-G16)/(120-G16),0),0)","v":4.2499523216216408},{"$f":"IF(AND(HomeType=2,NewConst!F$249=\"YES\"),SUM(T16,W16:Y16),SUM(T16,V16:Y16))","v":55.224203445946152},{"$f":"IF(HomeType=2,IF(NewConst!F$249=\"YES\",IF(NewConst!$F$135>0,IF(NewConst!$F$303=\"YES\",SUM(U16,V16,Z16),SUM(V16,Z16)),IF(NewConst!$F$303=\"YES\",SUM(U16,V16),V16)),IF(NewConst!$F$135>0,IF(NewConst!$F$303=\"YES\",SUM(U16,Z16),SUM(Z16)),IF(NewConst!$F$303=\"YES\",SUM(U16),0))),0)","v":0},4176.7300337489905,2.5,0.35000000000000003,6,{"$f":"IF(NewConst!$F$203=NewConst!$I$203,'Detailed Lighting'!BB21,Lighting!BC31)","v":0.10789130895095178}]
[12,"Dec",{"$f":"1","v":1},{"$f":"1","v":1},{"$f":"Locations!CT2","v":0.85},{"$f":"IF(NewConst!$F$111=\"Electric\", DHW!J64,DHW!K64)","v":0.76566868865834126},{"$f":"Locations!AL2","v":52.850464544718484},0.83664164971592903,0.83664164971592903,0.83664164971592903,1.0967699665858615,1.0967699665858615,1.010625275424766,1.1509530689285548,1.1369170125928769,1.2725933719095215,0.92131381900420672,0,1.154258712676234,{"$f":"Appliances!$AD$125","v":4.9989999999999997},0.54256574400000002,{"$f":"IF(AND(HomeType=2,NewConst!F$249=\"Yes\"), 2.47*NewConst!$F$38,2.35+0.78*N_br)","v":4.6899999999999995},5.4440919220502266,21.753069149304828,19.399916720800952,{"$f":"IF(NewConst!F$135>0,0.028*NewConst!$F$38*MAX((105-G17)/(120-G17),0),0)","v":4.3490605939345608},{"$f":"IF(AND(HomeType=2,NewConst!F$249=\"YES\"),SUM(T17,W17:Y17),SUM(T17,V17:Y17))","v":56.286077792156007},{"$f":"IF(HomeType=2,IF(NewConst!F$249=\"YES\",IF(NewConst!$F$135>0,IF(NewConst!$F$303=\"YES\",SUM(U17,V17,Z17),SUM(V17,Z17)),IF(NewConst!$F$303=\"YES\",SUM(U17,V17),V17)),IF(NewConst!$F$135>0,IF(NewConst!$F$303=\"YES\",SUM(U17,Z17),SUM(Z17)),IF(NewConst!$F$303=\"YES\",SUM(U17),0))),0)","v":0},4363.9783148114047,2.5,0.35000000000000003,6,{"$f":"IF(NewConst!$F$203=NewConst!$I$203,'Detailed Lighting'!BB22,Lighting!BC32)","v":0.1204087334139272}]
[null,null,null,null,null,"Annual Avg",{"$f":"(G6*'Monthly Profiles'!D47+G7*'Monthly Profiles'!D48+G8*'Monthly Profiles'!D49+G9*'Monthly Profiles'!D50+G10*'Monthly Profiles'!D51+G11*'Monthly Profiles'!D52+G12*'Monthly Profiles'!D53+G13*'Monthly Profiles'!D54+G14*'Monthly Profiles'!D55+G15*'Monthly Profiles'!D56+G16*'Monthly Profiles'!D57+G17*'Monthly Profiles'!D58)/365","v":57.722899711599034},{"$f":"SUM(H6:H17)","v":12.000000000000002},12.000000000000002,12.000000000000002,12.000000000000002,12.000000000000002,12,12,11.999999999999998,12,11.999999999999998,12,12,{"$f":"Appliances!$AD$125","v":4.9989999999999997},0.54256574400000002,{"$f":"IF(HomeType=2, 2.47*NewConst!$F$38,7.5+2.5*N_br)","v":15},{"$f":"(W6*'Monthly Profiles'!$D$47+W7*'Monthly Profiles'!$D$48+W8*'Monthly Profiles'!$D$49+W9*'Monthly Profiles'!$D$50+W10*'Monthly Profiles'!$D$51+W11*'Monthly Profiles'!$D$52+W12*'Monthly Profiles'!$D$53+W13*'Monthly Profiles'!$D$54+W14*'Monthly Profiles'!$D$55+W15*'Monthly Profiles'!$D$56+W16*'Monthly Profiles'!$D$57+W17*'Monthly Profiles'!$D$58)/365","v":5.2998887169429718},{"$f":"(X6*'Monthly Profiles'!$D$47+X7*'Monthly Profiles'!$D$48+X8*'Monthly Profiles'!$D$49+X9*'Monthly Profiles'!$D$50+X10*'Monthly Profiles'!$D$51+X11*'Monthly Profiles'!$D$52+X12*'Monthly Profiles'!$D$53+X13*'Monthly Profiles'!$D$54+X14*'Monthly Profiles'!$D$55+X15*'Monthly Profiles'!$D$56+X16*'Monthly Profiles'!$D$57+X17*'Monthly Profiles'!$D$58)/365","v":21.176873460994674},{"$f":"(Y6*'Monthly Profiles'!D47+Y7*'Monthly Profiles'!D48+Y8*'Monthly Profiles'!D49+Y9*'Monthly Profiles'!D50+Y10*'Monthly Profiles'!D51+Y11*'Monthly Profiles'!D52+Y12*'Monthly Profiles'!D53+Y13*'Monthly Profiles'!D54+Y14*'Monthly Profiles'!D55+Y15*'Monthly Profiles'!D56+Y16*'Monthly Profiles'!D57+Y17*'Monthly Profiles'!D58)/365","v":18.886051376495789},{"$f":"IF(NewConst!F$135>0,0.028*NewConst!$F$38*MAX((105-G18)/(120-G18),0),0)","v":4.2511896088449559},{"$f":"IF(AND(HomeType=2,NewConst!F$249=\"YES\"),SUM(T18,W18:Y18),SUM(T18,V18:Y18))","v":65.361813554433425},{"$f":"IF(HomeType=2,IF(NewConst!F$249=\"YES\",IF(NewConst!$F$135>0,IF(NewConst!$F$303=\"YES\",SUM(U18,V18,Z18),SUM(V18,Z18)),IF(NewConst!$F$303=\"YES\",SUM(U18,V18),V18)),IF(NewConst!$F$135>0,IF(NewConst!$F$303=\"YES\",SUM(U18,Z18),SUM(Z18)),IF(NewConst!$F$303=\"YES\",SUM(U18),0))),0)","v":0},{"$f":"(AC6*'Monthly Profiles'!$D$47+AC7*'Monthly Profiles'!$D$48+AC8*'Monthly Profiles'!$D$49+AC9*'Monthly Profiles'!$D$50+AC10*'Monthly Profiles'!$D$51+AC11*'Monthly Profiles'!$D$52+AC12*'Monthly Profiles'!$D$53+AC13*'Monthly Profiles'!$D$54+AC14*'Monthly Profiles'!$D$55+AC15*'Monthly Profiles'!$D$56+AC16*'Monthly Profiles'!$D$57+AC17*'Monthly Profiles'!$D$58)/365","v":4254.8852198547174},{"$f":"(AD6*'Monthly Profiles'!$D$47+AD7*'Monthly Profiles'!$D$48+AD8*'Monthly Profiles'!$D$49+AD9*'Monthly Profiles'!$D$50+AD10*'Monthly Profiles'!$D$51+AD11*'Monthly Profiles'!$D$52+AD12*'Monthly Profiles'!$D$53+AD13*'Monthly Profiles'!$D$54+AD14*'Monthly Profiles'!$D$55+AD15*'Monthly Profiles'!$D$56+AD16*'Monthly Profiles'!$D$57+AD17*'Monthly Profiles'!$D$58)/365","v":2.5},{"$f":"(AE6*'Monthly Profiles'!$D$47+AE7*'Monthly Profiles'!$D$48+AE8*'Monthly Profiles'!$D$49+AE9*'Monthly Profiles'!$D$50+AE10*'Monthly Profiles'!$D$51+AE11*'Monthly Profiles'!$D$52+AE12*'Monthly Profiles'!$D$53+AE13*'Monthly Profiles'!$D$54+AE14*'Monthly Profiles'!$D$55+AE15*'Monthly Profiles'!$D$56+AE16*'Monthly Profiles'!$D$57+AE17*'Monthly Profiles'!$D$58)/365","v":0.35},{"$f":"(AF6*'Monthly Profiles'!$D$47+AF7*'Monthly Profiles'!$D$48+AF8*'Monthly Profiles'!$D$49+AF9*'Monthly Profiles'!$D$50+AF10*'Monthly Profiles'!$D$51+AF11*'Monthly Profiles'!$D$52+AF12*'Monthly Profiles'!$D$53+AF13*'Monthly Profiles'!$D$54+AF14*'Monthly Profiles'!$D$55+AF15*'Monthly Profiles'!$D$56+AF16*'Monthly Profiles'!$D$57+AF17*'Monthly Profiles'!$D$58)/365","v":6},{"$f":"SUM(AG6:AG17)","v":1}]
[null,null,null,null,null,null,null,null,null,null,null,null,null,null,null,null,null,null,"Btu/day"]
[null,null,null,null,null,null,null,null,null,null,null,null,null,null,null,null,null,null,null,null,null,null,null,null,null,4257]
[]
[null,null,null,null,null,null,null,null,null,null,null,null,null,null,null,null,null,null,null,null,null,null,null,null,null,"Reference DHW Heat Gain",null,null,null,null,null,null,null,null,"from Table 18. Effects of Alternative DHW Distribution Systems on Daily Hot Water Volume, Internal Heat Gains, and Recovery Load"]
[null,null,null,null,null,null,null,null,null,null,null,null,null,null,null,null,null,null,null,null,null,null,null,null,null,null,null,null,null,null,null,null,null,null,"December 2008 Building America Research Benchmark Definition"]
["NCTH Monthly Profiles",null,null,null,null,null,null,null,null,null,null,null,null,null,null,null,null,null,null,null,null,null,null,null,null,null,null,null,null,null,null,null,null,null,"Interior Heat Gain from DHW (Btu/day)",null,null,null,null,null,null,null,null,null,null,null,"Change in Shower DHW (gal/day)",null,null,null,null,null,null,null,null,null,null,null,"Change in Bath DHW (gal/day)",null,null,null,null,null,null,null,null,null,null,null,"Change in Sink DHW (gal/day)"]
[null,null,null,null,null,null,null,"Daily Energy Use Multipliers",null,null,null,null,null,null,null,null,null,null,null,null,null,null,null,null,null,"Common Area","Total DHW for ","Total DHW for ","Interior Heat Gain ","Equivalent DHW",null,null,null,null,"Trunk and branch, Copper, Basement or interior space, None","Trunk and branch, PEX, Basement or interior space, None","Trunk and branch, Copper, Attic or garage, None","Trunk and branch, PEX, Attic or garage, None","Home run, PEX, Basement or interior space, None","Home run, PEX, Attic or garage, None","Trunk and branch, Copper, Basement or interior space, Timer control","Trunk and branch, Copper, Basement or interior space, Demand control","Trunk and branch, PEX, Basement or interior space, Timer control","Trunk and branch, PEX, Basement or interior space, Demand control",{"$f":"NewConst!$F$153 & \", \" & NewConst!$F$151 & \", \" & NewConst!$F$156 & \", \" & NewConst!$F$154","v":"Trunk and branch, Copper, Basement or interior space, None"},null,"Trunk and branch, Copper, Basement or interior space, None","Trunk and branch, PEX, Basement or interior space, None","Trunk and branch, Copper, Attic or garage, None","Trunk and branch, PEX, Attic or garage, None","Home run, PEX, Basement or interior space, None","Home run, PEX, Attic or garage, None","Trunk and branch, Copper, Basement or interior space, Timer control","Trunk and branch, Copper, Basement or interior space, Demand control","Trunk and branch, PEX, Basement or interior space, Timer control","Trunk and branch, PEX, Basement or interior space, Demand control",{"$f":"NewConst!$F$153 & \", \" & NewConst!$F$151 & \", \" & NewConst!$F$156 & \", \" & NewConst!$F$154","v":"Trunk and branch, Copper, Basement or interior space, None"},null,"Trunk and branch, Copper, Basement or interior space, None","Trunk and branch, PEX, Basement or interior space, None","Trunk and branch, Copper, Attic or garage, None","Trunk and branch, PEX, Attic or garage, None","Home run, PEX, Basement or interior space, None","Home run, PEX, Attic or garage, None","Trunk and branch, Copper, Basement or interior space, Timer control","Trunk and branch, Copper, Basement or interior space, Demand control","Trunk and branch, PEX, Basement or interior space, Timer control","Trunk and branch, PEX, Basement or interior space, Demand control",{"$f":"NewConst!$F$153 & \", \" & NewConst!$F$151 & \", \" & NewConst!$F$156 & \", \" & NewConst!$F$154","v":"Trunk and branch, Copper, Basement or interior space, None"},null,"Trunk and branch, Copper, Basement or interior space, None","Trunk and branch, PEX, Basement or interior space, None","Trunk and branch, Copper, Attic or garage, None","Trunk and branch, PEX, Attic or garage, None","Home run, PEX, Basement or interior space, None","Home run, PEX, Attic or garage, None","Trunk and branch, Copper, Basement or interior space, Timer control","Trunk and branch, Copper, Basement or interior space, Demand control","Trunk and branch, PEX, Basement or interior space, Timer control","Trunk and branch, PEX, Basement or interior space, Demand control",{"$f":"NewConst!$F$153 & \", \" & NewConst!$F$151 & \", \" & NewConst!$F$156 & \", \" & NewConst!$F$154","v":"Trunk and branch, Copper, Basement or interior space, None"}]
[null,null,"Heating Active","Cooling Active","Estimated Interior Shading","Corrected Water Heater Recovery",null,{"$f":"H4","v":"Refrigerator"},{"$f":"I4","v":"Freezer"},"Spa Heater","Cooking Appliances","Dishwasher","Clothes washer","Clothes dryer","Home Entertainment","Waterbed heater","Spa pump","Ceiling Fans","Other MELs","Dishwasher DHW","Common Area Dishwasher","Clothes Washer DHW","Bath DHW","Shower DHW","Sinks DHW","Sinks","Unit","Common Areas","from DHW in Unit","for Recirc Energy","Lighting Fraction"]
[null,"Month","(1=yes)","(1=yes)","Multiplier","Efficiency","Mains Temp (ºF)",null,null,null,null,null,null,null,null,null,null,null,null,"(gal/day)","(gal/day)","(gal/day)","(gal/day)","(gal/day)","(gal/day)","(gal/day)","(gal/day)","(gal/day)","(Btu/day)","(gal/day)","%"]
[1,"Jan",{"$f":"'Monthly Profiles'!C6","v":1},{"$f":"'Monthly Profiles'!D6","v":1},{"$f":"'Monthly Profiles'!E6","v":0.85},{"$f":"DHW!N53","v":0.76582056075532934},{"$f":"'Monthly Profiles'!G6","v":48.718290388117268},{"$f":"H6","v":0.83664164971592903},{"$f":"I6","v":0.83664164971592903},0.83664164971592903,1.0967699665858615,1.0967699665858615,1.010625275424766,1.1509530689285548,1.1369170125928769,1.2725933719095215,0.92131381900420672,0,1.154258712676234,{"$f":"IF(NewConst!$F$286=\"yes\", Appliances!$AF$125, 'Monthly Profiles'!T6)","v":2.0456097066410499},{"$f":"IF(NewConst!$F$303=\"YES\", IF(NewConst!$F$304=\"yes\", Appliances!$AG$125, 'Monthly Profiles'!$U6), 0)","v":0.70511546706187678},{"$f":"IF(NewConst!F$247=\"yes\", (IF(Appliances!AF$237=\"yes\",IF(AND(Appliances!AF$238=\"yes\",G28<70),Appliances!AF$267+(Appliances!AF$267*((1/Appliances!AF$257)*(70-G28)+(G28-NewConst!F$112))/(NewConst!F$112-G28)),0),IF(Appliances!AF$238=\"yes\",Appliances!AF$267+(Appliances!AF$267*((1/Appliances!AF$257)*(Appliances!AF$258-G28)+(G28-NewConst!F$112))/(NewConst!F$112-G28)),Appliances!AF$267)*(Appliances!AF$261/365))), 'Monthly Profiles'!V6)","v":8.8094921419918624},{"$f":"(3.5+1.17*N_br)*MAX((105-G28)/(NewConst!$F$112-G28),0)+HLOOKUP(NewConst!$F$153 & \", \" & NewConst!$F$151 & \", \" & NewConst!$F$156 & \", \" & NewConst!$F$154,'Monthly Profiles'!$BG$25:$BQ$40,A28+3,FALSE )","v":4.8539183816775937},{"$f":"(14+4.67*N_br)*MAX((105-G28)/(NewConst!$F$112-G28),0)+HLOOKUP(NewConst!$F$153 & \", \" & NewConst!$F$151 & \", \" & NewConst!$F$156 & \", \" & NewConst!$F$154,'Monthly Profiles'!$AU$25:$BE$39,A28+3,FALSE )","v":19.394900694834437},{"$f":"(12.5+4.16*N_br)*MAX((105-G28)/(NewConst!$F$112-G28),0)+HLOOKUP(NewConst!$F$153 & \", \" & NewConst!$F$151 & \", \" & NewConst!$F$156 & \", \" & NewConst!$F$154,'Monthly Profiles'!$BS$25:$CC$39,A28+3,FALSE )","v":17.296844675364664},{"$f":"IF(NewConst!F$135>0,(0.028*NewConst!$F$38)*MAX((105-$G28)/(NewConst!$F$112-$G28),0),0)","v":3.8775952835084921},{"$f":"SUM(AD28, T28,V28:Y28)","v":52.400765600509615},{"$f":"IF(HomeType=2,IF(NewConst!F$249=\"YES\",IF(NewConst!$F$135>0,IF(NewConst!$F$303=\"YES\",SUM(U28,V28,Z28),SUM(V28,Z28)),IF(NewConst!$F$303=\"YES\",SUM(U28,V28),V28)),IF(NewConst!$F$135>0,IF(NewConst!$F$303=\"YES\",SUM(U28,Z28),SUM(Z28)),IF(NewConst!$F$303=\"YES\",SUM(U28),0))),0)","v":0},{"$f":"HLOOKUP(NewConst!$F$153 & \", \" & NewConst!$F$151 & \", \" & NewConst!$F$156 & \", \" & NewConst!$F$154,'Monthly Profiles'!$AI$25:$AS$40,A28+3,FALSE )","v":4522.5618428124599},{"$f":"IF(NewConst!$F$154=\"Timer control\",(18135+2538*N_br+(-12265-1495*N_br)*R_ins/2)/(8.33*((120-'Monthly Profiles'!G28)*4184*0.00023886)),IF(NewConst!$F$154=\"Demand control\",(-3648+2344*N_br+(-1328-761*N_br)*R_ins/2)/(8.33*((120-'Monthly Profiles'!G28)*4184*0.000238861)),0))","v":0},{"$f":"IF(NewConst!$F$203=NewConst!$I$203,'Detailed Lighting'!BB11,Lighting!BC21)","v":0.11591771923020544},null,null,null,{"$f":"('Monthly Profiles'!$Z$20+735*(N_br-3)-(948+158*(N_br-3))*R_ins/2)*(1+1/'Monthly Profiles'!$Z$20*(362+(63*(N_br-3)))*SIN(2*PI()*('Monthly Profiles'!$A28/12)+0.3))","v":4522.5618428124599},{"$f":"('Monthly Profiles'!$Z$20-1047-732*R_ins/2)*(1+1/'Monthly Profiles'!$Z$20*735*(N_br-3)+1/'Monthly Profiles'!$Z$20*(362+(63*(N_br-3)))*SIN(2*PI()*('Monthly Profiles'!$A28/12)+0.3))","v":3410.2474783716225},{"$f":"('Monthly Profiles'!$Z$20+735*(N_br-3)-(3356+589*(N_br-3))-(90+11*(N_br-3))*R_ins/2)*(1+1/'Monthly Profiles'!$Z$20*(362+(63*(N_br-3)))*SIN(2*PI()*('Monthly Profiles'!$A28/12)+0.3))","v":957.20653520648966},{"$f":"('Monthly Profiles'!$Z$20-1047)*(1+1/'Monthly Profiles'!$Z$20*735*(N_br-3)-1/'Monthly Profiles'!$Z$20*(3356+589*(N_br-3)+(90+11*(N_br-3))*R_ins/2))*(1+1/'Monthly Profiles'!$Z$20*(362+(63*(N_br-3)))*SIN(2*PI()*('Monthly Profiles'!$A28/12)+0.3))","v":721.78364529312466},{"$f":"('Monthly Profiles'!$Z$20+735*(N_br-3)-(1142+378*(N_br-3))-(649+73*(N_br-3))*R_ins/2)*(1+1/'Monthly Profiles'!$Z$20*(362+(63*(N_br-3)))*SIN(2*PI()*('Monthly Profiles'!$A28/12)+0.3))","v":3309.3211511300947},{"$f":"('Monthly Profiles'!$Z$20+735*(N_br-3)-(1142+378*(N_br-3)))*(1-1/'Monthly Profiles'!$Z$20*(3356+589*(N_br-3)+(90+11*(N_br-3))*R_ins/2))*(1+1/'Monthly Profiles'!$Z$20*(362+(63*(N_br-3)))*SIN(2*PI()*('Monthly Profiles'!$A28/12)+0.3))","v":700.42244706793861},{"$f":"('Monthly Profiles'!$Z$20+735*(N_br-3)+(20148+2140*(N_br-3))-(11956+1355*(N_br-3))*R_ins/2)*(1+1/'Monthly Profiles'!$Z$20*(362+(63*(N_br-3)))*SIN(2*PI()*('Monthly Profiles'!$A28/12)+0.3))","v":25927.442277152477},{"$f":"('Monthly Profiles'!$Z$20+735*(N_br-3)+(1458+1066*(N_br-3))-(1332+545*(N_br-3))*R_ins/2)*(1+1/'Monthly Profiles'!$Z$20*(362+(63*(N_br-3)))*SIN(2*PI()*('Monthly Profiles'!$A28/12)+0.3))","v":6071.515370371907},{"$f":"('Monthly Profiles'!$Z$20-1047)*(1+1/'Monthly Profiles'!$Z$20*735*(N_br-3)+1/'Monthly Profiles'!$Z$20*(20148+2140*(N_br-3))-1/'Monthly Profiles'!$Z$20*((11956+1355*(N_br-3))*R_ins/2))*(1+1/'Monthly Profiles'!$Z$20*(362+(63*(N_br-3)))*SIN(2*PI()*('Monthly Profiles'!$A28/12)+0.3))","v":19550.643577556835},{"$f":"('Monthly Profiles'!$Z$20-1047)*(1+1/'Monthly Profiles'!$Z$20*735*(N_br-3)+1/'Monthly Profiles'!$Z$20*(1458+1066*(N_br-3))-1/'Monthly Profiles'!$Z$20*((1332+545*(N_br-3))*R_ins/2))*(1+1/'Monthly Profiles'!$Z$20*(362+(63*(N_br-3)))*SIN(2*PI()*('Monthly Profiles'!$A28/12)+0.3))","v":4578.2392151500644},{"$f":"'Monthly Profiles'!AC6","v":4522.5618428124599},null,{"$f":"(-0.305-0.075*N_br)*R_ins/2","v":0},{"$f":"-0.85-0.44*R_ins/2","v":-0.85},{"$f":"(-1.14-0.36*(N_br)+(-0.34-0.08*(N_br))*R_ins/2)*(1+0.11*SIN(2*PI()*('Monthly Profiles'!$A28/12)+0.3))","v":-2.3991442044607809},{"$f":"-0.85+('Monthly Profiles'!$X$18-0.85)/'Monthly Profiles'!$X$18*((-1.14-0.36*(N_br)+(-0.34-0.08*(N_br))*R_ins/2)*(1+0.11*SIN(2*PI()*('Monthly Profiles'!$A28/12)+0.3)))","v":-3.1528470538191735},{"$f":"-0.52-0.23*N_br+(-0.35+0.02*N_br)*R_ins/2","v":-1.21},{"$f":"-0.52-0.23*N_br+('Monthly Profiles'!$X$18-0.52-0.23*N_br)/'Monthly Profiles'!$X$18*((-1.14-0.36*(N_br)+(-0.34-0.08*(N_br))*R_ins/2)*(1+0.11*SIN(2*PI()*('Monthly Profiles'!$A28/12)+0.3)))","v":-3.472062378253316},{"$f":"-2.15+0.25*N_br+(-0.16-0.08*N_br)*R_ins/2","v":-1.4},{"$f":"-2.61+0.35*N_br+(0.05-0.13*N_br)*R_ins/2","v":-1.56},{"$f":"-0.85+('Monthly Profiles'!$X$18-0.85)/'Monthly Profiles'!$X$18*((-2.15+0.25*(N_br)+(-0.16-0.08*(N_br))*R_ins/2))","v":-2.1938066246090648},{"$f":"-0.85+('Monthly Profiles'!$X$18-0.85)/'Monthly Profiles'!$X$18*((-2.61+0.35*(N_br)+(0.05-0.13*(N_br))*R_ins/2))","v":-2.347384524564387},{"$f":"0","v":0},null,{"$f":"(0.03-0.03*N_br)*R_ins/2","v":0},{"$f":"-0.12-0.06*R_ins/2","v":-0.12},{"$f":"(-0.28-0.11*(N_br)+(0.06-0.04*(N_br))*R_ins/2)*(1+0.13*SIN(2*PI()*('Monthly Profiles'!$A28/12)+0.3))","v":-0.66817418269344797},{"$f":"-0.12+('Monthly Profiles'!$W$18-0.12)/'Monthly Profiles'!$W$18*((-0.28-0.11*(N_br)+(0.06-0.04*(N_br))*R_ins/2)*(1+0.13*SIN(2*PI()*('Monthly Profiles'!$A28/12)+0.3)))","v":-0.77304539297624364},{"$f":"-0.06-0.05*N_br+(-0.11+0.03*N_br)*R_ins/2","v":-0.21000000000000002},{"$f":"-0.06-0.05*N_br+('Monthly Profiles'!$W$18-0.06-0.05*N_br)/'Monthly Profiles'!$W$18*((-0.28-0.11*(N_br)+(0.06-0.04*(N_br))*R_ins/2)*(1+0.13*SIN(2*PI()*('Monthly Profiles'!$A28/12)+0.3)))","v":-0.85169880068834058},{"$f":"-0.27+0.04*N_br+(-0.01-0.03*N_br)*R_ins/2","v":-0.15000000000000002},{"$f":"-0.26+0.01*N_br+(-0.03-0*N_br)*R_ins/2","v":-0.23},{"$f":"-0.12+('Monthly Profiles'!$W$18-0.12)/'Monthly Profiles'!$W$18*((-0.27+0.04*(N_br)+(-0.01-0.03*(N_br))*R_ins/2))","v":-0.26660370227351066},{"$f":"-0.12+('Monthly Profiles'!$W$18-0.12)/'Monthly Profiles'!$W$18*((-0.26+0.01*(N_br)+(-0.03-0*(N_br))*R_ins/2))","v":-0.34479234348604965},{"$f":"0","v":0},null,{"$f":"(-0.755-0.245*N_br)*R_ins/2","v":0},{"$f":"-1.69-1.74*R_ins/2","v":-1.69},{"$f":"(-0.89-0.32*(N_br)+(-1.86+0.31*(N_br))*R_ins/2)*(1+0.16*SIN(2*PI()*('Monthly Profiles'!$A28/12)+0.3))","v":-2.0671444902554925},{"$f":"-1.69+('Monthly Profiles'!$Y$18-1.69)/'Monthly Profiles'!$Y$18*((-0.89-0.32*(N_br)+(-1.86+0.31*(N_br))*R_ins/2)*(1+0.16*SIN(2*PI()*('Monthly Profiles'!$A28/12)+0.3)))","v":-3.5721680693568651},{"$f":"0.21-0.72*N_br+(-0.75-0.15*N_br)*R_ins/2","v":-1.9500000000000002},{"$f":"0.21-0.72*N_br+('Monthly Profiles'!$Y$18+0.21-0.72*N_br)/'Monthly Profiles'!$Y$18*((-0.89-0.32*(N_br)+(-1.86+0.31*(N_br))*R_ins/2)*(1+0.16*SIN(2*PI()*('Monthly Profiles'!$A28/12)+0.3)))","v":-3.8037101584493844},{"$f":"-2.01-0.95*N_br+(-0.36-0.13*N_br)*R_ins/2","v":-4.8599999999999994},{"$f":"-1.34-0.91*N_br+(-0.64-0.07*N_br)*R_ins/2","v":-4.07},{"$f":"-1.69+('Monthly Profiles'!$Y$18-1.69)/'Monthly Profiles'!$Y$18*((-2.01-0.95*(N_br)+(-0.36-0.13*(N_br))*R_ins/2))","v":-6.1151076111006546},{"$f":"-1.69+('Monthly Profiles'!$Y$18-1.69)/'Monthly Profiles'!$Y$18*((-1.34-0.91*(N_br)+(-0.64-0.07*(N_br))*R_ins/2))","v":-5.3957999953044595},{"$f":"0","v":0}]
[2,"Feb",{"$f":"'Monthly Profiles'!C7","v":1},{"$f":"'Monthly Profiles'!D7","v":1},{"$f":"'Monthly Profiles'!E7","v":0.85},{"$f":"DHW!N54","v":0.76582056075532934},{"$f":"'Monthly Profiles'!G7","v":47.641339778292384},{"$f":"H7","v":0.83495826611489121},0.83495826611489121,0.83495826611489121,1.0967699665858615,1.0967699665858615,1.0018116829065269,1.1442419723167263,1.1289636167021313,1.2654392425039453,0.9284852177785069,0,1.1605684359598141,{"$f":"IF(NewConst!$F$286=\"yes\", Appliances!$AF$125, 'Monthly Profiles'!T7)","v":2.0456097066410499},{"$f":"IF(NewConst!$F$303=\"YES\", IF(NewConst!$F$304=\"yes\", Appliances!$AG$125, 'Monthly Profiles'!$U7), 0)","v":0.70511546706187678},{"$f":"IF(NewConst!F$247=\"yes\", (IF(Appliances!AF$237=\"yes\",IF(AND(Appliances!AF$238=\"yes\",G29<70),Appliances!AF$267+(Appliances!AF$267*((1/Appliances!AF$257)*(70-G29)+(G29-NewConst!F$112))/(NewConst!F$112-G29)),0),IF(Appliances!AF$238=\"yes\",Appliances!AF$267+(Appliances!AF$267*((1/Appliances!AF$257)*(Appliances!AF$258-G29)+(G29-NewConst!F$112))/(NewConst!F$112-G29)),Appliances!AF$267)*(Appliances!AF$261/365))), 'Monthly Profiles'!V7)","v":8.9081600539351982},{"$f":"(3.5+1.17*N_br)*MAX((105-G29)/(NewConst!$F$112-G29),0)+HLOOKUP(NewConst!$F$153 & \", \" & NewConst!$F$151 & \", \" & NewConst!$F$156 & \", \" & NewConst!$F$154,'Monthly Profiles'!$BG$25:$BQ$40,A29+3,FALSE )","v":4.8821120580612769},{"$f":"(14+4.67*N_br)*MAX((105-G29)/(NewConst!$F$112-G29),0)+HLOOKUP(NewConst!$F$153 & \", \" & NewConst!$F$151 & \", \" & NewConst!$F$156 & \", \" & NewConst!$F$154,'Monthly Profiles'!$AU$25:$BE$39,A29+3,FALSE )","v":19.507554742695628},{"$f":"(12.5+4.16*N_br)*MAX((105-G29)/(NewConst!$F$112-G29),0)+HLOOKUP(NewConst!$F$153 & \", \" & NewConst!$F$151 & \", \" & NewConst!$F$156 & \", \" & NewConst!$F$154,'Monthly Profiles'!$BS$25:$CC$39,A29+3,FALSE )","v":17.397312298198386},{"$f":"IF(NewConst!F$135>0,(0.028*NewConst!$F$38)*MAX((105-$G29)/(NewConst!$F$112-$G29),0),0)","v":3.9001180492358278},52.740748859531536,{"$f":"IF(HomeType=2,IF(NewConst!F$249=\"YES\",IF(NewConst!$F$135>0,IF(NewConst!$F$303=\"YES\",SUM(U29,V29,Z29),SUM(V29,Z29)),IF(NewConst!$F$303=\"YES\",SUM(U29,V29),V29)),IF(NewConst!$F$135>0,IF(NewConst!$F$303=\"YES\",SUM(U29,Z29),SUM(Z29)),IF(NewConst!$F$303=\"YES\",SUM(U29),0))),0)","v":0},{"$f":"HLOOKUP(NewConst!$F$153 & \", \" & NewConst!$F$151 & \", \" & NewConst!$F$156 & \", \" & NewConst!$F$154,'Monthly Profiles'!$AI$25:$AS$40,A29+3,FALSE )","v":4609.9882894913962},{"$f":"IF(NewConst!$F$154=\"Timer control\",(18135+2538*N_br+(-12265-1495*N_br)*R_ins/2)/(8.33*((120-'Monthly Profiles'!G29)*4184*0.00023886)),IF(NewConst!$F$154=\"Demand control\",(-3648+2344*N_br+(-1328-761*N_br)*R_ins/2)/(8.33*((120-'Monthly Profiles'!G29)*4184*0.000238861)),0))","v":0},{"$f":"IF(NewConst!$F$203=NewConst!$I$203,'Detailed Lighting'!BB12,Lighting!BC22)","v":9.173891494051005E-2},null,null,null,{"$f":"('Monthly Profiles'!$Z$20+735*(N_br-3)-(948+158*(N_br-3))*R_ins/2)*(1+1/'Monthly Profiles'!$Z$20*(362+(63*(N_br-3)))*SIN(2*PI()*('Monthly Profiles'!$A29/12)+0.3))","v":4609.9882894913962},{"$f":"('Monthly Profiles'!$Z$20-1047-732*R_ins/2)*(1+1/'Monthly Profiles'!$Z$20*735*(N_br-3)+1/'Monthly Profiles'!$Z$20*(362+(63*(N_br-3)))*SIN(2*PI()*('Monthly Profiles'!$A29/12)+0.3))","v":3476.1715784043649},{"$f":"('Monthly Profiles'!$Z$20+735*(N_br-3)-(3356+589*(N_br-3))-(90+11*(N_br-3))*R_ins/2)*(1+1/'Monthly Profiles'!$Z$20*(362+(63*(N_br-3)))*SIN(2*PI()*('Monthly Profiles'!$A29/12)+0.3))","v":975.71046484184831},{"$f":"('Monthly Profiles'!$Z$20-1047)*(1+1/'Monthly Profiles'!$Z$20*735*(N_br-3)-1/'Monthly Profiles'!$Z$20*(3356+589*(N_br-3)+(90+11*(N_br-3))*R_ins/2))*(1+1/'Monthly Profiles'!$Z$20*(362+(63*(N_br-3)))*SIN(2*PI()*('Monthly Profiles'!$A29/12)+0.3))","v":735.73657320703137},{"$f":"('Monthly Profiles'!$Z$20+735*(N_br-3)-(1142+378*(N_br-3))-(649+73*(N_br-3))*R_ins/2)*(1+1/'Monthly Profiles'!$Z$20*(362+(63*(N_br-3)))*SIN(2*PI()*('Monthly Profiles'!$A29/12)+0.3))","v":3373.2942263955133},{"$f":"('Monthly Profiles'!$Z$20+735*(N_br-3)-(1142+378*(N_br-3)))*(1-1/'Monthly Profiles'!$Z$20*(3356+589*(N_br-3)+(90+11*(N_br-3))*R_ins/2))*(1+1/'Monthly Profiles'!$Z$20*(362+(63*(N_br-3)))*SIN(2*PI()*('Monthly Profiles'!$A29/12)+0.3))","v":713.96243786289801},{"$f":"('Monthly Profiles'!$Z$20+735*(N_br-3)+(20148+2140*(N_br-3))-(11956+1355*(N_br-3))*R_ins/2)*(1+1/'Monthly Profiles'!$Z$20*(362+(63*(N_br-3)))*SIN(2*PI()*('Monthly Profiles'!$A29/12)+0.3))","v":26428.650271326645},{"$f":"('Monthly Profiles'!$Z$20+735*(N_br-3)+(1458+1066*(N_br-3))-(1332+545*(N_br-3))*R_ins/2)*(1+1/'Monthly Profiles'!$Z$20*(362+(63*(N_br-3)))*SIN(2*PI()*('Monthly Profiles'!$A29/12)+0.3))","v":6188.8849129535656},{"$f":"('Monthly Profiles'!$Z$20-1047)*(1+1/'Monthly Profiles'!$Z$20*735*(N_br-3)+1/'Monthly Profiles'!$Z$20*(20148+2140*(N_br-3))-1/'Monthly Profiles'!$Z$20*((11956+1355*(N_br-3))*R_ins/2))*(1+1/'Monthly Profiles'!$Z$20*(362+(63*(N_br-3)))*SIN(2*PI()*('Monthly Profiles'!$A29/12)+0.3))","v":19928.580542860826},{"$f":"('Monthly Profiles'!$Z$20-1047)*(1+1/'Monthly Profiles'!$Z$20*735*(N_br-3)+1/'Monthly Profiles'!$Z$20*(1458+1066*(N_br-3))-1/'Monthly Profiles'!$Z$20*((1332+545*(N_br-3))*R_ins/2))*(1+1/'Monthly Profiles'!$Z$20*(362+(63*(N_br-3)))*SIN(2*PI()*('Monthly Profiles'!$A29/12)+0.3))","v":4666.7419710079739},{"$f":"'Monthly Profiles'!AC7","v":4609.9882894913962},null,0,-0.85,{"$f":"(-1.14-0.36*(N_br)+(-0.34-0.08*(N_br))*R_ins/2)*(1+0.11*SIN(2*PI()*('Monthly Profiles'!$A29/12)+0.3))","v":-2.458120829540881},{"$f":"-0.85+('Monthly Profiles'!$X$18-0.85)/'Monthly Profiles'!$X$18*((-1.14-0.36*(N_br)+(-0.34-0.08*(N_br))*R_ins/2)*(1+0.11*SIN(2*PI()*('Monthly Profiles'!$A29/12)+0.3)))","v":-3.2094564677332618},-1.21,{"$f":"-0.52-0.23*N_br+('Monthly Profiles'!$X$18-0.52-0.23*N_br)/'Monthly Profiles'!$X$18*((-1.14-0.36*(N_br)+(-0.34-0.08*(N_br))*R_ins/2)*(1+0.11*SIN(2*PI()*('Monthly Profiles'!$A29/12)+0.3)))","v":-3.5276692086147405},-1.4,-1.56,{"$f":"-0.85+('Monthly Profiles'!$X$18-0.85)/'Monthly Profiles'!$X$18*((-2.15+0.25*(N_br)+(-0.16-0.08*(N_br))*R_ins/2))","v":-2.1938066246090648},{"$f":"-0.85+('Monthly Profiles'!$X$18-0.85)/'Monthly Profiles'!$X$18*((-2.61+0.35*(N_br)+(0.05-0.13*(N_br))*R_ins/2))","v":-2.347384524564387},{"$f":"0","v":0},null,0,-0.12,{"$f":"(-0.28-0.11*(N_br)+(0.06-0.04*(N_br))*R_ins/2)*(1+0.13*SIN(2*PI()*('Monthly Profiles'!$A29/12)+0.3))","v":-0.68732588772560155},{"$f":"-0.12+('Monthly Profiles'!$W$18-0.12)/'Monthly Profiles'!$W$18*((-0.28-0.11*(N_br)+(0.06-0.04*(N_br))*R_ins/2)*(1+0.13*SIN(2*PI()*('Monthly Profiles'!$A29/12)+0.3)))","v":-0.79176346539333664},-0.21000000000000002,{"$f":"-0.06-0.05*N_br+('Monthly Profiles'!$W$18-0.06-0.05*N_br)/'Monthly Profiles'!$W$18*((-0.28-0.11*(N_br)+(0.06-0.04*(N_br))*R_ins/2)*(1+0.13*SIN(2*PI()*('Monthly Profiles'!$A29/12)+0.3)))","v":-0.8700916486441379},-0.15000000000000002,-0.23,{"$f":"-0.12+('Monthly Profiles'!$W$18-0.12)/'Monthly Profiles'!$W$18*((-0.27+0.04*(N_br)+(-0.01-0.03*(N_br))*R_ins/2))","v":-0.26660370227351066},{"$f":"-0.12+('Monthly Profiles'!$W$18-0.12)/'Monthly Profiles'!$W$18*((-0.26+0.01*(N_br)+(-0.03-0*(N_br))*R_ins/2))","v":-0.34479234348604965},{"$f":"0","v":0},null,0,-1.69,{"$f":"(-0.89-0.32*(N_br)+(-1.86+0.31*(N_br))*R_ins/2)*(1+0.16*SIN(2*PI()*('Monthly Profiles'!$A29/12)+0.3))","v":-2.1386313085344018},{"$f":"-1.69+('Monthly Profiles'!$Y$18-1.69)/'Monthly Profiles'!$Y$18*((-0.89-0.32*(N_br)+(-1.86+0.31*(N_br))*R_ins/2)*(1+0.16*SIN(2*PI()*('Monthly Profiles'!$A29/12)+0.3)))","v":-3.6372579589987111},-1.9500000000000002,{"$f":"0.21-0.72*N_br+('Monthly Profiles'!$Y$18+0.21-0.72*N_br)/'Monthly Profiles'!$Y$18*((-0.89-0.32*(N_br)+(-1.86+0.31*(N_br))*R_ins/2)*(1+0.16*SIN(2*PI()*('Monthly Profiles'!$A29/12)+0.3)))","v":-3.8678159052239898},-4.8599999999999994,-4.07,{"$f":"-1.69+('Monthly Profiles'!$Y$18-1.69)/'Monthly Profiles'!$Y$18*((-2.01-0.95*(N_br)+(-0.36-0.13*(N_br))*R_ins/2))","v":-6.1151076111006546},{"$f":"-1.69+('Monthly Profiles'!$Y$18-1.69)/'Monthly Profiles'!$Y$18*((-1.34-0.91*(N_br)+(-0.64-0.07*(N_br))*R_ins/2))","v":-5.3957999953044595},{"$f":"0","v":0}]
[3,"Mar",{"$f":"'Monthly Profiles'!C8","v":1},{"$f":"'Monthly Profiles'!D8","v":1},{"$f":"'Monthly Profiles'!E8","v":0.85},{"$f":"DHW!N55","v":0.76582056075532934},{"$f":"'Monthly Profiles'!G8","v":49.150569276918105},{"$f":"H8","v":1.0840990390685279},1.0840990390685279,1.0840990390685279,0.99063093756142329,0.99063093756142329,1.0223767321157518,1.0100200400801602,0.96110510342902988,0.90731194108364022,0.92131381900420672,0,1.012920911124042,{"$f":"IF(NewConst!$F$286=\"yes\", Appliances!$AF$125, 'Monthly Profiles'!T8)","v":2.0456097066410499},{"$f":"IF(NewConst!$F$303=\"YES\", IF(NewConst!$F$304=\"yes\", Appliances!$AG$125, 'Monthly Profiles'!$U8), 0)","v":0.70511546706187678},{"$f":"IF(NewConst!F$247=\"yes\", (IF(Appliances!AF$237=\"yes\",IF(AND(Appliances!AF$238=\"yes\",G30<70),Appliances!AF$267+(Appliances!AF$267*((1/Appliances!AF$257)*(70-G30)+(G30-NewConst!F$112))/(NewConst!F$112-G30)),0),IF(Appliances!AF$238=\"yes\",Appliances!AF$267+(Appliances!AF$267*((1/Appliances!AF$257)*(Appliances!AF$258-G30)+(G30-NewConst!F$112))/(NewConst!F$112-G30)),Appliances!AF$267)*(Appliances!AF$261/365))), 'Monthly Profiles'!V8)","v":8.7691483715288872},{"$f":"(3.5+1.17*N_br)*MAX((105-G30)/(NewConst!$F$112-G30),0)+HLOOKUP(NewConst!$F$153 & \", \" & NewConst!$F$151 & \", \" & NewConst!$F$156 & \", \" & NewConst!$F$154,'Monthly Profiles'!$BG$25:$BQ$40,A30+3,FALSE )","v":4.842390427085995},{"$f":"(14+4.67*N_br)*MAX((105-G30)/(NewConst!$F$112-G30),0)+HLOOKUP(NewConst!$F$153 & \", \" & NewConst!$F$151 & \", \" & NewConst!$F$156 & \", \" & NewConst!$F$154,'Monthly Profiles'!$AU$25:$BE$39,A30+3,FALSE )","v":19.348838211509086},{"$f":"(12.5+4.16*N_br)*MAX((105-G30)/(NewConst!$F$112-G30),0)+HLOOKUP(NewConst!$F$153 & \", \" & NewConst!$F$151 & \", \" & NewConst!$F$156 & \", \" & NewConst!$F$154,'Monthly Profiles'!$BS$25:$CC$39,A30+3,FALSE )","v":17.255765031185184},{"$f":"IF(NewConst!F$135>0,(0.028*NewConst!$F$38)*MAX((105-$G30)/(NewConst!$F$112-$G30),0),0)","v":3.8683860758461588},52.261751747950207,{"$f":"IF(HomeType=2,IF(NewConst!F$249=\"YES\",IF(NewConst!$F$135>0,IF(NewConst!$F$303=\"YES\",SUM(U30,V30,Z30),SUM(V30,Z30)),IF(NewConst!$F$303=\"YES\",SUM(U30,V30),V30)),IF(NewConst!$F$135>0,IF(NewConst!$F$303=\"YES\",SUM(U30,Z30),SUM(Z30)),IF(NewConst!$F$303=\"YES\",SUM(U30),0))),0)","v":0},{"$f":"HLOOKUP(NewConst!$F$153 & \", \" & NewConst!$F$151 & \", \" & NewConst!$F$156 & \", \" & NewConst!$F$154,'Monthly Profiles'!$AI$25:$AS$40,A30+3,FALSE )","v":4602.8318090634693},{"$f":"IF(NewConst!$F$154=\"Timer control\",(18135+2538*N_br+(-12265-1495*N_br)*R_ins/2)/(8.33*((120-'Monthly Profiles'!G30)*4184*0.00023886)),IF(NewConst!$F$154=\"Demand control\",(-3648+2344*N_br+(-1328-761*N_br)*R_ins/2)/(8.33*((120-'Monthly Profiles'!G30)*4184*0.000238861)),0))","v":0},{"$f":"IF(NewConst!$F$203=NewConst!$I$203,'Detailed Lighting'!BB13,Lighting!BC23)","v":8.5802989807230542E-2},null,null,null,{"$f":"('Monthly Profiles'!$Z$20+735*(N_br-3)-(948+158*(N_br-3))*R_ins/2)*(1+1/'Monthly Profiles'!$Z$20*(362+(63*(N_br-3)))*SIN(2*PI()*('Monthly Profiles'!$A30/12)+0.3))","v":4602.8318090634693},{"$f":"('Monthly Profiles'!$Z$20-1047-732*R_ins/2)*(1+1/'Monthly Profiles'!$Z$20*735*(N_br-3)+1/'Monthly Profiles'!$Z$20*(362+(63*(N_br-3)))*SIN(2*PI()*('Monthly Profiles'!$A30/12)+0.3))","v":3470.7752189555408},{"$f":"('Monthly Profiles'!$Z$20+735*(N_br-3)-(3356+589*(N_br-3))-(90+11*(N_br-3))*R_ins/2)*(1+1/'Monthly Profiles'!$Z$20*(362+(63*(N_br-3)))*SIN(2*PI()*('Monthly Profiles'!$A30/12)+0.3))","v":974.19578575667981},{"$f":"('Monthly Profiles'!$Z$20-1047)*(1+1/'Monthly Profiles'!$Z$20*735*(N_br-3)-1/'Monthly Profiles'!$Z$20*(3356+589*(N_br-3)+(90+11*(N_br-3))*R_ins/2))*(1+1/'Monthly Profiles'!$Z$20*(362+(63*(N_br-3)))*SIN(2*PI()*('Monthly Profiles'!$A30/12)+0.3))","v":734.59442618720743},{"$f":"('Monthly Profiles'!$Z$20+735*(N_br-3)-(1142+378*(N_br-3))-(649+73*(N_br-3))*R_ins/2)*(1+1/'Monthly Profiles'!$Z$20*(362+(63*(N_br-3)))*SIN(2*PI()*('Monthly Profiles'!$A30/12)+0.3))","v":3368.0575722886319},{"$f":"('Monthly Profiles'!$Z$20+735*(N_br-3)-(1142+378*(N_br-3)))*(1-1/'Monthly Profiles'!$Z$20*(3356+589*(N_br-3)+(90+11*(N_br-3))*R_ins/2))*(1+1/'Monthly Profiles'!$Z$20*(362+(63*(N_br-3)))*SIN(2*PI()*('Monthly Profiles'!$A30/12)+0.3))","v":712.8540927019161},{"$f":"('Monthly Profiles'!$Z$20+735*(N_br-3)+(20148+2140*(N_br-3))-(11956+1355*(N_br-3))*R_ins/2)*(1+1/'Monthly Profiles'!$Z$20*(362+(63*(N_br-3)))*SIN(2*PI()*('Monthly Profiles'!$A30/12)+0.3))","v":26387.622809535816},{"$f":"('Monthly Profiles'!$Z$20+735*(N_br-3)+(1458+1066*(N_br-3))-(1332+545*(N_br-3))*R_ins/2)*(1+1/'Monthly Profiles'!$Z$20*(362+(63*(N_br-3)))*SIN(2*PI()*('Monthly Profiles'!$A30/12)+0.3))","v":6179.277375804023},{"$f":"('Monthly Profiles'!$Z$20-1047)*(1+1/'Monthly Profiles'!$Z$20*735*(N_br-3)+1/'Monthly Profiles'!$Z$20*(20148+2140*(N_br-3))-1/'Monthly Profiles'!$Z$20*((11956+1355*(N_br-3))*R_ins/2))*(1+1/'Monthly Profiles'!$Z$20*(362+(63*(N_br-3)))*SIN(2*PI()*('Monthly Profiles'!$A30/12)+0.3))","v":19897.643697112984},{"$f":"('Monthly Profiles'!$Z$20-1047)*(1+1/'Monthly Profiles'!$Z$20*735*(N_br-3)+1/'Monthly Profiles'!$Z$20*(1458+1066*(N_br-3))-1/'Monthly Profiles'!$Z$20*((1332+545*(N_br-3))*R_ins/2))*(1+1/'Monthly Profiles'!$Z$20*(362+(63*(N_br-3)))*SIN(2*PI()*('Monthly Profiles'!$A30/12)+0.3))","v":4659.4973869699115},{"$f":"'Monthly Profiles'!AC8","v":4602.8318090634693},null,0,-0.85,{"$f":"(-1.14-0.36*(N_br)+(-0.34-0.08*(N_br))*R_ins/2)*(1+0.11*SIN(2*PI()*('Monthly Profiles'!$A30/12)+0.3))","v":-2.4532931706444727},{"$f":"-0.85+('Monthly Profiles'!$X$18-0.85)/'Monthly Profiles'!$X$18*((-1.14-0.36*(N_br)+(-0.34-0.08*(N_br))*R_ins/2)*(1+0.11*SIN(2*PI()*('Monthly Profiles'!$A30/12)+0.3)))","v":-3.2048225820144429},-1.21,{"$f":"-0.52-0.23*N_br+('Monthly Profiles'!$X$18-0.52-0.23*N_br)/'Monthly Profiles'!$X$18*((-1.14-0.36*(N_br)+(-0.34-0.08*(N_br))*R_ins/2)*(1+0.11*SIN(2*PI()*('Monthly Profiles'!$A30/12)+0.3)))","v":-3.523117391535842},-1.4,-1.56,{"$f":"-0.85+('Monthly Profiles'!$X$18-0.85)/'Monthly Profiles'!$X$18*((-2.15+0.25*(N_br)+(-0.16-0.08*(N_br))*R_ins/2))","v":-2.1938066246090648},{"$f":"-0.85+('Monthly Profiles'!$X$18-0.85)/'Monthly Profiles'!$X$18*((-2.61+0.35*(N_br)+(0.05-0.13*(N_br))*R_ins/2))","v":-2.347384524564387},{"$f":"0","v":0},null,0,-0.12,{"$f":"(-0.28-0.11*(N_br)+(0.06-0.04*(N_br))*R_ins/2)*(1+0.13*SIN(2*PI()*('Monthly Profiles'!$A30/12)+0.3))","v":-0.68575818358766061},{"$f":"-0.12+('Monthly Profiles'!$W$18-0.12)/'Monthly Profiles'!$W$18*((-0.28-0.11*(N_br)+(0.06-0.04*(N_br))*R_ins/2)*(1+0.13*SIN(2*PI()*('Monthly Profiles'!$A30/12)+0.3)))","v":-0.79023125718872567},-0.21000000000000002,{"$f":"-0.06-0.05*N_br+('Monthly Profiles'!$W$18-0.06-0.05*N_br)/'Monthly Profiles'!$W$18*((-0.28-0.11*(N_br)+(0.06-0.04*(N_br))*R_ins/2)*(1+0.13*SIN(2*PI()*('Monthly Profiles'!$A30/12)+0.3)))","v":-0.86858606238952452},-0.15000000000000002,-0.23,{"$f":"-0.12+('Monthly Profiles'!$W$18-0.12)/'Monthly Profiles'!$W$18*((-0.27+0.04*(N_br)+(-0.01-0.03*(N_br))*R_ins/2))","v":-0.26660370227351066},{"$f":"-0.12+('Monthly Profiles'!$W$18-0.12)/'Monthly Profiles'!$W$18*((-0.26+0.01*(N_br)+(-0.03-0*(N_br))*R_ins/2))","v":-0.34479234348604965},{"$f":"0","v":0},null,0,-1.69,{"$f":"(-0.89-0.32*(N_br)+(-1.86+0.31*(N_br))*R_ins/2)*(1+0.16*SIN(2*PI()*('Monthly Profiles'!$A30/12)+0.3))","v":-2.1327796007811797},{"$f":"-1.69+('Monthly Profiles'!$Y$18-1.69)/'Monthly Profiles'!$Y$18*((-0.89-0.32*(N_br)+(-1.86+0.31*(N_br))*R_ins/2)*(1+0.16*SIN(2*PI()*('Monthly Profiles'!$A30/12)+0.3)))","v":-3.6319298856413615},-1.9500000000000002,{"$f":"0.21-0.72*N_br+('Monthly Profiles'!$Y$18+0.21-0.72*N_br)/'Monthly Profiles'!$Y$18*((-0.89-0.32*(N_br)+(-1.86+0.31*(N_br))*R_ins/2)*(1+0.16*SIN(2*PI()*('Monthly Profiles'!$A30/12)+0.3)))","v":-3.8625683910044666},-4.8599999999999994,-4.07,{"$f":"-1.69+('Monthly Profiles'!$Y$18-1.69)/'Monthly Profiles'!$Y$18*((-2.01-0.95*(N_br)+(-0.36-0.13*(N_br))*R_ins/2))","v":-6.1151076111006546},{"$f":"-1.69+('Monthly Profiles'!$Y$18-1.69)/'Monthly Profiles'!$Y$18*((-1.34-0.91*(N_br)+(-0.64-0.07*(N_br))*R_ins/2))","v":-5.3957999953044595},{"$f":"0","v":0}]
[4,"Apr",{"$f":"'Monthly Profiles'!C9","v":1},{"$f":"'Monthly Profiles'!D9","v":1},{"$f":"'Monthly Profiles'!E9","v":0.85},{"$f":"DHW!N56","v":0.76582056075532934},{"$f":"'Monthly Profiles'!G9","v":52.85257495724705},{"$f":"H9","v":1.083706249561619},1.083706249561619,1.083706249561619,0.98709296992727535,0.98709296992727535,1.0200264407775546,1.0072796756303304,0.96891896605853411,0.91320357706470279,0.91540796119007728,0,1.0101726760938607,{"$f":"IF(NewConst!$F$286=\"yes\", Appliances!$AF$125, 'Monthly Profiles'!T9)","v":2.0456097066410499},{"$f":"IF(NewConst!$F$303=\"YES\", IF(NewConst!$F$304=\"yes\", Appliances!$AG$125, 'Monthly Profiles'!$U9), 0)","v":0.70511546706187678},{"$f":"IF(NewConst!F$247=\"yes\", (IF(Appliances!AF$237=\"yes\",IF(AND(Appliances!AF$238=\"yes\",G31<70),Appliances!AF$267+(Appliances!AF$267*((1/Appliances!AF$257)*(70-G31)+(G31-NewConst!F$112))/(NewConst!F$112-G31)),0),IF(Appliances!AF$238=\"yes\",Appliances!AF$267+(Appliances!AF$267*((1/Appliances!AF$257)*(Appliances!AF$258-G31)+(G31-NewConst!F$112))/(NewConst!F$112-G31)),Appliances!AF$267)*(Appliances!AF$261/365))), 'Monthly Profiles'!V9)","v":8.4051319859812619},{"$f":"(3.5+1.17*N_br)*MAX((105-G31)/(NewConst!$F$112-G31),0)+HLOOKUP(NewConst!$F$153 & \", \" & NewConst!$F$151 & \", \" & NewConst!$F$156 & \", \" & NewConst!$F$154,'Monthly Profiles'!$BG$25:$BQ$40,A31+3,FALSE )","v":4.7383752516317772},{"$f":"(14+4.67*N_br)*MAX((105-G31)/(NewConst!$F$112-G31),0)+HLOOKUP(NewConst!$F$153 & \", \" & NewConst!$F$151 & \", \" & NewConst!$F$156 & \", \" & NewConst!$F$154,'Monthly Profiles'!$AU$25:$BE$39,A31+3,FALSE )","v":18.933222653096443},{"$f":"(12.5+4.16*N_br)*MAX((105-G31)/(NewConst!$F$112-G31),0)+HLOOKUP(NewConst!$F$153 & \", \" & NewConst!$F$151 & \", \" & NewConst!$F$156 & \", \" & NewConst!$F$154,'Monthly Profiles'!$BS$25:$CC$39,A31+3,FALSE )","v":16.885108956599399},{"$f":"IF(NewConst!F$135>0,(0.028*NewConst!$F$38)*MAX((105-$G31)/(NewConst!$F$112-$G31),0),0)","v":3.7852926403905784},51.007448553949928,{"$f":"IF(HomeType=2,IF(NewConst!F$249=\"YES\",IF(NewConst!$F$135>0,IF(NewConst!$F$303=\"YES\",SUM(U31,V31,Z31),SUM(V31,Z31)),IF(NewConst!$F$303=\"YES\",SUM(U31,V31),V31)),IF(NewConst!$F$135>0,IF(NewConst!$F$303=\"YES\",SUM(U31,Z31),SUM(Z31)),IF(NewConst!$F$303=\"YES\",SUM(U31),0))),0)","v":0},{"$f":"HLOOKUP(NewConst!$F$153 & \", \" & NewConst!$F$151 & \", \" & NewConst!$F$156 & \", \" & NewConst!$F$154,'Monthly Profiles'!$AI$25:$AS$40,A31+3,FALSE )","v":4503.0099746799915},{"$f":"IF(NewConst!$F$154=\"Timer control\",(18135+2538*N_br+(-12265-1495*N_br)*R_ins/2)/(8.33*((120-'Monthly Profiles'!G31)*4184*0.00023886)),IF(NewConst!$F$154=\"Demand control\",(-3648+2344*N_br+(-1328-761*N_br)*R_ins/2)/(8.33*((120-'Monthly Profiles'!G31)*4184*0.000238861)),0))","v":0},{"$f":"IF(NewConst!$F$203=NewConst!$I$203,'Detailed Lighting'!BB14,Lighting!BC24)","v":6.7960689257294551E-2},null,null,null,{"$f":"('Monthly Profiles'!$Z$20+735*(N_br-3)-(948+158*(N_br-3))*R_ins/2)*(1+1/'Monthly Profiles'!$Z$20*(362+(63*(N_br-3)))*SIN(2*PI()*('Monthly Profiles'!$A31/12)+0.3))","v":4503.0099746799915},{"$f":"('Monthly Profiles'!$Z$20-1047-732*R_ins/2)*(1+1/'Monthly Profiles'!$Z$20*735*(N_br-3)+1/'Monthly Profiles'!$Z$20*(362+(63*(N_br-3)))*SIN(2*PI()*('Monthly Profiles'!$A31/12)+0.3))","v":3395.5043501815303},{"$f":"('Monthly Profiles'!$Z$20+735*(N_br-3)-(3356+589*(N_br-3))-(90+11*(N_br-3))*R_ins/2)*(1+1/'Monthly Profiles'!$Z$20*(362+(63*(N_br-3)))*SIN(2*PI()*('Monthly Profiles'!$A31/12)+0.3))","v":953.06835498864757},{"$f":"('Monthly Profiles'!$Z$20-1047)*(1+1/'Monthly Profiles'!$Z$20*735*(N_br-3)-1/'Monthly Profiles'!$Z$20*(3356+589*(N_br-3)+(90+11*(N_br-3))*R_ins/2))*(1+1/'Monthly Profiles'!$Z$20*(362+(63*(N_br-3)))*SIN(2*PI()*('Monthly Profiles'!$A31/12)+0.3))","v":718.66324160525221},{"$f":"('Monthly Profiles'!$Z$20+735*(N_br-3)-(1142+378*(N_br-3))-(649+73*(N_br-3))*R_ins/2)*(1+1/'Monthly Profiles'!$Z$20*(362+(63*(N_br-3)))*SIN(2*PI()*('Monthly Profiles'!$A31/12)+0.3))","v":3295.0143460484319},{"$f":"('Monthly Profiles'!$Z$20+735*(N_br-3)-(1142+378*(N_br-3)))*(1-1/'Monthly Profiles'!$Z$20*(3356+589*(N_br-3)+(90+11*(N_br-3))*R_ins/2))*(1+1/'Monthly Profiles'!$Z$20*(362+(63*(N_br-3)))*SIN(2*PI()*('Monthly Profiles'!$A31/12)+0.3))","v":697.39439177581312},{"$f":"('Monthly Profiles'!$Z$20+735*(N_br-3)+(20148+2140*(N_br-3))-(11956+1355*(N_br-3))*R_ins/2)*(1+1/'Monthly Profiles'!$Z$20*(362+(63*(N_br-3)))*SIN(2*PI()*('Monthly Profiles'!$A31/12)+0.3))","v":25815.353167034344},{"$f":"('Monthly Profiles'!$Z$20+735*(N_br-3)+(1458+1066*(N_br-3))-(1332+545*(N_br-3))*R_ins/2)*(1+1/'Monthly Profiles'!$Z$20*(362+(63*(N_br-3)))*SIN(2*PI()*('Monthly Profiles'!$A31/12)+0.3))","v":6045.2670907437523},{"$f":"('Monthly Profiles'!$Z$20-1047)*(1+1/'Monthly Profiles'!$Z$20*735*(N_br-3)+1/'Monthly Profiles'!$Z$20*(20148+2140*(N_br-3))-1/'Monthly Profiles'!$Z$20*((11956+1355*(N_br-3))*R_ins/2))*(1+1/'Monthly Profiles'!$Z$20*(362+(63*(N_br-3)))*SIN(2*PI()*('Monthly Profiles'!$A31/12)+0.3))","v":19466.122543147816},{"$f":"('Monthly Profiles'!$Z$20-1047)*(1+1/'Monthly Profiles'!$Z$20*735*(N_br-3)+1/'Monthly Profiles'!$Z$20*(1458+1066*(N_br-3))-1/'Monthly Profiles'!$Z$20*((1332+545*(N_br-3))*R_ins/2))*(1+1/'Monthly Profiles'!$Z$20*(362+(63*(N_br-3)))*SIN(2*PI()*('Monthly Profiles'!$A31/12)+0.3))","v":4558.4466434783753},{"$f":"'Monthly Profiles'!AC9","v":4503.0099746799915},null,0,-0.85,{"$f":"(-1.14-0.36*(N_br)+(-0.34-0.08*(N_br))*R_ins/2)*(1+0.11*SIN(2*PI()*('Monthly Profiles'!$A31/12)+0.3))","v":-2.385954795074182},{"$f":"-0.85+('Monthly Profiles'!$X$18-0.85)/'Monthly Profiles'!$X$18*((-1.14-0.36*(N_br)+(-0.34-0.08*(N_br))*R_ins/2)*(1+0.11*SIN(2*PI()*('Monthly Profiles'!$A31/12)+0.3)))","v":-3.1401870425988929},-1.21,{"$f":"-0.52-0.23*N_br+('Monthly Profiles'!$X$18-0.52-0.23*N_br)/'Monthly Profiles'!$X$18*((-1.14-0.36*(N_br)+(-0.34-0.08*(N_br))*R_ins/2)*(1+0.11*SIN(2*PI()*('Monthly Profiles'!$A31/12)+0.3)))","v":-3.4596265827270059},-1.4,-1.56,{"$f":"-0.85+('Monthly Profiles'!$X$18-0.85)/'Monthly Profiles'!$X$18*((-2.15+0.25*(N_br)+(-0.16-0.08*(N_br))*R_ins/2))","v":-2.1938066246090648},{"$f":"-0.85+('Monthly Profiles'!$X$18-0.85)/'Monthly Profiles'!$X$18*((-2.61+0.35*(N_br)+(0.05-0.13*(N_br))*R_ins/2))","v":-2.347384524564387},{"$f":"0","v":0},null,0,-0.12,{"$f":"(-0.28-0.11*(N_br)+(0.06-0.04*(N_br))*R_ins/2)*(1+0.13*SIN(2*PI()*('Monthly Profiles'!$A31/12)+0.3))","v":-0.66389113533735744},{"$f":"-0.12+('Monthly Profiles'!$W$18-0.12)/'Monthly Profiles'!$W$18*((-0.28-0.11*(N_br)+(0.06-0.04*(N_br))*R_ins/2)*(1+0.13*SIN(2*PI()*('Monthly Profiles'!$A31/12)+0.3)))","v":-0.76885932231347276},-0.21000000000000002,{"$f":"-0.06-0.05*N_br+('Monthly Profiles'!$W$18-0.06-0.05*N_br)/'Monthly Profiles'!$W$18*((-0.28-0.11*(N_br)+(0.06-0.04*(N_br))*R_ins/2)*(1+0.13*SIN(2*PI()*('Monthly Profiles'!$A31/12)+0.3)))","v":-0.84758546254555922},-0.15000000000000002,-0.23,{"$f":"-0.12+('Monthly Profiles'!$W$18-0.12)/'Monthly Profiles'!$W$18*((-0.27+0.04*(N_br)+(-0.01-0.03*(N_br))*R_ins/2))","v":-0.26660370227351066},{"$f":"-0.12+('Monthly Profiles'!$W$18-0.12)/'Monthly Profiles'!$W$18*((-0.26+0.01*(N_br)+(-0.03-0*(N_br))*R_ins/2))","v":-0.34479234348604965},{"$f":"0","v":0},null,0,-1.69,{"$f":"(-0.89-0.32*(N_br)+(-1.86+0.31*(N_br))*R_ins/2)*(1+0.16*SIN(2*PI()*('Monthly Profiles'!$A31/12)+0.3))","v":-2.0511573273626449},{"$f":"-1.69+('Monthly Profiles'!$Y$18-1.69)/'Monthly Profiles'!$Y$18*((-0.89-0.32*(N_br)+(-1.86+0.31*(N_br))*R_ins/2)*(1+0.16*SIN(2*PI()*('Monthly Profiles'!$A31/12)+0.3)))","v":-3.5576115022381316},-1.9500000000000002,{"$f":"0.21-0.72*N_br+('Monthly Profiles'!$Y$18+0.21-0.72*N_br)/'Monthly Profiles'!$Y$18*((-0.89-0.32*(N_br)+(-1.86+0.31*(N_br))*R_ins/2)*(1+0.16*SIN(2*PI()*('Monthly Profiles'!$A31/12)+0.3)))","v":-3.7893736829882068},-4.8599999999999994,-4.07,{"$f":"-1.69+('Monthly Profiles'!$Y$18-1.69)/'Monthly Profiles'!$Y$18*((-2.01-0.95*(N_br)+(-0.36-0.13*(N_br))*R_ins/2))","v":-6.1151076111006546},{"$f":"-1.69+('Monthly Profiles'!$Y$18-1.69)/'Monthly Profiles'!$Y$18*((-1.34-0.91*(N_br)+(-0.64-0.07*(N_br))*R_ins/2))","v":-5.3957999953044595},{"$f":"0","v":0}]
[5,"May",{"$f":"'Monthly Profiles'!C10","v":1},{"$f":"'Monthly Profiles'!D10","v":1},{"$f":"'Monthly Profiles'!E10","v":0.85},{"$f":"DHW!N57","v":0.76582056075532934},{"$f":"'Monthly Profiles'!G10","v":57.782371989067066},{"$f":"H10","v":1.0840990390685279},1.0840990390685279,1.0840990390685279,0.99063093756142329,0.99063093756142329,1.0223767321157518,1.0100200400801602,0.96110510342902988,0.90731194108364022,0.92131381900420672,1.5,1.012920911124042,{"$f":"IF(NewConst!$F$286=\"yes\", Appliances!$AF$125, 'Monthly Profiles'!T10)","v":2.0456097066410499},{"$f":"IF(NewConst!$F$303=\"YES\", IF(NewConst!$F$304=\"yes\", Appliances!$AG$125, 'Monthly Profiles'!$U10), 0)","v":0.70511546706187678},{"$f":"IF(NewConst!F$247=\"yes\", (IF(Appliances!AF$237=\"yes\",IF(AND(Appliances!AF$238=\"yes\",G32<70),Appliances!AF$267+(Appliances!AF$267*((1/Appliances!AF$257)*(70-G32)+(G32-NewConst!F$112))/(NewConst!F$112-G32)),0),IF(Appliances!AF$238=\"yes\",Appliances!AF$267+(Appliances!AF$267*((1/Appliances!AF$257)*(Appliances!AF$258-G32)+(G32-NewConst!F$112))/(NewConst!F$112-G32)),Appliances!AF$267)*(Appliances!AF$261/365))), 'Monthly Profiles'!V10)","v":7.8624484605205236},{"$f":"(3.5+1.17*N_br)*MAX((105-G32)/(NewConst!$F$112-G32),0)+HLOOKUP(NewConst!$F$153 & \", \" & NewConst!$F$151 & \", \" & NewConst!$F$156 & \", \" & NewConst!$F$154,'Monthly Profiles'!$BG$25:$BQ$40,A32+3,FALSE )","v":4.583307171297994},{"$f":"(14+4.67*N_br)*MAX((105-G32)/(NewConst!$F$112-G32),0)+HLOOKUP(NewConst!$F$153 & \", \" & NewConst!$F$151 & \", \" & NewConst!$F$156 & \", \" & NewConst!$F$154,'Monthly Profiles'!$AU$25:$BE$39,A32+3,FALSE )","v":18.313613961206393},{"$f":"(12.5+4.16*N_br)*MAX((105-G32)/(NewConst!$F$112-G32),0)+HLOOKUP(NewConst!$F$153 & \", \" & NewConst!$F$151 & \", \" & NewConst!$F$156 & \", \" & NewConst!$F$154,'Monthly Profiles'!$BS$25:$CC$39,A32+3,FALSE )","v":16.332526838662467},{"$f":"IF(NewConst!F$135>0,(0.028*NewConst!$F$38)*MAX((105-$G32)/(NewConst!$F$112-$G32),0),0)","v":3.6614151439755735},49.137506138328426,{"$f":"IF(HomeType=2,IF(NewConst!F$249=\"YES\",IF(NewConst!$F$135>0,IF(NewConst!$F$303=\"YES\",SUM(U32,V32,Z32),SUM(V32,Z32)),IF(NewConst!$F$303=\"YES\",SUM(U32,V32),V32)),IF(NewConst!$F$135>0,IF(NewConst!$F$303=\"YES\",SUM(U32,Z32),SUM(Z32)),IF(NewConst!$F$303=\"YES\",SUM(U32),0))),0)","v":0},{"$f":"HLOOKUP(NewConst!$F$153 & \", \" & NewConst!$F$151 & \", \" & NewConst!$F$156 & \", \" & NewConst!$F$154,'Monthly Profiles'!$AI$25:$AS$40,A32+3,FALSE )","v":4337.2699662510095},{"$f":"IF(NewConst!$F$154=\"Timer control\",(18135+2538*N_br+(-12265-1495*N_br)*R_ins/2)/(8.33*((120-'Monthly Profiles'!G32)*4184*0.00023886)),IF(NewConst!$F$154=\"Demand control\",(-3648+2344*N_br+(-1328-761*N_br)*R_ins/2)/(8.33*((120-'Monthly Profiles'!G32)*4184*0.000238861)),0))","v":0},{"$f":"IF(NewConst!$F$203=NewConst!$I$203,'Detailed Lighting'!BB15,Lighting!BC25)","v":6.1138912853048587E-2},null,null,null,{"$f":"('Monthly Profiles'!$Z$20+735*(N_br-3)-(948+158*(N_br-3))*R_ins/2)*(1+1/'Monthly Profiles'!$Z$20*(362+(63*(N_br-3)))*SIN(2*PI()*('Monthly Profiles'!$A32/12)+0.3))","v":4337.2699662510095},{"$f":"('Monthly Profiles'!$Z$20-1047-732*R_ins/2)*(1+1/'Monthly Profiles'!$Z$20*735*(N_br-3)+1/'Monthly Profiles'!$Z$20*(362+(63*(N_br-3)))*SIN(2*PI()*('Monthly Profiles'!$A32/12)+0.3))","v":3270.5277405839183},{"$f":"('Monthly Profiles'!$Z$20+735*(N_br-3)-(3356+589*(N_br-3))-(90+11*(N_br-3))*R_ins/2)*(1+1/'Monthly Profiles'!$Z$20*(362+(63*(N_br-3)))*SIN(2*PI()*('Monthly Profiles'!$A32/12)+0.3))","v":917.98925055019015},{"$f":"('Monthly Profiles'!$Z$20-1047)*(1+1/'Monthly Profiles'!$Z$20*735*(N_br-3)-1/'Monthly Profiles'!$Z$20*(3356+589*(N_br-3)+(90+11*(N_br-3))*R_ins/2))*(1+1/'Monthly Profiles'!$Z$20*(362+(63*(N_br-3)))*SIN(2*PI()*('Monthly Profiles'!$A32/12)+0.3))","v":692.21176750437166},{"$f":"('Monthly Profiles'!$Z$20+735*(N_br-3)-(1142+378*(N_br-3))-(649+73*(N_br-3))*R_ins/2)*(1+1/'Monthly Profiles'!$Z$20*(362+(63*(N_br-3)))*SIN(2*PI()*('Monthly Profiles'!$A32/12)+0.3))","v":3173.7364211585373},{"$f":"('Monthly Profiles'!$Z$20+735*(N_br-3)-(1142+378*(N_br-3)))*(1-1/'Monthly Profiles'!$Z$20*(3356+589*(N_br-3)+(90+11*(N_br-3))*R_ins/2))*(1+1/'Monthly Profiles'!$Z$20*(362+(63*(N_br-3)))*SIN(2*PI()*('Monthly Profiles'!$A32/12)+0.3))","v":671.72574946296493},{"$f":"('Monthly Profiles'!$Z$20+735*(N_br-3)+(20148+2140*(N_br-3))-(11956+1355*(N_br-3))*R_ins/2)*(1+1/'Monthly Profiles'!$Z$20*(362+(63*(N_br-3)))*SIN(2*PI()*('Monthly Profiles'!$A32/12)+0.3))","v":24865.18053238334},{"$f":"('Monthly Profiles'!$Z$20+735*(N_br-3)+(1458+1066*(N_br-3))-(1332+545*(N_br-3))*R_ins/2)*(1+1/'Monthly Profiles'!$Z$20*(362+(63*(N_br-3)))*SIN(2*PI()*('Monthly Profiles'!$A32/12)+0.3))","v":5822.762005432116},{"$f":"('Monthly Profiles'!$Z$20-1047)*(1+1/'Monthly Profiles'!$Z$20*735*(N_br-3)+1/'Monthly Profiles'!$Z$20*(20148+2140*(N_br-3))-1/'Monthly Profiles'!$Z$20*((11956+1355*(N_br-3))*R_ins/2))*(1+1/'Monthly Profiles'!$Z$20*(362+(63*(N_br-3)))*SIN(2*PI()*('Monthly Profiles'!$A32/12)+0.3))","v":18749.642825687228},{"$f":"('Monthly Profiles'!$Z$20-1047)*(1+1/'Monthly Profiles'!$Z$20*735*(N_br-3)+1/'Monthly Profiles'!$Z$20*(1458+1066*(N_br-3))-1/'Monthly Profiles'!$Z$20*((1332+545*(N_br-3))*R_ins/2))*(1+1/'Monthly Profiles'!$Z$20*(362+(63*(N_br-3)))*SIN(2*PI()*('Monthly Profiles'!$A32/12)+0.3))","v":4390.6662056464866},{"$f":"'Monthly Profiles'!AC10","v":4337.2699662510095},null,0,-0.85,{"$f":"(-1.14-0.36*(N_br)+(-0.34-0.08*(N_br))*R_ins/2)*(1+0.11*SIN(2*PI()*('Monthly Profiles'!$A32/12)+0.3))","v":-2.2741489661836911},{"$f":"-0.85+('Monthly Profiles'!$X$18-0.85)/'Monthly Profiles'!$X$18*((-1.14-0.36*(N_br)+(-0.34-0.08*(N_br))*R_ins/2)*(1+0.11*SIN(2*PI()*('Monthly Profiles'!$A32/12)+0.3)))","v":-3.032868890075358},-1.21,{"$f":"-0.52-0.23*N_br+('Monthly Profiles'!$X$18-0.52-0.23*N_br)/'Monthly Profiles'!$X$18*((-1.14-0.36*(N_br)+(-0.34-0.08*(N_br))*R_ins/2)*(1+0.11*SIN(2*PI()*('Monthly Profiles'!$A32/12)+0.3)))","v":-3.3542090931353576},-1.4,-1.56,{"$f":"-0.85+('Monthly Profiles'!$X$18-0.85)/'Monthly Profiles'!$X$18*((-2.15+0.25*(N_br)+(-0.16-0.08*(N_br))*R_ins/2))","v":-2.1938066246090648},{"$f":"-0.85+('Monthly Profiles'!$X$18-0.85)/'Monthly Profiles'!$X$18*((-2.61+0.35*(N_br)+(0.05-0.13*(N_br))*R_ins/2))","v":-2.347384524564387},{"$f":"0","v":0},null,0,-0.12,{"$f":"(-0.28-0.11*(N_br)+(0.06-0.04*(N_br))*R_ins/2)*(1+0.13*SIN(2*PI()*('Monthly Profiles'!$A32/12)+0.3))","v":-0.62758400089421285},{"$f":"-0.12+('Monthly Profiles'!$W$18-0.12)/'Monthly Profiles'!$W$18*((-0.28-0.11*(N_br)+(0.06-0.04*(N_br))*R_ins/2)*(1+0.13*SIN(2*PI()*('Monthly Profiles'!$A32/12)+0.3)))","v":-0.73337425345809204},-0.21000000000000002,{"$f":"-0.06-0.05*N_br+('Monthly Profiles'!$W$18-0.06-0.05*N_br)/'Monthly Profiles'!$W$18*((-0.28-0.11*(N_br)+(0.06-0.04*(N_br))*R_ins/2)*(1+0.13*SIN(2*PI()*('Monthly Profiles'!$A32/12)+0.3)))","v":-0.81271694288100149},-0.15000000000000002,-0.23,{"$f":"-0.12+('Monthly Profiles'!$W$18-0.12)/'Monthly Profiles'!$W$18*((-0.27+0.04*(N_br)+(-0.01-0.03*(N_br))*R_ins/2))","v":-0.26660370227351066},{"$f":"-0.12+('Monthly Profiles'!$W$18-0.12)/'Monthly Profiles'!$W$18*((-0.26+0.01*(N_br)+(-0.03-0*(N_br))*R_ins/2))","v":-0.34479234348604965},{"$f":"0","v":0},null,0,-1.69,{"$f":"(-0.89-0.32*(N_br)+(-1.86+0.31*(N_br))*R_ins/2)*(1+0.16*SIN(2*PI()*('Monthly Profiles'!$A32/12)+0.3))","v":-1.9156351105256872},{"$f":"-1.69+('Monthly Profiles'!$Y$18-1.69)/'Monthly Profiles'!$Y$18*((-0.89-0.32*(N_br)+(-1.86+0.31*(N_br))*R_ins/2)*(1+0.16*SIN(2*PI()*('Monthly Profiles'!$A32/12)+0.3)))","v":-3.4342163596047044},-1.9500000000000002,{"$f":"0.21-0.72*N_br+('Monthly Profiles'!$Y$18+0.21-0.72*N_br)/'Monthly Profiles'!$Y$18*((-0.89-0.32*(N_br)+(-1.86+0.31*(N_br))*R_ins/2)*(1+0.16*SIN(2*PI()*('Monthly Profiles'!$A32/12)+0.3)))","v":-3.6678442440783998},-4.8599999999999994,-4.07,{"$f":"-1.69+('Monthly Profiles'!$Y$18-1.69)/'Monthly Profiles'!$Y$18*((-2.01-0.95*(N_br)+(-0.36-0.13*(N_br))*R_ins/2))","v":-6.1151076111006546},{"$f":"-1.69+('Monthly Profiles'!$Y$18-1.69)/'Monthly Profiles'!$Y$18*((-1.34-0.91*(N_br)+(-0.64-0.07*(N_br))*R_ins/2))","v":-5.3957999953044595},{"$f":"0","v":0}]
[6,"Jun",{"$f":"'Monthly Profiles'!C11","v":1},{"$f":"'Monthly Profiles'!D11","v":1},{"$f":"'Monthly Profiles'!E11","v":0.85},{"$f":"DHW!N58","v":0.7673936852837967},{"$f":"'Monthly Profiles'!G11","v":62.654932805562403},{"$f":"H11","v":1.0958827242757947},1.0958827242757947,1.0958827242757947,0.88960230623075431,0.88960230623075431,0.99574009694951759,0.87378477886004557,0.99314194020999746,0.91320357706470279,1.1595167508407644,3,0.88846512475725092,{"$f":"IF(NewConst!$F$286=\"yes\", Appliances!$AF$125, 'Monthly Profiles'!T11)","v":2.0456097066410499},{"$f":"IF(NewConst!$F$303=\"YES\", IF(NewConst!$F$304=\"yes\", Appliances!$AG$125, 'Monthly Profiles'!$U11), 0)","v":0.70511546706187678},{"$f":"IF(NewConst!F$247=\"yes\", (IF(Appliances!AF$237=\"yes\",IF(AND(Appliances!AF$238=\"yes\",G33<70),Appliances!AF$267+(Appliances!AF$267*((1/Appliances!AF$257)*(70-G33)+(G33-NewConst!F$112))/(NewConst!F$112-G33)),0),IF(Appliances!AF$238=\"yes\",Appliances!AF$267+(Appliances!AF$267*((1/Appliances!AF$257)*(Appliances!AF$258-G33)+(G33-NewConst!F$112))/(NewConst!F$112-G33)),Appliances!AF$267)*(Appliances!AF$261/365))), 'Monthly Profiles'!V11)","v":7.2479928533820068},{"$f":"(3.5+1.17*N_br)*MAX((105-G33)/(NewConst!$F$112-G33),0)+HLOOKUP(NewConst!$F$153 & \", \" & NewConst!$F$151 & \", \" & NewConst!$F$156 & \", \" & NewConst!$F$154,'Monthly Profiles'!$BG$25:$BQ$40,A33+3,FALSE )","v":4.407730712866897},{"$f":"(14+4.67*N_br)*MAX((105-G33)/(NewConst!$F$112-G33),0)+HLOOKUP(NewConst!$F$153 & \", \" & NewConst!$F$151 & \", \" & NewConst!$F$156 & \", \" & NewConst!$F$154,'Monthly Profiles'!$AU$25:$BE$39,A33+3,FALSE )","v":17.61205952459369},{"$f":"(12.5+4.16*N_br)*MAX((105-G33)/(NewConst!$F$112-G33),0)+HLOOKUP(NewConst!$F$153 & \", \" & NewConst!$F$151 & \", \" & NewConst!$F$156 & \", \" & NewConst!$F$154,'Monthly Profiles'!$BS$25:$CC$39,A33+3,FALSE )","v":15.706863510330255},{"$f":"IF(NewConst!F$135>0,(0.028*NewConst!$F$38)*MAX((105-$G33)/(NewConst!$F$112-$G33),0),0)","v":3.5211543497938123},47.020256307813895,{"$f":"IF(HomeType=2,IF(NewConst!F$249=\"YES\",IF(NewConst!$F$135>0,IF(NewConst!$F$303=\"YES\",SUM(U33,V33,Z33),SUM(V33,Z33)),IF(NewConst!$F$303=\"YES\",SUM(U33,V33),V33)),IF(NewConst!$F$135>0,IF(NewConst!$F$303=\"YES\",SUM(U33,Z33),SUM(Z33)),IF(NewConst!$F$303=\"YES\",SUM(U33),0))),0)","v":0},{"$f":"HLOOKUP(NewConst!$F$153 & \", \" & NewConst!$F$151 & \", \" & NewConst!$F$156 & \", \" & NewConst!$F$154,'Monthly Profiles'!$AI$25:$AS$40,A33+3,FALSE )","v":4150.0216851885953},{"$f":"IF(NewConst!$F$154=\"Timer control\",(18135+2538*N_br+(-12265-1495*N_br)*R_ins/2)/(8.33*((120-'Monthly Profiles'!G33)*4184*0.00023886)),IF(NewConst!$F$154=\"Demand control\",(-3648+2344*N_br+(-1328-761*N_br)*R_ins/2)/(8.33*((120-'Monthly Profiles'!G33)*4184*0.000238861)),0))","v":0},{"$f":"IF(NewConst!$F$203=NewConst!$I$203,'Detailed Lighting'!BB16,Lighting!BC26)","v":5.5334985704423606E-2},null,null,null,{"$f":"('Monthly Profiles'!$Z$20+735*(N_br-3)-(948+158*(N_br-3))*R_ins/2)*(1+1/'Monthly Profiles'!$Z$20*(362+(63*(N_br-3)))*SIN(2*PI()*('Monthly Profiles'!$A33/12)+0.3))","v":4150.0216851885953},{"$f":"('Monthly Profiles'!$Z$20-1047-732*R_ins/2)*(1+1/'Monthly Profiles'!$Z$20*735*(N_br-3)+1/'Monthly Profiles'!$Z$20*(362+(63*(N_br-3)))*SIN(2*PI()*('Monthly Profiles'!$A33/12)+0.3))","v":3129.3327717771649},{"$f":"('Monthly Profiles'!$Z$20+735*(N_br-3)-(3356+589*(N_br-3))-(90+11*(N_br-3))*R_ins/2)*(1+1/'Monthly Profiles'!$Z$20*(362+(63*(N_br-3)))*SIN(2*PI()*('Monthly Profiles'!$A33/12)+0.3))","v":878.35789014679926},{"$f":"('Monthly Profiles'!$Z$20-1047)*(1+1/'Monthly Profiles'!$Z$20*735*(N_br-3)-1/'Monthly Profiles'!$Z$20*(3356+589*(N_br-3)+(90+11*(N_br-3))*R_ins/2))*(1+1/'Monthly Profiles'!$Z$20*(362+(63*(N_br-3)))*SIN(2*PI()*('Monthly Profiles'!$A33/12)+0.3))","v":662.32765500850962},{"$f":"('Monthly Profiles'!$Z$20+735*(N_br-3)-(1142+378*(N_br-3))-(649+73*(N_br-3))*R_ins/2)*(1+1/'Monthly Profiles'!$Z$20*(362+(63*(N_br-3)))*SIN(2*PI()*('Monthly Profiles'!$A33/12)+0.3))","v":3036.7201196529186},{"$f":"('Monthly Profiles'!$Z$20+735*(N_br-3)-(1142+378*(N_br-3)))*(1-1/'Monthly Profiles'!$Z$20*(3356+589*(N_br-3)+(90+11*(N_br-3))*R_ins/2))*(1+1/'Monthly Profiles'!$Z$20*(362+(63*(N_br-3)))*SIN(2*PI()*('Monthly Profiles'!$A33/12)+0.3))","v":642.72605774190254},{"$f":"('Monthly Profiles'!$Z$20+735*(N_br-3)+(20148+2140*(N_br-3))-(11956+1355*(N_br-3))*R_ins/2)*(1+1/'Monthly Profiles'!$Z$20*(362+(63*(N_br-3)))*SIN(2*PI()*('Monthly Profiles'!$A33/12)+0.3))","v":23791.702895707698},{"$f":"('Monthly Profiles'!$Z$20+735*(N_br-3)+(1458+1066*(N_br-3))-(1332+545*(N_br-3))*R_ins/2)*(1+1/'Monthly Profiles'!$Z$20*(362+(63*(N_br-3)))*SIN(2*PI()*('Monthly Profiles'!$A33/12)+0.3))","v":5571.3821777901858},{"$f":"('Monthly Profiles'!$Z$20-1047)*(1+1/'Monthly Profiles'!$Z$20*735*(N_br-3)+1/'Monthly Profiles'!$Z$20*(20148+2140*(N_br-3))-1/'Monthly Profiles'!$Z$20*((11956+1355*(N_br-3))*R_ins/2))*(1+1/'Monthly Profiles'!$Z$20*(362+(63*(N_br-3)))*SIN(2*PI()*('Monthly Profiles'!$A33/12)+0.3))","v":17940.184706418066},{"$f":"('Monthly Profiles'!$Z$20-1047)*(1+1/'Monthly Profiles'!$Z$20*735*(N_br-3)+1/'Monthly Profiles'!$Z$20*(1458+1066*(N_br-3))-1/'Monthly Profiles'!$Z$20*((1332+545*(N_br-3))*R_ins/2))*(1+1/'Monthly Profiles'!$Z$20*(362+(63*(N_br-3)))*SIN(2*PI()*('Monthly Profiles'!$A33/12)+0.3))","v":4201.112706297039},{"$f":"'Monthly Profiles'!AC11","v":4150.0216851885953},null,0,-0.85,{"$f":"(-1.14-0.36*(N_br)+(-0.34-0.08*(N_br))*R_ins/2)*(1+0.11*SIN(2*PI()*('Monthly Profiles'!$A33/12)+0.3))","v":-2.1478339655333007},{"$f":"-0.85+('Monthly Profiles'!$X$18-0.85)/'Monthly Profiles'!$X$18*((-1.14-0.36*(N_br)+(-0.34-0.08*(N_br))*R_ins/2)*(1+0.11*SIN(2*PI()*('Monthly Profiles'!$A33/12)+0.3)))","v":-2.9116239367457202},-1.21,{"$f":"-0.52-0.23*N_br+('Monthly Profiles'!$X$18-0.52-0.23*N_br)/'Monthly Profiles'!$X$18*((-1.14-0.36*(N_br)+(-0.34-0.08*(N_br))*R_ins/2)*(1+0.11*SIN(2*PI()*('Monthly Profiles'!$A33/12)+0.3)))","v":-3.2351114539650974},-1.4,-1.56,{"$f":"-0.85+('Monthly Profiles'!$X$18-0.85)/'Monthly Profiles'!$X$18*((-2.15+0.25*(N_br)+(-0.16-0.08*(N_br))*R_ins/2))","v":-2.1938066246090648},{"$f":"-0.85+('Monthly Profiles'!$X$18-0.85)/'Monthly Profiles'!$X$18*((-2.61+0.35*(N_br)+(0.05-0.13*(N_br))*R_ins/2))","v":-2.347384524564387},{"$f":"0","v":0},null,0,-0.12,{"$f":"(-0.28-0.11*(N_br)+(0.06-0.04*(N_br))*R_ins/2)*(1+0.13*SIN(2*PI()*('Monthly Profiles'!$A33/12)+0.3))","v":-0.58656524761175588},{"$f":"-0.12+('Monthly Profiles'!$W$18-0.12)/'Monthly Profiles'!$W$18*((-0.28-0.11*(N_br)+(0.06-0.04*(N_br))*R_ins/2)*(1+0.13*SIN(2*PI()*('Monthly Profiles'!$A33/12)+0.3)))","v":-0.69328424616574602},-0.21000000000000002,{"$f":"-0.06-0.05*N_br+('Monthly Profiles'!$W$18-0.06-0.05*N_br)/'Monthly Profiles'!$W$18*((-0.28-0.11*(N_br)+(0.06-0.04*(N_br))*R_ins/2)*(1+0.13*SIN(2*PI()*('Monthly Profiles'!$A33/12)+0.3)))","v":-0.77332349508123865},-0.15000000000000002,-0.23,{"$f":"-0.12+('Monthly Profiles'!$W$18-0.12)/'Monthly Profiles'!$W$18*((-0.27+0.04*(N_br)+(-0.01-0.03*(N_br))*R_ins/2))","v":-0.26660370227351066},{"$f":"-0.12+('Monthly Profiles'!$W$18-0.12)/'Monthly Profiles'!$W$18*((-0.26+0.01*(N_br)+(-0.03-0*(N_br))*R_ins/2))","v":-0.34479234348604965},{"$f":"0","v":0},null,0,-1.69,{"$f":"(-0.89-0.32*(N_br)+(-1.86+0.31*(N_br))*R_ins/2)*(1+0.16*SIN(2*PI()*('Monthly Profiles'!$A33/12)+0.3))","v":-1.7625260188282437},{"$f":"-1.69+('Monthly Profiles'!$Y$18-1.69)/'Monthly Profiles'!$Y$18*((-0.89-0.32*(N_br)+(-1.86+0.31*(N_br))*R_ins/2)*(1+0.16*SIN(2*PI()*('Monthly Profiles'!$A33/12)+0.3)))","v":-3.2948080865596294},-1.9500000000000002,{"$f":"0.21-0.72*N_br+('Monthly Profiles'!$Y$18+0.21-0.72*N_br)/'Monthly Profiles'!$Y$18*((-0.89-0.32*(N_br)+(-1.86+0.31*(N_br))*R_ins/2)*(1+0.16*SIN(2*PI()*('Monthly Profiles'!$A33/12)+0.3)))","v":-3.5305437892875351},-4.8599999999999994,-4.07,{"$f":"-1.69+('Monthly Profiles'!$Y$18-1.69)/'Monthly Profiles'!$Y$18*((-2.01-0.95*(N_br)+(-0.36-0.13*(N_br))*R_ins/2))","v":-6.1151076111006546},{"$f":"-1.69+('Monthly Profiles'!$Y$18-1.69)/'Monthly Profiles'!$Y$18*((-1.34-0.91*(N_br)+(-0.64-0.07*(N_br))*R_ins/2))","v":-5.3957999953044595},{"$f":"0","v":0}]
[7,"Jul",{"$f":"'Monthly Profiles'!C12","v":1},{"$f":"'Monthly Profiles'!D12","v":1},{"$f":"'Monthly Profiles'!E12","v":0.7},{"$f":"DHW!N59","v":0.7673936852837967},{"$f":"'Monthly Profiles'!G12","v":66.200149341478465},{"$f":"H12","v":1.0958827242757947},1.0958827242757947,1.0958827242757947,0.89628513398414478,0.89628513398414478,0.99887381873378056,0.88083143030246547,0.99626748526179942,0.90731194108364022,1.1575481315693881,3,0.88336125970119961,{"$f":"IF(NewConst!$F$286=\"yes\", Appliances!$AF$125, 'Monthly Profiles'!T12)","v":2.0456097066410499},{"$f":"IF(NewConst!$F$303=\"YES\", IF(NewConst!$F$304=\"yes\", Appliances!$AG$125, 'Monthly Profiles'!$U12), 0)","v":0.70511546706187678},{"$f":"IF(NewConst!F$247=\"yes\", (IF(Appliances!AF$237=\"yes\",IF(AND(Appliances!AF$238=\"yes\",G34<70),Appliances!AF$267+(Appliances!AF$267*((1/Appliances!AF$257)*(70-G34)+(G34-NewConst!F$112))/(NewConst!F$112-G34)),0),IF(Appliances!AF$238=\"yes\",Appliances!AF$267+(Appliances!AF$267*((1/Appliances!AF$257)*(Appliances!AF$258-G34)+(G34-NewConst!F$112))/(NewConst!F$112-G34)),Appliances!AF$267)*(Appliances!AF$261/365))), 'Monthly Profiles'!V12)","v":6.7419357010251213},{"$f":"(3.5+1.17*N_br)*MAX((105-G34)/(NewConst!$F$112-G34),0)+HLOOKUP(NewConst!$F$153 & \", \" & NewConst!$F$151 & \", \" & NewConst!$F$156 & \", \" & NewConst!$F$154,'Monthly Profiles'!$BG$25:$BQ$40,A34+3,FALSE )","v":4.2631283664283552},{"$f":"(14+4.67*N_br)*MAX((105-G34)/(NewConst!$F$112-G34),0)+HLOOKUP(NewConst!$F$153 & \", \" & NewConst!$F$151 & \", \" & NewConst!$F$156 & \", \" & NewConst!$F$154,'Monthly Profiles'!$AU$25:$BE$39,A34+3,FALSE )","v":17.034268979123858},{"$f":"(12.5+4.16*N_br)*MAX((105-G34)/(NewConst!$F$112-G34),0)+HLOOKUP(NewConst!$F$153 & \", \" & NewConst!$F$151 & \", \" & NewConst!$F$156 & \", \" & NewConst!$F$154,'Monthly Profiles'!$BS$25:$CC$39,A34+3,FALSE )","v":15.191575833577794},{"$f":"IF(NewConst!F$135>0,(0.028*NewConst!$F$38)*MAX((105-$G34)/(NewConst!$F$112-$G34),0),0)","v":3.4056374967188008},45.276518586796179,{"$f":"IF(HomeType=2,IF(NewConst!F$249=\"YES\",IF(NewConst!$F$135>0,IF(NewConst!$F$303=\"YES\",SUM(U34,V34,Z34),SUM(V34,Z34)),IF(NewConst!$F$303=\"YES\",SUM(U34,V34),V34)),IF(NewConst!$F$135>0,IF(NewConst!$F$303=\"YES\",SUM(U34,Z34),SUM(Z34)),IF(NewConst!$F$303=\"YES\",SUM(U34),0))),0)","v":0},{"$f":"HLOOKUP(NewConst!$F$153 & \", \" & NewConst!$F$151 & \", \" & NewConst!$F$156 & \", \" & NewConst!$F$154,'Monthly Profiles'!$AI$25:$AS$40,A34+3,FALSE )","v":3991.4381571875397},{"$f":"IF(NewConst!$F$154=\"Timer control\",(18135+2538*N_br+(-12265-1495*N_br)*R_ins/2)/(8.33*((120-'Monthly Profiles'!G34)*4184*0.00023886)),IF(NewConst!$F$154=\"Demand control\",(-3648+2344*N_br+(-1328-761*N_br)*R_ins/2)/(8.33*((120-'Monthly Profiles'!G34)*4184*0.000238861)),0))","v":0},{"$f":"IF(NewConst!$F$203=NewConst!$I$203,'Detailed Lighting'!BB17,Lighting!BC27)","v":5.8249592301554083E-2},null,null,null,{"$f":"('Monthly Profiles'!$Z$20+735*(N_br-3)-(948+158*(N_br-3))*R_ins/2)*(1+1/'Monthly Profiles'!$Z$20*(362+(63*(N_br-3)))*SIN(2*PI()*('Monthly Profiles'!$A34/12)+0.3))","v":3991.4381571875397},{"$f":"('Monthly Profiles'!$Z$20-1047-732*R_ins/2)*(1+1/'Monthly Profiles'!$Z$20*735*(N_br-3)+1/'Monthly Profiles'!$Z$20*(362+(63*(N_br-3)))*SIN(2*PI()*('Monthly Profiles'!$A34/12)+0.3))","v":3009.7525216283771},{"$f":"('Monthly Profiles'!$Z$20+735*(N_br-3)-(3356+589*(N_br-3))-(90+11*(N_br-3))*R_ins/2)*(1+1/'Monthly Profiles'!$Z$20*(362+(63*(N_br-3)))*SIN(2*PI()*('Monthly Profiles'!$A34/12)+0.3))","v":844.79346479351022},{"$f":"('Monthly Profiles'!$Z$20-1047)*(1+1/'Monthly Profiles'!$Z$20*735*(N_br-3)-1/'Monthly Profiles'!$Z$20*(3356+589*(N_br-3)+(90+11*(N_br-3))*R_ins/2))*(1+1/'Monthly Profiles'!$Z$20*(362+(63*(N_br-3)))*SIN(2*PI()*('Monthly Profiles'!$A34/12)+0.3))","v":637.01832792745302},{"$f":"('Monthly Profiles'!$Z$20+735*(N_br-3)-(1142+378*(N_br-3))-(649+73*(N_br-3))*R_ins/2)*(1+1/'Monthly Profiles'!$Z$20*(362+(63*(N_br-3)))*SIN(2*PI()*('Monthly Profiles'!$A34/12)+0.3))","v":2920.6788488699049},{"$f":"('Monthly Profiles'!$Z$20+735*(N_br-3)-(1142+378*(N_br-3)))*(1-1/'Monthly Profiles'!$Z$20*(3356+589*(N_br-3)+(90+11*(N_br-3))*R_ins/2))*(1+1/'Monthly Profiles'!$Z$20*(362+(63*(N_br-3)))*SIN(2*PI()*('Monthly Profiles'!$A34/12)+0.3))","v":618.16576059003614},{"$f":"('Monthly Profiles'!$Z$20+735*(N_br-3)+(20148+2140*(N_br-3))-(11956+1355*(N_br-3))*R_ins/2)*(1+1/'Monthly Profiles'!$Z$20*(362+(63*(N_br-3)))*SIN(2*PI()*('Monthly Profiles'!$A34/12)+0.3))","v":22882.557722847523},{"$f":"('Monthly Profiles'!$Z$20+735*(N_br-3)+(1458+1066*(N_br-3))-(1332+545*(N_br-3))*R_ins/2)*(1+1/'Monthly Profiles'!$Z$20*(362+(63*(N_br-3)))*SIN(2*PI()*('Monthly Profiles'!$A34/12)+0.3))","v":5358.4846296280921},{"$f":"('Monthly Profiles'!$Z$20-1047)*(1+1/'Monthly Profiles'!$Z$20*735*(N_br-3)+1/'Monthly Profiles'!$Z$20*(20148+2140*(N_br-3))-1/'Monthly Profiles'!$Z$20*((11956+1355*(N_br-3))*R_ins/2))*(1+1/'Monthly Profiles'!$Z$20*(362+(63*(N_br-3)))*SIN(2*PI()*('Monthly Profiles'!$A34/12)+0.3))","v":17254.641834705319},{"$f":"('Monthly Profiles'!$Z$20-1047)*(1+1/'Monthly Profiles'!$Z$20*735*(N_br-3)+1/'Monthly Profiles'!$Z$20*(1458+1066*(N_br-3))-1/'Monthly Profiles'!$Z$20*((1332+545*(N_br-3))*R_ins/2))*(1+1/'Monthly Profiles'!$Z$20*(362+(63*(N_br-3)))*SIN(2*PI()*('Monthly Profiles'!$A34/12)+0.3))","v":4040.5768525032126},{"$f":"'Monthly Profiles'!AC12","v":3991.4381571875397},null,0,-0.85,{"$f":"(-1.14-0.36*(N_br)+(-0.34-0.08*(N_br))*R_ins/2)*(1+0.11*SIN(2*PI()*('Monthly Profiles'!$A34/12)+0.3))","v":-2.0408557955392186},{"$f":"-0.85+('Monthly Profiles'!$X$18-0.85)/'Monthly Profiles'!$X$18*((-1.14-0.36*(N_br)+(-0.34-0.08*(N_br))*R_ins/2)*(1+0.11*SIN(2*PI()*('Monthly Profiles'!$A34/12)+0.3)))","v":-2.8089396699410041},-1.21,{"$f":"-0.52-0.23*N_br+('Monthly Profiles'!$X$18-0.52-0.23*N_br)/'Monthly Profiles'!$X$18*((-1.14-0.36*(N_br)+(-0.34-0.08*(N_br))*R_ins/2)*(1+0.11*SIN(2*PI()*('Monthly Profiles'!$A34/12)+0.3)))","v":-3.1342457814523481},-1.4,-1.56,{"$f":"-0.85+('Monthly Profiles'!$X$18-0.85)/'Monthly Profiles'!$X$18*((-2.15+0.25*(N_br)+(-0.16-0.08*(N_br))*R_ins/2))","v":-2.1938066246090648},{"$f":"-0.85+('Monthly Profiles'!$X$18-0.85)/'Monthly Profiles'!$X$18*((-2.61+0.35*(N_br)+(0.05-0.13*(N_br))*R_ins/2))","v":-2.347384524564387},{"$f":"0","v":0},null,0,-0.12,{"$f":"(-0.28-0.11*(N_br)+(0.06-0.04*(N_br))*R_ins/2)*(1+0.13*SIN(2*PI()*('Monthly Profiles'!$A34/12)+0.3))","v":-0.55182581730655222},{"$f":"-0.12+('Monthly Profiles'!$W$18-0.12)/'Monthly Profiles'!$W$18*((-0.28-0.11*(N_br)+(0.06-0.04*(N_br))*R_ins/2)*(1+0.13*SIN(2*PI()*('Monthly Profiles'!$A34/12)+0.3)))","v":-0.65933138551497639},-0.21000000000000002,{"$f":"-0.06-0.05*N_br+('Monthly Profiles'!$W$18-0.06-0.05*N_br)/'Monthly Profiles'!$W$18*((-0.28-0.11*(N_br)+(0.06-0.04*(N_br))*R_ins/2)*(1+0.13*SIN(2*PI()*('Monthly Profiles'!$A34/12)+0.3)))","v":-0.73996056167129454},-0.15000000000000002,-0.23,{"$f":"-0.12+('Monthly Profiles'!$W$18-0.12)/'Monthly Profiles'!$W$18*((-0.27+0.04*(N_br)+(-0.01-0.03*(N_br))*R_ins/2))","v":-0.26660370227351066},{"$f":"-0.12+('Monthly Profiles'!$W$18-0.12)/'Monthly Profiles'!$W$18*((-0.26+0.01*(N_br)+(-0.03-0*(N_br))*R_ins/2))","v":-0.34479234348604965},{"$f":"0","v":0},null,0,-1.69,{"$f":"(-0.89-0.32*(N_br)+(-1.86+0.31*(N_br))*R_ins/2)*(1+0.16*SIN(2*PI()*('Monthly Profiles'!$A34/12)+0.3))","v":-1.6328555097445074},{"$f":"-1.69+('Monthly Profiles'!$Y$18-1.69)/'Monthly Profiles'!$Y$18*((-0.89-0.32*(N_br)+(-1.86+0.31*(N_br))*R_ins/2)*(1+0.16*SIN(2*PI()*('Monthly Profiles'!$A34/12)+0.3)))","v":-3.1767410172835513},-1.9500000000000002,{"$f":"0.21-0.72*N_br+('Monthly Profiles'!$Y$18+0.21-0.72*N_br)/'Monthly Profiles'!$Y$18*((-0.89-0.32*(N_br)+(-1.86+0.31*(N_br))*R_ins/2)*(1+0.16*SIN(2*PI()*('Monthly Profiles'!$A34/12)+0.3)))","v":-3.4142618645972509},-4.8599999999999994,-4.07,{"$f":"-1.69+('Monthly Profiles'!$Y$18-1.69)/'Monthly Profiles'!$Y$18*((-2.01-0.95*(N_br)+(-0.36-0.13*(N_br))*R_ins/2))","v":-6.1151076111006546},{"$f":"-1.69+('Monthly Profiles'!$Y$18-1.69)/'Monthly Profiles'!$Y$18*((-1.34-0.91*(N_br)+(-0.64-0.07*(N_br))*R_ins/2))","v":-5.3957999953044595},{"$f":"0","v":0}]
[8,"Aug",{"$f":"'Monthly Profiles'!C13","v":1},{"$f":"'Monthly Profiles'!D13","v":1},{"$f":"'Monthly Profiles'!E13","v":0.7},{"$f":"DHW!N60","v":0.7673936852837967},{"$f":"'Monthly Profiles'!G13","v":67.493906273288161},{"$f":"H13","v":1.0958827242757947},1.0958827242757947,1.0958827242757947,0.89628513398414478,0.89628513398414478,0.99887381873378056,0.88083143030246547,0.99626748526179942,0.90731194108364022,1.1575481315693881,3,0.88336125970119961,{"$f":"IF(NewConst!$F$286=\"yes\", Appliances!$AF$125, 'Monthly Profiles'!T13)","v":2.0456097066410499},{"$f":"IF(NewConst!$F$303=\"YES\", IF(NewConst!$F$304=\"yes\", Appliances!$AG$125, 'Monthly Profiles'!$U13), 0)","v":0.70511546706187678},{"$f":"IF(NewConst!F$247=\"yes\", (IF(Appliances!AF$237=\"yes\",IF(AND(Appliances!AF$238=\"yes\",G35<70),Appliances!AF$267+(Appliances!AF$267*((1/Appliances!AF$257)*(70-G35)+(G35-NewConst!F$112))/(NewConst!F$112-G35)),0),IF(Appliances!AF$238=\"yes\",Appliances!AF$267+(Appliances!AF$267*((1/Appliances!AF$257)*(Appliances!AF$258-G35)+(G35-NewConst!F$112))/(NewConst!F$112-G35)),Appliances!AF$267)*(Appliances!AF$261/365))), 'Monthly Profiles'!V13)","v":6.5429632625148688},{"$f":"(3.5+1.17*N_br)*MAX((105-G35)/(NewConst!$F$112-G35),0)+HLOOKUP(NewConst!$F$153 & \", \" & NewConst!$F$151 & \", \" & NewConst!$F$156 & \", \" & NewConst!$F$154,'Monthly Profiles'!$BG$25:$BQ$40,A35+3,FALSE )","v":4.2062733623024773},{"$f":"(14+4.67*N_br)*MAX((105-G35)/(NewConst!$F$112-G35),0)+HLOOKUP(NewConst!$F$153 & \", \" & NewConst!$F$151 & \", \" & NewConst!$F$156 & \", \" & NewConst!$F$154,'Monthly Profiles'!$AU$25:$BE$39,A35+3,FALSE )","v":16.807092279328444},{"$f":"(12.5+4.16*N_br)*MAX((105-G35)/(NewConst!$F$112-G35),0)+HLOOKUP(NewConst!$F$153 & \", \" & NewConst!$F$151 & \", \" & NewConst!$F$156 & \", \" & NewConst!$F$154,'Monthly Profiles'!$BS$25:$CC$39,A35+3,FALSE )","v":14.988974121300412},{"$f":"IF(NewConst!F$135>0,(0.028*NewConst!$F$38)*MAX((105-$G35)/(NewConst!$F$112-$G35),0),0)","v":3.3602183778735917},44.590912732087247,{"$f":"IF(HomeType=2,IF(NewConst!F$249=\"YES\",IF(NewConst!$F$135>0,IF(NewConst!$F$303=\"YES\",SUM(U35,V35,Z35),SUM(V35,Z35)),IF(NewConst!$F$303=\"YES\",SUM(U35,V35),V35)),IF(NewConst!$F$135>0,IF(NewConst!$F$303=\"YES\",SUM(U35,Z35),SUM(Z35)),IF(NewConst!$F$303=\"YES\",SUM(U35),0))),0)","v":0},{"$f":"HLOOKUP(NewConst!$F$153 & \", \" & NewConst!$F$151 & \", \" & NewConst!$F$156 & \", \" & NewConst!$F$154,'Monthly Profiles'!$AI$25:$AS$40,A35+3,FALSE )","v":3904.0117105086038},{"$f":"IF(NewConst!$F$154=\"Timer control\",(18135+2538*N_br+(-12265-1495*N_br)*R_ins/2)/(8.33*((120-'Monthly Profiles'!G35)*4184*0.00023886)),IF(NewConst!$F$154=\"Demand control\",(-3648+2344*N_br+(-1328-761*N_br)*R_ins/2)/(8.33*((120-'Monthly Profiles'!G35)*4184*0.000238861)),0))","v":0},{"$f":"IF(NewConst!$F$203=NewConst!$I$203,'Detailed Lighting'!BB18,Lighting!BC28)","v":6.5473480080343274E-2},null,null,null,{"$f":"('Monthly Profiles'!$Z$20+735*(N_br-3)-(948+158*(N_br-3))*R_ins/2)*(1+1/'Monthly Profiles'!$Z$20*(362+(63*(N_br-3)))*SIN(2*PI()*('Monthly Profiles'!$A35/12)+0.3))","v":3904.0117105086038},{"$f":"('Monthly Profiles'!$Z$20-1047-732*R_ins/2)*(1+1/'Monthly Profiles'!$Z$20*735*(N_br-3)+1/'Monthly Profiles'!$Z$20*(362+(63*(N_br-3)))*SIN(2*PI()*('Monthly Profiles'!$A35/12)+0.3))","v":2943.8284215956351},{"$f":"('Monthly Profiles'!$Z$20+735*(N_br-3)-(3356+589*(N_br-3))-(90+11*(N_br-3))*R_ins/2)*(1+1/'Monthly Profiles'!$Z$20*(362+(63*(N_br-3)))*SIN(2*PI()*('Monthly Profiles'!$A35/12)+0.3))","v":826.28953515815169},{"$f":"('Monthly Profiles'!$Z$20-1047)*(1+1/'Monthly Profiles'!$Z$20*735*(N_br-3)-1/'Monthly Profiles'!$Z$20*(3356+589*(N_br-3)+(90+11*(N_br-3))*R_ins/2))*(1+1/'Monthly Profiles'!$Z$20*(362+(63*(N_br-3)))*SIN(2*PI()*('Monthly Profiles'!$A35/12)+0.3))","v":623.06540001354642},{"$f":"('Monthly Profiles'!$Z$20+735*(N_br-3)-(1142+378*(N_br-3))-(649+73*(N_br-3))*R_ins/2)*(1+1/'Monthly Profiles'!$Z$20*(362+(63*(N_br-3)))*SIN(2*PI()*('Monthly Profiles'!$A35/12)+0.3))","v":2856.7057736044867},{"$f":"('Monthly Profiles'!$Z$20+735*(N_br-3)-(1142+378*(N_br-3)))*(1-1/'Monthly Profiles'!$Z$20*(3356+589*(N_br-3)+(90+11*(N_br-3))*R_ins/2))*(1+1/'Monthly Profiles'!$Z$20*(362+(63*(N_br-3)))*SIN(2*PI()*('Monthly Profiles'!$A35/12)+0.3))","v":604.62576979507685},{"$f":"('Monthly Profiles'!$Z$20+735*(N_br-3)+(20148+2140*(N_br-3))-(11956+1355*(N_br-3))*R_ins/2)*(1+1/'Monthly Profiles'!$Z$20*(362+(63*(N_br-3)))*SIN(2*PI()*('Monthly Profiles'!$A35/12)+0.3))","v":22381.349728673355},{"$f":"('Monthly Profiles'!$Z$20+735*(N_br-3)+(1458+1066*(N_br-3))-(1332+545*(N_br-3))*R_ins/2)*(1+1/'Monthly Profiles'!$Z$20*(362+(63*(N_br-3)))*SIN(2*PI()*('Monthly Profiles'!$A35/12)+0.3))","v":5241.1150870464344},{"$f":"('Monthly Profiles'!$Z$20-1047)*(1+1/'Monthly Profiles'!$Z$20*735*(N_br-3)+1/'Monthly Profiles'!$Z$20*(20148+2140*(N_br-3))-1/'Monthly Profiles'!$Z$20*((11956+1355*(N_br-3))*R_ins/2))*(1+1/'Monthly Profiles'!$Z$20*(362+(63*(N_br-3)))*SIN(2*PI()*('Monthly Profiles'!$A35/12)+0.3))","v":16876.704869401332},{"$f":"('Monthly Profiles'!$Z$20-1047)*(1+1/'Monthly Profiles'!$Z$20*735*(N_br-3)+1/'Monthly Profiles'!$Z$20*(1458+1066*(N_br-3))-1/'Monthly Profiles'!$Z$20*((1332+545*(N_br-3))*R_ins/2))*(1+1/'Monthly Profiles'!$Z$20*(362+(63*(N_br-3)))*SIN(2*PI()*('Monthly Profiles'!$A35/12)+0.3))","v":3952.0740966453027},{"$f":"'Monthly Profiles'!AC13","v":3904.0117105086038},null,0,-0.85,{"$f":"(-1.14-0.36*(N_br)+(-0.34-0.08*(N_br))*R_ins/2)*(1+0.11*SIN(2*PI()*('Monthly Profiles'!$A35/12)+0.3))","v":-1.9818791704591185},{"$f":"-0.85+('Monthly Profiles'!$X$18-0.85)/'Monthly Profiles'!$X$18*((-1.14-0.36*(N_br)+(-0.34-0.08*(N_br))*R_ins/2)*(1+0.11*SIN(2*PI()*('Monthly Profiles'!$A35/12)+0.3)))","v":-2.7523302560269158},-1.21,{"$f":"-0.52-0.23*N_br+('Monthly Profiles'!$X$18-0.52-0.23*N_br)/'Monthly Profiles'!$X$18*((-1.14-0.36*(N_br)+(-0.34-0.08*(N_br))*R_ins/2)*(1+0.11*SIN(2*PI()*('Monthly Profiles'!$A35/12)+0.3)))","v":-3.078638951090924},-1.4,-1.56,{"$f":"-0.85+('Monthly Profiles'!$X$18-0.85)/'Monthly Profiles'!$X$18*((-2.15+0.25*(N_br)+(-0.16-0.08*(N_br))*R_ins/2))","v":-2.1938066246090648},{"$f":"-0.85+('Monthly Profiles'!$X$18-0.85)/'Monthly Profiles'!$X$18*((-2.61+0.35*(N_br)+(0.05-0.13*(N_br))*R_ins/2))","v":-2.347384524564387},{"$f":"0","v":0},null,0,-0.12,{"$f":"(-0.28-0.11*(N_br)+(0.06-0.04*(N_br))*R_ins/2)*(1+0.13*SIN(2*PI()*('Monthly Profiles'!$A35/12)+0.3))","v":-0.53267411227439865},{"$f":"-0.12+('Monthly Profiles'!$W$18-0.12)/'Monthly Profiles'!$W$18*((-0.28-0.11*(N_br)+(0.06-0.04*(N_br))*R_ins/2)*(1+0.13*SIN(2*PI()*('Monthly Profiles'!$A35/12)+0.3)))","v":-0.6406133130978835},-0.21000000000000002,{"$f":"-0.06-0.05*N_br+('Monthly Profiles'!$W$18-0.06-0.05*N_br)/'Monthly Profiles'!$W$18*((-0.28-0.11*(N_br)+(0.06-0.04*(N_br))*R_ins/2)*(1+0.13*SIN(2*PI()*('Monthly Profiles'!$A35/12)+0.3)))","v":-0.72156771371549722},-0.15000000000000002,-0.23,{"$f":"-0.12+('Monthly Profiles'!$W$18-0.12)/'Monthly Profiles'!$W$18*((-0.27+0.04*(N_br)+(-0.01-0.03*(N_br))*R_ins/2))","v":-0.26660370227351066},{"$f":"-0.12+('Monthly Profiles'!$W$18-0.12)/'Monthly Profiles'!$W$18*((-0.26+0.01*(N_br)+(-0.03-0*(N_br))*R_ins/2))","v":-0.34479234348604965},{"$f":"0","v":0},null,0,-1.69,{"$f":"(-0.89-0.32*(N_br)+(-1.86+0.31*(N_br))*R_ins/2)*(1+0.16*SIN(2*PI()*('Monthly Profiles'!$A35/12)+0.3))","v":-1.5613686914655984},{"$f":"-1.69+('Monthly Profiles'!$Y$18-1.69)/'Monthly Profiles'!$Y$18*((-0.89-0.32*(N_br)+(-1.86+0.31*(N_br))*R_ins/2)*(1+0.16*SIN(2*PI()*('Monthly Profiles'!$A35/12)+0.3)))","v":-3.1116511276417063},-1.9500000000000002,{"$f":"0.21-0.72*N_br+('Monthly Profiles'!$Y$18+0.21-0.72*N_br)/'Monthly Profiles'!$Y$18*((-0.89-0.32*(N_br)+(-1.86+0.31*(N_br))*R_ins/2)*(1+0.16*SIN(2*PI()*('Monthly Profiles'!$A35/12)+0.3)))","v":-3.350156117822646},-4.8599999999999994,-4.07,{"$f":"-1.69+('Monthly Profiles'!$Y$18-1.69)/'Monthly Profiles'!$Y$18*((-2.01-0.95*(N_br)+(-0.36-0.13*(N_br))*R_ins/2))","v":-6.1151076111006546},{"$f":"-1.69+('Monthly Profiles'!$Y$18-1.69)/'Monthly Profiles'!$Y$18*((-1.34-0.91*(N_br)+(-0.64-0.07*(N_br))*R_ins/2))","v":-5.3957999953044595},{"$f":"0","v":0}]
[9,"Sep",{"$f":"'Monthly Profiles'!C14","v":1},{"$f":"'Monthly Profiles'!D14","v":1},{"$f":"'Monthly Profiles'!E14","v":0.7},{"$f":"DHW!N61","v":0.7673936852837967},{"$f":"'Monthly Profiles'!G14","v":66.198965919317473},{"$f":"H14","v":1.0958827242757947},1.0958827242757947,1.0958827242757947,0.88960230623075431,0.88960230623075431,0.99574009694951759,0.87378477886004557,0.99314194020999746,0.91320357706470279,1.1595167508407644,1.5,0.88846512475725092,{"$f":"IF(NewConst!$F$286=\"yes\", Appliances!$AF$125, 'Monthly Profiles'!T14)","v":2.0456097066410499},{"$f":"IF(NewConst!$F$303=\"YES\", IF(NewConst!$F$304=\"yes\", Appliances!$AG$125, 'Monthly Profiles'!$U14), 0)","v":0.70511546706187678},{"$f":"IF(NewConst!F$247=\"yes\", (IF(Appliances!AF$237=\"yes\",IF(AND(Appliances!AF$238=\"yes\",G36<70),Appliances!AF$267+(Appliances!AF$267*((1/Appliances!AF$257)*(70-G36)+(G36-NewConst!F$112))/(NewConst!F$112-G36)),0),IF(Appliances!AF$238=\"yes\",Appliances!AF$267+(Appliances!AF$267*((1/Appliances!AF$257)*(Appliances!AF$258-G36)+(G36-NewConst!F$112))/(NewConst!F$112-G36)),Appliances!AF$267)*(Appliances!AF$261/365))), 'Monthly Profiles'!V14)","v":6.7421140105617949},{"$f":"(3.5+1.17*N_br)*MAX((105-G36)/(NewConst!$F$112-G36),0)+HLOOKUP(NewConst!$F$153 & \", \" & NewConst!$F$151 & \", \" & NewConst!$F$156 & \", \" & NewConst!$F$154,'Monthly Profiles'!$BG$25:$BQ$40,A36+3,FALSE )","v":4.2631793171505716},{"$f":"(14+4.67*N_br)*MAX((105-G36)/(NewConst!$F$112-G36),0)+HLOOKUP(NewConst!$F$153 & \", \" & NewConst!$F$151 & \", \" & NewConst!$F$156 & \", \" & NewConst!$F$154,'Monthly Profiles'!$AU$25:$BE$39,A36+3,FALSE )","v":17.034472563963984},{"$f":"(12.5+4.16*N_br)*MAX((105-G36)/(NewConst!$F$112-G36),0)+HLOOKUP(NewConst!$F$153 & \", \" & NewConst!$F$151 & \", \" & NewConst!$F$156 & \", \" & NewConst!$F$154,'Monthly Profiles'!$BS$25:$CC$39,A36+3,FALSE )","v":15.191757395495191},{"$f":"IF(NewConst!F$135>0,(0.028*NewConst!$F$38)*MAX((105-$G36)/(NewConst!$F$112-$G36),0),0)","v":3.4056781991502434},45.277132993812586,{"$f":"IF(HomeType=2,IF(NewConst!F$249=\"YES\",IF(NewConst!$F$135>0,IF(NewConst!$F$303=\"YES\",SUM(U36,V36,Z36),SUM(V36,Z36)),IF(NewConst!$F$303=\"YES\",SUM(U36,V36),V36)),IF(NewConst!$F$135>0,IF(NewConst!$F$303=\"YES\",SUM(U36,Z36),SUM(Z36)),IF(NewConst!$F$303=\"YES\",SUM(U36),0))),0)","v":0},{"$f":"HLOOKUP(NewConst!$F$153 & \", \" & NewConst!$F$151 & \", \" & NewConst!$F$156 & \", \" & NewConst!$F$154,'Monthly Profiles'!$AI$25:$AS$40,A36+3,FALSE )","v":3911.1681909365307},{"$f":"IF(NewConst!$F$154=\"Timer control\",(18135+2538*N_br+(-12265-1495*N_br)*R_ins/2)/(8.33*((120-'Monthly Profiles'!G36)*4184*0.00023886)),IF(NewConst!$F$154=\"Demand control\",(-3648+2344*N_br+(-1328-761*N_br)*R_ins/2)/(8.33*((120-'Monthly Profiles'!G36)*4184*0.000238861)),0))","v":0},{"$f":"IF(NewConst!$F$203=NewConst!$I$203,'Detailed Lighting'!BB19,Lighting!BC29)","v":7.5633588935449747E-2},null,null,null,{"$f":"('Monthly Profiles'!$Z$20+735*(N_br-3)-(948+158*(N_br-3))*R_ins/2)*(1+1/'Monthly Profiles'!$Z$20*(362+(63*(N_br-3)))*SIN(2*PI()*('Monthly Profiles'!$A36/12)+0.3))","v":3911.1681909365307},{"$f":"('Monthly Profiles'!$Z$20-1047-732*R_ins/2)*(1+1/'Monthly Profiles'!$Z$20*735*(N_br-3)+1/'Monthly Profiles'!$Z$20*(362+(63*(N_br-3)))*SIN(2*PI()*('Monthly Profiles'!$A36/12)+0.3))","v":2949.2247810444592},{"$f":"('Monthly Profiles'!$Z$20+735*(N_br-3)-(3356+589*(N_br-3))-(90+11*(N_br-3))*R_ins/2)*(1+1/'Monthly Profiles'!$Z$20*(362+(63*(N_br-3)))*SIN(2*PI()*('Monthly Profiles'!$A36/12)+0.3))","v":827.80421424332019},{"$f":"('Monthly Profiles'!$Z$20-1047)*(1+1/'Monthly Profiles'!$Z$20*735*(N_br-3)-1/'Monthly Profiles'!$Z$20*(3356+589*(N_br-3)+(90+11*(N_br-3))*R_ins/2))*(1+1/'Monthly Profiles'!$Z$20*(362+(63*(N_br-3)))*SIN(2*PI()*('Monthly Profiles'!$A36/12)+0.3))","v":624.20754703337036},{"$f":"('Monthly Profiles'!$Z$20+735*(N_br-3)-(1142+378*(N_br-3))-(649+73*(N_br-3))*R_ins/2)*(1+1/'Monthly Profiles'!$Z$20*(362+(63*(N_br-3)))*SIN(2*PI()*('Monthly Profiles'!$A36/12)+0.3))","v":2861.9424277113681},{"$f":"('Monthly Profiles'!$Z$20+735*(N_br-3)-(1142+378*(N_br-3)))*(1-1/'Monthly Profiles'!$Z$20*(3356+589*(N_br-3)+(90+11*(N_br-3))*R_ins/2))*(1+1/'Monthly Profiles'!$Z$20*(362+(63*(N_br-3)))*SIN(2*PI()*('Monthly Profiles'!$A36/12)+0.3))","v":605.73411495605876},{"$f":"('Monthly Profiles'!$Z$20+735*(N_br-3)+(20148+2140*(N_br-3))-(11956+1355*(N_br-3))*R_ins/2)*(1+1/'Monthly Profiles'!$Z$20*(362+(63*(N_br-3)))*SIN(2*PI()*('Monthly Profiles'!$A36/12)+0.3))","v":22422.377190464184},{"$f":"('Monthly Profiles'!$Z$20+735*(N_br-3)+(1458+1066*(N_br-3))-(1332+545*(N_br-3))*R_ins/2)*(1+1/'Monthly Profiles'!$Z$20*(362+(63*(N_br-3)))*SIN(2*PI()*('Monthly Profiles'!$A36/12)+0.3))","v":5250.722624195977},{"$f":"('Monthly Profiles'!$Z$20-1047)*(1+1/'Monthly Profiles'!$Z$20*735*(N_br-3)+1/'Monthly Profiles'!$Z$20*(20148+2140*(N_br-3))-1/'Monthly Profiles'!$Z$20*((11956+1355*(N_br-3))*R_ins/2))*(1+1/'Monthly Profiles'!$Z$20*(362+(63*(N_br-3)))*SIN(2*PI()*('Monthly Profiles'!$A36/12)+0.3))","v":16907.641715149173},{"$f":"('Monthly Profiles'!$Z$20-1047)*(1+1/'Monthly Profiles'!$Z$20*735*(N_br-3)+1/'Monthly Profiles'!$Z$20*(1458+1066*(N_br-3))-1/'Monthly Profiles'!$Z$20*((1332+545*(N_br-3))*R_ins/2))*(1+1/'Monthly Profiles'!$Z$20*(362+(63*(N_br-3)))*SIN(2*PI()*('Monthly Profiles'!$A36/12)+0.3))","v":3959.3186806833651},{"$f":"'Monthly Profiles'!AC14","v":3911.1681909365307},null,0,-0.85,{"$f":"(-1.14-0.36*(N_br)+(-0.34-0.08*(N_br))*R_ins/2)*(1+0.11*SIN(2*PI()*('Monthly Profiles'!$A36/12)+0.3))","v":-1.9867068293555268},{"$f":"-0.85+('Monthly Profiles'!$X$18-0.85)/'Monthly Profiles'!$X$18*((-1.14-0.36*(N_br)+(-0.34-0.08*(N_br))*R_ins/2)*(1+0.11*SIN(2*PI()*('Monthly Profiles'!$A36/12)+0.3)))","v":-2.7569641417457347},-1.21,{"$f":"-0.52-0.23*N_br+('Monthly Profiles'!$X$18-0.52-0.23*N_br)/'Monthly Profiles'!$X$18*((-1.14-0.36*(N_br)+(-0.34-0.08*(N_br))*R_ins/2)*(1+0.11*SIN(2*PI()*('Monthly Profiles'!$A36/12)+0.3)))","v":-3.0831907681698225},-1.4,-1.56,{"$f":"-0.85+('Monthly Profiles'!$X$18-0.85)/'Monthly Profiles'!$X$18*((-2.15+0.25*(N_br)+(-0.16-0.08*(N_br))*R_ins/2))","v":-2.1938066246090648},{"$f":"-0.85+('Monthly Profiles'!$X$18-0.85)/'Monthly Profiles'!$X$18*((-2.61+0.35*(N_br)+(0.05-0.13*(N_br))*R_ins/2))","v":-2.347384524564387},{"$f":"0","v":0},null,0,-0.12,{"$f":"(-0.28-0.11*(N_br)+(0.06-0.04*(N_br))*R_ins/2)*(1+0.13*SIN(2*PI()*('Monthly Profiles'!$A36/12)+0.3))","v":-0.53424181641233948},{"$f":"-0.12+('Monthly Profiles'!$W$18-0.12)/'Monthly Profiles'!$W$18*((-0.28-0.11*(N_br)+(0.06-0.04*(N_br))*R_ins/2)*(1+0.13*SIN(2*PI()*('Monthly Profiles'!$A36/12)+0.3)))","v":-0.64214552130249425},-0.21000000000000002,{"$f":"-0.06-0.05*N_br+('Monthly Profiles'!$W$18-0.06-0.05*N_br)/'Monthly Profiles'!$W$18*((-0.28-0.11*(N_br)+(0.06-0.04*(N_br))*R_ins/2)*(1+0.13*SIN(2*PI()*('Monthly Profiles'!$A36/12)+0.3)))","v":-0.72307329997011038},-0.15000000000000002,-0.23,{"$f":"-0.12+('Monthly Profiles'!$W$18-0.12)/'Monthly Profiles'!$W$18*((-0.27+0.04*(N_br)+(-0.01-0.03*(N_br))*R_ins/2))","v":-0.26660370227351066},{"$f":"-0.12+('Monthly Profiles'!$W$18-0.12)/'Monthly Profiles'!$W$18*((-0.26+0.01*(N_br)+(-0.03-0*(N_br))*R_ins/2))","v":-0.34479234348604965},{"$f":"0","v":0},null,0,-1.69,{"$f":"(-0.89-0.32*(N_br)+(-1.86+0.31*(N_br))*R_ins/2)*(1+0.16*SIN(2*PI()*('Monthly Profiles'!$A36/12)+0.3))","v":-1.5672203992188205},{"$f":"-1.69+('Monthly Profiles'!$Y$18-1.69)/'Monthly Profiles'!$Y$18*((-0.89-0.32*(N_br)+(-1.86+0.31*(N_br))*R_ins/2)*(1+0.16*SIN(2*PI()*('Monthly Profiles'!$A36/12)+0.3)))","v":-3.1169792009990558},-1.9500000000000002,{"$f":"0.21-0.72*N_br+('Monthly Profiles'!$Y$18+0.21-0.72*N_br)/'Monthly Profiles'!$Y$18*((-0.89-0.32*(N_br)+(-1.86+0.31*(N_br))*R_ins/2)*(1+0.16*SIN(2*PI()*('Monthly Profiles'!$A36/12)+0.3)))","v":-3.3554036320421687},-4.8599999999999994,-4.07,{"$f":"-1.69+('Monthly Profiles'!$Y$18-1.69)/'Monthly Profiles'!$Y$18*((-2.01-0.95*(N_br)+(-0.36-0.13*(N_br))*R_ins/2))","v":-6.1151076111006546},{"$f":"-1.69+('Monthly Profiles'!$Y$18-1.69)/'Monthly Profiles'!$Y$18*((-1.34-0.91*(N_br)+(-0.64-0.07*(N_br))*R_ins/2))","v":-5.3957999953044595},{"$f":"0","v":0}]
[10,"Oct",{"$f":"'Monthly Profiles'!C15","v":1},{"$f":"'Monthly Profiles'!D15","v":1},{"$f":"'Monthly Profiles'!E15","v":0.85},{"$f":"DHW!N62","v":0.76582056075532934},{"$f":"'Monthly Profiles'!G15","v":62.65287443846379},{"$f":"H15","v":0.93091113137406212},0.93091113137406212,0.93091113137406212,1.0849767411387015,1.0849767411387015,0.9636194486608235,1.0100200400801602,0.86733875187497811,0.90731194108364022,0.92131381900420672,0,0.97758646073599431,{"$f":"IF(NewConst!$F$286=\"yes\", Appliances!$AF$125, 'Monthly Profiles'!T15)","v":2.0456097066410499},{"$f":"IF(NewConst!$F$303=\"YES\", IF(NewConst!$F$304=\"yes\", Appliances!$AG$125, 'Monthly Profiles'!$U15), 0)","v":0.70511546706187678},{"$f":"IF(NewConst!F$247=\"yes\", (IF(Appliances!AF$237=\"yes\",IF(AND(Appliances!AF$238=\"yes\",G37<70),Appliances!AF$267+(Appliances!AF$267*((1/Appliances!AF$257)*(70-G37)+(G37-NewConst!F$112))/(NewConst!F$112-G37)),0),IF(Appliances!AF$238=\"yes\",Appliances!AF$267+(Appliances!AF$267*((1/Appliances!AF$257)*(Appliances!AF$258-G37)+(G37-NewConst!F$112))/(NewConst!F$112-G37)),Appliances!AF$267)*(Appliances!AF$261/365))), 'Monthly Profiles'!V15)","v":7.2482711963348478},{"$f":"(3.5+1.17*N_br)*MAX((105-G37)/(NewConst!$F$112-G37),0)+HLOOKUP(NewConst!$F$153 & \", \" & NewConst!$F$151 & \", \" & NewConst!$F$156 & \", \" & NewConst!$F$154,'Monthly Profiles'!$BG$25:$BQ$40,A37+3,FALSE )","v":4.4078102474489258},{"$f":"(14+4.67*N_br)*MAX((105-G37)/(NewConst!$F$112-G37),0)+HLOOKUP(NewConst!$F$153 & \", \" & NewConst!$F$151 & \", \" & NewConst!$F$156 & \", \" & NewConst!$F$154,'Monthly Profiles'!$AU$25:$BE$39,A37+3,FALSE )","v":17.612377322545566},{"$f":"(12.5+4.16*N_br)*MAX((105-G37)/(NewConst!$F$112-G37),0)+HLOOKUP(NewConst!$F$153 & \", \" & NewConst!$F$151 & \", \" & NewConst!$F$156 & \", \" & NewConst!$F$154,'Monthly Profiles'!$BS$25:$CC$39,A37+3,FALSE )","v":15.707146930281622},{"$f":"IF(NewConst!F$135>0,(0.028*NewConst!$F$38)*MAX((105-$G37)/(NewConst!$F$112-$G37),0),0)","v":3.5212178866924377},47.021215403252015,{"$f":"IF(HomeType=2,IF(NewConst!F$249=\"YES\",IF(NewConst!$F$135>0,IF(NewConst!$F$303=\"YES\",SUM(U37,V37,Z37),SUM(V37,Z37)),IF(NewConst!$F$303=\"YES\",SUM(U37,V37),V37)),IF(NewConst!$F$135>0,IF(NewConst!$F$303=\"YES\",SUM(U37,Z37),SUM(Z37)),IF(NewConst!$F$303=\"YES\",SUM(U37),0))),0)","v":0},{"$f":"HLOOKUP(NewConst!$F$153 & \", \" & NewConst!$F$151 & \", \" & NewConst!$F$156 & \", \" & NewConst!$F$154,'Monthly Profiles'!$AI$25:$AS$40,A37+3,FALSE )","v":4010.9900253200085},{"$f":"IF(NewConst!$F$154=\"Timer control\",(18135+2538*N_br+(-12265-1495*N_br)*R_ins/2)/(8.33*((120-'Monthly Profiles'!G37)*4184*0.00023886)),IF(NewConst!$F$154=\"Demand control\",(-3648+2344*N_br+(-1328-761*N_br)*R_ins/2)/(8.33*((120-'Monthly Profiles'!G37)*4184*0.000238861)),0))","v":0},{"$f":"IF(NewConst!$F$203=NewConst!$I$203,'Detailed Lighting'!BB20,Lighting!BC30)","v":9.4449084525061039E-2},null,null,null,{"$f":"('Monthly Profiles'!$Z$20+735*(N_br-3)-(948+158*(N_br-3))*R_ins/2)*(1+1/'Monthly Profiles'!$Z$20*(362+(63*(N_br-3)))*SIN(2*PI()*('Monthly Profiles'!$A37/12)+0.3))","v":4010.9900253200085},{"$f":"('Monthly Profiles'!$Z$20-1047-732*R_ins/2)*(1+1/'Monthly Profiles'!$Z$20*735*(N_br-3)+1/'Monthly Profiles'!$Z$20*(362+(63*(N_br-3)))*SIN(2*PI()*('Monthly Profiles'!$A37/12)+0.3))","v":3024.4956498184702},{"$f":"('Monthly Profiles'!$Z$20+735*(N_br-3)-(3356+589*(N_br-3))-(90+11*(N_br-3))*R_ins/2)*(1+1/'Monthly Profiles'!$Z$20*(362+(63*(N_br-3)))*SIN(2*PI()*('Monthly Profiles'!$A37/12)+0.3))","v":848.93164501135254},{"$f":"('Monthly Profiles'!$Z$20-1047)*(1+1/'Monthly Profiles'!$Z$20*735*(N_br-3)-1/'Monthly Profiles'!$Z$20*(3356+589*(N_br-3)+(90+11*(N_br-3))*R_ins/2))*(1+1/'Monthly Profiles'!$Z$20*(362+(63*(N_br-3)))*SIN(2*PI()*('Monthly Profiles'!$A37/12)+0.3))","v":640.1387316153257},{"$f":"('Monthly Profiles'!$Z$20+735*(N_br-3)-(1142+378*(N_br-3))-(649+73*(N_br-3))*R_ins/2)*(1+1/'Monthly Profiles'!$Z$20*(362+(63*(N_br-3)))*SIN(2*PI()*('Monthly Profiles'!$A37/12)+0.3))","v":2934.9856539515686},{"$f":"('Monthly Profiles'!$Z$20+735*(N_br-3)-(1142+378*(N_br-3)))*(1-1/'Monthly Profiles'!$Z$20*(3356+589*(N_br-3)+(90+11*(N_br-3))*R_ins/2))*(1+1/'Monthly Profiles'!$Z$20*(362+(63*(N_br-3)))*SIN(2*PI()*('Monthly Profiles'!$A37/12)+0.3))","v":621.19381588216174},{"$f":"('Monthly Profiles'!$Z$20+735*(N_br-3)+(20148+2140*(N_br-3))-(11956+1355*(N_br-3))*R_ins/2)*(1+1/'Monthly Profiles'!$Z$20*(362+(63*(N_br-3)))*SIN(2*PI()*('Monthly Profiles'!$A37/12)+0.3))","v":22994.64683296566},{"$f":"('Monthly Profiles'!$Z$20+735*(N_br-3)+(1458+1066*(N_br-3))-(1332+545*(N_br-3))*R_ins/2)*(1+1/'Monthly Profiles'!$Z$20*(362+(63*(N_br-3)))*SIN(2*PI()*('Monthly Profiles'!$A37/12)+0.3))","v":5384.7329092562486},{"$f":"('Monthly Profiles'!$Z$20-1047)*(1+1/'Monthly Profiles'!$Z$20*735*(N_br-3)+1/'Monthly Profiles'!$Z$20*(20148+2140*(N_br-3))-1/'Monthly Profiles'!$Z$20*((11956+1355*(N_br-3))*R_ins/2))*(1+1/'Monthly Profiles'!$Z$20*(362+(63*(N_br-3)))*SIN(2*PI()*('Monthly Profiles'!$A37/12)+0.3))","v":17339.162869114345},{"$f":"('Monthly Profiles'!$Z$20-1047)*(1+1/'Monthly Profiles'!$Z$20*735*(N_br-3)+1/'Monthly Profiles'!$Z$20*(1458+1066*(N_br-3))-1/'Monthly Profiles'!$Z$20*((1332+545*(N_br-3))*R_ins/2))*(1+1/'Monthly Profiles'!$Z$20*(362+(63*(N_br-3)))*SIN(2*PI()*('Monthly Profiles'!$A37/12)+0.3))","v":4060.3694241749017},{"$f":"'Monthly Profiles'!AC15","v":4010.9900253200085},null,0,-0.85,{"$f":"(-1.14-0.36*(N_br)+(-0.34-0.08*(N_br))*R_ins/2)*(1+0.11*SIN(2*PI()*('Monthly Profiles'!$A37/12)+0.3))","v":-2.0540452049258175},{"$f":"-0.85+('Monthly Profiles'!$X$18-0.85)/'Monthly Profiles'!$X$18*((-1.14-0.36*(N_br)+(-0.34-0.08*(N_br))*R_ins/2)*(1+0.11*SIN(2*PI()*('Monthly Profiles'!$A37/12)+0.3)))","v":-2.8215996811612847},-1.21,{"$f":"-0.52-0.23*N_br+('Monthly Profiles'!$X$18-0.52-0.23*N_br)/'Monthly Profiles'!$X$18*((-1.14-0.36*(N_br)+(-0.34-0.08*(N_br))*R_ins/2)*(1+0.11*SIN(2*PI()*('Monthly Profiles'!$A37/12)+0.3)))","v":-3.1466815769786587},-1.4,-1.56,{"$f":"-0.85+('Monthly Profiles'!$X$18-0.85)/'Monthly Profiles'!$X$18*((-2.15+0.25*(N_br)+(-0.16-0.08*(N_br))*R_ins/2))","v":-2.1938066246090648},{"$f":"-0.85+('Monthly Profiles'!$X$18-0.85)/'Monthly Profiles'!$X$18*((-2.61+0.35*(N_br)+(0.05-0.13*(N_br))*R_ins/2))","v":-2.347384524564387},{"$f":"0","v":0},null,0,-0.12,{"$f":"(-0.28-0.11*(N_br)+(0.06-0.04*(N_br))*R_ins/2)*(1+0.13*SIN(2*PI()*('Monthly Profiles'!$A37/12)+0.3))","v":-0.55610886466264275},{"$f":"-0.12+('Monthly Profiles'!$W$18-0.12)/'Monthly Profiles'!$W$18*((-0.28-0.11*(N_br)+(0.06-0.04*(N_br))*R_ins/2)*(1+0.13*SIN(2*PI()*('Monthly Profiles'!$A37/12)+0.3)))","v":-0.66351745617774738},-0.21000000000000002,{"$f":"-0.06-0.05*N_br+('Monthly Profiles'!$W$18-0.06-0.05*N_br)/'Monthly Profiles'!$W$18*((-0.28-0.11*(N_br)+(0.06-0.04*(N_br))*R_ins/2)*(1+0.13*SIN(2*PI()*('Monthly Profiles'!$A37/12)+0.3)))","v":-0.7440738998140759},-0.15000000000000002,-0.23,{"$f":"-0.12+('Monthly Profiles'!$W$18-0.12)/'Monthly Profiles'!$W$18*((-0.27+0.04*(N_br)+(-0.01-0.03*(N_br))*R_ins/2))","v":-0.26660370227351066},{"$f":"-0.12+('Monthly Profiles'!$W$18-0.12)/'Monthly Profiles'!$W$18*((-0.26+0.01*(N_br)+(-0.03-0*(N_br))*R_ins/2))","v":-0.34479234348604965},{"$f":"0","v":0},null,0,-1.69,{"$f":"(-0.89-0.32*(N_br)+(-1.86+0.31*(N_br))*R_ins/2)*(1+0.16*SIN(2*PI()*('Monthly Profiles'!$A37/12)+0.3))","v":-1.6488426726373551},{"$f":"-1.69+('Monthly Profiles'!$Y$18-1.69)/'Monthly Profiles'!$Y$18*((-0.89-0.32*(N_br)+(-1.86+0.31*(N_br))*R_ins/2)*(1+0.16*SIN(2*PI()*('Monthly Profiles'!$A37/12)+0.3)))","v":-3.1912975844022853},-1.9500000000000002,{"$f":"0.21-0.72*N_br+('Monthly Profiles'!$Y$18+0.21-0.72*N_br)/'Monthly Profiles'!$Y$18*((-0.89-0.32*(N_br)+(-1.86+0.31*(N_br))*R_ins/2)*(1+0.16*SIN(2*PI()*('Monthly Profiles'!$A37/12)+0.3)))","v":-3.4285983400584286},-4.8599999999999994,-4.07,{"$f":"-1.69+('Monthly Profiles'!$Y$18-1.69)/'Monthly Profiles'!$Y$18*((-2.01-0.95*(N_br)+(-0.36-0.13*(N_br))*R_ins/2))","v":-6.1151076111006546},{"$f":"-1.69+('Monthly Profiles'!$Y$18-1.69)/'Monthly Profiles'!$Y$18*((-1.34-0.91*(N_br)+(-0.64-0.07*(N_br))*R_ins/2))","v":-5.3957999953044595},{"$f":"0","v":0}]
[11,"Nov",{"$f":"'Monthly Profiles'!C16","v":1},{"$f":"'Monthly Profiles'!D16","v":1},{"$f":"'Monthly Profiles'!E16","v":0.85},{"$f":"DHW!N63","v":0.76582056075532934},{"$f":"'Monthly Profiles'!G16","v":57.779975222135477},{"$f":"H16","v":0.92541207827733762},0.92541207827733762,0.92541207827733762,1.0845836336237962,1.0845836336237962,0.95931058120746215,1.0072796756303304,0.85991558237694909,0.91320357706470279,0.91540796119007728,0,0.97366041069287768,{"$f":"IF(NewConst!$F$286=\"yes\", Appliances!$AF$125, 'Monthly Profiles'!T16)","v":2.0456097066410499},{"$f":"IF(NewConst!$F$303=\"YES\", IF(NewConst!$F$304=\"yes\", Appliances!$AG$125, 'Monthly Profiles'!$U16), 0)","v":0.70511546706187678},{"$f":"IF(NewConst!F$247=\"yes\", (IF(Appliances!AF$237=\"yes\",IF(AND(Appliances!AF$238=\"yes\",G38<70),Appliances!AF$267+(Appliances!AF$267*((1/Appliances!AF$257)*(70-G38)+(G38-NewConst!F$112))/(NewConst!F$112-G38)),0),IF(Appliances!AF$238=\"yes\",Appliances!AF$267+(Appliances!AF$267*((1/Appliances!AF$257)*(Appliances!AF$258-G38)+(G38-NewConst!F$112))/(NewConst!F$112-G38)),Appliances!AF$267)*(Appliances!AF$261/365))), 'Monthly Profiles'!V16)","v":7.8627303034892844},{"$f":"(3.5+1.17*N_br)*MAX((105-G38)/(NewConst!$F$112-G38),0)+HLOOKUP(NewConst!$F$153 & \", \" & NewConst!$F$151 & \", \" & NewConst!$F$156 & \", \" & NewConst!$F$154,'Monthly Profiles'!$BG$25:$BQ$40,A38+3,FALSE )","v":4.5833877059854711},{"$f":"(14+4.67*N_br)*MAX((105-G38)/(NewConst!$F$112-G38),0)+HLOOKUP(NewConst!$F$153 & \", \" & NewConst!$F$151 & \", \" & NewConst!$F$156 & \", \" & NewConst!$F$154,'Monthly Profiles'!$AU$25:$BE$39,A38+3,FALSE )","v":18.313935755300005},{"$f":"(12.5+4.16*N_br)*MAX((105-G38)/(NewConst!$F$112-G38),0)+HLOOKUP(NewConst!$F$153 & \", \" & NewConst!$F$151 & \", \" & NewConst!$F$156 & \", \" & NewConst!$F$154,'Monthly Profiles'!$BS$25:$CC$39,A38+3,FALSE )","v":16.332813822470335},{"$f":"IF(NewConst!F$135>0,(0.028*NewConst!$F$38)*MAX((105-$G38)/(NewConst!$F$112-$G38),0),0)","v":3.6614794798172094},49.138477293886147,{"$f":"IF(HomeType=2,IF(NewConst!F$249=\"YES\",IF(NewConst!$F$135>0,IF(NewConst!$F$303=\"YES\",SUM(U38,V38,Z38),SUM(V38,Z38)),IF(NewConst!$F$303=\"YES\",SUM(U38,V38),V38)),IF(NewConst!$F$135>0,IF(NewConst!$F$303=\"YES\",SUM(U38,Z38),SUM(Z38)),IF(NewConst!$F$303=\"YES\",SUM(U38),0))),0)","v":0},{"$f":"HLOOKUP(NewConst!$F$153 & \", \" & NewConst!$F$151 & \", \" & NewConst!$F$156 & \", \" & NewConst!$F$154,'Monthly Profiles'!$AI$25:$AS$40,A38+3,FALSE )","v":4176.7300337489905},{"$f":"IF(NewConst!$F$154=\"Timer control\",(18135+2538*N_br+(-12265-1495*N_br)*R_ins/2)/(8.33*((120-'Monthly Profiles'!G38)*4184*0.00023886)),IF(NewConst!$F$154=\"Demand control\",(-3648+2344*N_br+(-1328-761*N_br)*R_ins/2)/(8.33*((120-'Monthly Profiles'!G38)*4184*0.000238861)),0))","v":0},{"$f":"IF(NewConst!$F$203=NewConst!$I$203,'Detailed Lighting'!BB21,Lighting!BC31)","v":0.10789130895095178},null,null,null,{"$f":"('Monthly Profiles'!$Z$20+735*(N_br-3)-(948+158*(N_br-3))*R_ins/2)*(1+1/'Monthly Profiles'!$Z$20*(362+(63*(N_br-3)))*SIN(2*PI()*('Monthly Profiles'!$A38/12)+0.3))","v":4176.7300337489905},{"$f":"('Monthly Profiles'!$Z$20-1047-732*R_ins/2)*(1+1/'Monthly Profiles'!$Z$20*735*(N_br-3)+1/'Monthly Profiles'!$Z$20*(362+(63*(N_br-3)))*SIN(2*PI()*('Monthly Profiles'!$A38/12)+0.3))","v":3149.4722594160817},{"$f":"('Monthly Profiles'!$Z$20+735*(N_br-3)-(3356+589*(N_br-3))-(90+11*(N_br-3))*R_ins/2)*(1+1/'Monthly Profiles'!$Z$20*(362+(63*(N_br-3)))*SIN(2*PI()*('Monthly Profiles'!$A38/12)+0.3))","v":884.01074944980985},{"$f":"('Monthly Profiles'!$Z$20-1047)*(1+1/'Monthly Profiles'!$Z$20*735*(N_br-3)-1/'Monthly Profiles'!$Z$20*(3356+589*(N_br-3)+(90+11*(N_br-3))*R_ins/2))*(1+1/'Monthly Profiles'!$Z$20*(362+(63*(N_br-3)))*SIN(2*PI()*('Monthly Profiles'!$A38/12)+0.3))","v":666.59020571620613},{"$f":"('Monthly Profiles'!$Z$20+735*(N_br-3)-(1142+378*(N_br-3))-(649+73*(N_br-3))*R_ins/2)*(1+1/'Monthly Profiles'!$Z$20*(362+(63*(N_br-3)))*SIN(2*PI()*('Monthly Profiles'!$A38/12)+0.3))","v":3056.2635788414627},{"$f":"('Monthly Profiles'!$Z$20+735*(N_br-3)-(1142+378*(N_br-3)))*(1-1/'Monthly Profiles'!$Z$20*(3356+589*(N_br-3)+(90+11*(N_br-3))*R_ins/2))*(1+1/'Monthly Profiles'!$Z$20*(362+(63*(N_br-3)))*SIN(2*PI()*('Monthly Profiles'!$A38/12)+0.3))","v":646.86245819500994},{"$f":"('Monthly Profiles'!$Z$20+735*(N_br-3)+(20148+2140*(N_br-3))-(11956+1355*(N_br-3))*R_ins/2)*(1+1/'Monthly Profiles'!$Z$20*(362+(63*(N_br-3)))*SIN(2*PI()*('Monthly Profiles'!$A38/12)+0.3))","v":23944.81946761666},{"$f":"('Monthly Profiles'!$Z$20+735*(N_br-3)+(1458+1066*(N_br-3))-(1332+545*(N_br-3))*R_ins/2)*(1+1/'Monthly Profiles'!$Z$20*(362+(63*(N_br-3)))*SIN(2*PI()*('Monthly Profiles'!$A38/12)+0.3))","v":5607.237994567884},{"$f":"('Monthly Profiles'!$Z$20-1047)*(1+1/'Monthly Profiles'!$Z$20*735*(N_br-3)+1/'Monthly Profiles'!$Z$20*(20148+2140*(N_br-3))-1/'Monthly Profiles'!$Z$20*((11956+1355*(N_br-3))*R_ins/2))*(1+1/'Monthly Profiles'!$Z$20*(362+(63*(N_br-3)))*SIN(2*PI()*('Monthly Profiles'!$A38/12)+0.3))","v":18055.64258657493},{"$f":"('Monthly Profiles'!$Z$20-1047)*(1+1/'Monthly Profiles'!$Z$20*735*(N_br-3)+1/'Monthly Profiles'!$Z$20*(1458+1066*(N_br-3))-1/'Monthly Profiles'!$Z$20*((1332+545*(N_br-3))*R_ins/2))*(1+1/'Monthly Profiles'!$Z$20*(362+(63*(N_br-3)))*SIN(2*PI()*('Monthly Profiles'!$A38/12)+0.3))","v":4228.1498620067905},{"$f":"'Monthly Profiles'!AC16","v":4176.7300337489905},null,0,-0.85,{"$f":"(-1.14-0.36*(N_br)+(-0.34-0.08*(N_br))*R_ins/2)*(1+0.11*SIN(2*PI()*('Monthly Profiles'!$A38/12)+0.3))","v":-2.1658510338163079},{"$f":"-0.85+('Monthly Profiles'!$X$18-0.85)/'Monthly Profiles'!$X$18*((-1.14-0.36*(N_br)+(-0.34-0.08*(N_br))*R_ins/2)*(1+0.11*SIN(2*PI()*('Monthly Profiles'!$A38/12)+0.3)))","v":-2.9289178336848192},-1.21,{"$f":"-0.52-0.23*N_br+('Monthly Profiles'!$X$18-0.52-0.23*N_br)/'Monthly Profiles'!$X$18*((-1.14-0.36*(N_br)+(-0.34-0.08*(N_br))*R_ins/2)*(1+0.11*SIN(2*PI()*('Monthly Profiles'!$A38/12)+0.3)))","v":-3.2520990665703065},-1.4,-1.56,{"$f":"-0.85+('Monthly Profiles'!$X$18-0.85)/'Monthly Profiles'!$X$18*((-2.15+0.25*(N_br)+(-0.16-0.08*(N_br))*R_ins/2))","v":-2.1938066246090648},{"$f":"-0.85+('Monthly Profiles'!$X$18-0.85)/'Monthly Profiles'!$X$18*((-2.61+0.35*(N_br)+(0.05-0.13*(N_br))*R_ins/2))","v":-2.347384524564387},{"$f":"0","v":0},null,0,-0.12,{"$f":"(-0.28-0.11*(N_br)+(0.06-0.04*(N_br))*R_ins/2)*(1+0.13*SIN(2*PI()*('Monthly Profiles'!$A38/12)+0.3))","v":-0.59241599910578735},{"$f":"-0.12+('Monthly Profiles'!$W$18-0.12)/'Monthly Profiles'!$W$18*((-0.28-0.11*(N_br)+(0.06-0.04*(N_br))*R_ins/2)*(1+0.13*SIN(2*PI()*('Monthly Profiles'!$A38/12)+0.3)))","v":-0.69900252503312799},-0.21000000000000002,{"$f":"-0.06-0.05*N_br+('Monthly Profiles'!$W$18-0.06-0.05*N_br)/'Monthly Profiles'!$W$18*((-0.28-0.11*(N_br)+(0.06-0.04*(N_br))*R_ins/2)*(1+0.13*SIN(2*PI()*('Monthly Profiles'!$A38/12)+0.3)))","v":-0.77894241947863341},-0.15000000000000002,-0.23,{"$f":"-0.12+('Monthly Profiles'!$W$18-0.12)/'Monthly Profiles'!$W$18*((-0.27+0.04*(N_br)+(-0.01-0.03*(N_br))*R_ins/2))","v":-0.26660370227351066},{"$f":"-0.12+('Monthly Profiles'!$W$18-0.12)/'Monthly Profiles'!$W$18*((-0.26+0.01*(N_br)+(-0.03-0*(N_br))*R_ins/2))","v":-0.34479234348604965},{"$f":"0","v":0},null,0,-1.69,{"$f":"(-0.89-0.32*(N_br)+(-1.86+0.31*(N_br))*R_ins/2)*(1+0.16*SIN(2*PI()*('Monthly Profiles'!$A38/12)+0.3))","v":-1.7843648894743129},{"$f":"-1.69+('Monthly Profiles'!$Y$18-1.69)/'Monthly Profiles'!$Y$18*((-0.89-0.32*(N_br)+(-1.86+0.31*(N_br))*R_ins/2)*(1+0.16*SIN(2*PI()*('Monthly Profiles'!$A38/12)+0.3)))","v":-3.3146927270357125},-1.9500000000000002,{"$f":"0.21-0.72*N_br+('Monthly Profiles'!$Y$18+0.21-0.72*N_br)/'Monthly Profiles'!$Y$18*((-0.89-0.32*(N_br)+(-1.86+0.31*(N_br))*R_ins/2)*(1+0.16*SIN(2*PI()*('Monthly Profiles'!$A38/12)+0.3)))","v":-3.5501277789682355},-4.8599999999999994,-4.07,{"$f":"-1.69+('Monthly Profiles'!$Y$18-1.69)/'Monthly Profiles'!$Y$18*((-2.01-0.95*(N_br)+(-0.36-0.13*(N_br))*R_ins/2))","v":-6.1151076111006546},{"$f":"-1.69+('Monthly Profiles'!$Y$18-1.69)/'Monthly Profiles'!$Y$18*((-1.34-0.91*(N_br)+(-0.64-0.07*(N_br))*R_ins/2))","v":-5.3957999953044595},{"$f":"0","v":0}]
[12,"Dec",{"$f":"'Monthly Profiles'!C17","v":1},{"$f":"'Monthly Profiles'!D17","v":1},{"$f":"'Monthly Profiles'!E17","v":0.85},{"$f":"DHW!N64","v":0.76582056075532934},{"$f":"'Monthly Profiles'!G17","v":52.850464544718484},{"$f":"H17","v":0.83664164971592903},0.83664164971592903,0.83664164971592903,1.0967699665858615,1.0967699665858615,1.010625275424766,1.1509530689285548,1.1369170125928769,1.2725933719095215,0.92131381900420672,0,1.154258712676234,{"$f":"IF(NewConst!$F$286=\"yes\", Appliances!$AF$125, 'Monthly Profiles'!T17)","v":2.0456097066410499},{"$f":"IF(NewConst!$F$303=\"YES\", IF(NewConst!$F$304=\"yes\", Appliances!$AG$125, 'Monthly Profiles'!$U17), 0)","v":0.70511546706187678},{"$f":"IF(NewConst!F$247=\"yes\", (IF(Appliances!AF$237=\"yes\",IF(AND(Appliances!AF$238=\"yes\",G39<70),Appliances!AF$267+(Appliances!AF$267*((1/Appliances!AF$257)*(70-G39)+(G39-NewConst!F$112))/(NewConst!F$112-G39)),0),IF(Appliances!AF$238=\"yes\",Appliances!AF$267+(Appliances!AF$267*((1/Appliances!AF$257)*(Appliances!AF$258-G39)+(G39-NewConst!F$112))/(NewConst!F$112-G39)),Appliances!AF$267)*(Appliances!AF$261/365))), 'Monthly Profiles'!V17)","v":8.4053494537305156},{"$f":"(3.5+1.17*N_br)*MAX((105-G39)/(NewConst!$F$112-G39),0)+HLOOKUP(NewConst!$F$153 & \", \" & NewConst!$F$151 & \", \" & NewConst!$F$156 & \", \" & NewConst!$F$154,'Monthly Profiles'!$BG$25:$BQ$40,A39+3,FALSE )","v":4.7384373915435836},{"$f":"(14+4.67*N_br)*MAX((105-G39)/(NewConst!$F$112-G39),0)+HLOOKUP(NewConst!$F$153 & \", \" & NewConst!$F$151 & \", \" & NewConst!$F$156 & \", \" & NewConst!$F$154,'Monthly Profiles'!$AU$25:$BE$39,A39+3,FALSE )","v":18.933470946809667},{"$f":"(12.5+4.16*N_br)*MAX((105-G39)/(NewConst!$F$112-G39),0)+HLOOKUP(NewConst!$F$153 & \", \" & NewConst!$F$151 & \", \" & NewConst!$F$156 & \", \" & NewConst!$F$154,'Monthly Profiles'!$BS$25:$CC$39,A39+3,FALSE )","v":16.885330390978421},{"$f":"IF(NewConst!F$135>0,(0.028*NewConst!$F$38)*MAX((105-$G39)/(NewConst!$F$112-$G39),0),0)","v":3.7853422814042896},51.00819788970324,{"$f":"IF(HomeType=2,IF(NewConst!F$249=\"YES\",IF(NewConst!$F$135>0,IF(NewConst!$F$303=\"YES\",SUM(U39,V39,Z39),SUM(V39,Z39)),IF(NewConst!$F$303=\"YES\",SUM(U39,V39),V39)),IF(NewConst!$F$135>0,IF(NewConst!$F$303=\"YES\",SUM(U39,Z39),SUM(Z39)),IF(NewConst!$F$303=\"YES\",SUM(U39),0))),0)","v":0},{"$f":"HLOOKUP(NewConst!$F$153 & \", \" & NewConst!$F$151 & \", \" & NewConst!$F$156 & \", \" & NewConst!$F$154,'Monthly Profiles'!$AI$25:$AS$40,A39+3,FALSE )","v":4363.9783148114047},{"$f":"IF(NewConst!$F$154=\"Timer control\",(18135+2538*N_br+(-12265-1495*N_br)*R_ins/2)/(8.33*((120-'Monthly Profiles'!G39)*4184*0.00023886)),IF(NewConst!$F$154=\"Demand control\",(-3648+2344*N_br+(-1328-761*N_br)*R_ins/2)/(8.33*((120-'Monthly Profiles'!G39)*4184*0.000238861)),0))","v":0},{"$f":"IF(NewConst!$F$203=NewConst!$I$203,'Detailed Lighting'!BB22,Lighting!BC32)","v":0.1204087334139272},null,null,null,{"$f":"('Monthly Profiles'!$Z$20+735*(N_br-3)-(948+158*(N_br-3))*R_ins/2)*(1+1/'Monthly Profiles'!$Z$20*(362+(63*(N_br-3)))*SIN(2*PI()*('Monthly Profiles'!$A39/12)+0.3))","v":4363.9783148114047},{"$f":"('Monthly Profiles'!$Z$20-1047-732*R_ins/2)*(1+1/'Monthly Profiles'!$Z$20*735*(N_br-3)+1/'Monthly Profiles'!$Z$20*(362+(63*(N_br-3)))*SIN(2*PI()*('Monthly Profiles'!$A39/12)+0.3))","v":3290.6672282228346},{"$f":"('Monthly Profiles'!$Z$20+735*(N_br-3)-(3356+589*(N_br-3))-(90+11*(N_br-3))*R_ins/2)*(1+1/'Monthly Profiles'!$Z$20*(362+(63*(N_br-3)))*SIN(2*PI()*('Monthly Profiles'!$A39/12)+0.3))","v":923.64210985320074},{"$f":"('Monthly Profiles'!$Z$20-1047)*(1+1/'Monthly Profiles'!$Z$20*735*(N_br-3)-1/'Monthly Profiles'!$Z$20*(3356+589*(N_br-3)+(90+11*(N_br-3))*R_ins/2))*(1+1/'Monthly Profiles'!$Z$20*(362+(63*(N_br-3)))*SIN(2*PI()*('Monthly Profiles'!$A39/12)+0.3))","v":696.47431821206817},{"$f":"('Monthly Profiles'!$Z$20+735*(N_br-3)-(1142+378*(N_br-3))-(649+73*(N_br-3))*R_ins/2)*(1+1/'Monthly Profiles'!$Z$20*(362+(63*(N_br-3)))*SIN(2*PI()*('Monthly Profiles'!$A39/12)+0.3))","v":3193.279880347081},{"$f":"('Monthly Profiles'!$Z$20+735*(N_br-3)-(1142+378*(N_br-3)))*(1-1/'Monthly Profiles'!$Z$20*(3356+589*(N_br-3)+(90+11*(N_br-3))*R_ins/2))*(1+1/'Monthly Profiles'!$Z$20*(362+(63*(N_br-3)))*SIN(2*PI()*('Monthly Profiles'!$A39/12)+0.3))","v":675.86214991607221},{"$f":"('Monthly Profiles'!$Z$20+735*(N_br-3)+(20148+2140*(N_br-3))-(11956+1355*(N_br-3))*R_ins/2)*(1+1/'Monthly Profiles'!$Z$20*(362+(63*(N_br-3)))*SIN(2*PI()*('Monthly Profiles'!$A39/12)+0.3))","v":25018.297104292302},{"$f":"('Monthly Profiles'!$Z$20+735*(N_br-3)+(1458+1066*(N_br-3))-(1332+545*(N_br-3))*R_ins/2)*(1+1/'Monthly Profiles'!$Z$20*(362+(63*(N_br-3)))*SIN(2*PI()*('Monthly Profiles'!$A39/12)+0.3))","v":5858.6178222098133},{"$f":"('Monthly Profiles'!$Z$20-1047)*(1+1/'Monthly Profiles'!$Z$20*735*(N_br-3)+1/'Monthly Profiles'!$Z$20*(20148+2140*(N_br-3))-1/'Monthly Profiles'!$Z$20*((11956+1355*(N_br-3))*R_ins/2))*(1+1/'Monthly Profiles'!$Z$20*(362+(63*(N_br-3)))*SIN(2*PI()*('Monthly Profiles'!$A39/12)+0.3))","v":18865.100705844088},{"$f":"('Monthly Profiles'!$Z$20-1047)*(1+1/'Monthly Profiles'!$Z$20*735*(N_br-3)+1/'Monthly Profiles'!$Z$20*(1458+1066*(N_br-3))-1/'Monthly Profiles'!$Z$20*((1332+545*(N_br-3))*R_ins/2))*(1+1/'Monthly Profiles'!$Z$20*(362+(63*(N_br-3)))*SIN(2*PI()*('Monthly Profiles'!$A39/12)+0.3))","v":4417.7033613562371},{"$f":"'Monthly Profiles'!AC17","v":4363.9783148114047},null,0,-0.85,{"$f":"(-1.14-0.36*(N_br)+(-0.34-0.08*(N_br))*R_ins/2)*(1+0.11*SIN(2*PI()*('Monthly Profiles'!$A39/12)+0.3))","v":-2.2921660344666983},{"$f":"-0.85+('Monthly Profiles'!$X$18-0.85)/'Monthly Profiles'!$X$18*((-1.14-0.36*(N_br)+(-0.34-0.08*(N_br))*R_ins/2)*(1+0.11*SIN(2*PI()*('Monthly Profiles'!$A39/12)+0.3)))","v":-3.050162787014457},-1.21,{"$f":"-0.52-0.23*N_br+('Monthly Profiles'!$X$18-0.52-0.23*N_br)/'Monthly Profiles'!$X$18*((-1.14-0.36*(N_br)+(-0.34-0.08*(N_br))*R_ins/2)*(1+0.11*SIN(2*PI()*('Monthly Profiles'!$A39/12)+0.3)))","v":-3.3711967057405667},-1.4,-1.56,{"$f":"-0.85+('Monthly Profiles'!$X$18-0.85)/'Monthly Profiles'!$X$18*((-2.15+0.25*(N_br)+(-0.16-0.08*(N_br))*R_ins/2))","v":-2.1938066246090648},{"$f":"-0.85+('Monthly Profiles'!$X$18-0.85)/'Monthly Profiles'!$X$18*((-2.61+0.35*(N_br)+(0.05-0.13*(N_br))*R_ins/2))","v":-2.347384524564387},{"$f":"0","v":0},null,0,-0.12,{"$f":"(-0.28-0.11*(N_br)+(0.06-0.04*(N_br))*R_ins/2)*(1+0.13*SIN(2*PI()*('Monthly Profiles'!$A39/12)+0.3))","v":-0.63343475238824432},{"$f":"-0.12+('Monthly Profiles'!$W$18-0.12)/'Monthly Profiles'!$W$18*((-0.28-0.11*(N_br)+(0.06-0.04*(N_br))*R_ins/2)*(1+0.13*SIN(2*PI()*('Monthly Profiles'!$A39/12)+0.3)))","v":-0.73909253232547401},-0.21000000000000002,{"$f":"-0.06-0.05*N_br+('Monthly Profiles'!$W$18-0.06-0.05*N_br)/'Monthly Profiles'!$W$18*((-0.28-0.11*(N_br)+(0.06-0.04*(N_br))*R_ins/2)*(1+0.13*SIN(2*PI()*('Monthly Profiles'!$A39/12)+0.3)))","v":-0.81833586727839625},-0.15000000000000002,-0.23,{"$f":"-0.12+('Monthly Profiles'!$W$18-0.12)/'Monthly Profiles'!$W$18*((-0.27+0.04*(N_br)+(-0.01-0.03*(N_br))*R_ins/2))","v":-0.26660370227351066},{"$f":"-0.12+('Monthly Profiles'!$W$18-0.12)/'Monthly Profiles'!$W$18*((-0.26+0.01*(N_br)+(-0.03-0*(N_br))*R_ins/2))","v":-0.34479234348604965},{"$f":"0","v":0},null,0,-1.69,{"$f":"(-0.89-0.32*(N_br)+(-1.86+0.31*(N_br))*R_ins/2)*(1+0.16*SIN(2*PI()*('Monthly Profiles'!$A39/12)+0.3))","v":-1.9374739811717563},{"$f":"-1.69+('Monthly Profiles'!$Y$18-1.69)/'Monthly Profiles'!$Y$18*((-0.89-0.32*(N_br)+(-1.86+0.31*(N_br))*R_ins/2)*(1+0.16*SIN(2*PI()*('Monthly Profiles'!$A39/12)+0.3)))","v":-3.4541010000807875},-1.9500000000000002,{"$f":"0.21-0.72*N_br+('Monthly Profiles'!$Y$18+0.21-0.72*N_br)/'Monthly Profiles'!$Y$18*((-0.89-0.32*(N_br)+(-1.86+0.31*(N_br))*R_ins/2)*(1+0.16*SIN(2*PI()*('Monthly Profiles'!$A39/12)+0.3)))","v":-3.6874282337591002},-4.8599999999999994,-4.07,{"$f":"-1.69+('Monthly Profiles'!$Y$18-1.69)/'Monthly Profiles'!$Y$18*((-2.01-0.95*(N_br)+(-0.36-0.13*(N_br))*R_ins/2))","v":-6.1151076111006546},{"$f":"-1.69+('Monthly Profiles'!$Y$18-1.69)/'Monthly Profiles'!$Y$18*((-1.34-0.91*(N_br)+(-0.64-0.07*(N_br))*R_ins/2))","v":-5.3957999953044595},{"$f":"0","v":0}]
[null,null,null,null,null,"Annual Avg",{"$f":"'Monthly Profiles'!G18","v":57.722899711599034},{"$f":"SUM(H28:H39)","v":12.000000000000002},12.000000000000002,12.000000000000002,12.000000000000002,12.000000000000002,12,12,11.999999999999998,12,11.999999999999998,12,12,{"$f":"IF(NewConst!$F$286=\"yes\", Appliances!$AF$125, 'Monthly Profiles'!T18)","v":2.0456097066410499},{"$f":"IF(NewConst!$F$303=\"YES\", IF(NewConst!$F$304=\"yes\", Appliances!$AG$125, 'Monthly Profiles'!$U18), 0)","v":0.70511546706187678},{"$f":"IF(NewConst!F247=\"yes\", (V28*'Monthly Profiles'!D47+V29*'Monthly Profiles'!D48+V30*'Monthly Profiles'!D49+V31*'Monthly Profiles'!D50+V32*'Monthly Profiles'!D51+V33*'Monthly Profiles'!D52+V34*'Monthly Profiles'!D53+V35*'Monthly Profiles'!D54+V36*'Monthly Profiles'!D55+V37*'Monthly Profiles'!D56+V38*'Monthly Profiles'!D57+V39*'Monthly Profiles'!D58)/365, 'Monthly Profiles'!V18)","v":7.7888641707661952},{"$f":"(W28*'Monthly Profiles'!$D$47+W29*'Monthly Profiles'!$D$48+W30*'Monthly Profiles'!$D$49+W31*'Monthly Profiles'!$D$50+W32*'Monthly Profiles'!$D$51+W33*'Monthly Profiles'!$D$52+W34*'Monthly Profiles'!$D$53+W35*'Monthly Profiles'!$D$54+W36*'Monthly Profiles'!$D$55+W37*'Monthly Profiles'!$D$56+W38*'Monthly Profiles'!$D$57+W39*'Monthly Profiles'!$D$58)/365","v":4.562280967222164},{"$f":"(X28*'Monthly Profiles'!$D$47+X29*'Monthly Profiles'!$D$48+X30*'Monthly Profiles'!$D$49+X31*'Monthly Profiles'!$D$50+X32*'Monthly Profiles'!$D$51+X33*'Monthly Profiles'!$D$52+X34*'Monthly Profiles'!$D$53+X35*'Monthly Profiles'!$D$54+X36*'Monthly Profiles'!$D$55+X37*'Monthly Profiles'!$D$56+X38*'Monthly Profiles'!$D$57+X39*'Monthly Profiles'!$D$58)/365","v":18.229599128658034},{"$f":"(Y28*'Monthly Profiles'!D47+Y29*'Monthly Profiles'!D48+Y30*'Monthly Profiles'!D49+Y31*'Monthly Profiles'!D50+Y32*'Monthly Profiles'!D51+Y33*'Monthly Profiles'!D52+Y34*'Monthly Profiles'!D53+Y35*'Monthly Profiles'!D54+Y36*'Monthly Profiles'!D55+Y37*'Monthly Profiles'!D56+Y38*'Monthly Profiles'!D57+Y39*'Monthly Profiles'!D58)/365","v":16.257600365365143},{"$f":"(0.028*NewConst!$F$38)*MAX((105-$G40)/(NewConst!$F$112-$G40),0)+HLOOKUP(NewConst!$F$153 & \", \" & NewConst!$F$151 & \", \" & NewConst!$F$156 & \", \" & NewConst!$F$154,'Monthly Profiles'!$BS$25:$CC$39,$A40+3,FALSE )","v":3.6630102834594878},{"$f":"(AA28*'Monthly Profiles'!$D$47+AA29*'Monthly Profiles'!$D$48+AA30*'Monthly Profiles'!$D$49+AA31*'Monthly Profiles'!$D$50+AA32*'Monthly Profiles'!$D$51+AA33*'Monthly Profiles'!$D$52+AA34*'Monthly Profiles'!$D$53+AA35*'Monthly Profiles'!$D$54+AA36*'Monthly Profiles'!$D$55+AA37*'Monthly Profiles'!$D$56+AA38*'Monthly Profiles'!$D$57+AA39*'Monthly Profiles'!$D$58)/365","v":48.883954338652593},{"$f":"IF(HomeType=2,IF(NewConst!F$249=\"YES\",IF(NewConst!$F$135>0,IF(NewConst!$F$303=\"YES\",SUM(U40,V40,Z40),SUM(V40,Z40)),IF(NewConst!$F$303=\"YES\",SUM(U40,V40),V40)),IF(NewConst!$F$135>0,IF(NewConst!$F$303=\"YES\",SUM(U40,Z40),SUM(Z40)),IF(NewConst!$F$303=\"YES\",SUM(U40),0))),0)","v":0},{"$f":"(AC28*'Monthly Profiles'!$D$47+AC29*'Monthly Profiles'!$D$48+AC30*'Monthly Profiles'!$D$49+AC31*'Monthly Profiles'!$D$50+AC32*'Monthly Profiles'!$D$51+AC33*'Monthly Profiles'!$D$52+AC34*'Monthly Profiles'!$D$53+AC35*'Monthly Profiles'!$D$54+AC36*'Monthly Profiles'!$D$55+AC37*'Monthly Profiles'!$D$56+AC38*'Monthly Profiles'!$D$57+AC39*'Monthly Profiles'!$D$58)/365","v":4254.8852198547174},{"$f":"(AD28*'Monthly Profiles'!$D$47+AD29*'Monthly Profiles'!$D$48+AD30*'Monthly Profiles'!$D$49+AD31*'Monthly Profiles'!$D$50+AD32*'Monthly Profiles'!$D$51+AD33*'Monthly Profiles'!$D$52+AD34*'Monthly Profiles'!$D$53+AD35*'Monthly Profiles'!$D$54+AD36*'Monthly Profiles'!$D$55+AD37*'Monthly Profiles'!$D$56+AD38*'Monthly Profiles'!$D$57+AD39*'Monthly Profiles'!$D$58)/365","v":0},{"$f":"SUM(AE28:AE39)","v":1},null,null,null,{"$f":"(AI28*'Monthly Profiles'!$D$47+AI29*'Monthly Profiles'!$D$48+AI30*'Monthly Profiles'!$D$49+AI31*'Monthly Profiles'!$D$50+AI32*'Monthly Profiles'!$D$51+AI33*'Monthly Profiles'!$D$52+AI34*'Monthly Profiles'!$D$53+AI35*'Monthly Profiles'!$D$54+AI36*'Monthly Profiles'!$D$55+AI37*'Monthly Profiles'!$D$56+AI38*'Monthly Profiles'!$D$57+AI39*'Monthly Profiles'!$D$58)/365","v":4254.8852198547174},{"$f":"(AJ28*'Monthly Profiles'!$D$47+AJ29*'Monthly Profiles'!$D$48+AJ30*'Monthly Profiles'!$D$49+AJ31*'Monthly Profiles'!$D$50+AJ32*'Monthly Profiles'!$D$51+AJ33*'Monthly Profiles'!$D$52+AJ34*'Monthly Profiles'!$D$53+AJ35*'Monthly Profiles'!$D$54+AJ36*'Monthly Profiles'!$D$55+AJ37*'Monthly Profiles'!$D$56+AJ38*'Monthly Profiles'!$D$57+AJ39*'Monthly Profiles'!$D$58)/365","v":3208.4053454859386},{"$f":"(AK28*'Monthly Profiles'!$D$47+AK29*'Monthly Profiles'!$D$48+AK30*'Monthly Profiles'!$D$49+AK31*'Monthly Profiles'!$D$50+AK32*'Monthly Profiles'!$D$51+AK33*'Monthly Profiles'!$D$52+AK34*'Monthly Profiles'!$D$53+AK35*'Monthly Profiles'!$D$54+AK36*'Monthly Profiles'!$D$55+AK37*'Monthly Profiles'!$D$56+AK38*'Monthly Profiles'!$D$57+AK39*'Monthly Profiles'!$D$58)/365","v":900.55240382642694},{"$f":"(AL28*'Monthly Profiles'!$D$47+AL29*'Monthly Profiles'!$D$48+AL30*'Monthly Profiles'!$D$49+AL31*'Monthly Profiles'!$D$50+AL32*'Monthly Profiles'!$D$51+AL33*'Monthly Profiles'!$D$52+AL34*'Monthly Profiles'!$D$53+AL35*'Monthly Profiles'!$D$54+AL36*'Monthly Profiles'!$D$55+AL37*'Monthly Profiles'!$D$56+AL38*'Monthly Profiles'!$D$57+AL39*'Monthly Profiles'!$D$58)/365","v":679.06347575354255},{"$f":"(AM28*'Monthly Profiles'!$D$47+AM29*'Monthly Profiles'!$D$48+AM30*'Monthly Profiles'!$D$49+AM31*'Monthly Profiles'!$D$50+AM32*'Monthly Profiles'!$D$51+AM33*'Monthly Profiles'!$D$52+AM34*'Monthly Profiles'!$D$53+AM35*'Monthly Profiles'!$D$54+AM36*'Monthly Profiles'!$D$55+AM37*'Monthly Profiles'!$D$56+AM38*'Monthly Profiles'!$D$57+AM39*'Monthly Profiles'!$D$58)/365","v":3113.4525393111212},{"$f":"(AN28*'Monthly Profiles'!$D$47+AN29*'Monthly Profiles'!$D$48+AN30*'Monthly Profiles'!$D$49+AN31*'Monthly Profiles'!$D$50+AN32*'Monthly Profiles'!$D$51+AN33*'Monthly Profiles'!$D$52+AN34*'Monthly Profiles'!$D$53+AN35*'Monthly Profiles'!$D$54+AN36*'Monthly Profiles'!$D$55+AN37*'Monthly Profiles'!$D$56+AN38*'Monthly Profiles'!$D$57+AN39*'Monthly Profiles'!$D$58)/365","v":658.96658161130358},{"$f":"(AO28*'Monthly Profiles'!$D$47+AO29*'Monthly Profiles'!$D$48+AO30*'Monthly Profiles'!$D$49+AO31*'Monthly Profiles'!$D$50+AO32*'Monthly Profiles'!$D$51+AO33*'Monthly Profiles'!$D$52+AO34*'Monthly Profiles'!$D$53+AO35*'Monthly Profiles'!$D$54+AO36*'Monthly Profiles'!$D$55+AO37*'Monthly Profiles'!$D$56+AO38*'Monthly Profiles'!$D$57+AO39*'Monthly Profiles'!$D$58)/365","v":24392.87615469917},{"$f":"(AP28*'Monthly Profiles'!$D$47+AP29*'Monthly Profiles'!$D$48+AP30*'Monthly Profiles'!$D$49+AP31*'Monthly Profiles'!$D$50+AP32*'Monthly Profiles'!$D$51+AP33*'Monthly Profiles'!$D$52+AP34*'Monthly Profiles'!$D$53+AP35*'Monthly Profiles'!$D$54+AP36*'Monthly Profiles'!$D$55+AP37*'Monthly Profiles'!$D$56+AP38*'Monthly Profiles'!$D$57+AP39*'Monthly Profiles'!$D$58)/365","v":5712.1609188324437},{"$f":"(AQ28*'Monthly Profiles'!$D$47+AQ29*'Monthly Profiles'!$D$48+AQ30*'Monthly Profiles'!$D$49+AQ31*'Monthly Profiles'!$D$50+AQ32*'Monthly Profiles'!$D$51+AQ33*'Monthly Profiles'!$D$52+AQ34*'Monthly Profiles'!$D$53+AQ35*'Monthly Profiles'!$D$54+AQ36*'Monthly Profiles'!$D$55+AQ37*'Monthly Profiles'!$D$56+AQ38*'Monthly Profiles'!$D$57+AQ39*'Monthly Profiles'!$D$58)/365","v":18393.50069452298},{"$f":"(AR28*'Monthly Profiles'!$D$47+AR29*'Monthly Profiles'!$D$48+AR30*'Monthly Profiles'!$D$49+AR31*'Monthly Profiles'!$D$50+AR32*'Monthly Profiles'!$D$51+AR33*'Monthly Profiles'!$D$52+AR34*'Monthly Profiles'!$D$53+AR35*'Monthly Profiles'!$D$54+AR36*'Monthly Profiles'!$D$55+AR37*'Monthly Profiles'!$D$56+AR38*'Monthly Profiles'!$D$57+AR39*'Monthly Profiles'!$D$58)/365","v":4307.2672185699175},{"$f":"(AS28*'Monthly Profiles'!$D$47+AS29*'Monthly Profiles'!$D$48+AS30*'Monthly Profiles'!$D$49+AS31*'Monthly Profiles'!$D$50+AS32*'Monthly Profiles'!$D$51+AS33*'Monthly Profiles'!$D$52+AS34*'Monthly Profiles'!$D$53+AS35*'Monthly Profiles'!$D$54+AS36*'Monthly Profiles'!$D$55+AS37*'Monthly Profiles'!$D$56+AS38*'Monthly Profiles'!$D$57+AS39*'Monthly Profiles'!$D$58)/365","v":4254.8852198547174},null,{"$f":"(AU28*'Monthly Profiles'!$D$47+AU29*'Monthly Profiles'!$D$48+AU30*'Monthly Profiles'!$D$49+AU31*'Monthly Profiles'!$D$50+AU32*'Monthly Profiles'!$D$51+AU33*'Monthly Profiles'!$D$52+AU34*'Monthly Profiles'!$D$53+AU35*'Monthly Profiles'!$D$54+AU36*'Monthly Profiles'!$D$55+AU37*'Monthly Profiles'!$D$56+AU38*'Monthly Profiles'!$D$57+AU39*'Monthly Profiles'!$D$58)/365","v":0},{"$f":"(AV28*'Monthly Profiles'!$D$47+AV29*'Monthly Profiles'!$D$48+AV30*'Monthly Profiles'!$D$49+AV31*'Monthly Profiles'!$D$50+AV32*'Monthly Profiles'!$D$51+AV33*'Monthly Profiles'!$D$52+AV34*'Monthly Profiles'!$D$53+AV35*'Monthly Profiles'!$D$54+AV36*'Monthly Profiles'!$D$55+AV37*'Monthly Profiles'!$D$56+AV38*'Monthly Profiles'!$D$57+AV39*'Monthly Profiles'!$D$58)/365","v":-0.85},{"$f":"(AW28*'Monthly Profiles'!$D$47+AW29*'Monthly Profiles'!$D$48+AW30*'Monthly Profiles'!$D$49+AW31*'Monthly Profiles'!$D$50+AW32*'Monthly Profiles'!$D$51+AW33*'Monthly Profiles'!$D$52+AW34*'Monthly Profiles'!$D$53+AW35*'Monthly Profiles'!$D$54+AW36*'Monthly Profiles'!$D$55+AW37*'Monthly Profiles'!$D$56+AW38*'Monthly Profiles'!$D$57+AW39*'Monthly Profiles'!$D$58)/365","v":-2.2185733996920489},{"$f":"(AX28*'Monthly Profiles'!$D$47+AX29*'Monthly Profiles'!$D$48+AX30*'Monthly Profiles'!$D$49+AX31*'Monthly Profiles'!$D$50+AX32*'Monthly Profiles'!$D$51+AX33*'Monthly Profiles'!$D$52+AX34*'Monthly Profiles'!$D$53+AX35*'Monthly Profiles'!$D$54+AX36*'Monthly Profiles'!$D$55+AX37*'Monthly Profiles'!$D$56+AX38*'Monthly Profiles'!$D$57+AX39*'Monthly Profiles'!$D$58)/365","v":-2.9795240226340223},{"$f":"(AY28*'Monthly Profiles'!$D$47+AY29*'Monthly Profiles'!$D$48+AY30*'Monthly Profiles'!$D$49+AY31*'Monthly Profiles'!$D$50+AY32*'Monthly Profiles'!$D$51+AY33*'Monthly Profiles'!$D$52+AY34*'Monthly Profiles'!$D$53+AY35*'Monthly Profiles'!$D$54+AY36*'Monthly Profiles'!$D$55+AY37*'Monthly Profiles'!$D$56+AY38*'Monthly Profiles'!$D$57+AY39*'Monthly Profiles'!$D$58)/365","v":-1.21},{"$f":"(AZ28*'Monthly Profiles'!$D$47+AZ29*'Monthly Profiles'!$D$48+AZ30*'Monthly Profiles'!$D$49+AZ31*'Monthly Profiles'!$D$50+AZ32*'Monthly Profiles'!$D$51+AZ33*'Monthly Profiles'!$D$52+AZ34*'Monthly Profiles'!$D$53+AZ35*'Monthly Profiles'!$D$54+AZ36*'Monthly Profiles'!$D$55+AZ37*'Monthly Profiles'!$D$56+AZ38*'Monthly Profiles'!$D$57+AZ39*'Monthly Profiles'!$D$58)/365","v":-3.3018089923506224},{"$f":"(BA28*'Monthly Profiles'!$D$47+BA29*'Monthly Profiles'!$D$48+BA30*'Monthly Profiles'!$D$49+BA31*'Monthly Profiles'!$D$50+BA32*'Monthly Profiles'!$D$51+BA33*'Monthly Profiles'!$D$52+BA34*'Monthly Profiles'!$D$53+BA35*'Monthly Profiles'!$D$54+BA36*'Monthly Profiles'!$D$55+BA37*'Monthly Profiles'!$D$56+BA38*'Monthly Profiles'!$D$57+BA39*'Monthly Profiles'!$D$58)/365","v":-1.4},{"$f":"(BB28*'Monthly Profiles'!$D$47+BB29*'Monthly Profiles'!$D$48+BB30*'Monthly Profiles'!$D$49+BB31*'Monthly Profiles'!$D$50+BB32*'Monthly Profiles'!$D$51+BB33*'Monthly Profiles'!$D$52+BB34*'Monthly Profiles'!$D$53+BB35*'Monthly Profiles'!$D$54+BB36*'Monthly Profiles'!$D$55+BB37*'Monthly Profiles'!$D$56+BB38*'Monthly Profiles'!$D$57+BB39*'Monthly Profiles'!$D$58)/365","v":-1.5600000000000003},{"$f":"(BC28*'Monthly Profiles'!$D$47+BC29*'Monthly Profiles'!$D$48+BC30*'Monthly Profiles'!$D$49+BC31*'Monthly Profiles'!$D$50+BC32*'Monthly Profiles'!$D$51+BC33*'Monthly Profiles'!$D$52+BC34*'Monthly Profiles'!$D$53+BC35*'Monthly Profiles'!$D$54+BC36*'Monthly Profiles'!$D$55+BC37*'Monthly Profiles'!$D$56+BC38*'Monthly Profiles'!$D$57+BC39*'Monthly Profiles'!$D$58)/365","v":-2.1938066246090648},{"$f":"(BD28*'Monthly Profiles'!$D$47+BD29*'Monthly Profiles'!$D$48+BD30*'Monthly Profiles'!$D$49+BD31*'Monthly Profiles'!$D$50+BD32*'Monthly Profiles'!$D$51+BD33*'Monthly Profiles'!$D$52+BD34*'Monthly Profiles'!$D$53+BD35*'Monthly Profiles'!$D$54+BD36*'Monthly Profiles'!$D$55+BD37*'Monthly Profiles'!$D$56+BD38*'Monthly Profiles'!$D$57+BD39*'Monthly Profiles'!$D$58)/365","v":-2.3473845245643865},{"$f":"(BE28*'Monthly Profiles'!$D$47+BE29*'Monthly Profiles'!$D$48+BE30*'Monthly Profiles'!$D$49+BE31*'Monthly Profiles'!$D$50+BE32*'Monthly Profiles'!$D$51+BE33*'Monthly Profiles'!$D$52+BE34*'Monthly Profiles'!$D$53+BE35*'Monthly Profiles'!$D$54+BE36*'Monthly Profiles'!$D$55+BE37*'Monthly Profiles'!$D$56+BE38*'Monthly Profiles'!$D$57+BE39*'Monthly Profiles'!$D$58)/365","v":0},null,{"$f":"(BG28*'Monthly Profiles'!$D$47+BG29*'Monthly Profiles'!$D$48+BG30*'Monthly Profiles'!$D$49+BG31*'Monthly Profiles'!$D$50+BG32*'Monthly Profiles'!$D$51+BG33*'Monthly Profiles'!$D$52+BG34*'Monthly Profiles'!$D$53+BG35*'Monthly Profiles'!$D$54+BG36*'Monthly Profiles'!$D$55+BG37*'Monthly Profiles'!$D$56+BG38*'Monthly Profiles'!$D$57+BG39*'Monthly Profiles'!$D$58)/365","v":0},{"$f":"(BH28*'Monthly Profiles'!$D$47+BH29*'Monthly Profiles'!$D$48+BH30*'Monthly Profiles'!$D$49+BH31*'Monthly Profiles'!$D$50+BH32*'Monthly Profiles'!$D$51+BH33*'Monthly Profiles'!$D$52+BH34*'Monthly Profiles'!$D$53+BH35*'Monthly Profiles'!$D$54+BH36*'Monthly Profiles'!$D$55+BH37*'Monthly Profiles'!$D$56+BH38*'Monthly Profiles'!$D$57+BH39*'Monthly Profiles'!$D$58)/365","v":-0.12},{"$f":"(BI28*'Monthly Profiles'!$D$47+BI29*'Monthly Profiles'!$D$48+BI30*'Monthly Profiles'!$D$49+BI31*'Monthly Profiles'!$D$50+BI32*'Monthly Profiles'!$D$51+BI33*'Monthly Profiles'!$D$52+BI34*'Monthly Profiles'!$D$53+BI35*'Monthly Profiles'!$D$54+BI36*'Monthly Profiles'!$D$55+BI37*'Monthly Profiles'!$D$56+BI38*'Monthly Profiles'!$D$57+BI39*'Monthly Profiles'!$D$58)/365","v":-0.60953673462563296},{"$f":"(BJ28*'Monthly Profiles'!$D$47+BJ29*'Monthly Profiles'!$D$48+BJ30*'Monthly Profiles'!$D$49+BJ31*'Monthly Profiles'!$D$50+BJ32*'Monthly Profiles'!$D$51+BJ33*'Monthly Profiles'!$D$52+BJ34*'Monthly Profiles'!$D$53+BJ35*'Monthly Profiles'!$D$54+BJ36*'Monthly Profiles'!$D$55+BJ37*'Monthly Profiles'!$D$56+BJ38*'Monthly Profiles'!$D$57+BJ39*'Monthly Profiles'!$D$58)/365","v":-0.7157356131188275},{"$f":"(BK28*'Monthly Profiles'!$D$47+BK29*'Monthly Profiles'!$D$48+BK30*'Monthly Profiles'!$D$49+BK31*'Monthly Profiles'!$D$50+BK32*'Monthly Profiles'!$D$51+BK33*'Monthly Profiles'!$D$52+BK34*'Monthly Profiles'!$D$53+BK35*'Monthly Profiles'!$D$54+BK36*'Monthly Profiles'!$D$55+BK37*'Monthly Profiles'!$D$56+BK38*'Monthly Profiles'!$D$57+BK39*'Monthly Profiles'!$D$58)/365","v":-0.21000000000000002},{"$f":"(BL28*'Monthly Profiles'!$D$47+BL29*'Monthly Profiles'!$D$48+BL30*'Monthly Profiles'!$D$49+BL31*'Monthly Profiles'!$D$50+BL32*'Monthly Profiles'!$D$51+BL33*'Monthly Profiles'!$D$52+BL34*'Monthly Profiles'!$D$53+BL35*'Monthly Profiles'!$D$54+BL36*'Monthly Profiles'!$D$55+BL37*'Monthly Profiles'!$D$56+BL38*'Monthly Profiles'!$D$57+BL39*'Monthly Profiles'!$D$58)/365","v":-0.7953847719887237},{"$f":"(BM28*'Monthly Profiles'!$D$47+BM29*'Monthly Profiles'!$D$48+BM30*'Monthly Profiles'!$D$49+BM31*'Monthly Profiles'!$D$50+BM32*'Monthly Profiles'!$D$51+BM33*'Monthly Profiles'!$D$52+BM34*'Monthly Profiles'!$D$53+BM35*'Monthly Profiles'!$D$54+BM36*'Monthly Profiles'!$D$55+BM37*'Monthly Profiles'!$D$56+BM38*'Monthly Profiles'!$D$57+BM39*'Monthly Profiles'!$D$58)/365","v":-0.15},{"$f":"(BN28*'Monthly Profiles'!$D$47+BN29*'Monthly Profiles'!$D$48+BN30*'Monthly Profiles'!$D$49+BN31*'Monthly Profiles'!$D$50+BN32*'Monthly Profiles'!$D$51+BN33*'Monthly Profiles'!$D$52+BN34*'Monthly Profiles'!$D$53+BN35*'Monthly Profiles'!$D$54+BN36*'Monthly Profiles'!$D$55+BN37*'Monthly Profiles'!$D$56+BN38*'Monthly Profiles'!$D$57+BN39*'Monthly Profiles'!$D$58)/365","v":-0.23},{"$f":"(BO28*'Monthly Profiles'!$D$47+BO29*'Monthly Profiles'!$D$48+BO30*'Monthly Profiles'!$D$49+BO31*'Monthly Profiles'!$D$50+BO32*'Monthly Profiles'!$D$51+BO33*'Monthly Profiles'!$D$52+BO34*'Monthly Profiles'!$D$53+BO35*'Monthly Profiles'!$D$54+BO36*'Monthly Profiles'!$D$55+BO37*'Monthly Profiles'!$D$56+BO38*'Monthly Profiles'!$D$57+BO39*'Monthly Profiles'!$D$58)/365","v":-0.26660370227351066},{"$f":"(BP28*'Monthly Profiles'!$D$47+BP29*'Monthly Profiles'!$D$48+BP30*'Monthly Profiles'!$D$49+BP31*'Monthly Profiles'!$D$50+BP32*'Monthly Profiles'!$D$51+BP33*'Monthly Profiles'!$D$52+BP34*'Monthly Profiles'!$D$53+BP35*'Monthly Profiles'!$D$54+BP36*'Monthly Profiles'!$D$55+BP37*'Monthly Profiles'!$D$56+BP38*'Monthly Profiles'!$D$57+BP39*'Monthly Profiles'!$D$58)/365","v":-0.3447923434860497},{"$f":"(BQ28*'Monthly Profiles'!$D$47+BQ29*'Monthly Profiles'!$D$48+BQ30*'Monthly Profiles'!$D$49+BQ31*'Monthly Profiles'!$D$50+BQ32*'Monthly Profiles'!$D$51+BQ33*'Monthly Profiles'!$D$52+BQ34*'Monthly Profiles'!$D$53+BQ35*'Monthly Profiles'!$D$54+BQ36*'Monthly Profiles'!$D$55+BQ37*'Monthly Profiles'!$D$56+BQ38*'Monthly Profiles'!$D$57+BQ39*'Monthly Profiles'!$D$58)/365","v":0},null,{"$f":"(BS28*'Monthly Profiles'!$D$47+BS29*'Monthly Profiles'!$D$48+BS30*'Monthly Profiles'!$D$49+BS31*'Monthly Profiles'!$D$50+BS32*'Monthly Profiles'!$D$51+BS33*'Monthly Profiles'!$D$52+BS34*'Monthly Profiles'!$D$53+BS35*'Monthly Profiles'!$D$54+BS36*'Monthly Profiles'!$D$55+BS37*'Monthly Profiles'!$D$56+BS38*'Monthly Profiles'!$D$57+BS39*'Monthly Profiles'!$D$58)/365","v":0},{"$f":"(BT28*'Monthly Profiles'!$D$47+BT29*'Monthly Profiles'!$D$48+BT30*'Monthly Profiles'!$D$49+BT31*'Monthly Profiles'!$D$50+BT32*'Monthly Profiles'!$D$51+BT33*'Monthly Profiles'!$D$52+BT34*'Monthly Profiles'!$D$53+BT35*'Monthly Profiles'!$D$54+BT36*'Monthly Profiles'!$D$55+BT37*'Monthly Profiles'!$D$56+BT38*'Monthly Profiles'!$D$57+BT39*'Monthly Profiles'!$D$58)/365","v":-1.6900000000000002},{"$f":"(BU28*'Monthly Profiles'!$D$47+BU29*'Monthly Profiles'!$D$48+BU30*'Monthly Profiles'!$D$49+BU31*'Monthly Profiles'!$D$50+BU32*'Monthly Profiles'!$D$51+BU33*'Monthly Profiles'!$D$52+BU34*'Monthly Profiles'!$D$53+BU35*'Monthly Profiles'!$D$54+BU36*'Monthly Profiles'!$D$55+BU37*'Monthly Profiles'!$D$56+BU38*'Monthly Profiles'!$D$57+BU39*'Monthly Profiles'!$D$58)/365","v":-1.8482707875055147},{"$f":"(BV28*'Monthly Profiles'!$D$47+BV29*'Monthly Profiles'!$D$48+BV30*'Monthly Profiles'!$D$49+BV31*'Monthly Profiles'!$D$50+BV32*'Monthly Profiles'!$D$51+BV33*'Monthly Profiles'!$D$52+BV34*'Monthly Profiles'!$D$53+BV35*'Monthly Profiles'!$D$54+BV36*'Monthly Profiles'!$D$55+BV37*'Monthly Profiles'!$D$56+BV38*'Monthly Profiles'!$D$57+BV39*'Monthly Profiles'!$D$58)/365","v":-3.3728800677295587},{"$f":"(BW28*'Monthly Profiles'!$D$47+BW29*'Monthly Profiles'!$D$48+BW30*'Monthly Profiles'!$D$49+BW31*'Monthly Profiles'!$D$50+BW32*'Monthly Profiles'!$D$51+BW33*'Monthly Profiles'!$D$52+BW34*'Monthly Profiles'!$D$53+BW35*'Monthly Profiles'!$D$54+BW36*'Monthly Profiles'!$D$55+BW37*'Monthly Profiles'!$D$56+BW38*'Monthly Profiles'!$D$57+BW39*'Monthly Profiles'!$D$58)/365","v":-1.9500000000000004},{"$f":"(BX28*'Monthly Profiles'!$D$47+BX29*'Monthly Profiles'!$D$48+BX30*'Monthly Profiles'!$D$49+BX31*'Monthly Profiles'!$D$50+BX32*'Monthly Profiles'!$D$51+BX33*'Monthly Profiles'!$D$52+BX34*'Monthly Profiles'!$D$53+BX35*'Monthly Profiles'!$D$54+BX36*'Monthly Profiles'!$D$55+BX37*'Monthly Profiles'!$D$56+BX38*'Monthly Profiles'!$D$57+BX39*'Monthly Profiles'!$D$58)/365","v":-3.6074353416101803},{"$f":"(BY28*'Monthly Profiles'!$D$47+BY29*'Monthly Profiles'!$D$48+BY30*'Monthly Profiles'!$D$49+BY31*'Monthly Profiles'!$D$50+BY32*'Monthly Profiles'!$D$51+BY33*'Monthly Profiles'!$D$52+BY34*'Monthly Profiles'!$D$53+BY35*'Monthly Profiles'!$D$54+BY36*'Monthly Profiles'!$D$55+BY37*'Monthly Profiles'!$D$56+BY38*'Monthly Profiles'!$D$57+BY39*'Monthly Profiles'!$D$58)/365","v":-4.8599999999999994},{"$f":"(BZ28*'Monthly Profiles'!$D$47+BZ29*'Monthly Profiles'!$D$48+BZ30*'Monthly Profiles'!$D$49+BZ31*'Monthly Profiles'!$D$50+BZ32*'Monthly Profiles'!$D$51+BZ33*'Monthly Profiles'!$D$52+BZ34*'Monthly Profiles'!$D$53+BZ35*'Monthly Profiles'!$D$54+BZ36*'Monthly Profiles'!$D$55+BZ37*'Monthly Profiles'!$D$56+BZ38*'Monthly Profiles'!$D$57+BZ39*'Monthly Profiles'!$D$58)/365","v":-4.07},{"$f":"(CA28*'Monthly Profiles'!$D$47+CA29*'Monthly Profiles'!$D$48+CA30*'Monthly Profiles'!$D$49+CA31*'Monthly Profiles'!$D$50+CA32*'Monthly Profiles'!$D$51+CA33*'Monthly Profiles'!$D$52+CA34*'Monthly Profiles'!$D$53+CA35*'Monthly Profiles'!$D$54+CA36*'Monthly Profiles'!$D$55+CA37*'Monthly Profiles'!$D$56+CA38*'Monthly Profiles'!$D$57+CA39*'Monthly Profiles'!$D$58)/365","v":-6.1151076111006546},{"$f":"(CB28*'Monthly Profiles'!$D$47+CB29*'Monthly Profiles'!$D$48+CB30*'Monthly Profiles'!$D$49+CB31*'Monthly Profiles'!$D$50+CB32*'Monthly Profiles'!$D$51+CB33*'Monthly Profiles'!$D$52+CB34*'Monthly Profiles'!$D$53+CB35*'Monthly Profiles'!$D$54+CB36*'Monthly Profiles'!$D$55+CB37*'Monthly Profiles'!$D$56+CB38*'Monthly Profiles'!$D$57+CB39*'Monthly Profiles'!$D$58)/365","v":-5.3957999953044595},{"$f":"(CC28*'Monthly Profiles'!$D$47+CC29*'Monthly Profiles'!$D$48+CC30*'Monthly Profiles'!$D$49+CC31*'Monthly Profiles'!$D$50+CC32*'Monthly Profiles'!$D$51+CC33*'Monthly Profiles'!$D$52+CC34*'Monthly Profiles'!$D$53+CC35*'Monthly Profiles'!$D$54+CC36*'Monthly Profiles'!$D$55+CC37*'Monthly Profiles'!$D$56+CC38*'Monthly Profiles'!$D$57+CC39*'Monthly Profiles'!$D$58)/365","v":0}]
[]
[]
[]
[]
[]
[null,"Constants"]
[null,"Number Days, Jan","# days",31]
[null,"Number Days, Feb","# days",28]
[null,"Number Days, Mar","# days",31]
[null,"Number Days, Apr","# days",30]
[null,"Number Days, May","# days",31]
[null,"Number Days, Jun","# days",30]
[null,"Number Days, Jul","# days",31]
[null,"Number Days, Aug","# days",31]
[null,"Number Days, Sep","# days",30]
[null,"Number Days, Oct","# days",31]
[null,"Number Days, Nov","# days",30]
[null,"Number Days, Dec","# days",31]

{"sheet":"Detailed Lighting","index":3,"n_rows":148,"n_cols":75,"rows_kept":148,"cut":false,"hidden":false,"merged":[[2,1,2,3],[3,1,3,3],[4,1,4,3],[25,45,25,48],[25,25,25,28],[25,29,25,32],[25,33,25,36],[25,37,25,44],[103,3,103,5],[103,6,103,8],[65,1,65,3],[66,1,66,3],[67,1,67,3],[42,46,42,48],[43,46,43,48],[45,46,45,48],[46,46,46,48],[40,2,40,3],[40,5,40,10],[40,12,40,16]]}
["Detailed Lighting Analysis Worksheet (Updated December 17, 2010)"]
[]
[null,"Inputs",null,null,null,null,"Special Instructions:"]
[null,"Intermediate Calculations",null,null,null,null,"(1) Green boxes indicate user inputs, gray boxes indicate program outputs. Values in gray cells should not be changed without strong technical justification."]
[null,"Outputs",null,null,null,null,"(2) Any outdoor area should have the \"outdoor\" fixture type, regardless of what the true fixture looks like.  "]
[null,null,null,null,null,null,"(3) User must provide the same room dimensions for all duplicate room types."]
[null,null,null,null,null,null,"(4) Use caution when adding rows to the spreadsheet to accommodate more Room Types.  "]
[null,null,null,null,null,null,"(5) Unless the user is changing some fundamental numbers (such as efficacy values), there is no need to modify any row past Row 56. ",null,null,null,null,null,null,null,null,null,null,null,null,null,null,null,null,null,null,"SUMMARY AND OUTPUTS",null,null,null,null,null,null,null,null,null,null,null,null,null,null,null,null,null,null,null,null,null,"Seasonal Multiplier for Selected City",null,null,null,"Normalized Hourly Profiles for Each Month for Selected City"]
[]
[null,"Room Type","Room/Area Name*","Notes (Optional)","Room Shape","Room Perimeter (ft)","Room Area (ft²)","Room Width (ft)","Room Length (ft)","Floor-to-Ceiling Height (ft)","Fixture Type","Fixture Lamp Type","# of Hardwired Lamps","Watts/ Lamp","Average Efficacy of \"Other\" Lamps (lm/W)","NCTH Total Floor Area for Room (ft²) (1st Occurrence)","Room Cavity Ratio","Total Installed Watts for Fixture/Room Combination","NCTH Coeff of Utilization","NCTH Total Lumen Contribution","NCTH Usable Lumen Contribution","NCTH Foot-Candle Contribution","Benchmark Coeff of Utilization","Benchmark Lumen Contribution",null,"Room Type","NCTH Total Floor Area by Room Type (ft²)","Benchmark Peak Illumination (ft-candles)","NCTH Light Loss Factor","NCTH Total Hardwired Watts","NCTH Peak Hardwired Illumination (footcandles)","Necessary Peak Plug-in Illumination (footcandles)","NCTH Operating Hours (hrs/day/lamp)","NCTH Hardwired Lumens","NCTH Hardwired kWh/yr","NCTH Plug-in Lumens*","NCTH Plug-in Wattage**","NCTH Plug-in kWh/yr","NCTH Hardwired Efficacy (lm/W)","NCTH Plug-In Efficacy (lm/W)","NCTH Total Efficacy (lm/W)","Benchmark Total Installed Lumens","Benchmark Total Wattage","Benchmark Operating Hours (hrs/day/lamp)","Benchmark Hardwired kWh/yr","Benchmark Plug-in kWh/yr","NCTH Lighting (kWh/yr)","Benchmark Lighting (kWh/yr)","Room Type",null,"Month","Multiplier","Days","Normalized Fraction","Hour","Jan","Feb","Mar","Apr","May","Jun","Jul","Aug","Sep","Oct","Nov","Dec","Annual Average"]
[null,null,null,null,null,null,null,null,null,null,null,null,null,null,null,{"$f":"IF(E11=\"Irregular\", G11, H11*I11)","v":0},{"$f":"IF(E11=\"Rectangular\",5*(J11-LOOKUP(B11,Q$106:Q$119,T$106:T$119))*(H11+I11)/(H11*I11),2.5*(J11-LOOKUP(B11,Q$106:Q$119,T$106:T$119))*F11/G11)","v":{"$error":"#N/A"}},{"$f":"N11*M11","v":0},{"$f":"IF(K11=\"default\",LOOKUP(LOOKUP(B11,C$70:C$83,R$70:R$83),$AG$79:$AG$95,$AH$79:$AH$95),LOOKUP(K11,$AG$79:$AG$95,$AH$79:$AH$95))*(0.0129*Q11^2-0.2624*Q11+1.986)","v":{"$error":"#N/A"}},{"$f":"R11*IF(L11=\"Other\",O11,LOOKUP(L11,AG$68:AG$77,AH$68:AH$77))","v":{"$error":"#N/A"}},{"$f":"S11*T11*0.8","v":{"$error":"#N/A"}},{"$f":"IF(B11=\"Outdoor\",\"N/A\",R11*IF(L11=\"Other\",O11,LOOKUP(L11,AG$68:AG$77,AH$68:AH$77))*S11*0.8/(IF(E11=\"Irregular\", G11, H11*I11)))","v":{"$error":"#N/A"}},{"$f":"LOOKUP(LOOKUP(B11,C$70:C$83,R$70:R$83),$AG$79:$AG$95,$AH$79:$AH$95)*(0.0129*Q11^2-0.2624*Q11+1.986)","v":{"$error":"#N/A"}},{"$f":"IF(B11=\"Outdoor\",T11,LOOKUP(B11,Z$11:Z$24,AB$11:AB$24)*(P11)/W11/0.8)","v":{"$error":"#N/A"}},null,"Bathroom",{"$f":"IF(Z11=\"Outdoor\",\"N/A\",SUMIF(B$11:B$40,Z11,P$11:P$40))","v":0},{"$f":"IF(Z11=\"outdoor\", \"N/A\", VLOOKUP(Z11,$C$106:$M$119,8, FALSE))","v":17.5},0.8,{"$f":"IF(AA11>0,SUMIF(B$11:B$40,Z11,R$11:R$40),0)","v":0},{"$f":"IF($AA11>0,SUMIF(B$11:B$40,Z11,U$11:U$40)/AA11,0)","v":0},{"$f":"IF(Z11=\"Outdoor\",\"N/A\",IF(AB11-AE11>0,AB11-AE11,0))","v":17.5},{"$f":"BR58","v":0},{"$f":"SUMIF(B$11:B$42,Z11,T$11:T$42)","v":0},{"$f":"AD11*AG11*365/1000","v":0},{"$f":"IF(Z11=\"Outdoor\",\"N/A\",AF11*AA11/0.4/0.8)","v":0},{"$f":"IF(Z11=\"Outdoor\",\"N/A\",AJ11/G70)","v":0},{"$f":"IF(Z11=\"Outdoor\",\"N/A\",AK11*AG11*365/1000)","v":0},{"$f":"IF(OR($AD11=\"N/A\",$AH11=\"N/A\"),\"N/A\",IF($AD11<=0,\"N/A\",($AH11)/($AD11)))","v":"N/A"},{"$f":"IF(OR($AK11=\"N/A\",$AJ11=\"N/A\"),\"N/A\",IF($AK11<=0,\"N/A\",($AJ11)/($AK11)))","v":"N/A"},{"$f":"IF(SUM(AK11,AD11)=0,\"N/A\",(SUM(AJ11,AH11))/(SUM(AK11,AD11)))","v":"N/A"},{"$f":"IF(Z11=\"Outdoor\",AH11,SUMIF(B$11:B$42,Z11,X$11:X$42))","v":0},{"$f":"AP11/G70","v":0},{"$f":"BP58","v":1.7922377238078355},{"$f":"AQ11*AR11*365/1000*J70","v":0},{"$f":"AQ11*AG11*365/1000*K70","v":0},{"$f":"SUM(AI11,AL11)","v":0},{"$f":"SUM(AS11:AT11)","v":0},"Bathroom",null,1,{"$f":"Lighting!W$71","v":1.3697239228554126},31,{"$f":"AZ11*BA11/SUMPRODUCT(AZ$11:AZ$22,BA$11:BA$22)","v":0.11633271673566517},1,{"$f":"Lighting!AM21","v":2.2958931029971312E-2},{"$f":"Lighting!AN21","v":2.6195190778883642E-2},{"$f":"Lighting!AO21","v":3.1239455903513302E-2},{"$f":"Lighting!AP21","v":3.8111576244204547E-2},{"$f":"Lighting!AQ21","v":4.3720973085609134E-2},{"$f":"Lighting!AR21","v":4.6795012448272444E-2},{"$f":"Lighting!AS21","v":4.5987762031717699E-2},{"$f":"Lighting!AT21","v":4.1059124582624729E-2},{"$f":"Lighting!AU21","v":3.4259434721744648E-2},{"$f":"Lighting!AV21","v":2.8290361094131959E-2},{"$f":"Lighting!AW21","v":2.3890754548899936E-2},{"$f":"Lighting!AX21","v":2.2116829887083123E-2},{"$f":"Lighting!AL21","v":3.1447397074939161E-2}]
[null,null,null,null,null,null,null,null,null,null,null,null,null,null,null,{"$f":"IF(COUNTIF(C11,C12)=0,IF(E12=\"Irregular\", G12, H12*I12),0)","v":0},{"$error":"#N/A"},{"$f":"N12*M12","v":0},{"$error":"#N/A"},{"$error":"#N/A"},{"$error":"#N/A"},{"$error":"#N/A"},{"$error":"#N/A"},{"$f":"IF(B12=\"Outdoor\",T12,LOOKUP(B12,Z$11:Z$24,AB$11:AB$24)*P12/W12/0.8)","v":{"$error":"#N/A"}},null,"Bedroom",0,12.5,0.8,0,0,12.5,{"$f":"BR59","v":0},0,{"$f":"AD12*AG12*365/1000","v":0},{"$f":"IF(Z12=\"Outdoor\",\"N/A\",AF12*AA12/0.4/0.8)","v":0},0,0,{"$f":"IF(OR($AD12=\"N/A\",$AH12=\"N/A\"),\"N/A\",IF($AD12<=0,\"N/A\",($AH12)/($AD12)))","v":"N/A"},{"$f":"IF(OR($AK12=\"N/A\",$AJ12=\"N/A\"),\"N/A\",IF($AK12<=0,\"N/A\",($AJ12)/($AK12)))","v":"N/A"},{"$f":"IF(SUM(AK12,AD12)=0,\"N/A\",(SUM(AJ12,AH12))/(SUM(AK12,AD12)))","v":"N/A"},0,0,{"$f":"BP59","v":1.1785519421860886},0,0,{"$f":"SUM(AI12,AL12)","v":0},{"$f":"SUM(AS12:AT12)","v":0},"Bedroom",null,2,{"$f":"Lighting!X$71","v":1.2005026930473592},28,{"$f":"AZ12*BA12/SUMPRODUCT(AZ$11:AZ$22,BA$11:BA$22)","v":9.2093357274865922E-2},{"$f":"1+BC11","v":2},{"$f":"Lighting!AM22","v":1.3775358617982788E-2},{"$f":"Lighting!AN22","v":1.5717114467330186E-2},{"$f":"Lighting!AO22","v":1.8743673542107982E-2},{"$f":"Lighting!AP22","v":2.2866945746522729E-2},{"$f":"Lighting!AQ22","v":2.6232583851365482E-2},{"$f":"Lighting!AR22","v":2.8077007468963466E-2},{"$f":"Lighting!AS22","v":2.759265721903062E-2},{"$f":"Lighting!AT22","v":2.4635474749574837E-2},{"$f":"Lighting!AU22","v":2.0555660833046788E-2},{"$f":"Lighting!AV22","v":1.6974216656479177E-2},{"$f":"Lighting!AW22","v":1.4334452729339961E-2},{"$f":"Lighting!AX22","v":1.3270097932249874E-2},{"$f":"Lighting!AL22","v":1.8868438244963499E-2}]
[null,null,null,null,null,null,null,null,null,null,null,null,null,null,null,{"$f":"IF(COUNTIF(C$11:C12,C13)=0,IF(E13=\"Irregular\", G13, H13*I13),0)","v":0},{"$error":"#N/A"},0,{"$error":"#N/A"},{"$error":"#N/A"},{"$error":"#N/A"},{"$error":"#N/A"},{"$error":"#N/A"},{"$f":"IF(B13=\"Outdoor\",T13,LOOKUP(B13,Z$11:Z$24,AB$11:AB$24)*P13/W13/0.8)","v":{"$error":"#N/A"}},null,"Closet",0,5,0.8,0,0,5,0,0,0,0,0,0,"N/A","N/A","N/A",0,0,1.0510648148148147,0,0,0,0,"Closet",null,3,{"$f":"Lighting!Y$71","v":1.0066563634164472},31,8.5496841824410585E-2,{"$f":"1+BC12","v":3},{"$f":"Lighting!AM23","v":9.1835724119885241E-3},{"$f":"Lighting!AN23","v":1.0478076311553456E-2},{"$f":"Lighting!AO23","v":1.2495782361405321E-2},{"$f":"Lighting!AP23","v":1.5244630497681818E-2},{"$f":"Lighting!AQ23","v":1.7488389234243652E-2},{"$f":"Lighting!AR23","v":1.8718004979308978E-2},{"$f":"Lighting!AS23","v":1.839510481268708E-2},{"$f":"Lighting!AT23","v":1.6423649833049891E-2},{"$f":"Lighting!AU23","v":1.3703773888697857E-2},{"$f":"Lighting!AV23","v":1.1316144437652784E-2},{"$f":"Lighting!AW23","v":9.5563018195599734E-3},{"$f":"Lighting!AX23","v":8.846731954833249E-3},{"$f":"Lighting!AL23","v":1.2578958829975664E-2}]
[null,null,null,null,null,null,null,null,null,null,null,null,null,null,null,{"$f":"IF(COUNTIF(C$11:C13,C14)=0,IF(E14=\"Irregular\", G14, H14*I14),0)","v":0},{"$error":"#N/A"},0,{"$error":"#N/A"},{"$error":"#N/A"},{"$error":"#N/A"},{"$error":"#N/A"},{"$error":"#N/A"},{"$error":"#N/A"},null,"Dining",0,6.5,0.8,0,0,6.5,0,0,0,0,0,0,"N/A","N/A","N/A",0,0,2.5173499043977059,0,0,0,0,"Dining",null,4,{"$f":"Lighting!Z$71","v":0.82514029001152178},30,6.7819749863960693E-2,4,{"$f":"Lighting!AM24","v":9.1835724119885241E-3},{"$f":"Lighting!AN24","v":1.0478076311553456E-2},{"$f":"Lighting!AO24","v":1.2495782361405321E-2},{"$f":"Lighting!AP24","v":1.5244630497681818E-2},{"$f":"Lighting!AQ24","v":1.7488389234243652E-2},{"$f":"Lighting!AR24","v":1.8718004979308978E-2},{"$f":"Lighting!AS24","v":1.839510481268708E-2},{"$f":"Lighting!AT24","v":1.6423649833049891E-2},{"$f":"Lighting!AU24","v":1.3703773888697857E-2},{"$f":"Lighting!AV24","v":1.1316144437652784E-2},{"$f":"Lighting!AW24","v":9.5563018195599734E-3},{"$f":"Lighting!AX24","v":8.846731954833249E-3},{"$f":"Lighting!AL24","v":1.2578958829975664E-2}]
[null,null,null,null,null,null,null,null,null,null,null,null,null,null,null,{"$f":"IF(COUNTIF(C$11:C14,C15)=0,IF(E15=\"Irregular\", G15, H15*I15),0)","v":0},{"$error":"#N/A"},0,{"$error":"#N/A"},{"$error":"#N/A"},{"$error":"#N/A"},{"$error":"#N/A"},{"$error":"#N/A"},{"$error":"#N/A"},null,"Family",0,8.75,0.8,0,0,8.75,0,0,0,0,0,0,"N/A","N/A","N/A",0,0,1.816118416463202,0,0,0,0,"Family",null,5,{"$f":"Lighting!AA$71","v":0.7192748663979337},31,6.1089098242016283E-2,5,{"$f":"Lighting!AM25","v":9.1835724119885241E-3},{"$f":"Lighting!AN25","v":1.0478076311553456E-2},{"$f":"Lighting!AO25","v":1.2495782361405321E-2},{"$f":"Lighting!AP25","v":1.5244630497681818E-2},{"$f":"Lighting!AQ25","v":1.7488389234243652E-2},{"$f":"Lighting!AR25","v":1.8718004979308978E-2},{"$f":"Lighting!AS25","v":1.839510481268708E-2},{"$f":"Lighting!AT25","v":1.6423649833049891E-2},{"$f":"Lighting!AU25","v":1.3703773888697857E-2},{"$f":"Lighting!AV25","v":1.1316144437652784E-2},{"$f":"Lighting!AW25","v":9.5563018195599734E-3},{"$f":"Lighting!AX25","v":8.846731954833249E-3},{"$f":"Lighting!AL25","v":1.2578958829975664E-2}]
[null,null,null,null,null,null,null,null,null,null,null,null,null,null,null,{"$f":"IF(COUNTIF(C$11:C15,C16)=0,IF(E16=\"Irregular\", G16, H16*I16),0)","v":0},{"$error":"#N/A"},0,{"$error":"#N/A"},{"$error":"#N/A"},{"$error":"#N/A"},{"$error":"#N/A"},{"$error":"#N/A"},{"$error":"#N/A"},null,"Garage",0,5,0.8,0,0,5,0,0,0,0,0,0,"N/A","N/A","N/A",0,0,1.9759220321044277,0,0,0,0,"Garage",null,6,{"$f":"Lighting!AB$71","v":0.67202454769514919},30,5.5234894331108154E-2,6,{"$f":"Lighting!AM26","v":1.0056501252779244E-2},{"$f":"Lighting!AN26","v":1.1273574969145769E-2},{"$f":"Lighting!AO26","v":1.3082381025789739E-2},{"$f":"Lighting!AP26","v":1.6060537322136074E-2},{"$f":"Lighting!AQ26","v":1.8061055359325381E-2},{"$f":"Lighting!AR26","v":1.9213029365548376E-2},{"$f":"Lighting!AS26","v":1.8981429545294651E-2},{"$f":"Lighting!AT26","v":1.7178168054488772E-2},{"$f":"Lighting!AU26","v":1.4586507251847092E-2},{"$f":"Lighting!AV26","v":1.2300374905524349E-2},{"$f":"Lighting!AW26","v":1.0189967114268252E-2},{"$f":"Lighting!AX26","v":9.6298917355566588E-3},{"$f":"Lighting!AL26","v":1.3327366331788434E-2}]
[null,null,null,null,null,null,null,null,null,null,null,null,null,null,null,{"$f":"IF(COUNTIF(C$11:C16,C17)=0,IF(E17=\"Irregular\", G17, H17*I17),0)","v":0},{"$error":"#N/A"},0,{"$error":"#N/A"},{"$error":"#N/A"},{"$error":"#N/A"},{"$error":"#N/A"},{"$error":"#N/A"},{"$error":"#N/A"},null,"Hall",0,3,0.8,0,0,3,0,0,0,0,0,0,"N/A","N/A","N/A",0,0,1.5328930797404101,0,0,0,0,"Hall",null,7,{"$f":"Lighting!AC$71","v":0.68382099249034856},31,5.8077947307399465E-2,7,{"$f":"Lighting!AM27","v":2.1705332777767396E-2},{"$f":"Lighting!AN27","v":2.1889136521967379E-2},{"$f":"Lighting!AO27","v":2.0910268815598026E-2},{"$f":"Lighting!AP27","v":2.6948436420012642E-2},{"$f":"Lighting!AQ27","v":2.5703019857946163E-2},{"$f":"Lighting!AR27","v":2.5818900779809372E-2},{"$f":"Lighting!AS27","v":2.6805661842273856E-2},{"$f":"Lighting!AT27","v":2.7246864646199187E-2},{"$f":"Lighting!AU27","v":2.6366175591705357E-2},{"$f":"Lighting!AV27","v":2.543447515086706E-2},{"$f":"Lighting!AW27","v":1.8645937310650354E-2},{"$f":"Lighting!AX27","v":2.008079668507114E-2},{"$f":"Lighting!AL27","v":2.3314518197176656E-2}]
[null,null,null,null,null,null,null,null,null,null,null,null,null,null,null,{"$f":"IF(COUNTIF(C$11:C17,C18)=0,IF(E18=\"Irregular\", G18, H18*I18),0)","v":0},{"$error":"#N/A"},0,{"$error":"#N/A"},{"$error":"#N/A"},{"$error":"#N/A"},{"$error":"#N/A"},{"$error":"#N/A"},{"$error":"#N/A"},null,"Kitchen",0,19,0.8,0,0,19,0,0,0,0,0,0,"N/A","N/A","N/A",0,0,2.9852163687676394,0,0,0,0,"Kitchen",null,8,{"$f":"Lighting!AD$71","v":0.76590520120945227},31,6.5049482842446632E-2,8,{"$f":"Lighting!AM28","v":4.5394122115626587E-2},{"$f":"Lighting!AN28","v":4.3476692388702609E-2},{"$f":"Lighting!AO28","v":3.6828876996632495E-2},{"$f":"Lighting!AP28","v":4.908981150198486E-2},{"$f":"Lighting!AQ28","v":4.1243538814452432E-2},{"$f":"Lighting!AR28","v":3.9252445250749245E-2},{"$f":"Lighting!AS28","v":4.2716836299216049E-2},{"$f":"Lighting!AT28","v":4.7722328812386562E-2},{"$f":"Lighting!AU28","v":5.032103159371417E-2},{"$f":"Lighting!AV28","v":5.2143671964885244E-2},{"$f":"Lighting!AW28","v":3.5841799075808402E-2},{"$f":"Lighting!AX28","v":4.1333510762699643E-2},{"$f":"Lighting!AL28","v":4.3624154929143177E-2}]
[null,null,null,null,null,null,null,null,null,null,null,null,null,null,null,{"$f":"IF(COUNTIF(C$11:C18,C19)=0,IF(E19=\"Irregular\", G19, H19*I19),0)","v":0},{"$error":"#N/A"},0,{"$error":"#N/A"},{"$error":"#N/A"},{"$error":"#N/A"},{"$error":"#N/A"},{"$error":"#N/A"},{"$error":"#N/A"},null,"Living",0,8.75,0.8,0,0,8.75,0,0,0,0,0,0,"N/A","N/A","N/A",0,0,2.7249201430274139,0,0,0,0,"Living",null,9,{"$f":"Lighting!AE$71","v":0.91791932150530586},30,7.5445423685367607E-2,9,{"$f":"Lighting!AM29","v":4.3367632299515992E-2},{"$f":"Lighting!AN29","v":3.8774107887683019E-2},{"$f":"Lighting!AO29","v":2.9657300856219388E-2},{"$f":"Lighting!AP29","v":3.8734295206579769E-2},{"$f":"Lighting!AQ29","v":3.0934413909181422E-2},{"$f":"Lighting!AR29","v":2.9126140749211816E-2},{"$f":"Lighting!AS29","v":3.1993551859968022E-2},{"$f":"Lighting!AT29","v":3.7055454529747178E-2},{"$f":"Lighting!AU29","v":4.169673085616836E-2},{"$f":"Lighting!AV29","v":4.6708329597991302E-2},{"$f":"Lighting!AW29","v":3.4554226629035546E-2},{"$f":"Lighting!AX29","v":4.0942437834119293E-2},{"$f":"Lighting!AL29","v":3.7783774718156089E-2}]
[null,null,null,null,null,null,null,null,null,null,null,null,null,null,null,{"$f":"IF(COUNTIF(C$11:C19,C20)=0,IF(E20=\"Irregular\", G20, H20*I20),0)","v":0},{"$error":"#N/A"},0,{"$error":"#N/A"},{"$error":"#N/A"},{"$error":"#N/A"},{"$error":"#N/A"},{"$error":"#N/A"},{"$error":"#N/A"},null,"Office",0,11.75,0.8,0,0,11.75,0,0,0,0,0,0,"N/A","N/A","N/A",0,0,1.5149814118359055,0,0,0,0,"Office",null,10,{"$f":"Lighting!AF$71","v":1.1115940503658697},31,9.4409357702306754E-2,10,{"$f":"Lighting!AM30","v":2.2227285844653537E-2},{"$f":"Lighting!AN30","v":1.9508943947577486E-2},{"$f":"Lighting!AO30","v":1.5451218509560763E-2},{"$f":"Lighting!AP30","v":1.8974891990819972E-2},{"$f":"Lighting!AQ30","v":1.7065745901574818E-2},{"$f":"Lighting!AR30","v":1.7137778651761724E-2},{"$f":"Lighting!AS30","v":1.7794103516445614E-2},{"$f":"Lighting!AT30","v":1.878274332767943E-2},{"$f":"Lighting!AU30","v":2.0318941221749948E-2},{"$f":"Lighting!AV30","v":2.2872511476334564E-2},{"$f":"Lighting!AW30","v":1.9208297796599216E-2},{"$f":"Lighting!AX30","v":2.1976093362088861E-2},{"$f":"Lighting!AL30","v":1.9659051214452779E-2}]
[null,null,null,null,null,null,null,null,null,null,null,null,null,null,null,{"$f":"IF(COUNTIF(C$11:C20,C21)=0,IF(E21=\"Irregular\", G21, H21*I21),0)","v":0},{"$error":"#N/A"},0,{"$error":"#N/A"},{"$error":"#N/A"},{"$error":"#N/A"},{"$error":"#N/A"},{"$error":"#N/A"},{"$error":"#N/A"},null,"Other",0,8.75,0.8,0,0,8.75,0,0,0,0,0,0,"N/A","N/A","N/A",0,{"$f":"AP21/G81","v":0},0.79794712253132305,0,0,{"$f":"AI21","v":0},{"$f":"AS21","v":0},"Other",null,11,{"$f":"Lighting!AG$71","v":1.316299868661418},30,0.10818903030093847,11,{"$f":"Lighting!AM31","v":1.8096795502270439E-2},{"$f":"Lighting!AN31","v":1.574483469946579E-2},{"$f":"Lighting!AO31","v":1.2675574029880253E-2},{"$f":"Lighting!AP31","v":1.5114216181735633E-2},{"$f":"Lighting!AQ31","v":1.4356026863173695E-2},{"$f":"Lighting!AR31","v":1.4795441738304013E-2},{"$f":"Lighting!AS31","v":1.5019755216368592E-2},{"$f":"Lighting!AT31","v":1.5212543694932339E-2},{"$f":"Lighting!AU31","v":1.6142058226241953E-2},{"$f":"Lighting!AV31","v":1.8215368474231206E-2},{"$f":"Lighting!AW31","v":1.6209945287447354E-2},{"$f":"Lighting!AX31","v":1.8270368726056994E-2},{"$f":"Lighting!AL31","v":1.6117766044398671E-2}]
[null,null,null,null,null,null,null,null,null,null,null,null,null,null,null,{"$f":"IF(COUNTIF(C$11:C21,C22)=0,IF(E22=\"Irregular\", G22, H22*I22),0)","v":0},{"$error":"#N/A"},0,{"$error":"#N/A"},{"$error":"#N/A"},{"$error":"#N/A"},{"$error":"#N/A"},{"$error":"#N/A"},{"$error":"#N/A"},null,"Outdoor","N/A","N/A",0.8,0,{"$f":"IF(Z22=\"outdoor\", \"N/A\", IF($AA22>0,SUMIF(B$11:B$40,Z22,U$11:U$40)/AA22,0))","v":"N/A"},"N/A",0,0,0,"N/A","N/A","N/A","N/A","N/A","N/A",0,{"$f":"AP22/G83","v":0},2.9105800932044241,0,0,0,0,"Outdoor",null,12,{"$f":"Lighting!AH$71","v":1.4218763374087968},31,0.12076209988951425,12,{"$f":"Lighting!AM32","v":1.7930184243351865E-2},{"$f":"Lighting!AN32","v":1.5593002125473352E-2},{"$f":"Lighting!AO32","v":1.2563613080274654E-2},{"$f":"Lighting!AP32","v":1.4958488410088813E-2},{"$f":"Lighting!AQ32","v":1.4246725142825606E-2},{"$f":"Lighting!AR32","v":1.4700959081376298E-2},{"$f":"Lighting!AS32","v":1.4907846550656098E-2},{"$f":"Lighting!AT32","v":1.5068532837601675E-2},{"$f":"Lighting!AU32","v":1.5973575630581011E-2},{"$f":"Lighting!AV32","v":1.8027513669056531E-2},{"$f":"Lighting!AW32","v":1.6089000981851124E-2},{"$f":"Lighting!AX32","v":1.8120891207497148E-2},{"$f":"Lighting!AL32","v":1.5974921507439413E-2}]
[null,null,null,null,null,null,null,null,null,null,null,null,null,null,null,{"$f":"IF(COUNTIF(C$11:C22,C23)=0,IF(E23=\"Irregular\", G23, H23*I23),0)","v":0},{"$error":"#N/A"},0,{"$error":"#N/A"},{"$error":"#N/A"},{"$error":"#N/A"},{"$error":"#N/A"},{"$error":"#N/A"},{"$error":"#N/A"},null,"Unf Bsmt",0,5,0.8,0,{"$f":"IF($AA23>0,SUMIF(B$11:B$40,Z23,U$11:U$40)/AA23,0)","v":0},5,0,0,0,0,0,0,"N/A","N/A","N/A",0,{"$f":"AP23/G80","v":0},0.9838184154725953,0,0,0,0,"Unfin Bsmt",null,null,null,null,null,13,{"$f":"Lighting!AM33","v":1.794860437380736E-2},{"$f":"Lighting!AN33","v":1.5601516492816382E-2},{"$f":"Lighting!AO33","v":1.2568449028167838E-2},{"$f":"Lighting!AP33","v":1.4957442947170732E-2},{"$f":"Lighting!AQ33","v":1.4246048069974822E-2},{"$f":"Lighting!AR33","v":1.4700497554475549E-2},{"$f":"Lighting!AS33","v":1.4907237960308621E-2},{"$f":"Lighting!AT33","v":1.5067633413133743E-2},{"$f":"Lighting!AU33","v":1.5972952096993613E-2},{"$f":"Lighting!AV33","v":1.8028482896186786E-2},{"$f":"Lighting!AW33","v":1.6145857338623823E-2},{"$f":"Lighting!AX33","v":1.8168186054587903E-2},{"$f":"Lighting!AL33","v":1.5989937456745464E-2}]
[null,null,null,null,null,null,null,null,null,null,null,null,null,null,null,{"$f":"IF(COUNTIF(C$11:C23,C24)=0,IF(E24=\"Irregular\", G24, H24*I24),0)","v":0},{"$error":"#N/A"},{"$f":"N24*M24","v":0},{"$error":"#N/A"},{"$error":"#N/A"},{"$error":"#N/A"},{"$error":"#N/A"},{"$error":"#N/A"},{"$error":"#N/A"},null,"Utility",0,{"$f":"IF(Z24=\"outdoor\", \"N/A\", VLOOKUP(Z24,$C$106:$M$119,8, FALSE))","v":17.5},0.8,0,{"$f":"IF($AA24>0,SUMIF(B$11:B$40,Z24,U$11:U$40)/AA24,0)","v":0},17.5,0,0,0,0,0,0,"N/A","N/A","N/A",0,{"$f":"AP24/G83","v":0},1.7223605879281958,0,0,0,0,"Utility",null,null,null,null,null,14,{"$f":"Lighting!AM34","v":1.819451331049126E-2},{"$f":"Lighting!AN34","v":1.5727286556300995E-2},{"$f":"Lighting!AO34","v":1.2642825872089224E-2},{"$f":"Lighting!AP34","v":1.4962720815938427E-2},{"$f":"Lighting!AQ34","v":1.4250322900245983E-2},{"$f":"Lighting!AR34","v":1.4705397476779701E-2},{"$f":"Lighting!AS34","v":1.4912197875032524E-2},{"$f":"Lighting!AT34","v":1.5072979905924653E-2},{"$f":"Lighting!AU34","v":1.5985488160429832E-2},{"$f":"Lighting!AV34","v":1.8064976620279893E-2},{"$f":"Lighting!AW34","v":1.670935915289613E-2},{"$f":"Lighting!AX34","v":1.8688607482635292E-2},{"$f":"Lighting!AL34","v":1.6166214905290927E-2}]
[null,null,null,null,null,null,null,null,null,null,null,null,null,null,null,{"$f":"IF(COUNTIF(C$11:C24,C25)=0,IF(E25=\"Irregular\", G25, H25*I25),0)","v":0},{"$error":"#N/A"},{"$f":"N25*M25","v":0},{"$error":"#N/A"},{"$error":"#N/A"},{"$error":"#N/A"},{"$error":"#N/A"},{"$error":"#N/A"},{"$error":"#N/A"},null,null,null,null,null,null,null,null,null,{"$f":"SUM(AH11:AH24)","v":0},{"$f":"SUM(AI11:AI24)","v":0},0,0,0,null,null,null,0,0,null,0,0,0,0,"Total",null,null,null,null,null,15,{"$f":"Lighting!AM35","v":1.9820666841575029E-2},{"$f":"Lighting!AN35","v":1.6617283432253698E-2},{"$f":"Lighting!AO35","v":1.3185701910018314E-2},{"$f":"Lighting!AP35","v":1.5015397596374741E-2},{"$f":"Lighting!AQ35","v":1.4290358098614085E-2},{"$f":"Lighting!AR35","v":1.474620156654716E-2},{"$f":"Lighting!AS35","v":1.4953357281752861E-2},{"$f":"Lighting!AT35","v":1.5121313762620566E-2},{"$f":"Lighting!AU35","v":1.6095414277396199E-2},{"$f":"Lighting!AV35","v":1.8358619210167182E-2},{"$f":"Lighting!AW35","v":1.9633765206504249E-2},{"$f":"Lighting!AX35","v":2.1608394832259906E-2},{"$f":"Lighting!AL35","v":1.7202577683960607E-2}]
[null,null,null,null,null,null,null,null,null,null,null,null,null,null,null,{"$f":"IF(COUNTIF(C$11:C25,C26)=0,IF(E26=\"Irregular\", G26, H26*I26),0)","v":0},{"$error":"#N/A"},0,{"$error":"#N/A"},{"$error":"#N/A"},{"$f":"S26*T26*0.8","v":{"$error":"#N/A"}},{"$f":"IF(B26=\"Outdoor\",\"N/A\",R26*IF(L26=\"Other\",O26,LOOKUP(L26,AG$68:AG$77,AH$68:AH$77))*S26*0.8/(IF(E26=\"Irregular\", G26, H26*I26)))","v":{"$error":"#N/A"}},{"$error":"#N/A"},{"$error":"#N/A"},null,"MULTIFAMILY COMMON SPACES",null,null,null,"MULTIFAMILY COMMON SPACES",null,null,null,"MULTIFAMILY COMMON SPACES",null,null,null,"MULTIFAMILY COMMON SPACES",null,null,null,null,null,null,null,"MULTIFAMILY COMMON SPACES",null,null,null,null,null,null,null,null,16,{"$f":"Lighting!AM36","v":2.7055276508471848E-2},{"$f":"Lighting!AN36","v":2.1003993007894385E-2},{"$f":"Lighting!AO36","v":1.6037325404124208E-2},{"$f":"Lighting!AP36","v":1.5404447874753414E-2},{"$f":"Lighting!AQ36","v":1.4576102569874981E-2},{"$f":"Lighting!AR36","v":1.5012910285142388E-2},{"$f":"Lighting!AS36","v":1.5221466099055272E-2},{"$f":"Lighting!AT36","v":1.5454470779700583E-2},{"$f":"Lighting!AU36","v":1.6809602812864307E-2},{"$f":"Lighting!AV36","v":2.0057729161237232E-2},{"$f":"Lighting!AW36","v":3.0211801103251529E-2},{"$f":"Lighting!AX36","v":3.2619371115137422E-2},{"$f":"Lighting!AL36","v":2.1476236989729228E-2}]
[null,null,null,null,null,null,null,null,null,null,null,null,null,null,null,{"$f":"IF(COUNTIF(C$11:C26,C27)=0,IF(E27=\"Irregular\", G27, H27*I27),0)","v":0},{"$error":"#N/A"},0,{"$error":"#N/A"},{"$error":"#N/A"},{"$error":"#N/A"},{"$f":"IF(B27=\"Outdoor\",\"N/A\",R27*IF(L27=\"Other\",O27,LOOKUP(L27,AG$68:AG$77,AH$68:AH$77))*S27*0.8/(IF(E27=\"Irregular\", G27, H27*I27)))","v":{"$error":"#N/A"}},{"$error":"#N/A"},{"$error":"#N/A"},null,"Central Restroom",{"$f":"IF(AB27=\"N/A\",\"N/A\",SUMIF(B$42:B$63,Z27,P$42:P$63))","v":150},{"$f":"VLOOKUP($Z$27:$Z$39,$C$120:$M$132,3, FALSE)","v":15},0.8,{"$f":"IF(AA27>0,SUMIF(B$42:B$63,Z27,R$42:R$63),0)","v":26},{"$f":"IF(AB27=\"N/A\", \"N/A\", IF($AA27>0,SUMIF(B$42:B$63,Z27,U$42:U$63)/AA27,0))","v":2.7677411666666667},{"$f":"IF(AB27=\"N/A\",\"N/A\",IF(AB27-AE27>0,AB27-AE27,0))","v":12.232258833333333},{"$f":"VLOOKUP(Z27,$C$89:$K$101,2,FALSE)","v":1.6},{"$f":"SUMIF(B$42:B$63,Z27,T$42:T$63)","v":1430},15.183999999999999,{"$f":"IF(AB27=\"N/A\",\"N/A\",AF27*AA27/0.4/0.8)","v":5733.8713281249984},{"$f":"IF(AB27=\"N/A\",\"N/A\",AJ27/G89)","v":235.96178305041144},{"$f":"IF(AA27=\"N/A\",\"N/A\",AK27*AG27*365/1000)","v":137.80168130144028},null,null,null,{"$f":"IF(AA27=\"N/A\",AH27,SUMIF(B$42:B$63,Z27,X$42:X$63))","v":10951.089998491181},{"$f":"AP27/G89","v":450.66213985560415},{"$f":"BK74","v":1.6},{"$f":"AQ27*AG27*365/1000*J89","v":263.18668967567288},{"$f":"AQ27*AG27*365/1000*K89","v":0},152.98568130144028,263.18668967567288,{"$f":"Z27","v":"Central Restroom"},null,null,null,null,null,17,{"$f":"Lighting!AM37","v":4.7783179391746228E-2},{"$f":"Lighting!AN37","v":3.5532044314113352E-2},{"$f":"Lighting!AO37","v":2.6476830301252099E-2},{"$f":"Lighting!AP37","v":1.7489702210209731E-2},{"$f":"Lighting!AQ37","v":1.6098414055920655E-2},{"$f":"Lighting!AR37","v":1.6348462120007179E-2},{"$f":"Lighting!AS37","v":1.6559350999131979E-2},{"$f":"Lighting!AT37","v":1.7167528284221814E-2},{"$f":"Lighting!AU37","v":2.0167816782794456E-2},{"$f":"Lighting!AV37","v":2.6933927962713815E-2},{"$f":"Lighting!AW37","v":5.5378838096215209E-2},{"$f":"Lighting!AX37","v":5.89931805366887E-2},{"$f":"Lighting!AL37","v":3.342566752776728E-2}]
[null,null,null,null,null,null,null,null,null,null,null,null,null,null,null,{"$f":"IF(COUNTIF(C$11:C27,C28)=0,IF(E28=\"Irregular\", G28, H28*I28),0)","v":0},{"$error":"#N/A"},0,{"$error":"#N/A"},{"$error":"#N/A"},{"$error":"#N/A"},{"$error":"#N/A"},{"$error":"#N/A"},{"$error":"#N/A"},null,"Common Laundry",450,{"$f":"VLOOKUP($Z$27:$Z$39,$C$120:$M$132,3, FALSE)","v":30},0.8,112,10.628162844444445,{"$f":"IF(AB28=\"N/A\",\"N/A\",IF(AB28-AE28>0,AB28-AE28,0))","v":19.371837155555554},{"$f":"VLOOKUP(Z28,$C$89:$K$101,2,FALSE)","v":24},9856,981.12,{"$f":"IF(AB28=\"N/A\",\"N/A\",AF28*AA28/0.4/0.8)","v":27241.645999999993},1121.0553909465018,{"$f":"IF(AA28=\"N/A\",\"N/A\",AK28*AG28*365/1000)","v":9820.4452246913552},null,null,null,27820.424312990075,1144.8734285181101,{"$f":"BK75","v":24},10029.091233818644,0,10801.565224691356,10029.091233818644,{"$f":"Z28","v":"Common Laundry"},null,null,null,null,null,18,{"$f":"Lighting!AM38","v":8.4187280463387332E-2},{"$f":"Lighting!AN38","v":6.6904219690388095E-2},{"$f":"Lighting!AO38","v":5.2586365910286939E-2},{"$f":"Lighting!AP38","v":2.5535851497704896E-2},{"$f":"Lighting!AQ38","v":2.2113742908472799E-2},{"$f":"Lighting!AR38","v":2.1444161842061316E-2},{"$f":"Lighting!AS38","v":2.1645711935460003E-2},{"$f":"Lighting!AT38","v":2.3694162451726623E-2},{"$f":"Lighting!AU38","v":3.1481929402994234E-2},{"$f":"Lighting!AV38","v":4.6076964265967399E-2},{"$f":"Lighting!AW38","v":9.2452438147088964E-2},{"$f":"Lighting!AX38","v":9.6304900655428086E-2},{"$f":"Lighting!AL38","v":5.5874364453370046E-2}]
[null,null,null,null,null,null,null,null,null,null,null,null,null,null,null,{"$f":"IF(COUNTIF(C$11:C28,C29)=0,IF(E29=\"Irregular\", G29, H29*I29),0)","v":0},{"$error":"#N/A"},0,{"$error":"#N/A"},{"$error":"#N/A"},{"$error":"#N/A"},{"$error":"#N/A"},{"$error":"#N/A"},{"$error":"#N/A"},null,"Common Mail","N/A","N/A",0.8,900,"N/A","N/A",12,67500,3942,"N/A","N/A","N/A",null,null,null,67500,2777.7777777777778,12,12166.666666666668,0,3942,12166.666666666668,"Common Mail",null,null,null,null,null,19,{"$f":"Lighting!AM39","v":0.11773734557773614},{"$f":"Lighting!AN39","v":0.10784945819448277},{"$f":"Lighting!AO39","v":9.5284735139678084E-2},{"$f":"Lighting!AP39","v":4.7567539508267913E-2},{"$f":"Lighting!AQ39","v":3.9553892938662003E-2},{"$f":"Lighting!AR39","v":3.6125706193047176E-2},{"$f":"Lighting!AS39","v":3.6245773682684945E-2},{"$f":"Lighting!AT39","v":4.1906692963341027E-2},{"$f":"Lighting!AU39","v":5.8288052797964028E-2},{"$f":"Lighting!AV39","v":8.1490187135324008E-2},{"$f":"Lighting!AW39","v":0.11980748321655216},{"$f":"Lighting!AX39","v":0.1196377248016227},{"$f":"Lighting!AL39","v":8.3744847942743728E-2}]
[null,null,null,null,null,null,null,null,null,null,null,null,null,null,null,{"$f":"IF(COUNTIF(C$11:C29,C30)=0,IF(E30=\"Irregular\", G30, H30*I30),0)","v":0},{"$error":"#N/A"},0,{"$error":"#N/A"},{"$error":"#N/A"},{"$error":"#N/A"},{"$error":"#N/A"},{"$error":"#N/A"},{"$error":"#N/A"},null,"Common Office",300,{"$f":"VLOOKUP($Z$27:$Z$39,$C$120:$M$132,3, FALSE)","v":30},0.8,168,21.269510826666664,8.7304891733333356,9,14784,551.88,8184.8336000000018,336.82442798353918,1106.4682459259261,null,null,null,20852.383659145391,858.12278432697076,9,2537.040011862689,281.89333465140993,1658.3482459259262,2818.933346514099,"Common Office",null,null,null,null,null,20,{"$f":"Lighting!AM40","v":0.11999318647125856},{"$f":"Lighting!AN40","v":0.13151430539915016},{"$f":"Lighting!AO40","v":0.1354371160380459},{"$f":"Lighting!AP40","v":8.9162326462543046E-2},{"$f":"Lighting!AQ40","v":7.5914360473199965E-2},{"$f":"Lighting!AR40","v":6.7562087250796876E-2},{"$f":"Lighting!AS40","v":6.738245740769036E-2},{"$f":"Lighting!AT40","v":7.8324139487000302E-2},{"$f":"Lighting!AU40","v":0.10120183680223285},{"$f":"Lighting!AV40","v":0.12121270952568716},{"$f":"Lighting!AW40","v":0.11546296644051569},{"$f":"Lighting!AX40","v":0.10863968716024415},{"$f":"Lighting!AL40","v":0.10576505643901661}]
[null,null,null,null,null,null,null,null,null,null,null,null,null,null,null,{"$f":"IF(COUNTIF(C$11:C30,C31)=0,IF(E31=\"Irregular\", G31, H31*I31),0)","v":0},{"$error":"#N/A"},0,{"$error":"#N/A"},{"$f":"R31*IF(L31=\"Other\",O31,LOOKUP(L31,AG$68:AG$77,AH$68:AH$77))","v":{"$error":"#N/A"}},{"$error":"#N/A"},{"$error":"#N/A"},{"$error":"#N/A"},{"$error":"#N/A"},null,"Elevator",25,{"$f":"VLOOKUP($Z$27:$Z$39,$C$120:$M$132,3, FALSE)","v":15},0.8,26,12.829273599999997,2.1707264000000031,24,1430,227.76,169.58800000000025,6.9789300411522737,61.135427160493911,null,null,null,1997.0603271983641,82.183552559603456,24,719.92792042212614,0,288.89542716049391,719.92792042212614,"Elevator",null,null,null,null,null,21,{"$f":"Lighting!AM41","v":0.10319840540118846},{"$f":"Lighting!AN41","v":0.12028906511728614},{"$f":"Lighting!AO41","v":0.14041864713277744},{"$f":"Lighting!AP41","v":0.13962265300436791},{"$f":"Lighting!AQ41","v":0.12809747653899098},{"$f":"Lighting!AR41","v":0.11599809010774424},{"$f":"Lighting!AS41","v":0.11513503038478512},{"$f":"Lighting!AT41","v":0.12802610429743469},{"$f":"Lighting!AU41","v":0.14270436212569823},{"$f":"Lighting!AV41","v":0.12716272152771424},{"$f":"Lighting!AW41","v":0.10738687136866859},{"$f":"Lighting!AX41","v":9.9413233738834803E-2},{"$f":"Lighting!AL41","v":0.12020021292875219}]
[null,null,null,null,null,null,null,null,null,null,null,null,null,null,null,{"$f":"IF(COUNTIF(C$11:C25,C32)=0,IF(E32=\"Irregular\", G32, H32*I32),0)","v":0},{"$error":"#N/A"},0,{"$error":"#N/A"},{"$error":"#N/A"},{"$error":"#N/A"},{"$error":"#N/A"},{"$error":"#N/A"},{"$error":"#N/A"},null,"Equip. Room",450,{"$f":"VLOOKUP($Z$27:$Z$39,$C$120:$M$132,3, FALSE)","v":30},0.8,13,0.8248081111111113,29.175191888888889,0,715,0,41027.613593749993,1688.3791602366252,0,null,null,null,27820.424312990075,1144.8734285181101,0,0,0,0,0,"Equip. Room",null,null,null,null,null,22,{"$f":"Lighting!AM42","v":8.8216285795950117E-2},{"$f":"Lighting!AN42","v":0.10065113367921137},{"$f":"Lighting!AO42","v":0.11323581628024801},{"$f":"Lighting!AP42","v":0.14643807665539613},{"$f":"Lighting!AQ42","v":0.16201905099878697},{"$f":"Lighting!AR42","v":0.16237132798623327},{"$f":"Lighting!AS42","v":0.16010427367408481},{"$f":"Lighting!AT42","v":0.15520007069248687},{"$f":"Lighting!AU42","v":0.13163679444290308},{"$f":"Lighting!AV42","v":0.10870151473048313},{"$f":"Lighting!AW42","v":9.1796679401814713E-2},{"$f":"Lighting!AX42","v":8.4980637106856355E-2},{"$f":"Lighting!AL42","v":0.11779248000936876}]
[null,null,null,null,null,null,null,null,null,null,null,null,null,null,null,{"$f":"IF(COUNTIF(C$11:C32,C33)=0,IF(E33=\"Irregular\", G33, H33*I33),0)","v":0},{"$error":"#N/A"},0,{"$error":"#N/A"},{"$error":"#N/A"},{"$error":"#N/A"},{"$error":"#N/A"},{"$error":"#N/A"},{"$error":"#N/A"},null,"Indoor Corridor",5000,{"$f":"VLOOKUP($Z$27:$Z$39,$C$120:$M$132,3, FALSE)","v":15},0.8,780,1.1211763799807994,13.878823620019201,24,42900,6832.8,216856.61906280002,8924.1407021728392,78175.47255103408,null,null,null,377167.62154646026,15521.30129820824,24,135966.59937230416,0,85008.272551034082,135966.59937230416,"Indoor Corridor",null,null,null,null,null,23,{"$f":"Lighting!AM43","v":6.6564816516497149E-2},{"$f":"Lighting!AN43","v":7.5947702684187476E-2},{"$f":"Lighting!AO43","v":9.0572537875478115E-2},{"$f":"Lighting!AP43","v":0.11049687272191509},{"$f":"Lighting!AQ43","v":0.12676019399888927},{"$f":"Lighting!AR43","v":0.13567275468706119},{"$f":"Lighting!AS43","v":0.13333229398396113},{"$f":"Lighting!AT43","v":0.1190426980508172},{"$f":"Lighting!AU43","v":9.9328360855949371E-2},{"$f":"Lighting!AV43","v":8.2022228864141344E-2},{"$f":"Lighting!AW43","v":6.9266451949012223E-2},{"$f":"Lighting!AX43","v":6.4123313121086017E-2},{"$f":"Lighting!AL43","v":9.1175421603127207E-2}]
[null,null,null,null,null,null,null,null,null,null,null,null,null,null,null,{"$f":"IF(COUNTIF(C$11:C27,C34)=0,IF(E34=\"Irregular\", G34, H34*I34),0)","v":0},{"$error":"#N/A"},{"$f":"N34*M34","v":0},{"$error":"#N/A"},{"$error":"#N/A"},{"$f":"S34*T34*0.8","v":{"$error":"#N/A"}},{"$f":"IF(B34=\"Outdoor\",\"N/A\",R34*IF(L34=\"Other\",O34,LOOKUP(L34,AG$68:AG$77,AH$68:AH$77))*S34*0.8/(IF(E34=\"Irregular\", G34, H34*I34)))","v":{"$error":"#N/A"}},{"$error":"#N/A"},{"$f":"IF(B34=\"Outdoor\",T34,LOOKUP(B34,Z$11:Z$24,AB$11:AB$24)*P34/W34/0.8)","v":{"$error":"#N/A"}},null,"Multi-Purpose",1200,{"$f":"VLOOKUP($Z$27:$Z$39,$C$120:$M$132,3, FALSE)","v":15},0.8,64,1.2524299999999999,13.74757,12,3200,280.32,51553.38749999999,2121.5385802469132,9292.33898148148,null,null,null,38325.495237258772,1577.1808739612663,12,3454.0261139751733,3454.0261139751733,9572.6589814814797,6908.0522279503466,"Multi-Purpose",null,null,null,null,null,{"$f":"1+BC33","v":24},{"$f":"Lighting!AM44","v":4.6237578428005952E-2},{"$f":"Lighting!AN44","v":5.2755164711025489E-2},{"$f":"Lighting!AO44","v":6.291393926404136E-2},{"$f":"Lighting!AP44","v":7.675387818822757E-2},{"$f":"Lighting!AQ44","v":8.8050785960182204E-2},{"$f":"Lighting!AR44","v":9.424167245818045E-2},{"$f":"Lighting!AS44","v":9.261593019702008E-2},{"$f":"Lighting!AT44","v":8.2690021177207668E-2},{"$f":"Lighting!AU44","v":6.8995951848887002E-2},{"$f":"Lighting!AV44","v":5.697468179763808E-2},{"$f":"Lighting!AW44","v":4.8114201646276777E-2},{"$f":"Lighting!AX44","v":4.4541649397696267E-2},{"$f":"Lighting!AL44","v":6.3332717307743105E-2}]
[null,null,null,null,null,null,null,null,null,null,null,null,null,null,null,{"$f":"IF(COUNTIF(C$11:C34,C35)=0,IF(E35=\"Irregular\", G35, H35*I35),0)","v":0},{"$error":"#N/A"},{"$f":"N35*M35","v":0},{"$error":"#N/A"},{"$error":"#N/A"},{"$f":"S35*T35*0.8","v":{"$error":"#N/A"}},{"$f":"IF(B35=\"Outdoor\",\"N/A\",R35*IF(L35=\"Other\",O35,LOOKUP(L35,AG$68:AG$77,AH$68:AH$77))*S35*0.8/(IF(E35=\"Irregular\", G35, H35*I35)))","v":{"$error":"#N/A"}},{"$error":"#N/A"},{"$f":"IF(B35=\"Outdoor\",T35,LOOKUP(B35,Z$11:Z$24,AB$11:AB$24)*P35/W35/0.8)","v":{"$error":"#N/A"}},null,"Open Parking","N/A","N/A",0.8,0,"N/A","N/A",12,0,0,"N/A","N/A","N/A",null,null,null,0,0,12,0,0,0,0,"Open Parking",null,null,null,null,null,null,{"$f":"SUM(BD11:BD34)","v":1.0000000000000002},1,1.0000000000000002,1,0.99999999999999978,1,1,1,1,1,1,1,0.99999999999999989]
[null,null,null,null,null,null,null,null,null,null,null,null,null,null,null,{"$f":"IF(COUNTIF(C$11:C29,C36)=0,IF(E36=\"Irregular\", G36, H36*I36),0)","v":0},{"$error":"#N/A"},{"$f":"N36*M36","v":0},{"$error":"#N/A"},{"$error":"#N/A"},{"$f":"S36*T36*0.8","v":{"$error":"#N/A"}},{"$f":"IF(B36=\"Outdoor\",\"N/A\",R36*IF(L36=\"Other\",O36,LOOKUP(L36,AG$68:AG$77,AH$68:AH$77))*S36*0.8/(IF(E36=\"Irregular\", G36, H36*I36)))","v":{"$error":"#N/A"}},{"$error":"#N/A"},{"$f":"IF(B36=\"Outdoor\",T36,LOOKUP(B36,Z$11:Z$24,AB$11:AB$24)*P36/W36/0.8)","v":{"$error":"#N/A"}},null,"Outdoor Stairs","N/A","N/A",0.8,1200,"N/A","N/A",12,108000,5256,"N/A","N/A","N/A",null,null,null,108000,4444.4444444444443,12,19466.666666666664,0,5256,19466.666666666664,"Outdoor Stairs"]
[null,null,null,null,null,null,null,null,null,null,null,null,null,null,null,{"$f":"IF(COUNTIF(C$11:C36,C37)=0,IF(E37=\"Irregular\", G37, H37*I37),0)","v":0},{"$error":"#N/A"},{"$f":"N37*M37","v":0},{"$error":"#N/A"},{"$error":"#N/A"},{"$f":"S37*T37*0.8","v":{"$error":"#N/A"}},{"$f":"IF(B37=\"Outdoor\",\"N/A\",R37*IF(L37=\"Other\",O37,LOOKUP(L37,AG$68:AG$77,AH$68:AH$77))*S37*0.8/(IF(E37=\"Irregular\", G37, H37*I37)))","v":{"$error":"#N/A"}},{"$error":"#N/A"},{"$f":"IF(B37=\"Outdoor\",T37,LOOKUP(B37,Z$11:Z$24,AB$11:AB$24)*P37/W37/0.8)","v":{"$error":"#N/A"}},null,"Outdoor Walkways","N/A","N/A",0.8,900,"N/A","N/A",12,81000,3942,"N/A","N/A","N/A",null,null,null,81000,3333.333333333333,12,14600,0,3942,14600,"Outdoor Walkways"]
[null,null,null,null,null,null,null,null,null,null,null,null,null,null,null,{"$f":"IF(COUNTIF(C$11:C31,C38)=0,IF(E38=\"Irregular\", G38, H38*I38),0)","v":0},{"$error":"#N/A"},0,{"$error":"#N/A"},{"$error":"#N/A"},{"$error":"#N/A"},{"$error":"#N/A"},{"$error":"#N/A"},{"$error":"#N/A"},null,"Parking Garage","N/A","N/A",0.8,900,"N/A","N/A",24,67500,7884,"N/A","N/A","N/A",null,null,null,67500,2777.7777777777778,24,24333.333333333336,0,7884,24333.333333333336,"Parking Garage"]
[null,null,null,null,null,null,null,null,null,null,null,null,null,null,null,{"$f":"IF(COUNTIF(C$11:C38,C39)=0,IF(E39=\"Irregular\", G39, H39*I39),0)","v":0},{"$error":"#N/A"},0,{"$error":"#N/A"},{"$error":"#N/A"},{"$error":"#N/A"},{"$error":"#N/A"},{"$error":"#N/A"},{"$error":"#N/A"},null,"Workout Room",200,{"$f":"VLOOKUP($Z$27:$Z$39,$C$120:$M$132,3, FALSE)","v":15},0.8,180,5.1123150000000006,{"$f":"IF(AB39=\"N/A\",\"N/A\",IF(AB39-AE39>0,AB39-AE39,0))","v":9.8876849999999994},16,2700,1051.2,6179.8031249999985,254.31288580246905,1485.1872530864193,null,null,null,7369.3460994972256,303.26527158424796,16,1771.069186052008,0,2536.3872530864192,1771.069186052008,"Workout Room"]
[null,null,null,null,null,null,null,null,null,null,null,null,null,null,null,{"$f":"IF(COUNTIF(C$11:C30,C40)=0,IF(E40=\"Irregular\", G40, H40*I40),0)","v":0},{"$error":"#N/A"},0,{"$error":"#N/A"},{"$error":"#N/A"},{"$error":"#N/A"},{"$error":"#N/A"},{"$error":"#N/A"},{"$error":"#N/A"},null,null,null,null,null,null,null,null,null,{"$f":"SUM(AH27:AH39)","v":401015},{"$f":"SUM(AI27:AI39)","v":30964.263999999999},356947.36220967496,14689.191860480452,100078.8493646812,null,null,null,836303.84549403121,34415.796110865485,null,225307.60719477717,3735.9194486265833,131043.11336468119,229043.52664340372,"Total"]
[null,null,"MULTI FAMILY COMMON SPACES",null,null,"MULTI FAMILY COMMON SPACES",null,null,null,null,null,null,"MULTI FAMILY COMMON SPACES"]
[null,"Common Laundry",{"$f":"B42","v":"Common Laundry"},null,"Rectangular",null,null,15,30,8,"Utility/Strip","Linear Fluorescent (T8)",4,28,"N/A",{"$f":"IF(E42=\"Irregular\", G42, H42*I42)","v":450},{"$f":"IF(E42=\"Rectangular\",5*(J42-LOOKUP(B42,Q$106:Q$119,T$106:T$119))*(H42+I42)/(H42*I42),2.5*(J42-LOOKUP(B42,Q$106:Q$119,T$106:T$119))*F42/G42)","v":2.5},112,{"$f":"IF(K42=\"default\",LOOKUP(LOOKUP(B42,C$70:C$83,R$70:R$83),$AG$79:$AG$95,$AH$79:$AH$95),LOOKUP(K42,$AG$79:$AG$95,$AH$79:$AH$95))*(0.0129*Q42^2-0.2624*Q42+1.986)","v":0.60656874999999999},{"$f":"R42*IF(L42=\"Other\",O42,LOOKUP(L42,AG$68:AG$77,AH$68:AH$77))","v":9856},{"$f":"S42*T42*0.8","v":4782.67328},{"$f":"IF(B42=\"Outdoor\",\"N/A\",R42*IF(L42=\"Other\",O42,LOOKUP(L42,AG$68:AG$77,AH$68:AH$77))*S42*0.8/(IF(E42=\"Irregular\", G42, H42*I42)))","v":10.628162844444445},{"$f":"LOOKUP(LOOKUP(B42,C$89:C$101,R$89:R$101),$AG$79:$AG$95,$AH$79:$AH$95)*(0.0129*Q42^2-0.2624*Q42+1.986)","v":0.60656874999999999},{"$f":"IF(K42=\"Outdoor\",T42,LOOKUP(B42,Z$27:Z$39,AB$27:AB$39)*P42/W42/0.8)","v":27820.424312990075},null,null,null,null,null,null,null,null,null,null,null,null,null,"* Assumed portable lighting average COU=0.4, LLF=0.8"]
[null,"Common Office",{"$f":"B43","v":"Common Office"},null,"Irregular",80,300,null,null,8,"Utility/Strip","Linear Fluorescent (T8)",6,28,"N/A",{"$f":"IF(COUNTIF(C42,C43)=0,IF(E43=\"Irregular\", G43, H43*I43),0)","v":300},3.3333333333333335,168,0.53950666666666658,14784,{"$f":"S43*T43*0.8","v":6380.8532479999994},{"$f":"IF(B43=\"Outdoor\",\"N/A\",R43*IF(L43=\"Other\",O43,LOOKUP(L43,AG$68:AG$77,AH$68:AH$77))*S43*0.8/(IF(E43=\"Irregular\", G43, H43*I43)))","v":21.269510826666664},0.53950666666666658,{"$f":"IF(K43=\"Outdoor\",T43,LOOKUP(B43,Z$27:Z$39,AB$27:AB$39)*P43/W43/0.8)","v":20852.383659145391},null,null,null,null,null,null,null,null,null,null,null,null,null,"** Assumed portable lighting average efficacy = Benchmark lighting efficacy for same room type",null,null,null,null,null,null,null,null,"Residential Unit Lighting Energy Savings"]
[null,"Indoor Corridor","Indoor Corridor",null,"Rectangular",null,null,5,1000,8,"Closed Ceiling","CFL",60,13,"N/A",{"$f":"IF(COUNTIF(C$42:C43,C44)=0,IF(E44=\"Irregular\", G44, H44*I44),0)","v":5000},8.0399999999999991,780,0.16334154719999994,42900,5605.8818999039977,1.1211763799807994,0.24856322399999989,377167.62154646026,null,null,null,null,null,null,null,null,null,null,null,null,null,null,null,null,null,null,null,null,null,null,{"$f":"(AV25-AU25)/AV25","v":{"$error":"#DIV/0!"}}]
[null,"Workout Room","Workout Room",null,"Rectangular",null,null,10,20,8,"Chandelier","Incandescent",4,45,"N/A",{"$f":"IF(COUNTIF(C$42:C44,C45)=0,IF(E45=\"Irregular\", G45, H45*I45),0)","v":200},3.75,180,0.47336250000000002,2700,1022.4630000000002,5.1123150000000006,0.50886468750000002,7369.3460994972256]
[null,"Equip. Room","Equip. Room",null,"Rectangular",null,null,15,30,8,"Bare Bulb","CFL",1,13,"N/A",{"$f":"IF(COUNTIF(C$42:C45,C46)=0,IF(E46=\"Irregular\", G46, H46*I46),0)","v":450},2.5,13,0.64888750000000006,715,371.16365000000008,0.8248081111111113,0.60656874999999999,27820.424312990075,null,null,null,null,null,null,null,null,null,null,null,null,null,null,null,null,null,null,null,null,null,null,"Common Area Lighting Energy Savings"]
[null,"Multi-Purpose","Multi-Purpose",null,"Rectangular",null,null,30,40,8,"Recessed Downlights","LED",8,8,"N/A",{"$f":"IF(COUNTIF(C$42:C46,C47)=0,IF(E47=\"Irregular\", G47, H47*I47),0)","v":1200},1.4583333333333333,64,0.58707656249999995,3200,1502.9159999999999,1.2524299999999999,0.58707656249999995,38325.495237258772,null,null,null,null,null,null,null,null,null,null,null,null,null,null,null,null,null,null,null,null,null,null,{"$f":"(AV40-AU40)/AV40","v":0.42786807693237577}]
[null,"Central Restroom","Central Restroom",null,"Rectangular",null,null,15,10,8,"Vanity","CFL",1,13,"N/A",{"$f":"IF(COUNTIF(C$42:C47,C48)=0,IF(E48=\"Irregular\", G48, H48*I48),0)","v":150},4.166666666666667,13,0.46898249999999997,715,268.25799000000001,1.7883865999999999,0.25682375000000002,10951.089998491181]
[null,"Central Restroom","Central Restroom",null,"Rectangular",null,null,15,10,8,"Closed Ceiling","CFL",1,13,"N/A",{"$f":"IF(COUNTIF(C$42:C48,C49)=0,IF(E49=\"Irregular\", G49, H49*I49),0)","v":0},4.166666666666667,13,0.25682375000000002,715,146.90318500000001,0.97935456666666676,0.25682375000000002,0]
[null,"Outdoor Walkways","Outdoor Walkways",null,"Rectangular",null,null,3,1000,8,"Outdoor","High Pressure Sodium",30,30,"N/A",{"$f":"IF(COUNTIF(C$42:C49,C50)=0,IF(E50=\"Irregular\", G50, H50*I50),0)","v":3000},13.373333333333333,900,0.11759269599999991,81000,7620.0067007999942,2.5400022335999979,0.11759269599999991,81000]
[null,"Parking Garage","Parking Garage",null,"Rectangular",null,null,100,100,8,"Outdoor","Metal Halide",30,30,"N/A",{"$f":"IF(COUNTIF(C$42:C50,C51)=0,IF(E51=\"Irregular\", G51, H51*I51),0)","v":10000},0.8,900,0.26765039999999996,67500,14453.121599999999,1.4453121599999998,0.26765039999999996,67500]
[null,"Common Mail","Common Mail",null,"Rectangular",null,null,5,30,8,"Outdoor","Metal Halide",30,30,"N/A",{"$f":"IF(COUNTIF(C$42:C51,C52)=0,IF(E52=\"Irregular\", G52, H52*I52),0)","v":150},5.833333333333333,900,0.13414374999999998,67500,7243.7624999999989,48.291749999999993,0.38454541666666658,67500]
[null,"Elevator","Elevator",null,"Rectangular",null,null,5,5,8,"Track","CFL",2,13,"N/A",{"$f":"IF(COUNTIF(C$42:C52,C53)=0,IF(E53=\"Irregular\", G53, H53*I53),0)","v":25},10,{"$f":"N53*M53","v":26},0.28035999999999994,{"$f":"R53*IF(L53=\"Other\",O53,LOOKUP(L53,AG$68:AG$77,AH$68:AH$77))","v":1430},320.73183999999992,12.829273599999997,0.23471999999999996,1997.0603271983641]
[null,"Outdoor Stairs","Outdoor Stairs",null,"Rectangular",null,null,4,1000,8,"Outdoor","High Pressure Sodium",20,60,"N/A",{"$f":"IF(COUNTIF(C$42:C53,C54)=0,IF(E54=\"Irregular\", G54, H54*I54),0)","v":4000},10.039999999999999,1200,9.7776695999999955E-2,108000,8447.9065343999955,2.111976633599999,9.7776695999999955E-2,108000]
[null,null,0,null,null,null,null,null,null,null,null,null,null,null,"N/A",{"$f":"IF(COUNTIF(C$42:C48,C55)=0,IF(E55=\"Irregular\", G55, H55*I55),0)","v":0},{"$error":"#N/A"},0,{"$error":"#N/A"},{"$error":"#N/A"},{"$error":"#N/A"},{"$error":"#N/A"},{"$error":"#N/A"},{"$error":"#N/A"}]
[null,null,0,null,null,null,null,null,null,null,null,null,null,null,"N/A",{"$f":"IF(COUNTIF(C$42:C55,C56)=0,IF(E56=\"Irregular\", G56, H56*I56),0)","v":0},{"$error":"#N/A"},0,{"$error":"#N/A"},{"$error":"#N/A"},{"$error":"#N/A"},{"$error":"#N/A"},{"$error":"#N/A"},{"$error":"#N/A"},null,null,null,null,null,null,null,null,null,null,null,null,null,null,null,null,null,null,null,null,null,null,null,null,null,null,null,null,null,null,null,null,null,null,null,null,null,"Energy Efficient Lighting Take-Back Effect (10% increased operating hours)"]
[null,null,0,null,null,null,null,null,null,null,null,null,null,null,"N/A",{"$f":"IF(COUNTIF(C$42:C56,C57)=0,IF(E57=\"Irregular\", G57, H57*I57),0)","v":0},{"$error":"#N/A"},0,{"$error":"#N/A"},{"$error":"#N/A"},{"$error":"#N/A"},{"$error":"#N/A"},{"$error":"#N/A"},{"$error":"#N/A"},null,null,null,null,null,null,null,null,null,null,null,null,null,null,null,null,null,null,null,null,null,null,null,null,null,null,null,null,null,null,null,null,null,null,null,null,null,"Room Type","Hours per Day per Room (from Navigant/TPU)","Electricity Use (kWh/yr)","Rank","1990s Average Efficacy (lm/W)","B10 Average Efficacy (lm/W)","B10 Average Hours","NCTH Average Efficacy (lm/W)","NCTH Average Hours","alt",null,"E 1990s","B10","NCTH"]
[null,null,{"$f":"B58","v":0},null,null,null,null,null,null,null,null,null,null,null,"N/A",{"$f":"IF(COUNTIF(C$42:C51,C58)=0,IF(E58=\"Irregular\", G58, H58*I58),0)","v":0},{"$error":"#N/A"},0,{"$error":"#N/A"},{"$error":"#N/A"},{"$f":"S58*T58*0.8","v":{"$error":"#N/A"}},{"$f":"IF(B58=\"Outdoor\",\"N/A\",R58*IF(L58=\"Other\",O58,LOOKUP(L58,AG$68:AG$77,AH$68:AH$77))*S58*0.8/(IF(E58=\"Irregular\", G58, H58*I58)))","v":{"$error":"#N/A"}},{"$error":"#N/A"},{"$f":"IF(K58=\"Outdoor\",T58,LOOKUP(B58,Z$27:Z$39,AB$27:AB$39)*P58/W58/0.8)","v":{"$error":"#N/A"}},null,null,null,null,null,null,null,null,null,null,null,null,null,null,null,null,null,null,null,null,null,null,null,null,null,null,null,null,null,null,null,null,null,null,null,null,null,"Bathroom",1.67,251,3,{"$f":"0.892*15+0.057*9+0.006*55+0.045*60","v":16.923000000000002},29.310000000000002,{"$f":"(0.9+0.1*$BO58/$BN58)*$BK58","v":1.7922377238078355},{"$f":"IF(AO11=\"N/A\",0,AO11)","v":0},{"$f":"IF(BQ58=0,0,(0.9+0.1*$BQ58/$BN58)*$BK58)","v":0},{"$f":"IF(BR58=0,0,(0.9+0.1*$BQ58/$BO58)*$BP58)","v":0},null,{"$f":"BK58/BN58","v":9.868226673757606E-2},{"$f":"BP58/BO58","v":6.1147653490543685E-2},{"$f":"BS58/BQ58","v":{"$error":"#DIV/0!"}}]
[null,null,{"$f":"B59","v":0},null,null,null,null,null,null,null,null,null,null,null,"N/A",{"$f":"IF(COUNTIF(C$42:C58,C59)=0,IF(E59=\"Irregular\", G59, H59*I59),0)","v":0},{"$error":"#N/A"},0,{"$error":"#N/A"},{"$error":"#N/A"},{"$f":"S59*T59*0.8","v":{"$error":"#N/A"}},{"$f":"IF(B59=\"Outdoor\",\"N/A\",R59*IF(L59=\"Other\",O59,LOOKUP(L59,AG$68:AG$77,AH$68:AH$77))*S59*0.8/(IF(E59=\"Irregular\", G59, H59*I59)))","v":{"$error":"#N/A"}},{"$error":"#N/A"},{"$f":"IF(K59=\"Outdoor\",T59,LOOKUP(B59,Z$27:Z$39,AB$27:AB$39)*P59/W59/0.8)","v":{"$error":"#N/A"}},null,null,null,null,null,null,null,null,null,null,null,null,null,null,null,null,null,null,null,null,null,null,null,null,null,null,null,null,null,null,null,null,null,null,null,null,null,"Bedroom",1.1100000000000001,215,5,{"$f":"0.946*15+0.012*9+0.004*18+0.009*55+0.029*60","v":16.604999999999997},26.86,{"$f":"(0.9+0.1*$BO59/$BN59)*$BK59","v":1.1785519421860886},{"$f":"IF(AO12=\"N/A\",0,AO12)","v":0},{"$f":"IF(BQ59=0,0,(0.9+0.1*$BQ59/$BN59)*$BK59)","v":0},{"$f":"IF(BR59=0,0,(0.9+0.1*$BQ59/$BO59)*$BP59)","v":0},null,{"$f":"BK59/BN59","v":6.6847335140018088E-2},{"$f":"BP59/BO59","v":4.3877585338275821E-2},{"$f":"BR59/BQ59","v":{"$error":"#DIV/0!"}}]
[null,null,{"$f":"B60","v":0},null,null,null,null,null,null,null,null,null,null,null,"N/A",{"$f":"IF(COUNTIF(C$42:C59,C60)=0,IF(E60=\"Irregular\", G60, H60*I60),0)","v":0},{"$error":"#N/A"},0,{"$error":"#N/A"},{"$error":"#N/A"},{"$f":"S60*T60*0.8","v":{"$error":"#N/A"}},{"$f":"IF(B60=\"Outdoor\",\"N/A\",R60*IF(L60=\"Other\",O60,LOOKUP(L60,AG$68:AG$77,AH$68:AH$77))*S60*0.8/(IF(E60=\"Irregular\", G60, H60*I60)))","v":{"$error":"#N/A"}},{"$error":"#N/A"},{"$f":"IF(K60=\"Outdoor\",T60,LOOKUP(B60,Z$27:Z$39,AB$27:AB$39)*P60/W60/0.8)","v":{"$error":"#N/A"}},null,null,null,null,null,null,null,null,null,null,null,null,null,null,null,null,null,null,null,null,null,null,null,null,null,null,null,null,null,null,null,null,null,null,null,null,null,"Closet",0.95,19,13,{"$f":"0.935*15+0.029*9+0.018*55+0.019*60","v":16.416},33.880000000000003,1.0510648148148147,0,0,0,null,5.7870370370370364E-2,3.1023164545891813E-2,{"$error":"#DIV/0!"}]
[null,null,0,null,null,null,null,null,null,null,null,null,null,null,"N/A",{"$f":"IF(COUNTIF(C$42:C54,C61)=0,IF(E61=\"Irregular\", G61, H61*I61),0)","v":0},{"$error":"#N/A"},0,{"$error":"#N/A"},{"$error":"#N/A"},{"$error":"#N/A"},{"$error":"#N/A"},{"$error":"#N/A"},{"$error":"#N/A"},null,null,null,null,null,null,null,null,null,null,null,null,null,null,null,null,null,null,null,null,null,null,null,null,null,null,null,null,null,null,null,null,null,null,null,null,null,"Dining",2.4300000000000002,55,10,{"$f":"0.947*15+0.03*9+0.002*18+0.001*19+0.007*55+0.001*55+0.012*60","v":15.69},21.330000000000002,2.5173499043977059,0,0,0,null,0.15487571701720843,0.1180192172713411,{"$error":"#DIV/0!"}]
[null,null,0,null,null,null,null,null,null,null,null,null,null,null,"N/A",{"$f":"IF(COUNTIF(C$42:C61,C62)=0,IF(E62=\"Irregular\", G62, H62*I62),0)","v":0},{"$error":"#N/A"},0,{"$error":"#N/A"},{"$error":"#N/A"},{"$error":"#N/A"},{"$error":"#N/A"},{"$error":"#N/A"},{"$error":"#N/A"},null,null,null,null,null,null,null,null,null,null,null,null,null,null,null,null,null,null,null,null,null,null,null,null,null,null,null,null,null,null,null,null,null,null,null,null,null,"Family",1.78,74,8,{"$f":"0.754*15+0.052*9+0.006*18+0.005*19+0.017*55+0.167*60","v":22.936000000000003},27.59,1.816118416463202,0,0,0,null,7.7607254970352271E-2,6.5825241626067496E-2,{"$error":"#DIV/0!"}]
[null,null,0,null,null,null,null,null,null,null,null,null,null,null,"N/A",{"$f":"IF(COUNTIF(C$42:C62,C63)=0,IF(E63=\"Irregular\", G63, H63*I63),0)","v":0},{"$error":"#N/A"},0,{"$error":"#N/A"},{"$error":"#N/A"},{"$error":"#N/A"},{"$error":"#N/A"},{"$error":"#N/A"},{"$error":"#N/A"},null,null,null,null,null,null,null,null,null,null,null,null,null,null,null,null,null,null,null,null,null,null,null,null,null,null,null,null,null,null,null,null,null,null,null,null,null,"Garage",1.82,103,7,{"$f":"0.442*15+0.005*9+0.002*19+0.006*55+0.544*60","v":39.683},73.680000000000007,1.9759220321044277,0,0,0,null,4.5863467983771389E-2,2.6817617156683328E-2,{"$error":"#DIV/0!"}]
[null,"Total",null,null,null,null,null,null,null,null,null,null,null,null,null,null,null,null,null,null,null,null,null,null,null,null,null,null,null,null,null,null,null,null,null,null,null,null,null,null,null,null,null,null,null,null,null,null,null,null,null,null,null,null,null,null,null,null,null,null,null,"Hall",1.45,171,6,{"$f":"0.942*15+0.037*9+0.002*18+0.001*19+0.007*55+0.011*60","v":15.562999999999999},24.46,1.5328930797404101,0,0,0,null,9.3169697359120993E-2,6.2669381837302127E-2,{"$error":"#DIV/0!"}]
[null,null,"* Multiple fixtures in the same room must both use exactly the same Room Name",null,null,null,null,null,null,null,null,null,null,null,null,null,null,null,null,null,null,null,null,null,null,null,null,null,null,null,null,null,null,null,null,null,null,null,null,null,null,null,null,null,null,null,null,null,null,null,null,null,null,null,null,null,null,null,null,null,null,"Kitchen",2.85,322,2,{"$f":"0.525*15+0.084*9+0.003*18+0.027*55+0.362*60","v":31.89},47.02,2.9852163687676394,0,0,0,null,8.9369708372530582E-2,6.348822562245085E-2,{"$error":"#DIV/0!"}]
[null,"Inputs",null,null,null,null,"Bench",{"$f":"SUM(AV11:AV24)-AV22-AV16","v":0},null,null,null,null,null,null,null,null,null,null,null,null,null,null,null,null,null,null,"Benchmark Average Maintained Illumination (footcandles)","TPU Estimated Average Floor Area (ft²)","TPU Typical Room Size (ft²)","TPU Rooms/ House",null,null,null,null,null,null,null,null,null,null,null,null,null,null,null,null,null,null,null,null,null,null,null,null,null,null,null,null,null,null,null,"Living",2.56,352,1,{"$f":"0.901*15+0.039*9+0.009*18+0.003*19+0.037*55+0.011*60","v":16.78},27.59,2.7249201430274139,0,0,0,null,0.15256257449344457,9.8764775028177376E-2,{"$error":"#DIV/0!"}]
[null,"Intermediate Calculations",null,null,null,null,"Garage",{"$f":"AV16","v":0},null,null,null,null,null,null,null,null,null,null,null,null,null,null,null,null,null,null,{"$f":"P70*U70*S70*T70/AB67","v":31.306395570604096},{"$f":"AC67*AD67","v":120.7},71,1.7,null,null,null,null,"Benchmark Penetration",null,null,null,null,null,null,null,null,null,null,null,null,null,null,null,null,null,null,null,null,null,null,null,null,null,null,"Office",1.45,37,11,{"$f":"0.74*15+0.057*9+0.007*18+0.006*19+0.024*55+0.166*60","v":23.133000000000003},33.5,1.5149814118359055,0,0,0,null,6.2681018458479218E-2,4.5223325726444941E-2,{"$error":"#DIV/0!"}]
[null,"Outputs",null,null,null,null,null,null,null,null,null,null,null,null,null,null,null,null,null,null,null,null,null,null,null,null,11.131076145683933,{"$f":"AC68*AD68","v":424.53},159,2.67,null,"Efficacies","CFL",55,{"$f":"20.36/96.34","v":0.21133485571932736},null,null,null,null,null,null,null,null,null,null,null,null,null,null,null,null,null,null,null,null,null,null,null,null,null,null,"Other",0.78,32,12,{"$f":"0.487*15+0.006*9+0.002*19+0.005*55+0.5*60","v":37.671999999999997},46.34,0.79794712253132305,0,0,0,null,2.0705032915693356E-2,1.7219402730498986E-2,{"$error":"#DIV/0!"}]
[null,"Navigant/ TPU Summary","Room Type","Benchmark Hours per Day per Room (includes Ltg Takeback)","Electricity Use (kWh/yr)","Rank","Average Efficacy (lm/W)","Natl Avg Rooms/ house","Million lumen-hr/year/room","Fraction hard-wired","Fraction portable","Hard-wired (million lm-hr/yr/rm)","Plug-in (million lm-hr/yr/rm)","Hard-wired (kWh/yr)","Plug-in (kWh/yr)","# Lamps","Lighting Scheme","Primary Fixture Type","COU","LLF","Avg Lumens/ Lamp","% CFL","% Linear Fl","% Incand",null,null,34.573313503134969,17.86,38,0.47,null,"(lm/W)","High Pressure Sodium",90,0,null,null,null,null,null,null,null,null,null,null,null,null,null,null,null,null,null,null,null,null,null,null,null,null,null,null,"Outdoor",2.7,248,4,{"$f":"0.616*15+0.315*9+0.013*18+0.027*19+0.013*55+0.002*60+0.01*40+0.004*80","v":14.376999999999999},25.589999999999996,2.9105800932044241,0,0,0,null,0.18779995826667598,0.11373896417367818,{"$error":"#DIV/0!"}]
[null,null,"Bathroom",{"$f":"BP58","v":1.7922377238078355},251,3,{"$f":"V70*AH$68+W70*AH$74+X70*AH$70","v":29.310000000000002},1.56,{"$f":"E70*G70/1000/H70","v":4.7159038461538465},1,{"$f":"1-J70","v":0},{"$f":"J70*I70","v":4.7159038461538465},{"$f":"K70*I70","v":0},{"$f":"L70/G70*1000*H70","v":251.00000000000003},{"$f":"M70/G70*1000*H70","v":0},6.88,"Ambient + Task","Vanity",{"$f":"LOOKUP(R70,AG$79:AG$95,AH$79:AH$95)","v":0.42},{"$f":"LOOKUP(R70,AG$79:AG$93,AI$79:AI$93)","v":0.8},{"$f":"G70*E70*1000/D70/365/P70","v":1634.6042468559292},0.23,7.0000000000000007E-2,{"$f":"1-V70-W70","v":0.7},null,null,3.8173461955712265,107.03,139,0.77,null,null,"Incandescent",15,{"$f":"63.5/96.34","v":0.65912393605978825},null,null,null,null,null,null,null,null,null,null,null,null,null,null,null,null,null,null,null,null,null,null,null,null,null,null,"Unf Bsmt",0.78,null,null,{"$f":"BN64","v":15.562999999999999},56.230000000000004,0.9838184154725953,0,0,0,null,5.0118871682837504E-2,1.7496326079896766E-2,{"$error":"#DIV/0!"}]
[null,null,"Bedroom",{"$f":"BP59","v":1.1785519421860886},215,5,{"$f":"V71*AH$68+W71*AH$74+X71*AH$70","v":26.86},2.61,{"$f":"E71*G71/1000/H71","v":2.2126053639846743},0.61,{"$f":"1-J71","v":0.39},{"$f":"J71*I71","v":1.3496892720306513},{"$f":"K71*I71","v":0.86291609195402297},{"$f":"L71/G71*1000*H71","v":131.14999999999998},83.85,{"$f":"9.94*12.5/8.8","v":14.11931818181818},"Ambient + Task","Indirect Ceiling",0.44,0.8,{"$f":"G71*E71*1000/D71/365/P71","v":950.79995093102616},0.26,0.02,{"$f":"1-V71-W71","v":0.72},null,null,6.0431951381961646,179.4,299,0.6,null,null,"LED",50,null,null,null,null,null,null,null,null,null,null,null,null,null,null,null,null,null,null,null,null,null,null,null,null,null,null,null,"Utility",1.59,67,9,{"$f":"0.752*15+0.019*9+0.046*55+0.182*60","v":24.900999999999996},45.63,1.7223605879281958,0,0,0,null,6.3852857314967287E-2,3.7746232477058855E-2,{"$error":"#DIV/0!"}]
[null,null,"Closet",1.0510648148148147,19,13,33.880000000000003,0.47,1.3696170212765959,1,{"$f":"1-J72","v":0},1.3696170212765959,0,19,0,0.77,"Ambient + Task","Bare Bulb",0.46,0.8,2179.1338903373462,0.18,0.16,0.66,null,null,14.736563210321627,262.77,461,0.56999999999999995,null,null,"Linear Fluorescent (T12)",82,null,"From IES Handbook"]
[null,null,"Dining",2.5173499043977059,55,10,21.330000000000002,0.38,3.0872368421052636,1,0,3.0872368421052636,0,55,0,{"$f":"1.23*6.5/5","v":1.599},"Ambient + Task","Chandelier",0.4,0.8,798.48843674169086,0.14000000000000001,0.01,0.85,null,null,14.606732894551728,94.17,43,2.19,null,null,"Linear Fluorescent (T5)",104]
[null,null,"Family",1.816118416463202,74,8,27.59,0.35,5.8333142857142866,{"$f":"1-37/74","v":0.5},0.5,2.9166571428571433,2.9166571428571433,37.000000000000007,37.000000000000007,2.38,"Ambient + Task","Indirect Ceiling",0.44,0.8,1294.1047648400399,0.26,0.03,0.71,null,null,14.632554953652676,174.73,173,1.01,null,null,"Linear Fluorescent (T8)",88,{"$f":"12.37/96.34","v":0.12839941872534771},null,null,null,null,null,null,null,null,null,null,null,null,null,null,null,null,null,null,null,null,null,null,null,null,null,null,"Central Restroom",1.6,null,null,15,24.3,"(Note: No takeback assumed for common spaces, because they tend to operate on schedules"]
[null,null,"Garage",1.9759220321044277,103,7,73.680000000000007,0.56999999999999995,13.314105263157897,1,0,13.314105263157897,0,103,0,{"$f":"4.23*5/8.8","v":2.4034090909090908},"Ambient + Task","Bare Bulb",0.46,0.8,4378.2088459798897,0.08,0.76,0.16000000000000003,null,null,14.346297187077552,239.57999999999998,242,0.99,null,null,"Metal Halide",75,null,null,null,null,null,null,null,null,null,null,null,null,null,null,null,null,null,null,null,null,null,null,null,null,null,null,null,"Common Laundry",24,null,null,15,24.3]
[null,null,"Hall",1.5328930797404101,171,6,24.46,2.19,1.9098904109589043,1,0,1.9098904109589043,0,171.00000000000003,0,5.12,"Ambient + Task","Closed Ceiling",0.23,0.8,1460.0841082285326,0.2,0.02,0.78,null,null,14.563673579156282,28.32,118,0.24,null,null,"Misc Fluorescent",85,null,null,null,null,null,null,null,null,null,null,null,null,null,null,null,null,null,null,null,null,null,null,null,null,null,null,null,"Common Mail",12,null,null,15,24.3]
[null,null,"Kitchen",2.9852163687676394,322,2,47.02,1,15.14044,1,0,15.14044,0,321.99999999999994,0,{"$f":"5.11*19/22.5","v":4.3151111111111113},"Ambient + Task","Closed Ceiling",0.23,0.8,3220.1628452457803,0.18,0.34,0.48000000000000004,null,null,41.142797933968431,{"$f":"AC77*AD77","v":34.65},105,0.33,null,null,"Other",null,null,null,null,null,null,null,null,null,null,null,null,null,null,null,null,null,null,null,null,null,null,null,null,null,null,null,null,"Common Office",9,null,null,15,24.3]
[null,null,"Living",2.7249201430274139,352,1,27.59,0.96,10.116333333333333,{"$f":"1-251/352","v":0.28693181818181823},0.71306818181818177,2.9026979166666673,7.2136354166666665,101.00000000000001,251.00000000000003,5.97,"Ambient + Task","Indirect Ceiling",0.44,0.8,1635.5860172453363,0.26,0.03,0.71,null,null,3.0522986207394607,548,400,1.37,null,"Fixtures",null,"Coeff of Util*","Light Loss Factor",null,null,null,null,null,null,null,null,null,null,null,null,null,null,null,null,null,null,null,null,null,null,null,null,null,null,"Elevator",24,null,null,15,24.3]
[null,null,"Office",1.5149814118359055,37,11,33.5,0.05,24.79,0.61,{"$f":"1-J79","v":0.39},15.121899999999998,9.6681000000000008,22.57,14.430000000000001,{"$f":"1.16*11.8/15.5","v":0.88309677419354837},"Ambient + Task","Closed Ceiling",0.23,0.8,2538.271444643055,0.28000000000000003,0.1,0.62,null,null,null,0,0,0,null,null,"Accent / Wall Washing",0.3,0.8,null,null,null,null,null,null,null,null,null,null,null,null,null,null,null,null,null,null,null,null,null,null,null,null,null,null,"Equip. Room",0,null,null,15,24.3]
[null,null,"Other",0.79794712253132305,32,12,46.34,0.33,{"$f":"E80*G80/1000/H80","v":4.4935757575757576},1,{"$f":"1-J80","v":0},{"$f":"J80*I80","v":4.4935757575757576},{"$f":"K80*I80","v":0},{"$f":"L80/G80*1000*H80","v":31.999999999999996},{"$f":"M80/G80*1000*H80","v":0},2.0499999999999998,"Ambient + Task","Globe",0.35,0.8,{"$f":"G80*E80*1000/D80/365/P80","v":2483.6201191846799},0.09,0.38,0.53,null,null,{"$f":"P83*U83*S83*T83/AB80","v":40.59892747279855},44.08,58,0.76,null,null,"Bare Bulb",0.46,0.8,null,null,null,null,null,null,null,null,null,null,null,null,null,null,null,null,null,null,null,null,null,null,null,null,null,null,"Indoor Corridor",24,null,null,15,24.3]
[null,null,"Outdoor",2.9105800932044241,248,4,25.589999999999996,1.37,4.6323503649635027,1,0,4.6323503649635027,0,248,0,4.0599999999999996,"Ambient + Task","Globe",0.35,0.8,1471.3754786815839,0.21,0.03,0.76,null,null,"TPU Avg Total ",1716,null,null,null,null,"Chandelier",0.4,0.8,null,null,null,null,null,null,null,null,null,null,null,null,null,null,null,null,null,null,null,null,null,null,null,null,null,null,"Multi-Purpose",12,null,null,15,24.3]
[null,null,"Unf Bsmt",0.9838184154725953,null,null,56.230000000000004,0,null,1,0,null,null,null,null,0,"Ambient + Task","Bare Bulb",0.46,0.8,2065.5101219083849,0.1,0.51,0.39,null,null,null,null,null,null,null,null,"Closed Ceiling",0.23,0.8,null,"Confirmed",null,null,null,null,null,null,null,null,null,null,null,null,null,null,null,null,null,null,null,null,null,null,null,null,"Open Parking",12,null,null,15,24.3]
[null,null,"Utility",1.7223605879281958,67,9,45.63,0.41,7.4566097560975617,1,0,7.4566097560975617,0,66.999999999999986,0,1.81,"Ambient + Task","Bare Bulb",0.46,0.8,2686.7654380869562,0.2,0.31,0.49000000000000005,null,null,null,null,null,null,null,null,"Default",null,null,null,null,null,null,null,null,null,null,null,null,null,null,null,null,null,null,null,null,null,null,null,null,null,null,null,null,"Outdoor Stairs",12,null,null,15,24.3]
[null,null,null,null,{"$f":"SUM(E70:E83)","v":1946},null,null,null,null,null,null,null,"Total kWh/yr",{"$f":"SUM(N70:N83)","v":1559.7199999999998},{"$f":"SUM(O70:O83)","v":386.28000000000003},null,null,null,null,null,null,null,null,null,null,null,null,null,null,null,null,null,"Downlight Pendant",0.57999999999999996,0.8,null,"* RCR=5, Wall Reflectivity=50%, Ceiling Reflectivity=80%",null,null,null,null,null,null,null,null,null,null,null,null,null,null,null,null,null,null,null,null,null,null,null,null,"Outdoor Walkways",12,null,null,15,24.3]
[null,"From LBNL 1997 (Lighting Market Sourcebook)",null,null,null,null,null,null,null,null,null,null,{"$f":"SUM(N84:O84)","v":1945.9999999999998},{"$f":"N84/M85","v":0.80150051387461463},{"$f":"O84/M85","v":0.19849948612538545},null,null,null,null,null,null,null,null,null,null,null,null,null,null,null,null,null,"Globe",0.35,0.8,null,null,null,null,null,null,null,null,null,null,null,null,null,null,null,null,null,null,null,null,null,null,null,null,null,null,"Parking Garage",24,null,null,15,24.3]
[null,{"$f":"0.123+0.064+0.011","v":0.19800000000000001},"Fraction of household lighting energy that is portable (table+floor+desk lamps)",null,null,null,null,null,null,null,null,null,null,null,null,null,null,null,null,null,null,null,null,null,null,null,30,null,null,null,null,null,"Indirect Ceiling",0.44,0.8,null,null,null,null,null,null,null,null,null,null,null,null,null,null,null,null,null,null,null,null,null,null,null,null,null,null,"Workout Room",16,null,null,15,24.3]
[null,{"$f":"B86*E84","v":385.30799999999999},"Household lighting energy that is portable (table+floor+desk lamps) (kWh/yr)",null,null,null,null,null,null,null,null,null,null,null,null,null,null,null,null,null,null,null,null,null,null,null,30,null,null,null,null,null,"Inverted Pendant",0.44,0.8]
[null,null,null,null,null,null,"Avg Efficacy 2010",null,null,null,null,null,null,null,null,null,null,null,null,null,null,null,null,null,null,null,15,null,null,null,null,null,"LED",0.75,0.8]
[null,null,"Central Restroom",1.6,null,null,{"$f":"M120*1.62","v":24.3},null,null,1,0,null,null,null,null,null,null,"Closed Ceiling",{"$f":"LOOKUP(R89,AG$79:AG$95,AH$79:AH$95)","v":0.23},{"$f":"LOOKUP(R89,AG$79:AG$93,AI$79:AI$93)","v":0.8},null,null,null,null,null,null,15,null,null,null,null,null,"Other",0.4,0.8]
[null,null,"Common Laundry",24,null,null,{"$f":"M121*1.62","v":24.3},null,null,1,0,null,null,null,null,null,null,"Utility/Strip",0.43,0.8,null,null,null,null,null,null,30,null,null,null,null,null,"Outdoor",0.15,0.8]
[null,null,"Common Mail",12,null,null,24.3,null,null,1,0,null,null,null,null,null,null,"Utility/Strip",0.43,0.8,null,null,null,null,null,null,15,null,null,null,null,null,"Rangehood/Task",0.28999999999999998,0.8]
[null,null,"Common Office",9,null,null,24.3,null,null,0.9,0.1,null,null,null,null,null,null,"Utility/Strip",0.43,0.8,null,null,null,null,null,null,15,null,null,null,null,null,"Recessed Downlights",0.36,0.8]
[null,null,"Elevator",24,null,null,24.3,null,null,1,0,null,null,null,null,null,null,"Recessed Downlights",0.36,0.8,null,null,null,null,null,null,"N/A",null,null,null,null,null,"Track",0.43,0.8]
[null,null,"Equip. Room",0,null,null,24.3,null,null,1,0,null,null,null,null,null,null,"Utility/Strip",0.43,0.8,null,null,null,null,null,null,"N/A",null,null,null,null,null,"Utility/Strip",0.43,0.8]
[null,null,"Indoor Corridor",24,null,null,24.3,null,null,1,0,null,null,null,null,null,null,"Globe",0.35,0.8,null,null,null,null,null,null,"N/A",null,null,null,null,null,"Vanity",0.42,0.8]
[null,null,"Multi-Purpose",12,null,null,24.3,null,null,0.5,0.5,null,null,null,null,null,null,"Recessed Downlights",0.36,0.8,null,null,null,null,null,null,"N/A"]
[null,null,"Open Parking",12,null,null,24.3,null,null,1,0,null,null,null,null,null,null,"Outdoor",0.15,0.8,null,null,null,null,null,null,"N/A"]
[null,null,"Outdoor Stairs",12,null,null,24.3,null,null,1,0,null,null,null,null,null,null,"Outdoor",0.15,0.8,null,null,null,null,null,null,"N/A",null,null,null,null,null,"Bathroom",null,"Central Restroom"]
[null,null,"Outdoor Walkways",12,null,null,24.3,null,null,1,0,null,null,null,null,null,null,"Outdoor",0.15,0.8,null,null,null,null,null,null,null,null,null,null,null,null,"Bedroom",null,"Common Laundry"]
[null,null,"Parking Garage",24,null,null,24.3,null,null,1,0,null,null,null,null,null,null,"Outdoor",0.15,0.8,null,null,null,null,null,null,null,null,null,null,null,null,"Closet",null,"Common Mail"]
[null,null,"Workout Room",16,null,null,24.3,null,null,1,0,null,null,null,null,null,null,"Utility/Strip",0.43,0.8,null,null,null,null,null,null,null,null,null,null,null,null,"Dining",null,"Common Office"]
[null,null,null,null,null,null,null,null,null,null,null,null,null,null,null,null,null,null,null,null,null,null,null,null,null,null,null,null,null,null,null,null,"Family",null,"Elevator"]
[null,"Estimates Based on IESNA Guide",null,null,null,null,null,null,null,null,null,null,null,null,null,null,null,null,null,null,null,null,null,null,null,null,null,null,null,null,null,null,"Garage",null,"Equip. Room"]
[null,null,null,"High Illuminance Subzone",null,null,"Low Illuminance Subzone",null,null,null,null,null,null,null,null,null,null,null,null,null,null,null,null,null,null,null,null,null,null,null,null,null,"Hall",null,"Indoor Corridor"]
[null,null,"Room Type","Horiz Illum Category","Horiz Illumin. (foot-candles)","Horiz Illum % Area","Horiz Illum Category","Horiz Illumin. (foot-candles)","Horiz Illum % Area","Average Maintained Illumination (ft-candles)","TPU Typical Room Size (ft²)","W/ft^2 (Commerical Benchmark or Outdoor lighting Guide)","Average Efficacy 1990s",null,null,null,"Room Type","IESNA Estimated Peak Illumination (ft-candles)","TPU Estimated Peak Illumination (footcandles)","Workplane Height",null,null,null,null,null,null,null,null,null,null,null,null,"Kitchen",null,"Multi-Purpose"]
[null,null,"Bathroom","D",30,0.5,"B",5,0.5,{"$f":"E106*F106+H106*I106","v":17.5},71,null,null,null,null,null,"Bathroom",{"$f":"J106","v":17.5},14.569590327352248,5,null,null,null,null,null,null,null,null,null,null,null,null,"Living",null,"Open Parking"]
[null,null,"Bedroom","D",30,0.3,"B",5,0.7,{"$f":"E107*F107+H107*I107","v":12.5},159,null,null,null,null,null,"Bedroom",{"$f":"J107","v":12.5},6.0322022223741731,3,null,null,null,null,null,null,null,null,null,null,null,null,"Office",null,"Outdoor Stairs"]
[null,null,"Closet","B",5,0,"B",5,1,5,38,null,null,null,null,null,"Closet",5,16.006698285684003,3,null,null,null,null,null,null,null,null,null,null,null,null,"Other",null,"Outdoor Walkways"]
[null,null,"Dining","C",10,0.3,"B",5,0.7,6.5,139,null,null,null,null,null,"Dining",6.5,3.2515845640513028,3,null,null,null,null,null,null,null,null,null,null,null,null,"Outdoor",null,"Parking Garage"]
[null,null,"Family","D",30,0.15,"B",5,0.85,8.75,299,null,null,null,null,null,"Family",8.75,5.5295885320423741,3,null,null,null,null,null,null,null,null,null,null,null,null,"Unfin Bsmt",null,"Workout Room"]
[null,null,"Garage","D",0,0.15,"B",5,1,5,461,null,null,null,null,null,"Garage",5,10.455134780264286,3,null,null,null,null,null,null,null,null,null,null,null,null,"Utility"]
[null,null,"Hall","A",3,1,"B",5,0,3,43,null,null,null,null,null,"Hall",3,14.865695121472243,0]
[null,null,"Kitchen","E&D",40,0.4,"B",5,0.6,19,173,null,null,null,null,null,"Kitchen",19,15.456860330106178,3,null,null,null,null,null,null,null,null,null,null,null,null,"Bath 2"]
[null,null,"Living","D",30,0.15,"B",5,0.85,{"$f":"E114*F114+H114*I114","v":8.75},242,null,null,null,null,null,"Living",8.75,10.374863957130458,3,null,null,null,null,null,null,null,null,null,null,null,null,"Bath 3"]
[null,null,"Office","E",50,0.15,"B",5,0.85,11.75,118,null,null,null,null,null,"Office",11.75,24.938401234652208,3,null,null,null,null,null,null,null,null,null,null,null,null,"Bedroom 2"]
[null,null,"Other","D",30,0.15,"B",5,0.85,{"$f":"E116*F116+H116*I116","v":8.75},105,null,null,null,null,null,"Other",{"$f":"J116","v":8.75},32.407943228765149,3,null,null,null,null,null,null,null,null,null,null,null,null,"Bedroom 2 Closet"]
[null,null,"Outdoor","A",3,1,"B",5,0,3,400,null,null,null,null,null,"Outdoor",3,2.3088522385856654,0,null,null,null,null,null,null,null,null,null,null,null,null,"Bedroom 3"]
[null,null,"Unf Bsmt","B",5,1,"B",5,0,{"$f":"E118*F118+H118*I118","v":5},0,null,null,null,null,null,"Unf Bsmt",{"$f":"J118","v":5},"N/A",3,null,null,null,null,null,null,null,null,null,null,null,null,"Bedroom 3 Closet"]
[null,null,"Utility","D",30,0.5,"B",5,0.5,17.5,58,null,null,null,null,null,"Utility",17.5,19.079850334385796,3,null,null,null,null,null,null,null,null,null,null,null,null,"Bedroom 4"]
[null,null,"Central Restroom","C",15,null,null,null,null,null,null,0.9,15,null,null,null,null,null,null,null,null,null,null,null,null,null,null,null,null,null,null,null,"Bedroom 4 Closet"]
[null,null,"Common Laundry","D",30,null,null,null,null,null,null,0.7,15,null,null,null,null,null,null,null,null,null,null,null,null,null,null,null,null,null,null,null,"Breakfast Nook"]
[null,null,"Common Mail","N/A",9.3000000000000007,null,null,null,null,null,null,2.8,15,null,null,null,null,null,null,null,null,null,null,null,null,null,null,null,null,null,null,null,"Den"]
[null,null,"Common Office","D",30,null,null,null,null,null,null,1,15,null,null,null,null,null,null,null,null,null,null,null,null,null,null,null,null,null,null,null,"Dining"]
[null,null,"Elevator","C",15,null,null,null,null,null,null,1.25,15,null,null,null,null,null,null,null,null,null,null,null,null,null,null,null,null,null,null,null,"Family"]
[null,null,"Equip. Room","D",30,null,null,null,null,null,null,1.5,15,null,null,null,null,null,null,null,null,null,null,null,null,null,null,null,null,null,null,null,"Foyer"]
[null,null,"Indoor Corridor","C",15,null,null,null,null,null,null,0.5,15,null,null,null,null,null,null,null,null,null,null,null,null,null,null,null,null,null,null,null,"Garage"]
[null,null,"Multi-Purpose","C",15,null,null,null,null,null,null,1.1000000000000001,15,null,null,null,null,null,null,null,null,null,null,null,null,null,null,null,null,null,null,null,"Guest Bath"]
[null,null,"Open Parking","N/A",2,null,null,null,null,null,null,0.15,15,null,null,null,null,null,null,null,null,null,null,null,null,null,null,null,null,null,null,null,"Hall Closet"]
[null,null,"Outdoor Stairs","N/A",0.5,null,null,null,null,null,null,0.3,15,null,null,null,null,null,null,null,null,null,null,null,null,null,null,null,null,null,null,null,"Hallway (1st floor)"]
[null,null,"Outdoor Walkways","N/A",0.5,null,null,null,null,null,null,0.3,15,null,null,null,null,null,null,null,null,null,null,null,null,null,null,null,null,null,null,null,"Hallway (2nd floor)"]
[null,null,"Parking Garage","N/A",5,null,null,null,null,null,null,0.2,15,null,null,null,null,null,null,null,null,null,null,null,null,null,null,null,null,null,null,null,"Kitchen"]
[null,null,"Workout Room","C",15,null,null,null,null,null,null,0.9,15,null,null,null,null,null,null,null,null,null,null,null,null,null,null,null,null,null,null,null,"Library"]
[null,null,null,null,null,null,null,null,null,null,null,null,null,null,null,null,null,null,null,null,null,null,null,null,null,null,null,null,null,null,null,null,"Living Room"]
[null,null,null,null,null,null,null,null,null,null,null,null,null,null,null,null,null,null,null,null,null,null,null,null,null,null,null,null,null,null,null,null,"Master Bath"]
[null,null,null,null,null,null,null,null,null,null,null,null,null,null,null,null,null,null,null,null,null,null,null,null,null,null,null,null,null,null,null,null,"Master Bedroom"]
[null,null,null,null,null,null,null,null,null,null,null,null,null,null,null,null,null,null,null,null,null,null,null,null,null,null,null,null,null,null,null,null,"Master BR Closet"]
[null,null,null,null,null,null,null,null,null,null,null,null,null,null,null,null,null,null,null,null,null,null,null,null,null,null,null,null,null,null,null,null,"Office"]
[null,null,null,null,null,null,null,null,null,null,null,null,null,null,null,null,null,null,null,null,null,null,null,null,null,null,null,null,null,null,null,null,"Other"]
[null,null,null,null,null,null,null,null,null,null,null,null,null,null,null,null,null,null,null,null,null,null,null,null,null,null,null,null,null,null,null,null,"Outdoor (Back Entrance)"]
[null,null,null,null,null,null,null,null,null,null,null,null,null,null,null,null,null,null,null,null,null,null,null,null,null,null,null,null,null,null,null,null,"Outdoor (Front Entrance)"]
[null,null,null,null,null,null,null,null,null,null,null,null,null,null,null,null,null,null,null,null,null,null,null,null,null,null,null,null,null,null,null,null,"Powder Room"]
[null,null,null,null,null,null,null,null,null,null,null,null,null,null,null,null,null,null,null,null,null,null,null,null,null,null,null,null,null,null,null,null,"Rec Room"]
[null,null,null,null,null,null,null,null,null,null,null,null,null,null,null,null,null,null,null,null,null,null,null,null,null,null,null,null,null,null,null,null,"Study"]
[null,null,null,null,null,null,null,null,null,null,null,null,null,null,null,null,null,null,null,null,null,null,null,null,null,null,null,null,null,null,null,null,"Unfin Bsmt"]
[null,null,null,null,null,null,null,null,null,null,null,null,null,null,null,null,null,null,null,null,null,null,null,null,null,null,null,null,null,null,null,null,"Utility"]
[]
[null,null,null,null,null,null,null,null,null,null,null,null,null,null,null,null,null,null,null,null,null,null,null,null,null,null,null,null,null,null,null,null,"Irregular"]
[null,null,null,null,null,null,null,null,null,null,null,null,null,null,null,null,null,null,null,null,null,null,null,null,null,null,null,null,null,null,null,null,"Rectangular"]

{"sheet":"Detailed MEL","index":4,"n_rows":203,"n_cols":61,"rows_kept":203,"cut":false,"hidden":false,"merged":[[32,10,33,10],[32,3,33,3],[32,4,32,6],[32,7,33,7],[32,8,33,8],[32,17,33,17],[32,18,33,18],[32,19,33,19],[32,20,33,20],[32,11,33,11],[32,12,33,12],[32,13,33,13],[32,14,33,14],[32,15,33,15],[32,16,33,16]]}
["Detailed MEL Analysis Worksheet, with 2010 Trends (Updated December 17, 2010)"]
[null,null,"Detailed","Simple","Using"]
[null,"NCTH Characteristics",null,null,{"$f":"IF(NewConst!$F$358=\"yes\",\"Detailed\",\"Simple\")","v":"Simple"},null,null,"Instructions"]
[null,"Finished Floor Area (ft²)",{"$f":"FFA","v":2296},{"$f":"FFA","v":2296},{"$f":"IF($E$3=\"Detailed\",C4,IF($E$3=\"Simple\",D4,\"Error\"))","v":2296},null,null,"(1) Enter NCTH house physical characteristics under the \"NCTH Inputs\" tab."]
[null,"Number of Bedrooms",{"$f":"N_br","v":3},{"$f":"N_br","v":3},{"$f":"IF($E$3=\"Detailed\",C5,IF($E$3=\"Simple\",D5,\"Error\"))","v":3},null,null,"(2) For MELs that are installed or provided by the builder, enter the quantity in the white boxes in the table below."]
[null,"State Multiplier*",1,null,null,null,null,"(3) For all other MELs, enter zero for the number of units."]
[null,"Total MEL/MGL Energy (kWh/yr)",{"$f":"C13+C6*SUM(H36:H158)","v":3543.7980244499881},{"$f":"D9+D10/0.03412","v":3545.5836905041033},3545.5836905041033,null,null,"(4) For all MELs with a non-zero quantity, enter the average power draw in each operating mode in the white boxes below.  Use the Benchmark value if power draws are unknown (column AC, AG, and AL)."]
[null,"% MEL/MGL Savings vs Benchmark",{"$f":"(C22+C23/0.03412-C7)/(C22+C23/0.03412)","v":0},{"$f":"(D22+D23/0.03412-D7)/(D22+D23/0.03412)","v":0},0,null,null,"(5) Do not change the data in gray cells.  These are calculated values, operating conditions, and fixed MELs that should remain constant."]
[null,"Total MEL Energy (kWh/yr)",{"$f":"C13-C6*SUM(BE165:BE169)+C6*SUM(H36:H158)","v":3317.7032719176696},{"$f":"IF(AllElectric=\"No\",Appliances!$E$12,Appliances!$E$13)","v":3317.096},3317.096,null,null,"(6) Total MEL energy for the NCTH and Benchmark are calculated and summarized at left."]
[null,"Total MGL Energy (therms/yr)",{"$f":"(C7-C9)*0.03412","v":7.7143529564027098},{"$f":"IF(AllElectric=\"No\",Appliances!$H$12,Appliances!$H$13)","v":7.7960000000000003},7.7960000000000003,null,null,"(7) Each MEL category has a user-defined end-use available for new technology.  The user is responsible for entering realistic Benchmark energy use and operating conditions that allow comparison to the NCTH."]
[null,"BEopt MEL Multiplier",{"$f":"C9/C22","v":1}]
[null,"Fixed MEL/MGL Energy (kWh/yr)",{"$f":"C24","v":481.11963655813412}]
[null,"Unspecified MEL/MGL Energy (kWh/yr)",{"$f":"C25","v":3543.7980244499881}]
[null,"Total MEL/MGL Standby Energy (kWh/yr)",{"$f":"(SUM(K36:K158)+BF171/BE171*C25)*C6","v":854.89467025005126}]
[null,"Total MEL/MGL Operating Energy (kWh/yr)",{"$f":"(SUM(L36:L158)+BG171/BE171*C25)*C6","v":2688.903354199937}]
[null,"% MEL/MGL Sensible Load",{"$f":"((SUM($O$36:$O$158)*$C$6+$BH$172*$C$25))/$C$7","v":0.73636898104515836},{"$f":"D18/D7","v":0.73399999999999999},0.73399999999999999]
[null,"% MEL/MGL Latent Load",{"$f":"((SUM($P$36:$P$158)*$C$6+$BI$172*$C$25))/$C$7","v":1.6249020929854915E-2},{"$f":"D19/D7","v":0.02},0.02]
[null,"MEL/MGL Sensible Load (kWh/yr)",{"$f":"((SUM($O$36:$O$158)*$C$6+$BH$172*$C$25))","v":2609.5429402940831},{"$f":"IF(AllElectric=\"No\",Appliances!$Q$12,Appliances!$Q$13)","v":2602.4584288300116},2602.4584288300116]
[null,"MEL/MGL Latent Load  (kWh/yr)",{"$f":"((SUM($P$36:$P$158)*$C$6+$BI$172*$C$25))","v":57.583248270466356},{"$f":"IF(AllElectric=\"No\",Appliances!$R$12,Appliances!$R$13)","v":70.911673810082064},70.911673810082064]
[]
[null,"Benchmark Characteristics"]
[null,"Total MEL Energy (kWh/yr)",{"$f":"(SUM(BE36:BE164))*C6+C6*SUM(I36:I158)-C6*SUM(J36:J158)","v":3317.7032719176696},{"$f":"IF(AllElectric=\"No\",Appliances!$E$12,Appliances!$E$13)","v":3317.096},{"$f":"IF($E$3=\"Detailed\",C22,IF($E$3=\"Simple\",D22,\"Error\"))","v":3317.096}]
[null,"Total MGL Energy (therms/yr)",{"$f":"C6*SUM(BE165:BE169)*0.03412","v":7.7143529564027054},{"$f":"IF(AllElectric=\"No\",Appliances!$H$12,Appliances!$H$13)","v":7.7960000000000003},7.7960000000000003]
[null,"Fixed MEL/MGL Energy (kWh/yr)",{"$f":"SUM(I160:I170)*C6","v":481.11963655813412}]
[null,"Unspecified MEL/MGL Energy (kWh/yr)",{"$f":"IF(((SUM(BE36:BE169))*C6)>C6*SUM(J36:J158),(SUM(BE36:BE169))*C6-C6*SUM(J36:J158),0)","v":3543.7980244499881}]
[null,"Total MEL/MGL Standby Energy (kWh/yr)",{"$f":"(SUM(M36:M158)+BF171/BE171*C25)*C6","v":854.89467025005126}]
[null,"Total MEL/MGL Operating Energy (kWh/yr)",{"$f":"(SUM(N36:N158)+BG171/BE171*C25)*C6","v":2688.903354199937}]
[null,"% MEL/MGL Sensible Load",{"$f":"((SUM($Q$36:$Q$158)*$C$6+$BH$172*$C$25))/($C$22+$C$23/0.03412)","v":0.73636898104515836},{"$f":"D30/D7","v":0.73399999999999999},0.73399999999999999]
[null,"% MEL/MGL Latent Load",{"$f":"((SUM($R$36:$R$158)*$C$6+$BI$172*$C$25))/($C$22+$C$23/0.03412)","v":1.6249020929854915E-2},{"$f":"D31/D7","v":0.02},0.02]
[null,"MEL/MGL Sensible Load (kWh/yr)",{"$f":"((SUM($Q$36:$Q$158)*$C$6+$BH$172*$C$25))","v":2609.5429402940831},{"$f":"IF(AllElectric=\"No\",Appliances!$Q$12,Appliances!$Q$13)","v":2602.4584288300116},2602.4584288300116]
[null,"MEL/MGL Latent Load  (kWh/yr)",{"$f":"((SUM($R$36:$R$158)*$C$6+$BI$172*$C$25))","v":57.583248270466356},{"$f":"IF(AllElectric=\"No\",Appliances!$R$12,Appliances!$R$13)","v":70.911673810082064},70.911673810082064]
[]
[null,null,null,"Units KNOWN to be Present in NCTH","NCTH Characteristics",null,null,"NCTH Energy (kWh/yr)","Benchmark Energy (kWh/yr)",null,"NCTH Stdby/Idle Energy  (kWh/yr)","NCTH Operating Energy  (kWh/yr)","Benchmark Stdby/Idle Energy  (kWh/yr)","Benchmark Operating Energy  (kWh/yr)","NCTH Sensible Load (kWh/yr)","NCTH Latent Load  (kWh/yr)","Benchmark Sensible Load (kWh/yr)","Benchmark Latent Load  (kWh/yr)","NCTH Stdby/Idle Energy Savings (kWh/yr)","NCTH Operating Energy Savings (kWh/yr)","Total % Savings"]
[null,null,null,null,"Off / Standby  Power (W)","Idle Power (W)","Operating Power (W)",null,null,"Benchmark Adjustmt (kWh/yr)",null,null,null,null,null,null,null,null,null,null,null,null,"Fractional Units per Household","Ref ","Estimated kWh per Unit","Ref","Annual kWh per Household (estimated)",null,"Lowest Standby Power (Off) (W)","Ref","Hours/day in Lowest Standby Power Mode","Ref","Idle or Other Stdby Power (W)","Ref","Hours/day in Other Standby Power Mode","Ref",null,"Operating Power (W)","Ref","Hours/day in Operating Mode","Ref","Standby kWh per Unit","Operating kWh per Unit","UEC","Standby kWh per Household","Operating kWh per Household","Total kWh per Household (Built-up)",null,"% Sensible Load","% Latent Load","kWh Sensible Load","kWh Latent Load",null,"Benchmark Constant","Nbr Coefficient","FFA Coefficient (kWh/1000ft²)","Adjusted Benchmark MEL Energy (kWh/yr)","Adjusted Benchmark Stdby (kWh/yr)","Adjusted Benchmark Operating (kWh/yr)","Adjusted kWh Sensible Load","Adjusted kWh Latent Load"]
[null,"Hard-Wired"]
[null,"Fan (Ceiling)",null,0,0,0,0,{"$f":"D36*(E36*AE36+F36*AI36+G36*AN36)*365/1000","v":0},{"$f":"D36*SUM(AP36:AQ36)","v":0},{"$f":"IF(D36>0,I36/D36*W36,0)","v":0},{"$f":"$D36*(E36*AE36+F36*AI36)*365/1000","v":0},{"$f":"D36*G36*AN36*365/1000","v":0},{"$f":"D36*AP36","v":0},{"$f":"D36*AQ36","v":0},{"$f":"H36*AW36","v":0},{"$f":"H36*AX36","v":0},{"$f":"I36*AW36","v":0},{"$f":"I36*AX36","v":0},{"$f":"$D36*(AP36-(E36*AE36+F36*AI36)*365/1000)","v":0},{"$f":"D36*(AQ36-G36*AN36*365/1000)","v":0},{"$f":"IF(D36=0,0,(I36-H36)/I36)","v":0},null,1.84,21,50,1,{"$f":"W36*Y36","v":92},null,0,0,{"$f":"24-AN36","v":17.420000000000002},21,null,null,null,null,null,35,21,6.58,21,{"$f":"(AC36*AE36+AG36*AI36)*365/1000","v":0},{"$f":"AL36*AN36*365/1000","v":84.0595},{"$f":"SUM(AP36:AQ36)","v":84.0595},{"$f":"AP36*W36","v":0},{"$f":"AQ36*W36","v":154.66947999999999},{"$f":"SUM(AS36:AT36)","v":154.66947999999999},null,1,0,{"$f":"AU36*AW36","v":154.66947999999999},{"$f":"AU36*AX36","v":0},null,{"$f":"AU36/2","v":77.334739999999996},0,{"$f":"AU36/2/1920*1000","v":40.278510416666663},{"$f":"BB36+BC36*C$5+BD36/1000*C$4","v":169.81419991666667},{"$f":"(BB36+BC36*C$5+BD36/1000*C$4)*AS36/AU36","v":0},{"$f":"(BB36+BC36*C$5+BD36/1000*C$4)*AT36/AU36","v":169.81419991666667},{"$f":"BE36*AW36","v":169.81419991666667},{"$f":"BE36*AX36","v":0}]
[null,"Air Handler Standby Losses",null,0,0,0,0,0,0,{"$f":"IF(D37>0,I37/D37*W37,0)","v":0},0,0,0,0,{"$f":"H37*AW37","v":0},{"$f":"H37*AX37","v":0},{"$f":"I37*AW37","v":0},{"$f":"I37*AX37","v":0},0,0,0,null,0.8,0,{"$f":"7.67*24*365/1000","v":67.1892},6,53.751360000000005,null,{"$f":"Y37*1000/365/24","v":7.669999999999999},6,24,0,null,null,null,null,null,null,null,null,null,67.1892,0,{"$f":"SUM(AP37:AQ37)","v":67.1892},53.751360000000005,0,53.751360000000005,null,1,0,53.751360000000005,0,null,0,0,{"$f":"AU37/1920*1000","v":27.995500000000003},64.277668000000006,64.277668000000006,0,64.277668000000006,0]
[null,"HVAC Controls",null,0,0,0,0,0,0,0,0,0,0,0,0,0,0,0,0,0,0,null,1,6,{"$f":"2.32*24*365/1000","v":20.323199999999996},6,20.323199999999996,null,{"$f":"Y38*1000/365/24","v":2.3199999999999998},6,24,0,null,null,null,null,null,null,null,null,null,20.323199999999996,0,20.323199999999996,20.323199999999996,0,20.323199999999996,null,1,0,20.323199999999996,0,null,{"$f":"AU38","v":20.323199999999996},0,0,20.323199999999996,20.323199999999996,0,20.323199999999996,0]
[null,"Home Security System",null,0,0,0,0,0,0,0,0,0,0,0,0,0,0,0,0,0,0,null,0.23499999999999999,21,43,1,10.104999999999999,null,7,21,10.3,21,null,null,null,null,null,7,21,13.7,21,26.316500000000005,35.003500000000003,61.320000000000007,6.184377500000001,8.2258224999999996,14.4102,null,0.5,0,7.2050999999999998,0,null,{"$f":"AU39/2","v":7.2050999999999998},0,{"$f":"AU39/2/1920*1000","v":3.7526562499999998},15.821198749999999,6.7899311302083341,9.0312676197916666,7.9105993749999994,0]
[null,"Ground Fault Circuit Interrupter (GFCI)",null,0,0,0,0,0,0,0,0,0,0,0,0,0,0,0,0,0,0,null,3.85,6,6.2,6,23.87,null,{"$f":"Y40*1000/365/24","v":0.70776255707762559},6,24,0,null,null,null,null,null,null,null,null,null,6.2,0,6.2,23.87,0,23.87,null,1,0,23.87,0,null,{"$f":"AU40/2","v":11.935},0,{"$f":"AU40/2/1920*1000","v":6.2161458333333339},26.207270833333336,26.207270833333336,0,26.207270833333336,0]
[null,"Sump Pump",null,0,0,0,0,0,0,0,0,0,0,0,0,0,0,0,0,0,0,null,9.8522167487684734E-2,1,40,1,3.9408866995073892,null,0,0,23.9,0,null,null,null,null,null,{"$f":"Y41*1000/365/0.1","v":1095.8904109589041},null,0.1,0,0,40.000000000000007,40.000000000000007,0,3.9408866995073901,3.9408866995073901,null,0.5,0,1.9704433497536951,0,null,{"$f":"AU41/2","v":1.9704433497536951},0,{"$f":"AU41/2/1920*1000","v":1.0262725779967161},4.3267651888341554,0,4.3267651888341554,2.1633825944170777,0]
[null,"Heat Lamp",null,0,0,0,0,0,0,0,0,0,0,0,0,0,0,0,0,0,0,null,0.01,0,13,8,0.13,null,0,0,23.5,0,null,null,null,null,null,{"$f":"Y42*1000/365/0.5","v":71.232876712328761},null,0.5,0,0,12.999999999999998,12.999999999999998,0,0.12999999999999998,0.12999999999999998,null,1,0,0.12999999999999998,0,null,{"$f":"AU42/2","v":6.4999999999999988E-2},{"$f":"AU42/4/3","v":1.0833333333333332E-2},{"$f":"AU42/4/1920*1000","v":1.6927083333333329E-2},0.13636458333333329,0,0.13636458333333329,0.13636458333333329,0]
[null,"Garage Door Opener",null,0,0,0,0,0,0,0,0,0,0,0,0,0,0,0,0,0,0,null,0.26600985221674878,1,44,1,11.704433497536947,null,4,19,24,19,null,null,null,null,null,null,null,null,null,35.04,0,35.04,9.3209852216748761,0,9.3209852216748761,null,0,0,0,0,null,{"$f":"AU43","v":9.3209852216748761},0,0,9.3209852216748761,9.3209852216748761,0,0,0]
[null,"Carbon Monoxide Detector",null,0,0,0,0,0,0,0,0,0,0,0,0,0,0,0,0,0,0,null,0.26,0,17.5,6,4.55,null,2,"6*",24,0,null,"6*",null,null,null,null,null,0,0,17.52,0,17.52,4.5552000000000001,0,4.5552000000000001,null,1,0,4.5552000000000001,0,null,{"$f":"AU44","v":4.5552000000000001},0,0,4.5552000000000001,4.5552000000000001,0,4.5552000000000001,0]
[null,"Smoke Detectors",null,0,0,0,0,0,0,0,0,0,0,0,0,0,0,0,0,0,0,null,0.84,17,0,null,0,null,0.4,17,24,0,null,null,null,null,null,null,null,0,0,3.5040000000000004,0,3.5040000000000004,2.9433600000000002,0,2.9433600000000002,null,1,0,2.9433600000000002,0,null,{"$f":"AU45/2","v":1.4716800000000001},0,{"$f":"AU45/2/1920*1000","v":0.76650000000000007},3.2315640000000001,3.2315640000000001,0,3.2315640000000001,0]
[null,"Garbage Disposal",null,0,0,0,0,0,0,0,0,0,0,0,0,0,0,0,0,0,0,null,0.4039408866995074,1,10,1,4.0394088669950738,null,null,null,null,null,null,null,null,null,null,{"$f":"Y46*1000/365/0.05","v":547.94520547945206},0,0.05,0,0,10.000000000000002,10.000000000000002,0,4.0394088669950747,4.0394088669950747,null,1,0,4.0394088669950747,0,null,{"$f":"AU46/2","v":2.0197044334975374},{"$f":"AU46/2/3","v":0.67323481116584583},0,4.0394088669950747,0,4.0394088669950747,4.0394088669950747,0]
[null,"Doorbell",null,0,0,0,0,0,0,0,0,0,0,0,0,0,0,0,0,0,0,null,0.66995073891625612,1,44,1,29.47783251231527,null,{"$f":"Y47*1000/365/24","v":5.0228310502283104},0,24,0,null,0,null,null,null,null,null,null,null,44,0,44,29.47783251231527,0,29.47783251231527,null,0.95,0,28.003940886699507,0,null,{"$f":"AU47","v":29.47783251231527},0,0,29.47783251231527,29.47783251231527,0,28.003940886699507,0]
[null,"New Technology / Other",null,0,0,0,0,0,0,0,0,0,0,0,0,0,0,0,0,0,0,null,1E-3,0,0,0,0,null,0,0,0,0,0,0,0,0,null,0,0,0,0,0,0,0,0,0,0,null,1,0,0,0,null,{"$f":"AU48/2","v":0},{"$f":"AU48/4/3","v":0},{"$f":"AU48/4/1920*1000","v":0},0,{"$f":"IF(D48=0,0,(BB48+BC48*C$5+BD48/1000*C$4)*AS48/AU48)","v":0},{"$f":"IF(D48=0,0,(BB48+BC48*C$5+BD48/1000*C$4)*AT48/AU48)","v":0},0,0]
[null,"Home Entertainment",null,null,null,null,null,null,null,null,null,null,null,null,null,null,null,null,null,null,null,null,null,null,null,null,null,null,null,null,null,null,null,null,null,null,null,null,null,null,null,null,null,0]
[null,"First Color TV (Analog)",null,0,0,0,0,{"$f":"D50*(E50*AE50+F50*AI50+G50*AN50)*365/1000","v":0},{"$f":"D50*SUM(AP50:AQ50)","v":0},{"$f":"IF(D50>0,I50/D50*W50,0)","v":0},{"$f":"$D50*(E50*AE50+F50*AI50)*365/1000","v":0},{"$f":"D50*G50*AN50*365/1000","v":0},{"$f":"D50*AP50","v":0},{"$f":"D50*AQ50","v":0},0,0,0,0,{"$f":"$D50*(AP50-(E50*AE50+F50*AI50)*365/1000)","v":0},{"$f":"D50*(AQ50-G50*AN50*365/1000)","v":0},{"$f":"IF(D50=0,0,(I50-H50)/I50)","v":0},null,0.89,21,205,1,{"$f":"W50*Y50","v":182.45},null,4,21,{"$f":"24-AN50","v":16.899999999999999},null,0,0,null,null,null,110,21,7.1,21,{"$f":"(AC50*AE50+AG50*AI50)*365/1000","v":24.673999999999996},{"$f":"AL50*AN50*365/1000","v":285.065},309.73899999999998,{"$f":"AP50*W50","v":21.959859999999995},{"$f":"AQ50*W50","v":253.70785000000001},{"$f":"SUM(AS50:AT50)","v":275.66771},null,1,0,{"$f":"AU50*AW50","v":275.66771},{"$f":"AU50*AX50","v":0},null,{"$f":"AU50/2","v":137.833855},{"$f":"AU50/4/3","v":22.972309166666665},{"$f":"AU50/4/1920*1000","v":35.894233072916663},{"$f":"BB50+BC50*C$5+BD50/1000*C$4","v":289.16394163541668},{"$f":"(BB50+BC50*C$5+BD50/1000*C$4)*AS50/AU50","v":23.034978145833328},{"$f":"(BB50+BC50*C$5+BD50/1000*C$4)*AT50/AU50","v":266.12896348958333},{"$f":"BE50*AW50","v":289.16394163541668},{"$f":"BE50*AX50","v":0}]
[null,"Second Color TV (Analog)",null,0,0,0,0,0,0,{"$f":"IF(D51>0,I51/D51*W51,0)","v":0},0,0,0,0,0,0,0,0,0,0,0,null,0.61,21,205,1,125.05,null,4,21,19.8,null,0,0,null,null,null,92,21,4.2,21,28.908000000000001,141.036,169.94400000000002,17.633880000000001,86.031959999999998,103.66584,null,1,0,103.66584,0,null,51.832920000000001,8.6388200000000008,13.498156250000001,108.74114675,18.497205375,90.243941374999991,108.74114675,0]
[null,"Third Color TV (Analog)",null,0,0,0,0,0,0,0,0,0,0,0,0,0,0,0,0,0,0,null,0.34,21,205,1,69.7,null,4,21,20.7,null,0,0,null,null,null,79,21,3.3,21,30.222000000000001,95.155500000000004,125.3775,10.275480000000002,32.352870000000003,42.628350000000005,null,1,0,42.628350000000005,0,null,21.314175000000002,3.5523625000000005,5.5505664062500006,44.71536296875,10.778550375,33.936812593749998,44.71536296875,0]
[null,"Fourth Color TV (Analog)",null,0,0,0,0,0,0,0,0,0,0,0,0,0,0,0,0,0,0,null,0.15,21,205,1,30.75,null,4,21,20.8,null,0,0,null,null,null,77,21,3.2,21,30.367999999999999,89.936000000000007,120.304,4.5551999999999992,13.490400000000001,18.0456,null,1,0,18.0456,0,null,9.0228000000000002,1.5038,2.3496875000000004,18.9290825,4.7782149999999985,14.1508675,18.9290825,0]
[null,"Fifth or More Color TV (Analog)",null,0,0,0,0,0,0,0,0,0,0,0,0,0,0,0,0,0,0,null,0.06,21,205,1,12.299999999999999,null,4,21,22.2,null,0,0,null,null,null,67,21,1.8,21,32.411999999999999,44.018999999999998,76.430999999999997,1.9447199999999998,2.6411399999999996,4.5858599999999994,null,1,0,4.5858599999999994,0,null,2.2929299999999997,0.38215499999999997,0.59711718749999987,4.8103760624999987,2.0399302499999998,2.7704458124999989,4.8103760624999987,0]
[null,"Digital TV",null,0,0,0,0,0,0,0,0,0,0,0,{"$f":"H55*AW55","v":0},{"$f":"H55*AX55","v":0},{"$f":"I55*AW55","v":0},{"$f":"I55*AX55","v":0},0,0,0,null,0.33,21,null,null,null,null,4,21,18.8,null,0,0,null,null,null,192,21,5.2,21,{"$f":"(AC55*AE55+AG55*AI55)*365/1000","v":27.448},{"$f":"AL55*AN55*365/1000","v":364.41600000000005},{"$f":"SUM(AP55:AQ55)","v":391.86400000000003},{"$f":"AP55*W55","v":9.0578400000000006},{"$f":"AQ55*W55","v":120.25728000000002},{"$f":"SUM(AS55:AT55)","v":129.31512000000004},null,1,0,{"$f":"AU55*AW55","v":129.31512000000004},{"$f":"AU55*AX55","v":0},null,{"$f":"AU55/2","v":64.657560000000018},{"$f":"AU55/4/3","v":10.776260000000002},{"$f":"AU55/4/1920*1000","v":16.837906250000003},135.64617275000003,9.5012967500000016,126.14487600000002,{"$f":"BE55*AW55","v":135.64617275000003},{"$f":"BE55*AX55","v":0}]
[null,"VCR",null,0,0,0,0,0,0,0,0,0,0,0,0,0,0,0,0,0,0,null,{"$f":"139.4/111.1","v":1.2547254725472547},22,57,1,71.519351935193527,null,4.5,21,21.4,21,12,21,2.17,21,null,16,21,0.43,21,44.6541,2.5111999999999997,47.165300000000002,56.028636723672371,3.1508666066606659,59.179503330333034,null,1,0,59.179503330333034,0,null,29.589751665166517,4.9316252775277531,7.7056644961371141,62.076833180880591,58.771705396602172,3.3051277842784277,62.076833180880591,0]
[null,"DVD Player or Recorder/Player",null,0,0,0,0,0,0,0,0,0,0,0,0,0,0,0,0,0,0,null,{"$f":"132.4/111.1","v":1.1917191719171918},22,57,0,67.927992799279934,null,2.2999999999999998,21,20.79,21,10,21,2.4700000000000002,21,null,13,21,0.74,21,26.468704999999996,3.5112999999999999,29.980004999999995,31.543263204320429,4.1844835283528354,35.727746732673268,null,1,0,35.727746732673268,0,null,17.863873366336634,2.9773122277227722,4.6520503558168311,37.476917666460395,33.087568798698612,4.3893488677617762,37.476917666460395,0]
[null,"DVD/VCR Combo",null,0,0,0,0,0,0,0,0,0,0,0,{"$f":"H58*AW58","v":0},{"$f":"H58*AX58","v":0},{"$f":"I58*AW58","v":0},{"$f":"I58*AX58","v":0},0,0,0,null,{"$f":"37/111.1","v":0.33303330333033304},22,57,0,{"$f":"W58*Y58","v":18.982898289828984},null,4.5,21,20.37,21,11,21,2.4700000000000002,21,null,15,21,1.17,21,{"$f":"(AC58*AE58+AG58*AI58)*365/1000","v":43.374775},{"$f":"AL58*AN58*365/1000","v":6.4057499999999994},{"$f":"SUM(AP58:AQ58)","v":49.780524999999997},{"$f":"AP58*W58","v":14.445244599459945},{"$f":"AQ58*W58","v":2.1333280828082808},{"$f":"SUM(AS58:AT58)","v":16.578572682268227},null,1,0,{"$f":"AU58*AW58","v":16.578572682268227},{"$f":"AU58*AX58","v":0},null,{"$f":"AU58/2","v":8.2892863411341136},{"$f":"AU58/4/3","v":1.3815477235223523},{"$f":"AU58/4/1920*1000","v":2.1586683180036754},17.390231969837608,15.152459699641838,2.2377722701957694,{"$f":"BE58*AW58","v":17.390231969837608},{"$f":"BE58*AX58","v":0}]
[null,"Video Gaming System",null,0,0,0,0,0,0,0,0,0,0,0,0,0,0,0,0,0,0,null,{"$f":"34.7/111.1","v":0.31233123312331235},22,24,1,7.4959495949594963,null,2,18,23,18,null,null,null,null,null,9.8000000000000007,18,1,18,16.79,3.5770000000000004,20.367000000000001,5.2440414041404138,1.1172088208820883,6.361250225022502,null,1,0,6.361250225022502,0,null,3.180625112511251,0.53010418541854187,0.82828778971647166,6.6726864339558958,5.5007809312181219,1.1719055027377738,6.6726864339558958,0]
[null,"Clock Radio",null,0,0,0,0,0,0,0,0,0,0,0,0,0,0,0,0,0,0,null,1.345,21,18,1,24.21,null,1.7,14,23.76,14,0,14,0,14,null,2,14,0.24,21,14.743080000000003,0.17519999999999999,14.918280000000003,19.829442600000004,0.23564399999999999,20.065086600000004,null,1,0,20.065086600000004,0,null,10.032543300000002,1.6720905500000003,2.6126414843750005,21.047439798125005,20.800259060625002,0.2471807375,21.047439798125005,0]
[null,"Boombox / Portable Stereo",null,0,0,0,0,0,0,0,0,0,0,0,0,0,0,0,0,0,0,null,0.34799999999999998,21,19,1,6.6119999999999992,null,1.8,14,12.24,14,{"$f":"AVERAGE(4,5.8)","v":4.9000000000000004},14,3.12,14,null,6,14,1.44,21,13.621799999999999,3.1536000000000004,16.775399999999998,4.7403863999999993,1.0974528000000001,5.8378391999999995,null,1,0,5.8378391999999995,0,null,2.9189195999999997,0.48648659999999994,0.76013531249999999,6.1236500774999998,4.9724678174999992,1.1511822600000003,6.1236500774999998,0]
[null,"Compact Stereo",null,0,0,0,0,0,0,0,0,0,0,0,0,0,0,0,0,0,0,null,0.66100000000000003,21,81,1,53.541000000000004,null,7,21,19.7,14,16,14,2,14,null,23,14,2.2999999999999998,21,62.013500000000001,19.308499999999999,81.322000000000003,40.990923500000001,12.7629185,53.753841999999999,null,1,0,53.753841999999999,0,null,26.876920999999999,4.4794868333333335,6.9991981770833327,56.385540514583333,42.997770796354168,13.387769718229166,56.385540514583333,0]
[null,"Component / Rack Stereo",null,0,0,0,0,0,0,0,0,0,0,0,0,0,0,0,0,0,0,null,0.434,21,55,1,23.87,null,3,21,17.7,14,43,14,2,14,null,45,14,4.3,21,50.771500000000003,70.627499999999998,121.399,22.034831000000001,30.652334999999997,52.687165999999998,null,1,0,52.687165999999998,0,null,26.343582999999999,4.3905971666666668,6.8603080729166663,55.266641835416664,23.113619601041666,32.153022234374994,55.266641835416664,0]
[null,"Power Speakers",null,0,0,0,0,0,0,0,0,0,0,0,0,0,0,0,0,0,0,null,{"$f":"30/101.5","v":0.29556650246305421},14,24,14,7.0935960591133007,null,2,14,{"$f":"0.69*24","v":16.559999999999999},14,4,14,{"$f":"0.23*24","v":5.5200000000000005},14,null,6,14,{"$f":"0.08*24","v":1.92},14,20.148,4.2048000000000005,24.352800000000002,5.9550738916256165,1.2427980295566505,7.1978719211822675,null,1,0,7.1978719211822675,0,null,3.5989359605911337,0.59982266009852225,0.93722290640394113,7.5502677339901485,6.2466243842364531,1.3036433497536946,7.5502677339901485,0]
[null,"Subwoofer",null,0,0,0,0,0,0,0,0,0,0,0,0,0,0,0,0,0,0,null,{"$f":"10/101.5","v":9.8522167487684734E-2},14,68,14,6.6995073891625623,null,0,14,{"$f":"0.1*24","v":2.4000000000000004},14,8,14,{"$f":"0.6*24","v":14.399999999999999},14,null,10,14,{"$f":"0.3*24","v":7.1999999999999993},14,42.047999999999995,26.28,68.328000000000003,4.1426600985221675,2.5891625615763547,6.7318226600985227,null,1,0,6.7318226600985227,0,null,3.3659113300492614,0.56098522167487685,0.87653940886699511,7.0614014778325132,4.3454778325123158,2.7159236453201974,7.0614014778325132,0]
[null,"Radio",null,0,0,0,0,0,0,0,0,0,0,0,0,0,0,0,0,0,0,null,{"$f":"50/101.5","v":0.49261083743842365},14,5,14,2.4630541871921183,null,1,14,{"$f":"0.96*24","v":23.04},14,0,14,0,14,null,2,14,{"$f":"0.04*24","v":0.96},14,8.4096000000000011,0.70079999999999998,9.1104000000000003,4.1426600985221684,0.3452216748768473,4.4878817733990157,null,1,0,4.4878817733990157,0,null,2.2439408866995079,0.37399014778325129,0.58435960591133007,4.707600985221676,4.3454778325123167,0.36212315270935963,4.707600985221676,0]
[null,"Equalizer",null,0,0,0,0,0,0,0,0,0,0,0,0,0,0,0,0,0,0,null,{"$f":"5/101.5","v":4.9261083743842367E-2},14,15,14,0.73891625615763545,null,0,14,{"$f":"0.72*24","v":17.28},14,6,14,{"$f":"0.24*24","v":5.76},14,null,6,14,{"$f":"0.04*24","v":0.96},14,12.614400000000002,2.1024000000000003,14.716800000000003,0.62139901477832526,0.10356650246305421,0.72496551724137948,null,1,0,0.72496551724137948,0,null,0.36248275862068974,6.0413793103448292E-2,9.4396551724137953E-2,0.76045862068965531,0.65182167487684739,0.1086369458128079,0.76045862068965531,0]
[null,"Satellite Dish Box",null,0,0,0,0,0,0,0,0,0,0,0,0,0,0,0,0,0,0,null,{"$f":"25.6/111.1","v":0.23042304230423044},22,96,1,22.120612061206124,null,14,21,15.12,21,null,null,null,null,null,15,21,{"$f":"24-AE68","v":8.8800000000000008},21,77.263199999999998,48.618000000000009,125.88120000000001,17.803221602160217,11.202707470747077,29.005929072907293,null,1,0,29.005929072907293,0,null,{"$f":"AU68*3/4","v":21.75444680468047},2.4171607560756079,0,29.005929072907293,17.803221602160217,11.202707470747077,29.005929072907293,0]
[null,"Cable Box",null,0,0,0,0,0,0,0,0,0,0,0,0,0,0,0,0,0,0,null,{"$f":"63.8/111.1","v":0.57425742574257421},22,175,1,100.49504950495049,null,15,21,{"$f":"24-AN69","v":16.52},21,0,0,0,0,null,16,21,7.48,21,90.447000000000003,43.683200000000006,134.1302,51.93986138613861,25.085401980198021,77.025263366336631,null,1,0,77.025263366336631,0,null,{"$f":"AU69*3/4","v":57.768947524752477},6.4187719471947196,0,77.025263366336631,51.93986138613861,25.085401980198021,77.025263366336631,0]
[null,"Personal Video Recorders (DVR or TIVO)",null,0,0,0,0,0,0,0,0,0,0,0,{"$f":"H70*AW70","v":0},{"$f":"H70*AX70","v":0},{"$f":"I70*AW70","v":0},{"$f":"I70*AX70","v":0},0,0,0,null,1.2999999999999999E-2,21,null,null,null,null,27,21,{"$f":"24-AN70","v":18.3},21,0,0,0,0,null,27,21,5.7,21,{"$f":"(AC70*AE70+AG70*AI70)*365/1000","v":180.34649999999999},{"$f":"AL70*AN70*365/1000","v":56.173499999999997},{"$f":"SUM(AP70:AQ70)","v":236.51999999999998},{"$f":"AP70*W70","v":2.3445044999999998},{"$f":"AQ70*W70","v":0.73025549999999995},{"$f":"SUM(AS70:AT70)","v":3.0747599999999995},null,1,0,{"$f":"AU70*AW70","v":3.0747599999999995},{"$f":"AU70*AX70","v":0},null,{"$f":"AU70*3/4","v":2.3060699999999996},{"$f":"AU70/4/3","v":0.25622999999999996},0,3.0747599999999995,2.3445044999999998,0.73025549999999984,{"$f":"BE70*AW70","v":3.0747599999999995},{"$f":"BE70*AX70","v":0}]
[null,"Home Theater (HTIB)",null,null,null,null,null,null,null,0,null,null,null,null,null,null,null,null,null,null,null,null,0.217,21,null,null,null,null,0.6,21,17.670000000000002,21,34,null,2,null,null,38,21,4.33,null,{"$f":"(AC71*AE71+AG71*AI71)*365/1000","v":28.689730000000004},{"$f":"AL71*AN71*365/1000","v":60.057099999999998},88.746830000000003,{"$f":"AP71*W71","v":6.2256714100000012},{"$f":"AQ71*W71","v":13.032390699999999},{"$f":"SUM(AS71:AT71)","v":19.258062110000001},null,1,0,{"$f":"AU71*AW71","v":19.258062110000001},{"$f":"AU71*AX71","v":0},null,{"$f":"AU71*3/4","v":14.443546582500002},{"$f":"AU71/4/3","v":1.6048385091666668},0,19.258062110000001,6.2256714100000012,13.032390699999999,{"$f":"BE71*AW71","v":19.258062110000001},{"$f":"BE71*AX71","v":0}]
[null,"New Technology / Other",null,0,0,0,0,{"$f":"D72*(E72*AE72+F72*AI72+G72*AN72)*365/1000","v":0},{"$f":"D72*SUM(AP72:AQ72)","v":0},0,{"$f":"$D72*(E72*AE72+F72*AI72)*365/1000","v":0},{"$f":"D72*G72*AN72*365/1000","v":0},{"$f":"D72*AP72","v":0},{"$f":"D72*AQ72","v":0},0,0,0,0,{"$f":"$D72*(AP72-(E72*AE72+F72*AI72)*365/1000)","v":0},{"$f":"D72*(AQ72-G72*AN72*365/1000)","v":0},{"$f":"IF(D72=0,0,(I72-H72)/I72)","v":0},null,1E-3,0,0,0,0,null,0,0,0,0,0,0,0,0,null,0,0,0,0,0,0,0,0,0,0,null,1,0,0,0,null,{"$f":"AU72/2","v":0},0,{"$f":"AU72/4/1920*1000","v":0},0,{"$f":"IF(D72=0,0,(BB72+BC72*C$5+BD72/1000*C$4)*AS72/AU72)","v":0},{"$f":"IF(D72=0,0,(BB72+BC72*C$5+BD72/1000*C$4)*AT72/AU72)","v":0},0,0]
[null,"Kitchen",null,null,null,null,null,null,null,null,null,null,null,null,null,null,null,null,null,null,null,null,null,null,null,null,null,null,null,null,null,null,null,null,null,null,null,null,null,null,null,null,null,0]
[null,"Microwave",null,0,0,0,0,{"$f":"D74*(E74*AE74+F74*AI74+G74*AN74)*365/1000","v":0},{"$f":"D74*SUM(AP74:AQ74)","v":0},0,{"$f":"$D74*(E74*AE74+F74*AI74)*365/1000","v":0},{"$f":"D74*G74*AN74*365/1000","v":0},{"$f":"D74*AP74","v":0},{"$f":"D74*AQ74","v":0},0,0,0,0,{"$f":"$D74*(AP74-(E74*AE74+F74*AI74)*365/1000)","v":0},{"$f":"D74*(AQ74-G74*AN74*365/1000)","v":0},{"$f":"IF(D74=0,0,(I74-H74)/I74)","v":0},null,{"$f":"97.7/111.1","v":0.87938793879387944},22,133,5,{"$f":"W74*Y74","v":116.95859585958597},null,3,21,{"$f":"24-AN74","v":23.808},12,null,null,null,null,null,1500,21,0.192,21,{"$f":"(AC74*AE74+AG74*AI74)*365/1000","v":26.069760000000002},{"$f":"AL74*AN74*365/1000","v":105.12},131.18976000000001,{"$f":"AP74*W74","v":22.925432511251127},{"$f":"AQ74*W74","v":92.441260126012608},{"$f":"SUM(AS74:AT74)","v":115.36669263726374},null,0.55000000000000004,0.05,{"$f":"AU74*AW74","v":63.45168095049506},{"$f":"AU74*AX74","v":5.768334631863187},null,{"$f":"AU74/2","v":57.68334631863187},{"$f":"AU74/2/3","v":19.227782106210622},0,{"$f":"BB74+BC74*C$5+BD74/1000*C$4","v":115.36669263726372},{"$f":"(BB74+BC74*C$5+BD74/1000*C$4)*AS74/AU74","v":22.925432511251127},{"$f":"(BB74+BC74*C$5+BD74/1000*C$4)*AT74/AU74","v":92.441260126012594},{"$f":"BE74*AW74","v":63.451680950495053},{"$f":"BE74*AX74","v":5.768334631863187}]
[null,"Freezer",null,0,0,0,0,0,0,0,0,0,0,0,0,0,0,0,0,0,0,null,{"$f":"38/111.1","v":0.34203420342034208},22,935,5,319.80198019801986,null,0,0,0,0,0,0,0,null,null,{"$f":"935*1000/365/24","v":106.7351598173516},5,24,0,0,935.00000000000011,935.00000000000011,0,319.80198019801986,319.80198019801986,null,0.5,0,159.90099009900993,0,null,159.90099009900993,{"$f":"AU75/4/3","v":26.650165016501656},{"$f":"AU75/4/1920*1000","v":41.640882838283837},335.45895214521454,0,335.45895214521454,167.72947607260727,0]
[null,"Extra Fridge",null,0,0,0,0,0,0,0,0,0,0,0,0,0,0,0,0,0,0,null,{"$f":"24.6/111.1","v":0.22142214221422143},22,1100,2,243.56435643564359,null,0,0,0,0,0,0,0,0,null,{"$f":"1100*1000/365/24","v":125.57077625570776},3,24,0,0,1100,1100,0,243.56435643564359,243.56435643564359,null,0.5,0,121.78217821782179,0,null,121.78217821782179,{"$f":"AU76/4/3","v":20.297029702970299},{"$f":"AU76/4/1920*1000","v":31.714108910891088},255.48886138613864,0,255.48886138613864,127.74443069306932,0]
[null,"Coffee Maker",null,0,0,0,0,0,0,0,0,0,0,0,0,0,0,0,0,0,0,null,0.61,21,116,1,70.760000000000005,null,0.4,21,23.27,6,70,12,0.627,12,null,1100,12,0.104,12,19.417270000000002,41.756,61.173270000000002,11.844534700000001,25.471160000000001,37.315694700000002,null,0.4,0.2,14.926277880000001,7.4631389400000003,null,18.657847350000001,{"$f":"AU77/2/3","v":6.2192824500000006},0,37.315694700000002,11.844534700000001,25.471160000000001,14.926277880000001,7.4631389400000003]
[null,"Toaster Oven",null,0,0,0,0,0,0,0,0,0,0,0,0,0,0,0,0,0,0,null,{"$f":"37.3/111.1","v":0.33573357335733572},22,50,1,16.786678667866788,null,null,null,null,null,null,null,null,null,null,1300,21,6.8000000000000005E-2,21,0,32.266000000000005,32.266000000000005,0,10.832779477947795,10.832779477947795,null,0.75,0.05,8.1245846084608466,0.5416389738973898,null,5.4163897389738977,{"$f":"AU78/4/3","v":0.90273162316231625},{"$f":"AU78/4/1920*1000","v":1.4105181611911193},11.363134306555656,0,11.363134306555656,8.5223507299167416,0.56815671532778278]
[null,"Toaster",null,0,0,0,0,0,0,0,0,0,0,0,0,0,0,0,0,0,0,null,0.90400000000000003,21,39,1,35.256,null,0.82,6,23.9,0,null,null,null,null,null,1050,21,0.10100000000000001,21,7.1532699999999991,38.708250000000007,45.861520000000006,6.4665560799999993,34.992258000000007,41.458814080000003,null,0.75,0.05,31.094110560000004,2.0729407040000001,null,20.729407040000002,{"$f":"AU79/2/3","v":6.9098023466666669},0,41.458814080000003,6.4665560799999993,34.992258000000007,31.094110560000004,2.0729407040000001]
[null,"Waffle Iron",null,0,0,0,0,0,0,0,0,0,0,0,0,0,0,0,0,0,0,null,0.3251231527093596,1,25,1,8.1280788177339893,null,null,null,null,null,null,null,null,null,null,{"$f":"Y80*1000/365/0.1","v":684.93150684931504},0,0.1,0,0,25,25,0,8.1280788177339893,8.1280788177339893,null,0.75,0.05,6.096059113300492,0.40640394088669951,null,4.0640394088669947,{"$f":"AU80/4/3","v":0.67733990147783241},{"$f":"AU80/4/1920*1000","v":1.058343596059113},8.5260160098522153,0,8.5260160098522153,6.3945120073891619,0.42630080049261077]
[null,"Blender",null,0,0,0,0,0,0,0,0,0,0,0,0,0,0,0,0,0,0,null,0.78817733990147787,1,7,1,5.5172413793103452,null,null,null,null,null,null,null,null,null,null,191.7808219178082,0,0.1,0,0,6.9999999999999991,6.9999999999999991,0,5.5172413793103443,5.5172413793103443,null,0.75,0.05,4.137931034482758,0.27586206896551724,null,2.7586206896551722,{"$f":"AU81/4/3","v":0.45977011494252867},{"$f":"AU81/4/1920*1000","v":0.71839080459770099},5.7873563218390798,0,5.7873563218390798,4.3405172413793096,0.289367816091954]
[null,"Can Opener",null,0,0,0,0,0,0,0,0,0,0,0,0,0,0,0,0,0,0,null,0.65024630541871919,1,3,1,1.9507389162561575,null,null,null,null,null,null,null,null,null,null,82.191780821917817,0,0.1,0,0,3.0000000000000004,3.0000000000000004,0,1.9507389162561579,1.9507389162561579,null,1,0,1.9507389162561579,0,null,0.97536945812807896,{"$f":"AU82/2/3","v":0.32512315270935965},0,1.9507389162561579,0,1.9507389162561581,1.9507389162561579,0]
[null,"Electric Grill",null,0,0,0,0,0,0,0,0,0,0,0,0,0,0,0,0,0,0,null,9.852216748768473E-3,1,180,1,1.7733990147783252,null,null,null,null,null,null,null,null,null,null,4931.5068493150684,0,0.1,0,0,180,180,0,1.7733990147783252,1.7733990147783252,null,0.75,0.05,1.3300492610837438,8.8669950738916259E-2,null,0.88669950738916259,{"$f":"AU83/4/3","v":0.14778325123152711},{"$f":"AU83/4/1920*1000","v":0.23091133004926109},1.8602216748768474,0,1.8602216748768474,1.3951662561576357,9.3011083743842371E-2]
[null,"Hand Mixer",null,0,0,0,0,0,0,0,0,0,0,0,0,0,0,0,0,0,0,null,0.87684729064039413,1,2,1,1.7536945812807883,null,null,null,null,null,null,null,null,null,null,54.794520547945197,0,0.1,0,0,2,2,0,1.7536945812807883,1.7536945812807883,null,1,0,1.7536945812807883,0,null,0.87684729064039413,0.14614121510673236,0.22834564860426931,1.8395525451559935,0,1.8395525451559935,1.8395525451559935,0]
[null,"Electric Griddle",null,0,0,0,0,0,0,0,0,0,0,0,0,0,0,0,0,0,0,null,0.25615763546798032,1,6,1,1.5369458128078819,null,null,null,null,null,null,null,null,null,null,164.38356164383563,0,0.1,0,0,6.0000000000000009,6.0000000000000009,0,1.5369458128078821,1.5369458128078821,null,0.75,0.05,1.1527093596059115,7.6847290640394111E-2,null,0.76847290640394106,0.12807881773399019,0.20012315270935963,1.6121921182266012,0,1.6121921182266012,1.2091440886699509,8.0609605911330068E-2]
[null,"Popcorn Popper",null,0,0,0,0,0,0,0,0,0,0,0,0,0,0,0,0,0,0,null,0.30541871921182268,1,5,1,1.5270935960591134,null,null,null,null,null,null,null,null,null,null,136.98630136986301,0,0.1,0,0,5.0000000000000009,5.0000000000000009,0,1.5270935960591137,1.5270935960591137,null,0.4,0.4,0.61083743842364546,0.61083743842364546,null,0.76354679802955683,0.12725779967159281,0.19884031198686378,1.6018575533661745,0,1.6018575533661747,0.64074302134646988,0.64074302134646988]
[null,"Espresso Machine",null,0,0,0,0,0,0,0,0,0,0,0,0,0,0,0,0,0,0,null,6.8965517241379309E-2,1,19,1,1.3103448275862069,null,null,null,null,null,null,null,null,null,null,520.54794520547944,0,0.1,0,0,19,19,0,1.3103448275862069,1.3103448275862069,null,0.4,0.2,0.52413793103448281,0.2620689655172414,null,0.65517241379310343,0.10919540229885057,0.17061781609195403,1.3744971264367816,0,1.3744971264367816,0.54979885057471267,0.27489942528735634]
[null,"Instant Hot Water Dispenser",null,0,0,0,0,0,0,0,0,0,0,0,0,0,0,0,0,0,0,null,6.0000000000000001E-3,1,160,1,0.96,null,null,null,null,null,null,null,null,null,null,4383.5616438356165,0,0.1,0,0,160.00000000000003,160.00000000000003,0,0.96000000000000019,0.96000000000000019,null,0.4,0.2,0.38400000000000012,0.19200000000000006,null,0.48000000000000009,8.0000000000000016E-2,0.12500000000000003,1.0070000000000003,0,1.0070000000000003,0.40280000000000016,0.20140000000000008]
[null,"Hot Plate",null,0,0,0,0,0,0,0,0,0,0,0,0,0,0,0,0,0,0,null,0.23645320197044334,1,30,1,7.0935960591132998,null,null,null,null,null,null,null,null,null,null,821.91780821917803,0,0.1,0,0,29.999999999999996,29.999999999999996,0,7.0935960591132989,7.0935960591132989,null,0.75,0.05,5.3201970443349742,0.35467980295566498,null,3.5467980295566495,0.59113300492610821,0.92364532019704415,7.4408866995073879,0,7.4408866995073879,5.5806650246305409,0.37204433497536943]
[null,"Food Slicer",null,0,0,0,0,0,0,0,0,0,0,0,0,0,0,0,0,0,0,null,0.41379310344827586,1,1,1,0.41379310344827586,null,null,null,null,null,null,null,null,null,null,27.397260273972599,0,0.1,0,0,1,1,0,0.41379310344827586,0.41379310344827586,null,1,0,0.41379310344827586,0,null,0.20689655172413793,3.4482758620689655E-2,5.3879310344827583E-2,0.43405172413793103,0,0.43405172413793108,0.43405172413793103,0]
[null,"Electric Knife",null,0,0,0,0,0,0,0,0,0,0,0,0,0,0,0,0,0,0,null,0.37438423645320196,1,1,1,0.37438423645320196,null,null,null,null,null,null,null,null,null,null,27.397260273972599,0,0.1,0,0,1,1,0,0.37438423645320196,0.37438423645320196,null,1,0,0.37438423645320196,0,null,0.18719211822660098,3.1198686371100164E-2,4.8747947454844003E-2,0.39271346469622331,0,0.39271346469622326,0.39271346469622331,0]
[null,"Broiler",null,0,0,0,0,0,0,0,0,0,0,0,0,0,0,0,0,0,0,null,0.01,0,80,7,0.8,null,null,null,null,null,null,null,null,null,null,2191.7808219178082,0,0.1,0,0,80.000000000000014,80.000000000000014,0,0.80000000000000016,0.80000000000000016,null,0.75,0.05,0.60000000000000009,4.0000000000000008E-2,null,0.40000000000000008,6.666666666666668E-2,0.10416666666666669,0.83916666666666684,0,0.83916666666666684,0.62937500000000013,4.1958333333333347E-2]
[null,"Deep Fryer",null,0,0,0,0,0,0,0,0,0,0,0,0,0,0,0,0,0,0,null,0.14778325123152711,1,20,1,2.9556650246305423,null,null,null,null,null,null,null,null,null,null,547.94520547945206,0,0.1,0,0,20.000000000000004,20.000000000000004,0,2.9556650246305427,2.9556650246305427,null,0.75,0.05,2.216748768472907,0.14778325123152714,null,1.4778325123152714,0.24630541871921188,0.38485221674876857,3.1003694581280796,0,3.1003694581280796,2.3252770935960596,0.155018472906404]
[null,"Bottled Water",null,0,0,0,0,0,0,0,0,0,0,0,0,0,0,0,0,0,0,null,9.852216748768473E-3,1,300,1,2.9556650246305418,null,{"$f":"Y94*1000/365/24","v":34.246575342465754},null,24,null,null,null,null,null,null,null,null,null,null,300,0,300,2.9556650246305418,0,2.9556650246305418,null,1,0,2.9556650246305418,0,null,1.4778325123152709,0.24630541871921183,0.38485221674876852,3.1003694581280792,3.1003694581280792,0,3.1003694581280792,0]
[null,"Trash Compactor",null,0,0,0,0,0,0,0,0,0,0,0,0,0,0,0,0,0,0,null,9.852216748768473E-3,1,50,1,0.49261083743842365,null,null,null,null,null,null,null,null,null,null,{"$f":"Y95*1000/365/0.1","v":1369.8630136986301},0,0.1,0,0,50,50,0,0.49261083743842365,0.49261083743842365,null,1,0,0.49261083743842365,0,null,0.24630541871921183,4.1050903119868636E-2,6.4142036124794743E-2,0.51672824302134646,0,0.51672824302134646,0.51672824302134646,0]
[null,"Slow Cooker / Crock Pot",null,0,0,0,0,0,0,0,0,0,0,0,0,0,0,0,0,0,0,null,0.58128078817733986,1,16,1,9.3004926108374377,null,null,null,null,null,null,null,null,null,null,{"$f":"Y96*1000/365/0.1","v":438.35616438356158},0,0.1,0,0,16,16,0,9.3004926108374377,9.3004926108374377,null,0.75,0.05,6.9753694581280783,0.46502463054187193,null,4.6502463054187189,0.77504105090311981,1.2110016420361247,9.7558292282430212,0,9.7558292282430212,7.3168719211822655,0.48779146141215107]
[null,"New Technology / Other",null,0,0,0,0,0,0,0,0,0,0,0,0,0,0,0,0,0,0,null,1E-3,0,0,0,0,null,0,0,0,0,0,0,0,0,null,0,0,0,0,0,0,0,0,0,0,null,1,0,0,0,null,0,0,0,0,{"$f":"IF(D97=0,0,(BB97+BC97*C$5+BD97/1000*C$4)*AS97/AU97)","v":0},{"$f":"IF(D97=0,0,(BB97+BC97*C$5+BD97/1000*C$4)*AT97/AU97)","v":0},0,0]
[null,"Home Office",null,null,null,null,null,null,null,null,null,null,null,null,null,null,null,null,null,null,null,null,null,null,null,null,null,null,null,null,null,null,null,null,null,null,null,null,null,null,null,null,null,0]
[null,"Laptop PC (Plugged In)",null,0,0,0,0,{"$f":"D99*(E99*AE99+F99*AI99+G99*AN99)*365/1000","v":0},{"$f":"D99*SUM(AP99:AQ99)","v":0},0,{"$f":"$D99*(E99*AE99+F99*AI99)*365/1000","v":0},{"$f":"D99*G99*AN99*365/1000","v":0},{"$f":"D99*AP99","v":0},{"$f":"D99*AQ99","v":0},0,0,0,0,{"$f":"$D99*(AP99-(E99*AE99+F99*AI99)*365/1000)","v":0},{"$f":"D99*(AQ99-G99*AN99*365/1000)","v":0},{"$f":"IF(D99=0,0,(I99-H99)/I99)","v":0},null,{"$f":"31.9/111.1","v":0.28712871287128711},22,130,1,{"$f":"W99*Y99","v":37.326732673267323},null,2,21,14.95,21,2,21,2.52,21,null,25,21,6.5,21,{"$f":"(AC99*AE99+AG99*AI99)*365/1000","v":12.753099999999998},{"$f":"AL99*AN99*365/1000","v":59.3125},72.065600000000003,{"$f":"AP99*W99","v":3.6617811881188111},{"$f":"AQ99*W99","v":17.030321782178216},{"$f":"SUM(AS99:AT99)","v":20.692102970297029},null,1,0,{"$f":"AU99*AW99","v":20.692102970297029},{"$f":"AU99*AX99","v":0},null,{"$f":"AU99/2","v":10.346051485148514},{"$f":"AU99/4/3","v":1.7243419141914191},{"$f":"AU99/4/1920*1000","v":2.6942842409240924},{"$f":"BB99+BC99*C$5+BD99/1000*C$4","v":21.705153844884485},{"$f":"(BB99+BC99*C$5+BD99/1000*C$4)*AS99/AU99","v":3.8410558921204609},{"$f":"(BB99+BC99*C$5+BD99/1000*C$4)*AT99/AU99","v":17.864097952764023},{"$f":"BE99*AW99","v":21.705153844884485},{"$f":"BE99*AX99","v":0}]
[null,"Desktop PC w/ Speakers",null,0,0,0,0,0,0,0,0,0,0,0,0,0,0,0,0,0,0,null,{"$f":"100.7/111.1","v":0.90639063906390649},22,65,1,58.915391539153923,null,2,21,14.95,21,4,21,0.9,21,null,75,21,8.1,21,12.227499999999999,221.73750000000001,233.965,11.082891539153916,200.98079432943297,212.06368586858687,null,1,0,212.06368586858687,0,null,106.03184293429344,17.671973822382238,27.612459097472247,222.4459704892364,11.625491437424992,210.82047905181142,222.4459704892364,0]
[null,"PC Monitor",null,0,0,0,0,0,0,0,0,0,0,0,0,0,0,0,0,0,0,null,{"$f":"100.7/111.1","v":0.90639063906390649},0,65,1,58.915391539153923,null,1,21,16.52,2,1,21,2.38,21,null,42,21,5.0999999999999996,21,6.8984999999999994,78.183000000000007,{"$f":"SUM(AP101:AQ101)","v":85.081500000000005},6.2527358235823582,70.864339333933401,77.117075157515757,null,1,0,77.117075157515757,0,null,38.558537578757878,6.42642292979298,10.041285827801531,80.892598628769136,6.5588593482785775,74.333739280490562,80.892598628769136,0]
[null,"Printer (Laser)",null,0,0,0,0,0,0,0,0,0,0,0,{"$f":"H102*AW102","v":0},{"$f":"H102*AX102","v":0},{"$f":"I102*AW102","v":0},{"$f":"I102*AX102","v":0},0,0,0,null,4.9000000000000002E-2,1,249,1,12.201000000000001,null,4.45,19,{"$f":"24-AI102-AN102","v":22.33},19,80,19,1.55,19,null,250,19,0.12,19,81.529502499999992,10.95,92.479502499999995,3.9949456225,0.53654999999999997,4.5314956224999996,null,1,0,4.5314956224999996,0,null,2.2657478112499998,0.37762463520833328,0.59003849251302076,4.7533500956848957,4.1905315019348954,0.56281859374999998,4.7533500956848957,0]
[null,"Printer (Inkjet)",null,0,0,0,0,0,0,0,0,0,0,0,0,0,0,0,0,0,0,null,0.66,21,45,1,29.700000000000003,null,1.7,21,23.76,21,3.2,21,0,21,null,8.9,21,0.24,21,14.743080000000003,0.77964000000000011,15.522720000000003,9.7304328000000027,0.51456240000000009,10.244995200000004,null,1,0,10.244995200000004,0,null,5.1224976000000018,0.85374960000000033,1.3339837500000005,10.746573090000004,10.206818572500003,0.53975451750000003,10.746573090000004,0]
[null,"Dot Matrix Printer",null,0,0,0,0,0,0,0,0,0,0,0,0,0,0,0,0,0,0,null,0.03,9,115,null,3.4499999999999997,null,null,null,null,null,null,null,null,null,null,{"$f":"Y104*1000/365/0.36","v":875.19025875190266},0,0.36,0,0,115.00000000000001,115.00000000000001,0,3.45,3.45,null,1,0,3.45,0,null,1.7250000000000001,0.28750000000000003,0.44921875,3.6189062500000002,0,3.6189062500000002,3.6189062500000002,0]
[null,"DSL/Cable Modem",null,0,0,0,0,0,0,0,0,0,0,0,0,0,0,0,0,0,0,null,{"$f":"39.9/111.1","v":0.35913591359135916},22,0,null,0,null,0,21,0,21,null,null,null,null,null,6,21,24,21,0,52.56,52.56,0,18.876183618361839,18.876183618361839,null,1,0,18.876183618361839,0,null,9.4380918091809196,1.5730153015301533,2.4578364086408642,19.800330108010805,0,19.800330108010805,19.800330108010805,0]
[null,"Scanner",null,0,0,0,0,0,0,0,0,0,0,0,0,0,0,0,0,0,0,null,0.05,0,0,6,0,null,5.5,10,23.75,0,null,null,null,null,null,14,6,0.25,0,47.678125000000001,1.2775000000000001,48.955625000000005,2.3839062500000003,6.3875000000000001E-2,2.4477812500000002,null,1,0,2.4477812500000002,0,null,1.2238906250000001,0.20398177083333335,0.31872151692708339,2.5676205403645835,2.500618326822917,6.7002213541666675E-2,2.5676205403645835,0]
[null,"Copy Machine",null,0,0,0,0,0,0,0,0,0,0,0,0,0,0,0,0,0,0,null,{"$f":"9.5/111.1","v":8.5508550855085519E-2},22,25,1,2.1377137713771379,null,10,18,{"$f":"3.36","v":3.36},18,null,null,null,null,null,39.299999999999997,18,0.89,18,12.263999999999999,12.766605,25.030605000000001,1.0486768676867688,1.0916538928892892,2.1403307605760578,null,1,0,2.1403307605760578,0,null,1.0701653802880289,0.17836089671467148,0.27868890111667421,2.2451177873959272,1.1000183393339336,1.1450994480619938,2.2451177873959272,0]
[null,"Fax Machine",null,0,0,0,0,0,0,0,0,0,0,0,0,0,0,0,0,0,0,null,{"$f":"12.8/111.1","v":0.11521152115211522},22,216,1,24.885688568856889,null,30,19,22.8,19,null,null,null,null,null,175,19,1.2,19,249.66,76.650000000000006,326.31,28.763708370837087,8.8309630963096328,37.594671467146718,null,1,0,37.594671467146718,0,null,18.797335733573359,3.1328892889288933,4.8951395139513956,39.435243924392438,30.171931593159318,9.2633123312331236,39.435243924392438,0]
[null,"Multi-Function Device",null,null,null,null,null,null,null,0,null,null,null,null,null,null,null,null,null,null,null,null,0.217,21,null,null,null,null,6.2,21,21.42,21,9.1,21,1.81,21,null,15.2,21,0.77500000000000002,21,{"$f":"(AC109*AE109+AG109*AI109)*365/1000","v":54.485374999999998},{"$f":"AL109*AN109*365/1000","v":4.2996999999999996},58.785074999999999,{"$f":"AP109*W109","v":11.823326374999999},{"$f":"AQ109*W109","v":0.93303489999999989},{"$f":"SUM(AS109:AT109)","v":12.756361274999998},null,1,0,{"$f":"AU109*AW109","v":12.756361274999998},{"$f":"AU109*AX109","v":0},null,{"$f":"AU109/2","v":6.378180637499999},{"$f":"AU109/4/3","v":1.0630301062499998},{"$f":"AU109/4/1920*1000","v":1.6609845410156248},13.380891462421873,12.402176728776041,0.97871473364583328,{"$f":"BE109*AW109","v":13.380891462421873},{"$f":"BE109*AX109","v":0}]
[null,"New Technology / Other",null,0,0,0,0,{"$f":"D110*(E110*AE110+F110*AI110+G110*AN110)*365/1000","v":0},{"$f":"D110*SUM(AP110:AQ110)","v":0},0,{"$f":"$D110*(E110*AE110+F110*AI110)*365/1000","v":0},{"$f":"D110*G110*AN110*365/1000","v":0},{"$f":"D110*AP110","v":0},{"$f":"D110*AQ110","v":0},0,0,0,0,{"$f":"$D110*(AP110-(E110*AE110+F110*AI110)*365/1000)","v":0},{"$f":"D110*(AQ110-G110*AN110*365/1000)","v":0},{"$f":"IF(D110=0,0,(I110-H110)/I110)","v":0},null,1E-3,0,0,0,0,null,0,0,0,0,0,0,0,0,null,0,0,0,0,0,0,0,0,0,0,null,1,0,0,0,null,0,0,0,0,{"$f":"IF(D110=0,0,(BB110+BC110*C$5+BD110/1000*C$4)*AS110/AU110)","v":0},{"$f":"IF(D110=0,0,(BB110+BC110*C$5+BD110/1000*C$4)*AT110/AU110)","v":0},0,0]
[null,"Bathroom",null,null,null,null,null,null,null,null,null,null,null,null,null,null,null,null,null,null,null,null,null,null,null,null,null,null,null,null,null,null,null,null,null,null,null,null,null,null,null,null,null,0]
[null,"Hair Dryer",null,0,0,0,0,{"$f":"D112*(E112*AE112+F112*AI112+G112*AN112)*365/1000","v":0},{"$f":"D112*SUM(AP112:AQ112)","v":0},0,{"$f":"$D112*(E112*AE112+F112*AI112)*365/1000","v":0},{"$f":"D112*G112*AN112*365/1000","v":0},{"$f":"D112*AP112","v":0},{"$f":"D112*AQ112","v":0},0,0,0,0,{"$f":"$D112*(AP112-(E112*AE112+F112*AI112)*365/1000)","v":0},{"$f":"D112*(AQ112-G112*AN112*365/1000)","v":0},{"$f":"IF(D112=0,0,(I112-H112)/I112)","v":0},null,0.86099999999999999,21,35.25,1,{"$f":"W112*Y112","v":30.350249999999999},null,0,21,23.88,21,375,21,0.06,21,null,1500,21,0.06,21,{"$f":"(AC112*AE112+AG112*AI112)*365/1000","v":8.2125000000000004},{"$f":"AL112*AN112*365/1000","v":32.85},41.0625,{"$f":"AP112*W112","v":7.0709625000000003},{"$f":"AQ112*W112","v":28.283850000000001},{"$f":"SUM(AS112:AT112)","v":35.354812500000001},null,0.8,0.2,{"$f":"AU112*AW112","v":28.283850000000001},{"$f":"AU112*AX112","v":7.0709625000000003},null,{"$f":"AU112/2","v":17.677406250000001},{"$f":"AU112/2/3","v":5.8924687499999999},0,{"$f":"BB112+BC112*C$5+BD112/1000*C$4","v":35.354812500000001},{"$f":"(BB112+BC112*C$5+BD112/1000*C$4)*AS112/AU112","v":7.0709625000000003},{"$f":"(BB112+BC112*C$5+BD112/1000*C$4)*AT112/AU112","v":28.283850000000001},{"$f":"BE112*AW112","v":28.283850000000001},{"$f":"BE112*AX112","v":7.0709625000000003}]
[null,"Curling Iron",null,0,0,0,0,0,0,{"$f":"IF(D113>0,I113/D113*W113,0)","v":0},0,0,0,0,0,0,0,0,0,0,0,null,0.53201970443349755,1,1,1,0.53201970443349755,null,null,null,null,null,null,null,null,null,null,{"$f":"Y113*1000/365/0.1","v":27.397260273972599},0,0.1,0,0,1,1,0,0.53201970443349755,0.53201970443349755,null,1,0,0.53201970443349755,0,null,0.26600985221674878,{"$f":"AU113/2/3","v":8.8669950738916259E-2},0,0.53201970443349755,{"$f":"(BB113+BC113*C$5+BD113/1000*C$4)*AS113/AU113","v":0},{"$f":"(BB113+BC113*C$5+BD113/1000*C$4)*AT113/AU113","v":0.53201970443349755},0.53201970443349755,0]
[null,"Electric Shaver",null,0,0,0,0,0,0,0,0,0,0,0,0,0,0,0,0,0,0,null,0.24299999999999999,21,0,null,0,null,0.3,21,1,0,0.68,21,2,0,null,2.2999999999999998,21,0.5,0,0.60590000000000011,0.41974999999999996,1.0256500000000002,0.14723370000000002,0.10199924999999999,0.24923295000000001,null,1,0,0.24923295000000001,0,null,0.124616475,{"$f":"AU114/2/3","v":4.1538825000000001E-2},0,0.24923295000000001,{"$f":"(BB114+BC114*C$5+BD114/1000*C$4)*AS114/AU114","v":0.14723370000000002},{"$f":"(BB114+BC114*C$5+BD114/1000*C$4)*AT114/AU114","v":0.10199924999999999},0.24923295000000001,0]
[null,"Electric Toothbrush Charger",null,0,0,0,0,0,0,0,0,0,0,0,{"$f":"H115*AW115","v":0},{"$f":"H115*AX115","v":0},{"$f":"I115*AW115","v":0},{"$f":"I115*AX115","v":0},0,0,0,null,7.8E-2,21,26,1,2.028,null,1.7,21,4,0,1.6,21,14,0,null,1.7,21,1.4,0,10.658000000000001,0.86869999999999992,{"$f":"SUM(AP115:AQ115)","v":11.526700000000002},0.83132400000000006,6.7758599999999988E-2,0.89908260000000007,null,1,0,0.89908260000000007,0,null,0.44954130000000003,{"$f":"AU115/2/3","v":0.14984710000000001},0,0.89908260000000007,{"$f":"(BB115+BC115*C$5+BD115/1000*C$4)*AS115/AU115","v":0.83132400000000006},{"$f":"(BB115+BC115*C$5+BD115/1000*C$4)*AT115/AU115","v":6.7758599999999988E-2},0.89908260000000007,0]
[null,"Beard Trimmer",null,0,0,0,0,0,0,0,0,0,0,0,0,0,0,0,0,0,0,null,6.7000000000000004E-2,21,26,1,1.742,null,0.3,21,1,0,0.68,21,2,0,null,2.2999999999999998,21,0.5,0,0.60590000000000011,0.41974999999999996,1.0256500000000002,4.0595300000000008E-2,2.8123249999999999E-2,6.8718550000000003E-2,null,1,0,6.8718550000000003E-2,0,null,3.4359275000000002E-2,{"$f":"AU116/2/3","v":1.1453091666666667E-2},0,6.8718550000000003E-2,{"$f":"(BB116+BC116*C$5+BD116/1000*C$4)*AS116/AU116","v":4.0595300000000008E-2},{"$f":"(BB116+BC116*C$5+BD116/1000*C$4)*AT116/AU116","v":2.8123249999999999E-2},6.8718550000000003E-2,0]
[null,"New Technology / Other",null,0,0,0,0,0,0,0,0,0,0,0,0,0,0,0,0,0,0,null,1E-3,0,0,0,0,null,0,0,0,0,0,0,0,0,null,0,0,0,0,0,0,0,0,0,0,null,1,0,0,0,null,0,{"$f":"AU117/4/3","v":0},{"$f":"AU117/4/1920*1000","v":0},0,{"$f":"IF(D117=0,0,(BB117+BC117*C$5+BD117/1000*C$4)*AS117/AU117)","v":0},{"$f":"IF(D117=0,0,(BB117+BC117*C$5+BD117/1000*C$4)*AT117/AU117)","v":0},0,0]
[null,"Garage & Workshop",null,null,null,null,null,null,null,null,null,null,null,null,null,null,null,null,null,null,null,null,null,null,null,null,null,null,null,null,null,null,null,null,null,null,null,null,null,null,null,null,null,0]
[null,"Auto Block Heater",null,0,0,0,0,{"$f":"D119*(E119*AE119+F119*AI119+G119*AN119)*365/1000","v":0},{"$f":"D119*SUM(AP119:AQ119)","v":0},0,{"$f":"$D119*(E119*AE119+F119*AI119)*365/1000","v":0},{"$f":"D119*G119*AN119*365/1000","v":0},{"$f":"D119*AP119","v":0},{"$f":"D119*AQ119","v":0},0,0,0,0,{"$f":"$D119*(AP119-(E119*AE119+F119*AI119)*365/1000)","v":0},{"$f":"D119*(AQ119-G119*AN119*365/1000)","v":0},{"$f":"IF(D119=0,0,(I119-H119)/I119)","v":0},null,{"$f":"0.8/111.1","v":7.2007200720072013E-3},22,250,1,{"$f":"W119*Y119","v":1.8001800180018004},null,null,null,null,null,null,null,null,null,null,{"$f":"Y119*1000/365/0.1","v":6849.3150684931497},0,0.1,0,{"$f":"(AC119*AE119+AG119*AI119)*365/1000","v":0},{"$f":"AL119*AN119*365/1000","v":250},250,{"$f":"AP119*W119","v":0},{"$f":"AQ119*W119","v":1.8001800180018004},{"$f":"SUM(AS119:AT119)","v":1.8001800180018004},null,0,0,{"$f":"AU119*AW119","v":0},{"$f":"AU119*AX119","v":0},null,{"$f":"AU119/2","v":0.90009000900090019},0,{"$f":"AU119/2/1920*1000","v":0.46879687968796885},{"$f":"BB119+BC119*C$5+BD119/1000*C$4","v":1.9764476447644768},{"$f":"(BB119+BC119*C$5+BD119/1000*C$4)*AS119/AU119","v":0},{"$f":"(BB119+BC119*C$5+BD119/1000*C$4)*AT119/AU119","v":1.9764476447644765},{"$f":"BE119*AW119","v":0},{"$f":"BE119*AX119","v":0}]
[null,"Lawn Mower (Electric)",null,0,0,0,0,0,0,0,0,0,0,0,0,0,0,0,0,0,0,null,5.9113300492610835E-2,1,100,1,5.9113300492610836,null,3.6,18,9.6999999999999993,19,null,null,null,null,null,1500,18,5.5E-2,19,12.745800000000001,30.112500000000001,42.8583,0.75344630541871926,1.7800492610837437,2.533495566502463,null,0,0,0,0,null,1.2667477832512315,0,{"$f":"AU120/2/1920*1000","v":0.65976447044334974},2.7815670073891625,0.82722125615763564,1.9543457512315272,0,0]
[null,"Heat Tape",null,0,0,0,0,0,0,0,0,0,0,0,0,0,0,0,0,0,0,null,2.9556650246305417E-2,1,100,1,2.9556650246305418,null,null,null,null,null,null,null,null,null,null,{"$f":"Y121*1000/365/0.1","v":2739.7260273972602},0,0.1,0,0,100,100,0,2.9556650246305418,2.9556650246305418,null,0,0,0,0,null,1.4778325123152709,0,{"$f":"AU121/2/1920*1000","v":0.76970443349753703},3.2450738916256157,0,3.2450738916256157,0,0]
[null,"Kiln",null,0,0,0,0,0,0,0,0,0,0,0,0,0,0,0,0,0,0,null,0.02,9,50,0,1,null,null,null,null,null,null,null,null,null,null,{"$f":"Y122*1000/365/0.1","v":1369.8630136986301},0,0.1,0,0,50,50,0,1,1,null,0,0,0,0,null,0.5,{"$f":"AU122/4/3","v":8.3333333333333329E-2},{"$f":"AU122/4/1920*1000","v":0.13020833333333334},1.0489583333333332,0,1.0489583333333332,0,0]
[null,"Pipe and Gutter Heaters",null,0,0,0,0,0,0,0,0,0,0,0,0,0,0,0,0,0,0,null,0.01,0,53,7,0.53,null,null,null,null,null,null,null,null,null,null,{"$f":"Y123*1000/365/0.1","v":1452.0547945205478},0,0.1,0,0,53,53,0,0.53,0.53,null,0,0,0,0,null,0.26500000000000001,0,{"$f":"AU123/2/1920*1000","v":0.13802083333333334},0.58189583333333328,0,0.58189583333333328,0,0]
[null,"Shop Tools",null,0,0,0,0,0,0,0,0,0,0,0,{"$f":"H124*AW124","v":0},{"$f":"H124*AX124","v":0},{"$f":"I124*AW124","v":0},{"$f":"I124*AX124","v":0},0,0,0,null,0.13,9,0,null,{"$f":"W124*Y124","v":0},null,2.2000000000000002,18,23.93,19,null,null,null,null,null,300,0,6.6000000000000003E-2,19,{"$f":"(AC124*AE124+AG124*AI124)*365/1000","v":19.215790000000002},{"$f":"AL124*AN124*365/1000","v":7.2270000000000003},{"$f":"SUM(AP124:AQ124)","v":26.442790000000002},{"$f":"AP124*W124","v":2.4980527000000001},{"$f":"AQ124*W124","v":0.93951000000000007},{"$f":"SUM(AS124:AT124)","v":3.4375627},null,0,0,{"$f":"AU124*AW124","v":0},{"$f":"AU124*AX124","v":0},null,{"$f":"AU124/2","v":1.71878135},{"$f":"AU124/4/3","v":0.28646355833333331},{"$f":"AU124/4/1920*1000","v":0.44759930989583335},3.6058600405208332,2.6203531967708331,0.98550684374999997,{"$f":"BE124*AW124","v":0},{"$f":"BE124*AX124","v":0}]
[null,"Cordless Power Tool Chargers",null,0,0,0,0,0,0,0,0,0,0,0,0,0,0,0,0,0,0,null,0.443,21,0,null,0,null,0.9,21,1,0,3.6,21,10,0,null,15.9,21,0.44,0,13.468500000000001,2.5535399999999999,16.022040000000001,5.9665455000000005,1.1312182200000001,7.0977637200000006,null,0,0,0,0,null,3.5488818600000003,{"$f":"AU125/4/3","v":0.59148031000000001},{"$f":"AU125/4/1920*1000","v":0.92418798437500005},7.4452584021250008,6.2586576234375011,1.1866007786874999,0,0]
[null,"New Technology / Other",null,0,0,0,0,0,0,0,0,0,0,0,0,0,0,0,0,0,0,null,1E-3,0,0,0,0,null,0,0,0,0,0,0,0,0,null,0,0,0,0,0,0,0,0,0,0,null,1,0,0,0,null,0,{"$f":"AU126/4/3","v":0},{"$f":"AU126/4/1920*1000","v":0},0,{"$f":"IF(D126=0,0,(BB126+BC126*C$5+BD126/1000*C$4)*AS126/AU126)","v":0},{"$f":"IF(D126=0,0,(BB126+BC126*C$5+BD126/1000*C$4)*AT126/AU126)","v":0},0,0]
[null,"Other",null,null,null,null,null,null,null,null,null,null,null,null,null,null,null,null,null,null,null,null,null,null,null,null,null,null,null,null,null,null,null,null,null,null,null,null,null,null,null,null,null,0]
[null,"Humidifier",null,0,0,0,0,{"$f":"D128*(E128*AE128+F128*AI128+G128*AN128)*365/1000","v":0},{"$f":"D128*SUM(AP128:AQ128)","v":0},0,{"$f":"$D128*(E128*AE128+F128*AI128)*365/1000","v":0},{"$f":"D128*G128*AN128*365/1000","v":0},{"$f":"D128*AP128","v":0},{"$f":"D128*AQ128","v":0},0,0,0,0,{"$f":"$D128*(AP128-(E128*AE128+F128*AI128)*365/1000)","v":0},{"$f":"D128*(AQ128-G128*AN128*365/1000)","v":0},{"$f":"IF(D128=0,0,(I128-H128)/I128)","v":0},null,{"$f":"14.2/111.1","v":0.12781278127812781},22,100,1,{"$f":"W128*Y128","v":12.781278127812781},null,null,null,null,null,null,null,null,null,null,{"$f":"Y128*1000/365/1","v":273.97260273972603},0,1,0,{"$f":"(AC128*AE128+AG128*AI128)*365/1000","v":0},{"$f":"AL128*AN128*365/1000","v":100},100,{"$f":"AP128*W128","v":0},{"$f":"AQ128*W128","v":12.781278127812781},{"$f":"SUM(AS128:AT128)","v":12.781278127812781},null,0,1,{"$f":"AU128*AW128","v":0},{"$f":"AU128*AX128","v":12.781278127812781},null,{"$f":"AU128/2","v":6.3906390639063906},0,{"$f":"AU128/2/1920*1000","v":3.3284578457845786},{"$f":"BB128+BC128*C$5+BD128/1000*C$4","v":14.032778277827784},{"$f":"(BB128+BC128*C$5+BD128/1000*C$4)*AS128/AU128","v":0},{"$f":"(BB128+BC128*C$5+BD128/1000*C$4)*AT128/AU128","v":14.032778277827783},{"$f":"BE128*AW128","v":0},{"$f":"BE128*AX128","v":14.032778277827784}]
[null,"Water Bed",null,0,0,0,0,0,0,0,0,0,0,0,0,0,0,0,0,0,0,null,{"$f":"2.5/111.1","v":2.2502250225022502E-2},22,900,1,20.252025202520251,null,2,21,{"$f":"24-AN129","v":15.51},21,0,0,0,0,null,350,21,8.49,21,11.322299999999998,1084.5975000000001,1095.9198000000001,0.25477722772277223,24.405884338433847,24.66066156615662,null,1,0,24.66066156615662,0,null,{"$f":"AU129/2","v":12.33033078307831},{"$f":"AU129/4/3","v":2.0550551305130518},{"$f":"AU129/4/1920*1000","v":3.2110236414266429},25.868006455333038,0.26725069616336627,25.600755759169669,25.868006455333038,0]
[null,"Sm Freshwater Aquarium (5-20 gal)",null,0,0,0,0,0,0,0,0,0,0,0,{"$f":"H130*AW130","v":0},{"$f":"H130*AX130","v":0},{"$f":"I130*AW130","v":0},{"$f":"I130*AX130","v":0},0,0,0,null,{"$f":"0.079*0.9/3","v":2.3699999999999999E-2},15,{"$f":"AVERAGE(90,120)","v":105},15,2.4884999999999997,null,0,0,0,0,null,null,null,null,null,{"$f":"Y130*1000/365/24","v":11.986301369863014},0,24,0,{"$f":"(AC130*AE130+AG130*AI130)*365/1000","v":0},{"$f":"AL130*AN130*365/1000","v":105},{"$f":"SUM(AP130:AQ130)","v":105},{"$f":"AP130*W130","v":0},{"$f":"AQ130*W130","v":2.4884999999999997},{"$f":"SUM(AS130:AT130)","v":2.4884999999999997},null,0.67,0.33,{"$f":"AT130*AW130","v":1.667295},{"$f":"AT130*AX130","v":0.82120499999999996},null,{"$f":"AT130/2","v":1.2442499999999999},{"$f":"AT130/4/3","v":0.20737499999999998},{"$f":"AU130/4/1920*1000","v":0.32402343750000001},{"$f":"BB130+BC130*C$5+BD130/1000*C$4","v":2.6103328124999994},0,{"$f":"(BB130+BC130*C$5+BD130/1000*C$4)*AT130/AU130","v":2.6103328124999994},{"$f":"BE130*AW130","v":1.7489229843749996},{"$f":"BE130*AX130","v":0.86140982812499989}]
[null,"Med Freshwater Aquarium (20-40 gal)",null,0,0,0,0,0,0,0,0,0,0,0,0,0,0,0,0,0,0,null,{"$f":"0.079*0.9/3","v":2.3699999999999999E-2},15,180,15,4.266,null,0,0,0,0,null,null,null,null,null,20.547945205479454,0,24,0,0,180.00000000000003,180.00000000000003,0,4.2660000000000009,4.2660000000000009,null,0.67,0.33,2.8582200000000006,1.4077800000000003,null,2.1330000000000005,0,{"$f":"AU131/2/1920*1000","v":1.1109375000000001},4.6837125000000004,0,4.6837125000000004,3.1380873750000005,1.5456251250000002]
[null,"Lg Freshwater Aquarium (40-60 gal)",null,0,0,0,0,0,0,0,0,0,0,0,0,0,0,0,0,0,0,null,{"$f":"0.079*0.9/3","v":2.3699999999999999E-2},15,{"$f":"AVERAGE(280,400)","v":340},15,8.0579999999999998,null,0,0,0,0,null,null,null,null,null,38.812785388127857,0,24,0,0,340.00000000000006,340.00000000000006,0,8.0580000000000016,8.0580000000000016,null,0.67,0.33,5.3988600000000018,2.6591400000000007,null,4.0290000000000008,0,{"$f":"AU132/2/1920*1000","v":2.0984375000000006},8.8470125000000017,0,8.8470125000000017,5.9274983750000017,2.9195141250000005]
[null,"Small Marine Aquarium (5-20 gal)",null,0,0,0,0,0,0,0,0,0,0,0,0,0,0,0,0,0,0,null,{"$f":"0.079*0.09/3","v":2.3700000000000001E-3},15,245,15,0.58065,null,0,0,0,0,null,null,null,null,null,27.968036529680365,0,24,0,0,245,245,0,0.58065,0.58065,null,0.67,0.33,0.38903550000000003,0.19161450000000002,null,0.290325,0,{"$f":"AU133/2/1920*1000","v":0.1512109375},0.63750531250000009,0,0.63750531250000009,0.42712855937500011,0.21037675312500004]
[null,"Medium Marine Aquarium (20-40 gal)",null,0,0,0,0,0,0,0,0,0,0,0,0,0,0,0,0,0,0,null,{"$f":"0.079*0.09/3","v":2.3700000000000001E-3},15,615,15,1.4575500000000001,null,0,0,0,0,null,null,null,null,null,70.205479452054803,0,24,0,0,615,615,0,1.4575500000000001,1.4575500000000001,null,0.67,0.33,0.97655850000000011,0.48099150000000007,null,0.72877500000000006,0,{"$f":"AU134/2/1920*1000","v":0.37957031250000001},1.6002684375,0,1.6002684375,1.0721798531250002,0.52808858437500006]
[null,"Large Marine Aquarium (40-60 gal)",null,0,0,0,0,0,0,0,0,0,0,0,0,0,0,0,0,0,0,null,{"$f":"0.079*0.09/3","v":2.3700000000000001E-3},15,740,15,1.7538,null,0,0,0,0,null,null,null,null,null,84.474885844748854,0,24,0,0,740,740,0,1.7538,1.7538,null,0.67,0.33,1.175046,0.57875399999999999,null,0.87690000000000001,0,{"$f":"AU135/2/1920*1000","v":0.45671875000000001},1.9255262499999999,0,1.9255262499999999,1.2901025875000001,0.63542366250000004]
[null,"Vacuum Cleaner (Upright)",null,0,0,0,0,0,0,0,0,0,0,0,0,0,0,0,0,0,0,null,0.98299999999999998,21,31,1,30.472999999999999,null,null,null,null,null,null,null,null,null,null,1080,21,0.107,21,0,42.179400000000001,42.179400000000001,0,41.462350200000003,41.462350200000003,null,1,0,41.462350200000003,0,null,0,0,{"$f":"AU136/1920*1000","v":21.5949740625},49.582060447500005,0,49.582060447500005,49.582060447500005,0]
[null,"Clock",null,0,0,0,0,0,0,0,0,0,0,0,0,0,0,0,0,0,0,null,0.95566502463054193,1,26,1,24.847290640394089,null,null,null,null,null,null,null,null,null,null,{"$f":"Y137*1000/365/24","v":2.968036529680365},0,24,0,0,25.999999999999996,25.999999999999996,0,24.847290640394085,24.847290640394085,null,1,0,24.847290640394085,0,null,{"$f":"AU137/2","v":12.423645320197043},0,{"$f":"AU137/2/1920*1000","v":6.470648604269293},27.280254515599339,0,27.280254515599339,27.280254515599339,0]
[null,"Cordless Phone Charger",null,0,0,0,0,0,0,0,0,0,0,0,0,0,0,0,0,0,0,null,1.5569999999999999,21,26,1,40.481999999999999,null,2.5,21,5.52,21,3.4,21,15.6,21,null,4.2,21,1.92,21,24.396600000000003,2.9433600000000002,27.339960000000005,37.985506200000003,4.5828115199999999,42.568317720000003,null,1,0,42.568317720000003,0,null,21.284158860000002,{"$f":"AU138/4/3","v":3.5473598100000001},{"$f":"AU138/4/1920*1000","v":5.5427497031250006},44.652391608374998,39.845213274374998,4.8071783339999996,44.652391608374998,0]
[null,"Cell Phone Charger",null,0,0,0,0,0,0,0,0,0,0,0,0,0,0,0,0,0,0,null,1.7390000000000001,21,0,null,0,null,0.3,21,20.399999999999999,21,0.52,21,0.48,21,null,2.6,21,1.2,21,2.3249039999999996,1.1388,3.4637039999999999,4.0430080559999997,1.9803732000000003,6.0233812560000004,null,1,0,6.0233812560000004,0,null,3.0116906280000002,{"$f":"AU139/4/3","v":0.501948438},{"$f":"AU139/4/1920*1000","v":0.78429443437500013},6.3182759633250001,4.2409469920749991,2.0773289712500005,6.3182759633250001,0]
[null,"Electric Blanket",null,0,0,0,0,0,0,0,0,0,0,0,0,0,0,0,0,0,0,null,0.2857142857142857,1,120,1,34.285714285714285,null,null,null,null,null,null,null,null,null,null,{"$f":"Y140*1000/365/2","v":164.38356164383561},0,2,0,0,119.99999999999999,119.99999999999999,0,34.285714285714278,34.285714285714278,null,1,0,34.285714285714278,0,null,17.142857142857139,{"$f":"AU140/4/3","v":2.8571428571428563},{"$f":"AU140/4/1920*1000","v":4.4642857142857135},35.964285714285708,0,35.964285714285708,35.964285714285708,0]
[null,"Answering Machine",null,0,0,0,0,0,0,0,0,0,0,0,0,0,0,0,0,0,0,null,{"$f":"63.1/111.1","v":0.56795679567956803},22,35,1,19.878487848784882,null,3.81,"6*",23.5,0,null,null,null,null,null,4.4000000000000004,6,0.5,0,32.680274999999995,0.80300000000000016,33.483274999999992,18.560984270927094,0.4560693069306932,19.017053577857787,null,1,0,19.017053577857787,0,null,9.5085267889288936,0,{"$f":"AU141/2/1920*1000","v":4.9523577025671326},20.879140074023027,20.3784139807887,0.5007260932343236,20.879140074023027,0]
[null,"Battery Charger - Camcorder",null,0,0,0,0,0,0,0,0,0,0,0,{"$f":"H142*AW142","v":0},{"$f":"H142*AX142","v":0},{"$f":"I142*AW142","v":0},{"$f":"I142*AX142","v":0},0,0,0,null,0.55700000000000005,21,44,4,{"$f":"W142*Y142","v":24.508000000000003},null,0.37,21,2,0,0.39,21,8,null,null,9.6,21,0.25,0,{"$f":"(AC142*AE142+AG142*AI142)*365/1000","v":1.4089},{"$f":"AL142*AN142*365/1000","v":0.876},2.2848999999999999,{"$f":"AP142*W142","v":0.7847573000000001},{"$f":"AQ142*W142","v":0.48793200000000003},{"$f":"SUM(AS142:AT142)","v":1.2726893000000001},null,1,0,{"$f":"AU142*AW142","v":1.2726893000000001},{"$f":"AU142*AX142","v":0},null,{"$f":"AU142/2","v":0.63634465000000007},{"$f":"AU142/4/3","v":0.10605744166666668},{"$f":"AU142/4/1920*1000","v":0.16571475260416671},1.3349980469791669,0.8231777094791668,0.51182033750000011,{"$f":"BE142*AW142","v":1.3349980469791669},{"$f":"BE142*AX142","v":0}]
[null,"Battery Charger - Digital Camera",null,0,0,0,0,0,0,0,0,0,0,0,{"$f":"H143*AW143","v":0},{"$f":"H143*AX143","v":0},{"$f":"I143*AW143","v":0},{"$f":"I143*AX143","v":0},0,0,0,null,3.2000000000000001E-2,21,44,4,{"$f":"W143*Y143","v":1.4079999999999999},null,0.4,21,6,0,0.4,21,13,null,null,3,21,4,0,{"$f":"(AC143*AE143+AG143*AI143)*365/1000","v":2.774},{"$f":"AL143*AN143*365/1000","v":4.38},7.1539999999999999,{"$f":"AP143*W143","v":8.8768E-2},{"$f":"AQ143*W143","v":0.14016000000000001},{"$f":"SUM(AS143:AT143)","v":0.22892800000000002},null,1,0,{"$f":"AU143*AW143","v":0.22892800000000002},{"$f":"AU143*AX143","v":0},null,{"$f":"AU143/2","v":0.11446400000000001},1.9077333333333335E-2,2.9808333333333336E-2,0.24013593333333336,9.3113933333333343E-2,0.14702199999999999,{"$f":"BE143*AW143","v":0.24013593333333336},{"$f":"BE143*AX143","v":0}]
[null,"Battery Charger - PDA",null,0,0,0,0,0,0,0,0,0,0,0,{"$f":"H144*AW144","v":0},{"$f":"H144*AX144","v":0},{"$f":"I144*AW144","v":0},{"$f":"I144*AX144","v":0},0,0,0,null,0.183,21,44,4,{"$f":"W144*Y144","v":8.0519999999999996},null,0.57999999999999996,21,6,0,0.61,21,14,null,null,4.7,21,1,0,{"$f":"(AC144*AE144+AG144*AI144)*365/1000","v":4.3872999999999998},{"$f":"AL144*AN144*365/1000","v":1.7155},6.1028000000000002,{"$f":"AP144*W144","v":0.80287589999999998},{"$f":"AQ144*W144","v":0.31393650000000001},{"$f":"SUM(AS144:AT144)","v":1.1168123999999999},null,1,0,{"$f":"AU144*AW144","v":1.1168123999999999},{"$f":"AU144*AX144","v":0},null,{"$f":"AU144/2","v":0.55840619999999996},9.3067699999999989E-2,0.14541828124999998,1.17148967375,0.84218336593750009,0.32930630781250003,{"$f":"BE144*AW144","v":1.17148967375},{"$f":"BE144*AX144","v":0}]
[null,"Battery Charger - Toy",null,0,0,0,0,0,0,0,0,0,0,0,{"$f":"H145*AW145","v":0},{"$f":"H145*AX145","v":0},{"$f":"I145*AW145","v":0},{"$f":"I145*AX145","v":0},0,0,0,null,1.6999999999999999E-3,21,44,4,{"$f":"W145*Y145","v":7.4799999999999991E-2},null,1,21,3.7,21,4.9000000000000004,21,3.7,21,null,6,21,2.2000000000000002,21,{"$f":"(AC145*AE145+AG145*AI145)*365/1000","v":7.967950000000001},{"$f":"AL145*AN145*365/1000","v":4.8179999999999996},12.78595,{"$f":"AP145*W145","v":1.3545515000000001E-2},{"$f":"AQ145*W145","v":8.1905999999999993E-3},{"$f":"SUM(AS145:AT145)","v":2.1736115E-2},null,1,0,{"$f":"AU145*AW145","v":2.1736115E-2},{"$f":"AU145*AX145","v":0},null,{"$f":"AU145/2","v":1.08680575E-2},1.8113429166666667E-3,2.8302233072916667E-3,2.2800278963541667E-2,1.4208680838541666E-2,8.5915981249999988E-3,{"$f":"BE145*AW145","v":2.2800278963541667E-2},{"$f":"BE145*AX145","v":0}]
[null,"Battery Charger - Two way radio",null,0,0,0,0,0,0,0,0,0,0,0,0,0,0,0,0,0,0,null,0.2,21,44,4,8.8000000000000007,null,1.3,10,6,0,null,10,null,null,null,6,6,0.5,0,2.8470000000000004,1.095,3.9420000000000002,0.56940000000000013,0.219,0.7884000000000001,null,1,0,0.7884000000000001,0,null,0.39420000000000005,6.5700000000000008E-2,0.10265625000000002,0.82699875000000012,0.59727687500000015,0.22972187499999999,0.82699875000000012,0]
[null,"Battery Charger - MP3 player",null,0,0,0,0,0,0,0,0,0,0,0,{"$f":"H147*AW147","v":0},{"$f":"H147*AX147","v":0},{"$f":"I147*AW147","v":0},{"$f":"I147*AX147","v":0},0,0,0,null,0.2,21,44,4,{"$f":"W147*Y147","v":8.8000000000000007},null,0.26,21,8,0,0.62,21,12,0,null,3.7,21,1.6,0,{"$f":"(AC147*AE147+AG147*AI147)*365/1000","v":3.4747999999999997},{"$f":"AL147*AN147*365/1000","v":2.1608000000000001},5.6356000000000002,{"$f":"AP147*W147","v":0.69496000000000002},{"$f":"AQ147*W147","v":0.43216000000000004},{"$f":"SUM(AS147:AT147)","v":1.1271200000000001},null,1,0,{"$f":"AU147*AW147","v":1.1271200000000001},{"$f":"AU147*AX147","v":0},null,{"$f":"AU147/2","v":0.56356000000000006},9.3926666666666672E-2,0.14676041666666667,1.1823019166666668,0.72898408333333331,0.45331783333333336,{"$f":"BE147*AW147","v":1.1823019166666668},{"$f":"BE147*AX147","v":0}]
[null,"Battery Charger - Stand-alone",null,0,0,0,0,0,0,0,0,0,0,0,{"$f":"H148*AW148","v":0},{"$f":"H148*AX148","v":0},{"$f":"I148*AW148","v":0},{"$f":"I148*AX148","v":0},0,0,0,null,7.4999999999999997E-2,21,44,4,{"$f":"W148*Y148","v":3.3},null,1.1000000000000001,21,0.5,0,3.1,21,0.5,0,null,11.8,21,0.05,0,{"$f":"(AC148*AE148+AG148*AI148)*365/1000","v":0.76649999999999996},{"$f":"AL148*AN148*365/1000","v":0.21535000000000001},0.98185,{"$f":"AP148*W148","v":5.7487499999999997E-2},{"$f":"AQ148*W148","v":1.6151249999999999E-2},{"$f":"SUM(AS148:AT148)","v":7.3638750000000003E-2},null,1,0,{"$f":"AU148*AW148","v":7.3638750000000003E-2},{"$f":"AU148*AX148","v":0},null,{"$f":"AU148/2","v":3.6819375000000001E-2},6.1365625000000005E-3,9.5883789062500002E-3,7.7243980468750001E-2,6.03019921875E-2,1.6941988281250001E-2,{"$f":"BE148*AW148","v":7.7243980468750001E-2},{"$f":"BE148*AX148","v":0}]
[null,"Fan (Portable)",null,0,0,0,0,0,0,0,0,0,0,0,0,0,0,0,0,0,0,null,0.94581280788177335,1,8,1,7.5665024630541868,null,0,6,23,0,null,null,null,null,null,31,6,1,0,0,11.315,11.315,0,10.701871921182265,10.701871921182265,null,1,0,10.701871921182265,0,null,5.3509359605911326,0.89182266009852207,1.3934729064039408,11.225817733990146,0,11.225817733990146,11.225817733990146,0]
[null,"Air Cleaner",null,0,0,0,0,0,0,0,0,0,0,0,0,0,0,0,0,0,0,null,0.21674876847290642,1,55,1,11.921182266009852,null,0,6,21,0,null,null,null,null,null,60,6,3,0,0,65.7,65.7,0,14.240394088669952,14.240394088669952,null,1,0,14.240394088669952,0,null,7.1201970443349758,0,{"$f":"AU150/2/1920*1000","v":3.708435960591133},15.634766009852218,0,15.634766009852219,15.634766009852218,0]
[null,"Vacuum Cleaner (Cordless)",null,0,0,0,0,0,0,0,0,0,0,0,0,0,0,0,0,0,0,null,0.183,21,43,1,7.8689999999999998,null,0.8,21,0,0,3.7,21,0.5,0,null,4.7,21,23.5,0,0.67525000000000002,40.314250000000001,40.9895,0.12357075000000001,7.3775077500000004,7.5010785000000002,null,1,0,7.5010785000000002,0,null,3.7505392500000001,{"$f":"AU151/4/3","v":0.62508987500000002},{"$f":"AU151/4/1920*1000","v":0.97670292968750005},7.8683188015625003,0.12962056796875002,7.7386982335937509,7.8683188015625003,0]
[null,"Heating Pads",null,0,0,0,0,0,0,0,0,0,0,0,0,0,0,0,0,0,0,null,0.66995073891625612,1,3,1,2.0098522167487682,null,null,null,null,null,null,null,null,null,null,{"$f":"Y152*1000/365/0.1","v":82.191780821917817},0,0.1,0,0,3.0000000000000004,3.0000000000000004,0,2.0098522167487687,2.0098522167487687,null,1,0,2.0098522167487687,0,null,1.0049261083743843,{"$f":"AU152/4/3","v":0.16748768472906406},{"$f":"AU152/4/1920*1000","v":0.26169950738916259},2.1082512315270936,0,2.1082512315270936,2.1082512315270936,0]
[null,"Surge Protector / Power Strip",null,0,0,0,0,0,0,0,0,0,0,0,0,0,0,0,0,0,0,null,0.36,9,5,6,1.7999999999999998,null,0.3,19,16,0,null,null,null,null,null,0.73,19,8,0,1.752,2.1315999999999997,3.8835999999999995,0.63071999999999995,0.76737599999999984,1.3980959999999998,null,1,0,1.3980959999999998,0,null,0.69904799999999989,{"$f":"AU153/4/3","v":0.11650799999999999},{"$f":"AU153/4/1920*1000","v":0.18204374999999998},1.4665444499999998,0.66159899999999994,0.80494544999999973,1.4665444499999998,0]
[null,"Timer (Lighting)",null,0,0,0,0,0,0,0,0,0,0,0,0,0,0,0,0,0,0,null,0.28000000000000003,5,20,6,5.6000000000000005,null,2.29,"6*",24,6,null,null,null,null,null,null,null,null,null,20.060400000000001,0,20.060400000000001,5.616912000000001,0,5.616912000000001,null,1,0,5.616912000000001,0,null,2.8084560000000005,0,{"$f":"AU154/2/1920*1000","v":1.4627375000000005},6.166901300000001,6.166901300000001,0,6.166901300000001,0]
[null,"Timer (Irrigation)",null,0,0,0,0,0,0,0,0,0,0,0,0,0,0,0,0,0,0,null,0.05,null,0,null,0,null,5.16,"6*",24,6,null,"6*",null,null,null,null,null,null,null,45.201599999999999,0,45.201599999999999,2.2600799999999999,0,2.2600799999999999,null,1,0,2.2600799999999999,0,null,1.1300399999999999,0,{"$f":"AU155/2/1920*1000","v":0.58856249999999999},2.4813795000000001,2.4813795000000001,0,2.4813795000000001,0]
[null,"Iron",null,0,0,0,0,0,0,0,0,0,0,0,0,0,0,0,0,0,0,null,0.92200000000000004,21,53,1,48.866,null,0,"6*",24,6,null,"6*",null,null,null,1350,21,0.107,21,0,52.724249999999991,52.724249999999991,0,48.611758499999993,48.611758499999993,null,0.9,0.1,43.750582649999998,4.8611758499999995,null,24.305879249999997,{"$f":"AU156/2/3","v":8.1019597499999989},0,48.611758499999993,0,48.611758499999993,43.750582649999998,4.8611758499999995]
[null,"Baby Monitor",null,0,0,0,0,0,0,0,0,0,0,0,0,0,0,0,0,0,0,null,0.1,0,18,6,1.8,null,2,10,12,0,null,null,null,null,null,3.2,6,12,0,8.76,14.016000000000002,22.776000000000003,0.876,1.4016000000000002,2.2776000000000001,null,1,0,2.2776000000000001,0,null,1.1388,{"$f":"AU157/4/3","v":0.1898},{"$f":"AU157/4/1920*1000","v":0.29656250000000001},2.3891075000000002,0.91888749999999997,1.4702200000000003,2.3891075000000002,0]
[null,"New Technology / Other",null,0,0,0,0,0,0,0,0,0,0,0,0,0,0,0,0,0,0,null,1E-3,0,0,0,0,null,0,0,0,0,0,0,0,0,null,0,0,0,0,0,0,0,0,0,0,null,1,0,0,0,null,0,{"$f":"AU158/4/3","v":0},{"$f":"AU158/4/1920*1000","v":0},0,{"$f":"IF(D158=0,0,(BB158+BC158*C$5+BD158/1000*C$4)*AS158/AU158)","v":0},{"$f":"IF(D158=0,0,(BB158+BC158*C$5+BD158/1000*C$4)*AT158/AU158)","v":0},0,0]
[null,"Fixed MELs and MGLs ",null,null,null,null,null,null,null,null,null,null,null,null,null,null,null,null,null,null,null,null,null,null,null,null,null,null,null,null,null,null,null,null,null,null,null,null,null,null,null,null,null,0,null,null,null,null,null,null,null,null,"(Other MELs)",{"$f":"AU171/2","v":4.7053816565057787},{"$f":"AU171/4/3","v":0.78423027608429641},{"$f":"AU171/4/1920*1000","v":1.2253598063817133},9.8714986002110816,{"$f":"(BB159+BC159*C$5+BD159/1000*C$4)*AS171/AU171","v":2.4595538007641338},{"$f":"(BB159+BC159*C$5+BD159/1000*C$4)*AT171/AU171","v":7.4119447994469523},{"$f":"BE159*AW171","v":9.8714986002110816},{"$f":"BE159*AX171","v":0}]
[null,"Pool Heater (Electric)",null,{"$f":"W160","v":3.6003600360036006E-3},{"$f":"AC160","v":0},{"$f":"AG160","v":0},{"$f":"AL160","v":1050.2283105022832},{"$f":"SUM(K160:L160)","v":8.2808280828082825},{"$f":"SUM(M160:N160)","v":8.2808280828082808},{"$f":"I160","v":8.2808280828082808},{"$f":"$D160*(E160*AE160+F160*AI160)*365/1000","v":0},{"$f":"D160*G160*AN160*365/1000","v":8.2808280828082825},{"$f":"D160*AP160","v":0},{"$f":"D160*AQ160","v":8.2808280828082808},0,0,0,0,{"$f":"$D160*(AP160-(E160*AE160+F160*AI160)*365/1000)","v":0},{"$f":"D160*(AQ160-G160*AN160*365/1000)","v":0},{"$f":"IF(D160=0,0,(I160-H160)/I160)","v":-2.1451439658409547E-16},null,{"$f":"0.4/111.1","v":3.6003600360036006E-3},22,2300,4,{"$f":"W160*Y160","v":8.2808280828082808},null,null,null,null,null,null,null,null,null,null,{"$f":"Y160*1000/365/6","v":1050.2283105022832},0,6,0,{"$f":"(AC160*AE160+AG160*AI160)*365/1000","v":0},{"$f":"AL160*AN160*365/1000","v":2300},2300,{"$f":"AP160*W160","v":0},{"$f":"AQ160*W160","v":8.2808280828082808},{"$f":"SUM(AS160:AT160)","v":8.2808280828082808},null,0,0,{"$f":"AU160*AW160","v":0},{"$f":"AU160*AX160","v":0},"(Fixed MELs",{"$f":"AU160/2","v":4.1404140414041404},{"$f":"AU160/4/3","v":0.69006900690069006},{"$f":"AU160/4/1920*1000","v":1.0782328232823284},8.6862436243624366,{"$f":"(BB160+BC160*C$5+BD160/1000*C$4)*AS160/AU160","v":0},{"$f":"(BB160+BC160*C$5+BD160/1000*C$4)*AT160/AU160","v":8.6862436243624366},{"$f":"BE160*AW160","v":0},{"$f":"BE160*AX160","v":0}]
[null,"Pool Pump (Electric)",null,{"$f":"W161","v":7.470747074707472E-2},{"$f":"AC161","v":0},{"$f":"AG161","v":0},{"$f":"AL161","v":1360},{"$f":"SUM(K161:L161)","v":82.328230423042314},{"$f":"SUM(M161:N161)","v":82.328230423042314},{"$f":"I161","v":82.328230423042314},0,82.328230423042314,0,82.328230423042314,0,0,0,0,0,0,0,null,{"$f":"8.3/111.1","v":7.470747074707472E-2},22,2671,5,199.54365436543657,null,0,21,17.5,21,null,null,null,null,null,1360,21,2.2200000000000002,21,0,1102.008,1102.008,0,82.328230423042314,82.328230423042314,null,0,0,0,0,"and MGLs)",41.164115211521157,6.8606858685868595,10.719821669666969,86.358883370837091,0,86.358883370837091,0,0]
[null,"Hot Tub / Spa (Electric Heating and Pump)",null,4.7704770477047707E-2,0,225,3039,97.350134284428464,97.350134284428449,97.350134284428449,93.751859810981117,3.5982744734473453,93.751859810981102,3.5982744734473453,0,0,0,0,0,0,-1.459767345947574E-16,null,{"$f":"5.3/111.1","v":4.7704770477047707E-2},22,1704,5,81.288928892889288,null,0,21,0,21,225,21,23.93,21,null,3039,21,6.8000000000000005E-2,21,1965.25125,75.427980000000005,2040.67923,93.751859810981102,3.5982744734473453,97.350134284428449,null,0,0,0,0,null,48.675067142214225,8.1125111903690375,12.67579873495162,102.11623460877026,98.341794614227055,3.7744399945432052,0,0]
[null,"Hot Tub / Spa Pump (Electric for Gas Spa)",null,3.7999999999999999E-2,0,0,630.13698630136992,17.48,17.48,17.48,0,17.48,0,17.48,0,0,0,0,0,0,0,null,3.7999999999999999E-2,21,460,5,17.48,null,null,null,null,null,null,null,null,null,null,{"$f":"Y163*1000/365/2","v":630.13698630136992},0,2,0,0,460.00000000000006,460.00000000000006,0,17.48,17.48,null,0,0,0,0,null,8.74,1.4566666666666668,2.2760416666666665,18.335791666666665,0,18.335791666666665,0,0]
[null,"Well Pump (Electric)",null,0.12691269126912691,0,0,3478.2608695652175,50.765076507650761,50.765076507650761,50.765076507650761,0,50.765076507650761,0,50.765076507650761,0,0,0,0,0,0,0,null,{"$f":"14.1/111.1","v":0.12691269126912691},22,400,1,50.765076507650761,null,null,null,null,null,null,null,null,null,null,{"$f":"Y164/365*1000/AN164","v":3478.2608695652175},12,{"$f":"115/365","v":0.31506849315068491},12,0,400,400,0,50.765076507650761,50.765076507650761,null,0,0,0,0,null,25.382538253825381,4.2304230423042304,6.6100360036003591,53.250450045004499,0,53.250450045004499,0,0]
[null,"Gas Fireplace",null,3.2403240324032405E-2,0,0,2410.9589041095892,57.029702970297031,57.029702970297031,57.029702970297031,0,57.029702970297031,0,57.029702970297031,28.514851485148515,5.7029702970297036,28.514851485148515,5.7029702970297036,0,0,0,null,{"$f":"3.6/111.1","v":3.2403240324032405E-2},22,1760,7,57.029702970297031,null,null,null,null,null,null,null,null,null,null,{"$f":"Y165*1000/365/2","v":2410.9589041095892},0,2,0,0,1760,{"$f":"SUM(AP165:AQ165)","v":1760},0,57.029702970297031,57.029702970297031,null,0.5,0.1,28.514851485148515,5.7029702970297036,null,28.514851485148515,4.7524752475247523,7.4257425742574261,59.821782178217816,0,59.821782178217809,29.910891089108908,5.9821782178217822]
[null,"Gas Grill",null,2.8985507246376812E-2,0,0,4816.4383561643835,25.478260869565215,25.478260869565219,25.478260869565219,0,25.478260869565215,0,25.478260869565219,0,0,0,0,0,0,1.3944098056725516E-16,null,{"$f":"2.8/96.6","v":2.8985507246376812E-2},20,879,7,25.478260869565219,null,null,null,null,null,null,null,null,null,null,{"$f":"Y166*1000/365/0.5","v":4816.4383561643835},0,0.5,0,0,879,{"$f":"SUM(AP166:AQ166)","v":879},0,25.478260869565219,25.478260869565219,null,0,0,0,0,null,12.739130434782609,2.1231884057971016,3.3174818840579712,26.725634057971014,0,26.725634057971014,0,0]
[null,"Gas Lighting",null,1.1701170117011703E-2,0,0,381.50684931506851,19.55265526552656,19.552655265526557,19.552655265526557,0,19.55265526552656,0,19.552655265526557,0,0,0,0,0,0,-1.8169980652522007E-16,null,{"$f":"1.3/111.1","v":1.1701170117011703E-2},22,557,7,6.5175517551755187,null,null,null,null,null,null,null,null,null,null,{"$f":"Y167*1000/365/4","v":381.50684931506851},0,12,22,0,1671.0000000000002,{"$f":"SUM(AP167:AQ167)","v":1671.0000000000002},0,19.552655265526557,19.552655265526557,null,0,0,0,0,null,9.7763276327632784,1.6293879387938797,2.5459186543654373,20.509920679567962,0,20.509920679567962,0,0]
[null,"Pool Heater (Gas)",null,1.3501350135013503E-2,0,0,2970.7762557077626,87.839783978397847,87.839783978397861,87.839783978397861,0,87.839783978397847,0,87.839783978397861,0,0,0,0,0,0,1.6178153077763523E-16,null,{"$f":"1.5/111.1","v":1.3501350135013503E-2},22,6506,5,87.839783978397847,null,null,null,null,null,null,null,null,null,null,{"$f":"Y168*1000/365/6","v":2970.7762557077626},0,6,0,0,6506.0000000000009,{"$f":"SUM(AP168:AQ168)","v":6506.0000000000009},0,87.839783978397861,87.839783978397861,null,0,0,0,0,null,43.919891989198931,7.3199819981998218,11.437471872187221,92.140273402340256,0,92.140273402340256,0,0]
[null,"Hot Tub / Spa Heater (Gas)",null,1.0801080108010801E-2,0,0,3252.0547945205481,25.641764176417642,25.641764176417642,25.641764176417642,0,25.641764176417642,0,25.641764176417642,0,0,0,0,0,0,0,null,{"$f":"1.2/111.1","v":1.0801080108010801E-2},22,2374,5,25.641764176417642,null,null,null,null,null,null,null,null,null,null,{"$f":"Y169*1000/365/2","v":3252.0547945205481},0,2,0,0,2374,{"$f":"SUM(AP169:AQ169)","v":2374},0,25.641764176417642,25.641764176417642,null,0,0,0,0,null,12.820882088208821,2.1368136813681367,3.3387713771377139,26.897142214221418,0,26.897142214221418,0,0]
[null,"Other",null,1,0,0,1.07,9.3732000000000006,9.3732000000000006,9.3732000000000006,0,{"$f":"D170*G170*24*365/1000","v":9.3732000000000006},0,{"$f":"D170*G170*24*365/1000","v":9.3732000000000006},{"$f":"H170*AW171","v":9.3732000000000006},{"$f":"H170*AX171","v":0},{"$f":"I170*AW171","v":9.3732000000000006},{"$f":"I170*AX171","v":0},0,0,0,null,"Total Defined MELs",null,null,null,{"$f":"SUM(AA36:AA169)","v":3118.1099521946921},null,null,null,null,null,null,null,null,null,null,"Total Defined MELs",null,null,null,null,null,null,{"$f":"SUM(AS36:AS169)","v":811.2430823561408},{"$f":"SUM(AT36:AT169)","v":2552.5961037542761},{"$f":"SUM(AU36:AU169)","v":3363.8391861104183},null,null,null,{"$f":"SUM(AY36:AY169)","v":2469.8142993863612},{"$f":"SUM(AZ36:AZ169)","v":55.322102364504545}]
[null,null,null,null,null,null,null,null,null,null,null,null,null,null,null,null,null,null,null,null,null,null,"Other MELs (1920 ft² house)",null,null,null,{"$f":"AA172-AA170","v":-1.2099521946925051},null,null,null,null,null,null,null,null,null,null,"Other MELs (1920 ft² house)",null,null,null,null,null,null,2.344758340351111,7.0660049726604504,9.4107633130115573,null,1,0,{"$f":"AW171*AU171","v":9.4107633130115573},{"$f":"AX171*AU171","v":0},"Total MEL",{"$f":"SUM(BB36:BB169)","v":1702.9477321160211},266.47280997925083,453.58530592169581,3543.7980244499881,854.89467025005126,2688.903354199937,2609.5429402940831,57.583248270466356]
[null,null,null,null,null,null,null,null,null,null,null,null,null,null,null,null,null,null,null,null,null,null,"Total MELs (1920 ft² house)",null,null,null,{"$f":"1.67*1920-89.5","v":3116.8999999999996},null,null,null,null,null,null,null,null,null,null,"Total MELs (1920 ft² house)",null,null,null,null,null,null,{"$f":"SUM(AS170:AS171)","v":813.58784069649187},{"$f":"SUM(AT170:AT171)","v":2559.6621087269364},{"$f":"1.67*1920-89.5","v":3116.8999999999996},null,{"$f":"AY172/AU172","v":0.79541373245833136},{"$f":"AZ172/AU172","v":1.7749078367770718E-2},{"$f":"SUM(AY170:AY171)","v":2479.2250626993728},{"$f":"SUM(AZ170:AZ171)","v":55.322102364504545},null,null,null,null,null,{"$f":"BF171/BE171","v":0.24123684937793102},{"$f":"BG171/BE171","v":0.758763150622069},{"$f":"BH171/BE171","v":0.73636898104515836},{"$f":"BI171/BE171","v":1.6249020929854915E-2}]
[null,null,null,null,null,null,null,null,null,null,null,null,null,null,null,null,null,null,null,null,null,null,"Total Benchmark MELs (1920 ft² house)",null,null,null,null,null,null,null,null,null,null,null,null,null,null,"Total Benchmark MELs (1920 ft² house)",null,null,null,null,null,null,{"$f":"SUM(AS171,AS36:AS157)","v":719.83598088551082},{"$f":"SUM(AT171,AT36:AT157)","v":2181.6675319797837},{"$f":"SUM(AU36:AU157)","v":2892.0927495522842},null,{"$f":"AY173/AU173","v":0.84738299336824896},{"$f":"AZ173/AU173","v":1.7156825995693334E-2},{"$f":"AY172-SUM(AY160:AY169)","v":2450.7102112142243},{"$f":"AZ172-SUM(AZ160:AZ169)","v":49.619132067474844},null,null,null,"NCTH",{"$f":"C7","v":3543.7980244499881}]
[null,null,null,null,null,null,null,null,null,null,null,null,null,null,null,null,null,null,null,null,null,null,null,null,null,null,null,null,null,null,null,null,null,null,null,null,null,null,null,null,null,null,null,null,{"$f":"AS173/AU173","v":0.24889795840639839},{"$f":"AT173/AU173","v":0.75435600477111975}]
[null,null,null,null,null,null,null,null,null,null,null,null,null,null,null,null,null,null,null,null,null,null,null,null,null,null,null,null,null,null,null,null,null,null,null,null,null,null,null,null,null,null,null,null,null,null,null,null,null,null,null,null,"Total Elect (kWh)",{"$f":"SUM(BB36:BB164)","v":1595.176648485919},{"$f":"SUM(BC36:BC164)","v":248.51096270756716},425.51991955968998,3317.7032719176696,854.89467025005126,2462.8086016676184,2579.632049204974,51.601070052644573]
[null,null,null,null,null,null,null,null,null,null,null,null,null,null,null,null,null,null,null,null,null,null,null,null,null,null,null,null,null,null,null,null,null,null,null,null,null,null,null,null,null,null,null,null,"Fixed MGL (Therms)",null,{"$f":"SUM(AU165:AU169)*3412/100000","v":7.3542987469181709},null,{"$f":"AY176/AU176","v":0.13229361032973724},{"$f":"AZ176/AU176","v":2.6458722065947449E-2},{"$f":"SUM(AY165:AY169)*3412/100000","v":0.97292673267326735},{"$f":"SUM(AZ165:AZ169)*3412/100000","v":0.19458534653465348},"Total Gas (therms)",{"$f":"SUM(BB165:BB169)*3412/100000","v":3.6771493734590854},{"$f":"SUM(BC165:BC169)*3412/100000","v":0.61285822890984754},0.95759098267163689,7.7143529564027054,0,7.7143529564027054,1.0205596039603959,0.20411192079207921]
[null,null,null,null,null,null,null,null,null,null,null,null,null,null,null,null,null,null,null,null,null,null,"*","Weighted average of all low-power modes.  Does not include operating energy.",null,null,null,null,null,null,null,null,null,null,null,null,null,null,null,null,null,null,null,null,"Fixed MELs (kWh)",null,{"$f":"SUM(AU160:AU164)+AU171","v":265.61503261094134},null,{"$f":"AY177/AU177","v":0},{"$f":"AZ177/AU177","v":0},{"$f":"SUM(AY160:AY164)","v":0},{"$f":"SUM(AZ160:AZ164)","v":0}]
[null,null,null,null,null,null,null,null,null,null,null,null,null,null,null,null,null,null,null,null,null,null,"**","Hours were derived using the ratio of hours for each TV from the LBNL study, combined with the fractional units per household, so that the total hours = 8.6 for a typical household",null,null,null,null,null,null,null,null,null,null,null,null,null,null,null,null,null,null,null,null,"Total Fixed (kWh)",null,{"$f":"AU176*100000/3412+AU177+AU171","v":490.56796318415718},null,{"$f":"AY178/AU178","v":5.8126199884855012E-2},{"$f":"AZ178/AU178","v":1.1625239976971003E-2},{"$f":"AY176*100000/3412+AY177","v":28.514851485148515},{"$f":"AZ176*100000/3412+AZ177","v":5.7029702970297036}]
[null,null,null,null,null,null,null,null,null,null,null,null,null,null,null,null,null,null,null,null,null,null,"***","Adjusted from California to U.S. based on EIA data"]
[]
[null,null,null,null,null,null,null,null,null,null,null,null,null,null,null,null,null,null,null,null,"References",null,0,"Bob's judgment"]
[null,null,null,null,null,null,null,null,null,null,null,null,null,null,null,null,null,null,null,null,null,null,1,"Wenzel, T., et al, \"Energy Data Sourcebook for the U.S. Residential Sector\", LBNL, 1997"]
[null,null,null,null,null,null,null,null,null,null,null,null,null,null,null,null,null,null,null,null,null,null,2,"Energy Information Administration, \"2001 Residential Energy Consumption Survey\", Final Regression Results"]
[null,null,null,null,null,null,null,null,null,null,null,null,null,null,null,null,null,null,null,null,null,null,3,"Building America Benchmark Definition"]
[null,null,null,null,null,null,null,null,null,null,null,null,null,null,null,null,null,null,null,null,null,null,4,"Energy Information Administration, \"A Look at Residential Energy Consumption in 1997\""]
[null,null,null,null,null,null,null,null,null,null,null,null,null,null,null,null,null,null,null,null,null,null,5,"KEMA/Xenergy, \"California Statewide Residential Appliance Saturation Study\", prepared for CEC, 2004"]
[null,null,null,null,null,null,null,null,null,null,null,null,null,null,null,null,null,null,null,null,null,null,6,"CEC, \"Developing and Testing Low Power Mode Measurement Methods\", 2004 (Draft report, prepared by LBNL)"]
[null,null,null,null,null,null,null,null,null,null,null,null,null,null,null,null,null,null,null,null,null,null,7,"LBNL, \"Documentation of Calculation Methodology and Input Data for the Home Energy Saver Web Site\", 2003"]
[null,null,null,null,null,null,null,null,null,null,null,null,null,null,null,null,null,null,null,null,null,null,8,"Krigger, J., \" Residential Energy Cost Savings and Comfort for Existing Buildings\", sponsored by DOE Weatherization Program, 1994"]
[null,null,null,null,null,null,null,null,null,null,null,null,null,null,null,null,null,null,null,null,null,null,9,"PG&E, \"Residential Energy Survey Report\", 1997"]
[null,null,null,null,null,null,null,null,null,null,null,null,null,null,null,null,null,null,null,null,null,null,10,"Sidler, O., \"Campagne de Mesures sur le Fonctionnement en Veille des Appareils Domestique\", Report No. 99.07.092.  Sophia-Antipolis (France): ADEME. (As cited in Lebot, I., et al. 2000. \"Global Implications of Standby Power Use\", 2000 ACEEE Summer Study o"]
[null,null,null,null,null,null,null,null,null,null,null,null,null,null,null,null,null,null,null,null,null,null,11,"Rosen, K., et al. \"Energy Use of Televisions and Videocassette Recorders in the U.S.\", LBNL-42393, March 1999."]
[null,null,null,null,null,null,null,null,null,null,null,null,null,null,null,null,null,null,null,null,null,null,12,"Zogg, R., et al.  \"Electricity Consumption by Small End Uses in Residential Buildings\", AD Little, 1998."]
[null,null,null,null,null,null,null,null,null,null,null,null,null,null,null,null,null,null,null,null,null,null,13,"Rainer, L., et al.  \"What's on the TV: Trends in U.S. Set-Top Box Energy Use, Design, and Regulation\", IEA, 2004."]
[null,null,null,null,null,null,null,null,null,null,null,null,null,null,null,null,null,null,null,null,null,null,14,"Rosen, K., et al. \"Energy Use of Home Audio Products in the U.S.\", LBNL-43468, December 1999."]
[null,null,null,null,null,null,null,null,null,null,null,null,null,null,null,null,null,null,null,null,null,null,15,"Sanchez, M., Meier, A. (LBNL) \"The Rage for Aquaria\", Home Energy Magazine, Sep/Oct 1997."]
[null,null,null,null,null,null,null,null,null,null,null,null,null,null,null,null,null,null,null,null,null,null,16,"Roberson, J., et al.  \"Energy Use and Power Levels in New Monitors and Personal Computers\", LBNL-48581, July 2002."]
[null,null,null,null,null,null,null,null,null,null,null,null,null,null,null,null,null,null,null,null,null,null,17,"CREEDAC, \"Standby Power Consumption in the Canadian Residential Sector\", CREEDAC-2001-03-01, March 2001."]
[null,null,null,null,null,null,null,null,null,null,null,null,null,null,null,null,null,null,null,null,null,null,18,"Thorne, J., Suozzo, M. \"Leaking Electricity: Standby and Off-Mode Power Consumption in Consumer Electronics and Household Appliances\", ACEEE, February 1998."]
[null,null,null,null,null,null,null,null,null,null,null,null,null,null,null,null,null,null,null,null,null,null,19,"Huber, W. \"Standby Power Consumption in U.S. Residences\", Master's Project, LBNL, December 1997."]
[null,null,null,null,null,null,null,null,null,null,null,null,null,null,null,null,null,null,null,null,null,null,20,"Energy Information Administration, \"1993 Residential Energy Consumption Survey\""]
[null,null,null,null,null,null,null,null,null,null,null,null,null,null,null,null,null,null,null,null,null,null,21,"TIAX, Residential Miscellaneous Electric Loads: Energy Consumption Characterization and Savings Potential, 2007"]
[null,null,null,null,null,null,null,null,null,null,null,null,null,null,null,null,null,null,null,null,null,null,22,"Energy Information Administration, \"2005 Residential Energy Consumption Survey\""]

{"sheet":"LookupTables","index":5,"n_rows":37,"n_cols":57,"rows_kept":37,"cut":false,"hidden":true,"merged":[[17,31,23,31],[24,31,27,31],[2,36,2,37],[2,39,2,41],[2,43,2,44],[24,27,27,27],[24,28,27,28],[17,27,23,27],[17,28,23,28],[2,31,3,31],[5,31,6,31],[9,31,10,31],[14,31,16,31],[2,30,3,30],[5,30,6,30],[14,30,16,30],[17,30,22,30],[24,30,26,30],[14,27,16,27],[14,28,16,28],[2,27,2,28],[27,24,27,25],[26,24,26,25],[2,21,3,21],[2,22,3,22],[2,23,2,25],[5,21,6,21],[5,22,6,22],[6,23,6,24],[8,23,8,25],[9,22,10,22],[9,23,10,25],[13,23,13,25],[14,21,16,21],[17,21,22,21],[17,22,18,22],[17,23,18,23],[14,24,14,25],[15,24,15,25],[7,23,7,25],[11,23,11,25],[24,21,26,21],[21,24,22,25],[16,24,16,25],[19,23,20,23],[19,24,20,25],[17,24,18,25],[19,22,20,22],[23,24,23,25],[24,24,24,25],[25,24,25,25],[21,22,22,22],[21,23,22,23],[2,7,3,7],[2,8,3,8],[2,9,3,9],[2,11,3,11],[2,15,3,15],[2,50,2,51],[10,50,10,51],[11,50,11,51],[12,50,12,51],[2,16,3,16],[4,23,4,24],[5,23,5,24],[3,23,3,24],[2,18,3,18],[2,19,3,19],[12,23,12,25]]}
["Lookup Tables"]
[null,"Heating & Cooling Equipment",null,null,null,null,null,"Insulation R-Values",null,null,null,null,null,null,null,null,null,null,null,null,null,"Table 5. Duct Locations and Specifications for the Benchmark",null,null,null,null,null,null,null,null,null,null,null,null,"Table 7. Benchmark DHW Storage and Burner Capacity",null,null,null,null,null,null,null,null,null,null,null,null,null,null,"Table 46. Peak Sensible and Latent Heat Gain From Occupants"]
[null,"NCTH Equipment","Function","Benchmark Space Conditioning Device","Benchmark Fuel Type","AFUE/SEER/HSPF",null,"Climate Zone","Ceiling R-Value","Frame Wall Cavity R-Value (Detached)","Insulating Sheathing","Frame Wall R-Value (Attached)*","Floor ","Basement Wall ","Crawl Space Wall ","Slab R-Value","Slab Insulation Depth (ft)",null,"Vertical Fenestration U-Value (UF) (Btu/h·ft²·°F)","Vertical Fenestration SHGC",null,null,"NCTH Foundation Type","Benchmark Duct Specification",null,null,null,"Benchmark Duct Specification",null,null,null,"Benchmark Duct Specification",null,null,"# Bedrooms",1,null,null,2,null,null,null,3,null,null,4,5,6,null,"Multiple Zones","Internal Load (Btu/person/h)"]
[null,"Gas or oil fired furnace","Heating","78% AFUE gas furnace","Gas",0.78,null,null,null,null,"(Detached)",null,"R-Value","R-Value","R-Value",null,null,null,null,null,null,null,null,"One-Story",null,"Two-Story or Higher",null,"One-Story","Two-Story or Higher",null,null,null,null,null,"# Bathrooms","All","≤ 1.5","≥ 2",null,"≤ 1.5","2–2.5","≥ 3",null,"≤ 2.5","≥ 3",null,"All","All",null,null,"Sensible Load","Latent Load"]
[null,"Mobile home furnace","Heating","75% AFUE gas furnace","Gas",0.75,null,"1A",30,13,0,13,13,0,0,0,0,null,0.4,0.3,null,"Supply duct surface area (ft²)","All","0.27 × FFA",null,"0.20 × FFA","=",{"$f":"0.27*FFA","v":619.92000000000007},{"$f":"0.2*FFA","v":459.20000000000005},null,"Supply duct surface area (ft²)",{"$f":"IF(Nstories=1,AB5,AC5)","v":459.20000000000005},null,null,"Gas",null,null,null,null,null,null,null,null,null,null,null,null,null,null,"Living area ",230,190]
[null,"Gas or oil fired hot water boiler","Heating","80% AFUE gas boiler","Gas",0.8,null,"1B",30,13,0,13,13,0,0,0,0,null,0.4,0.3,null,"Return duct surface area (ft²)","All","0.05 × Nreturns × FFA ",null,"0.04 × Nreturns × FFA","=",{"$f":"0.05*Nreturns*FFA","v":459.20000000000005},{"$f":"0.04*Nreturns*FFA","v":367.36},null,"Return duct surface area (ft²)",{"$f":"IF(Nstories=1,AB7,AC7)","v":367.36},null,null," Storage (gal)",20,30,30,{"$f":"IF(Nbath<=1.5,AK6,IF(Nbath>=2,AL6,\"Error\"))","v":30},30,40,40,{"$f":"IF(Nbath<=1.5,AN6,IF(Nbath>=3,AP6,AO6))","v":40},40,50,{"$f":"IF(Nbath<=2.5,AR6,IF(Nbath>=3,AS6,\"Error\"))","v":40},50,50,null,"Bedroom area ",210,140]
[null,"Gas steam boiler","Heating","75% AFUE gas steam boiler","Gas",0.75,null,"1C",30,13,0,13,13,0,0,0,0,null,0.4,0.3,null,null,null,"(Maximum of 0.25 × FFA)",null,"(Maximum of 0.19 × FFA)","=",{"$f":"MIN(AB6,0.25*FFA)","v":459.20000000000005},{"$f":"MIN(AC6,0.19*FFA)","v":367.36},null,null,null,null,null," Burner (kBtu/h)",27,36,36,{"$f":"IF(Nbath<=1.5,AK7,IF(Nbath>=2,AL7,\"Error\"))","v":36},36,36,38,{"$f":"IF(Nbath<=1.5,AN7,IF(Nbath>=3,AP7,AO7))","v":36},38,38,{"$f":"IF(Nbath<=2.5,AR7,IF(Nbath>=3,AS7,\"Error\"))","v":38},47,50,null,"Common Laundry ",250,200]
[null,"Gas space heater","Heating","74% AFUE gas space heater","Gas",0.74,null,"2A",30,13,0,13,13,0,0,0,0,null,0.4,0.3,null,"Supply/return duct insulation (inside thermal envelope)**","All","None",null,null,null,null,null,null,"Rupply/return duct insulation (inside thermal envelope)**",{"$f":"X8","v":"None"},null,null,"Electric",null,null,null,null,null,null,null,null,null,null,null,null,null,null,"Office ",250,200]
[null,"Other non-electric boiler","Heating","80% AFUE gas boiler","Gas",0.8,null,"2B",30,13,0,13,13,0,0,0,0,null,0.4,0.3,null,"Supply duct insulation within attic","All","R-8",null,null,null,null,null,null,"Supply duct insulation within attic",{"$f":"X9","v":"R-8"},null,null," Storage (gal)",20,30,40,{"$f":"IF(Nbath<=1.5,AK9,IF(Nbath>=2,AL9,\"Error\"))","v":40},40,50,50,{"$f":"IF(Nbath<=1.5,AN9,IF(Nbath>=3,AP9,AO9))","v":50},50,66,{"$f":"IF(Nbath<=2.5,AR9,IF(Nbath>=3,AS9,\"Error\"))","v":50},66,80,null,"Workout room",710,1090]
[null,"Gas combination system","Heating","78% AFUE gas furnace","Gas",0.78,null,"2C",30,13,0,13,13,0,0,0,0,null,0.4,0.3,null,"Supply/return duct insulation ","All","R-6",null,null,null,null,null,null,"Supply/return duct insulation ",{"$f":"X10","v":"R-6"},null,null," Burner (kW)",2.5,3.5,4.5,{"$f":"IF(Nbath<=1.5,AK10,IF(Nbath>=2,AL10,\"Error\"))","v":4.5},4.5,5.5,5.5,{"$f":"IF(Nbath<=1.5,AN10,IF(Nbath>=3,AP10,AO10))","v":5.5},5.5,5.5,{"$f":"IF(Nbath<=2.5,AR10,IF(Nbath>=3,AS10,\"Error\"))","v":5.5},5.5,5.5,null,"Central restroom",245,155]
[null,"Other non-electric heating","Heating","78% AFUE gas furnace","Gas",0.78,null,"3A",30,13,0,13,19,0,5,0,0,null,0.4,0.3,null,"(all other locations)",null,null,null,null,null,null,null,null,"(all other locations)",null,null,null,null,null,null,null,null,null,null,null,null,null,null,null,null,null,null,"Single Zone","Internal Load (Btu/person/h)"]
[null,"Ground source heat pump","Heating","7.7 HSPF air source heat pump","Electric",7.7,null,"3A",30,13,0,13,19,0,5,0,0,null,0.4,0.3,null,"Duct material","All","Sheet metal",null,null,null,null,null,null,"Duct material",{"$f":"X12","v":"Sheet metal"},null,null,{"$f":"IF(NewConst!$E$111=\"Gas\",AI5,AI8)","v":"Gas"},1,null,null,2,null,null,null,3,null,null,4,5,6,null,"Sensible load",220]
[null,"Air source heat pump (split)","Heating","7.7 HSPF air source heat pump","Electric",7.7,null,"3A",30,13,0,13,19,0,5,0,0,null,0.4,0.3,null,"Duct leakage excluding air handler (inside and outside)","All","10% of air handler flow (9% supply, 1% return)",null,null,null,null,null,null,"Duct leakage excluding air handler (inside and outside)",{"$f":"X13","v":"10% of air handler flow (9% supply, 1% return)"},null,null,{"$f":"IF(NewConst!$E$111=\"Gas\",AI6,AI9)","v":" Storage (gal)"},{"$f":"IF(NewConst!$E$111=\"Gas\",AJ6,AJ9)","v":20},null,null,{"$f":"IF(NewConst!$E$111=\"Gas\",AM6,AM9)","v":30},null,null,null,{"$f":"IF(NewConst!$E$111=\"Gas\",AQ6,AQ9)","v":40},null,null,{"$f":"IF(NewConst!$E$111=\"Gas\",AT6,AT9)","v":40},{"$f":"IF(NewConst!$E$111=\"Gas\",AU6,AU9)","v":50},{"$f":"IF(NewConst!$E$111=\"Gas\",AV6,AV9)","v":50},null,"Latent load ",164]
[null,"Air source heat pump (package)","Heating","7.7 HSPF air source heat pump","Electric",7.7,null,"4A",38,13,0,13,19,10,10,10,2,null,0.35,0.35,null,"Air handler leakage (inside and outside)","All","5% of air handler flow (1% supply, 4% return)",null,null,null,null,null,null,"Air handler leakage (inside and outside)",{"$f":"X14","v":"5% of air handler flow (1% supply, 4% return)"},null,null,{"$f":"IF(NewConst!$E$111=\"Gas\",AI7,AI10)","v":" Burner (kBtu/h)"},{"$f":"IF(NewConst!$E$111=\"Gas\",AJ7,AJ10)","v":27},{"$f":"IF(NewConst!$E$111=\"Gas\",\"kBtu/h\",\"kW\")","v":"kBtu/h"},null,{"$f":"IF(NewConst!$E$111=\"Gas\",AM7,AM10)","v":36},null,null,null,{"$f":"IF(NewConst!$E$111=\"Gas\",AQ7,AQ10)","v":36},null,null,{"$f":"IF(NewConst!$E$111=\"Gas\",AT7,AT10)","v":38},{"$f":"IF(NewConst!$E$111=\"Gas\",AU7,AU10)","v":47},{"$f":"IF(NewConst!$E$111=\"Gas\",AV7,AV10)","v":50}]
[null,"Other electric or no system","Heating","7.7 HSPF air source heat pump","Electric",7.7,null,"4B",38,13,0,13,19,10,10,10,2,null,0.35,0.35,null,"Percent of duct/air handler leakage imbalance (supply minus return) made up by outside air (OA)","Slab-on-grade or raised floor","100% OA","37% OA",null,null,{"$f":"IF(HomeType=2,X17,IF(OR(FndType=0,FndType=3),X15,X16))","v":"0% OA"},{"$f":"IF(HomeType=2,Y17,IF(OR(FndType=0,FndType=3),Y15,Y16))","v":"0% OA"},null,"Percent of duct/air handler leakage imbalance (supply minus return) made up by outside air (OA)",{"$f":"IF(Nstories=1,AB15,AC15)","v":"0% OA"}]
[null,"Split system central (or mini-split) A/C","Cooling","13 SEER air conditioner","Electric",13,null,"4C",38,13,5,19,30,10,10,10,2,null,0.35,0.35,null,null,"Basement or crawl space","0% OA","0% OA",null,null,null,null,null,null,{"$f":"IF(Nstories=1,AB16,AC16)","v":0}]
[null,"Single package air conditioner","Cooling","13 SEER air conditioner","Electric",13,null,"5A",38,13,5,19,30,10,10,10,2,null,0.35,0.35,null,null,"Multi-family","100% OA","100% OA",null,null,null,null,null,null,{"$f":"IF(Nstories=1,AB17,AC17)","v":0}]
[null,"Room air conditioner","Cooling","9.0 EER room air conditioner","Electric",9.7228999999999992,null,"5B",38,13,5,19,30,10,10,10,2,null,0.35,0.35,null,"Supply duct location","Slab-on-grade or raised floor","100% attic","65% attic, 35% conditioned space",null,null,{"$f":"IF(HomeType=2,X24,IF(OR(FndType=0,FndType=3),X18,IF(FndType=1,X20,IF(FndType=2,X22,\"Foundation Type Error\"))))","v":"100% crawlspace "},{"$f":"IF(HomeType=2,Y24,IF(OR(FndType=0,FndType=3),Y18,IF(FndType=1,Y20,IF(FndType=2,Y22,\"Foundation Type Error\"))))","v":"65% crawlspace, 35% above-grade conditioned space"},null,"Supply duct location",{"$f":"IF(Nstories=1,AB18,AC18)","v":"65% crawlspace, 35% above-grade conditioned space"}]
[null,"Ground source heat pump","Cooling","13 SEER air source heat pump","Electric",13,null,"5C",38,13,5,19,30,10,10,10,2,null,0.35,0.35]
[null,"Air source heat pump (split)","Cooling","13 SEER air source heat pump","Electric",13,null,"6A",49,13,5,19,30,15,10,10,4,null,0.35,0.35,null,null,"Crawlspace","100% crawlspace ","65% crawlspace, 35% above-grade conditioned space"]
[null,"Air source heat pump (package)","Cooling","13 SEER air source heat pump","Electric",13,null,"6B",49,13,5,19,30,15,10,10,4,null,0.35,0.35]
[null,"Other type","Cooling","13 SEER air conditioner ","Electric",13,null,"6C",49,13,5,19,30,15,10,10,4,null,0.35,0.35,null,null,"Basement","100% Basement ","65% basement, 35% above-grade conditioned space"]
[null,"No cooling system","Cooling","13 SEER air conditioner ","Electric",13,null,7,49,21,0,19,38,15,10,10,4,null,0.35,0.35]
[null,null,null,null,null,null,null,8,49,21,0,19,38,15,10,10,4,null,0.35,0.35,null,null,"Multi-family","100% Conditioned space","100% Conditioned space"]
[null,null,null,null,null,null,null,null,null,null,null,null,null,null,null,null,null,null,null,null,null,"Return duct and air handler location","Slab-on-grade or raised floor","100% attic","100% attic",null,null,{"$f":"IF(HomeType=2,X28,IF(OR(FndType=0,FndType=3),X25,IF(FndType=1,X26,IF(FndType=2,X27,\"Foundation Type Error\"))))","v":"100% crawlspace"},{"$f":"IF(HomeType=2,Y28,IF(OR(FndType=0,FndType=3),Y25,IF(FndType=1,Y26,IF(FndType=2,Y27,\"Foundation Type Error\"))))","v":"100% crawlspace"},null,"Return duct and air handler location",{"$f":"IF(Nstories=1,AB25,AC25)","v":"100% crawlspace"}]
[null,null,null,null,null,null,null,null,null,null,null,null,null,null,null,null,null,null,null,null,null,null,"Crawlspace","100% crawlspace","100% crawlspace"]
[null,null,null,null,null,null,null,null,null,null,null,null,null,null,null,null,null,null,null,null,null,null,"Basement","100% basement","100% basement"]
[null,null,null,null,null,null,null,null,null,null,null,null,null,null,null,null,null,null,null,null,null,null,"Multi-family","100% conditioned space","100% conditioned space"]
[]
[null,null,null,null,null,null,null,null,null,null,null,null,null,null,null,null,null,null,null,null,null,null,null,null,null,null,null,null,null,null,null,null,null,null,null,null,null,null,null,null,null,null,null,null,null,null,null,null,null,null,null,null,null,null,null,null,"Table Titles"]
[null,null,null,null,null,null,null,null,null,null,null,null,null,null,null,null,null,null,null,null,null,null,null,null,null,null,null,null,null,null,null,null,null,null,null,null,null,null,null,null,null,null,null,null,null,null,null,null,null,null,null,null,null,null,null,null,"Category Labels"]
[null,null,null,null,null,null,null,null,null,null,null,null,null,null,null,null,null,null,null,null,null,null,null,null,null,null,null,null,null,null,null,null,null,null,null,null,null,null,null,null,null,null,null,null,null,null,null,null,null,null,null,null,null,null,null,null,"Multifamily common space variables"]
[null,null,null,null,null,null,null,null,null,null,null,null,null,null,null,null,null,null,null,null,null,null,null,null,null,null,null,null,null,null,null,null,null,null,null,null,null,null,null,null,null,null,null,null,null,null,null,null,null,null,null,null,null,null,null,"a","Input cell (default value)"]
[null,null,null,null,null,null,null,null,null,null,null,null,null,null,null,null,null,null,null,null,null,null,null,null,null,null,null,null,null,null,null,null,null,null,null,null,null,null,null,null,null,null,null,null,null,null,null,null,null,null,null,null,null,null,null,"a","Input cell (user-specified value)"]
[null,null,null,null,null,null,null,null,null,null,null,null,null,null,null,null,null,null,null,null,null,null,null,null,null,null,null,null,null,null,null,null,null,null,null,null,null,null,null,null,null,null,null,null,null,null,null,null,null,null,null,null,null,null,null,"a","Output values (calculated)"]
[null,null,null,null,null,null,null,null,null,null,null,null,null,null,null,null,null,null,null,null,null,null,null,null,null,null,null,null,null,null,null,null,null,null,null,null,null,null,null,null,null,null,null,null,null,null,null,null,null,null,null,null,null,null,null,"a","Output values (constant)"]
[null,null,null,null,null,null,null,null,null,null,null,null,null,null,null,null,null,null,null,null,null,null,null,null,null,null,null,null,null,null,null,null,null,null,null,null,null,null,null,null,null,null,null,null,null,null,null,null,null,null,null,null,null,null,null,"a","User comments (not used for calculation)"]

{"sheet":"IntCalc","index":6,"n_rows":48,"n_cols":6,"rows_kept":48,"cut":false,"hidden":true,"merged":[]}
["Intermediate Calculated Values"]
[]
[null,"Calculated Values",null,null,"Benchmark","NCTH"]
[null,null,"All-Electric Building?","YES/NO",{"$f":"IF(AND(NewConst!F111=\"Electric\",NewConst!F271=\"Electric\",NewConst!F325=\"Electric\"),\"YES\",\"NO\")","v":"NO"}]
[null,null,"Building"]
[null,null,"Building Width","ft",{"$f":"(FFA*NewConst!F14/NewConst!F13)^0.5","v":33.882148692194832}]
[null,null,"Building Depth","ft",{"$f":"(FFA/(NewConst!F14*NewConst!F13))^0.5","v":33.882148692194832}]
[null,null,"Total Floor Area","sq ft",{"$f":"FFA+IF(NewConst!F15=1, NewConst!F16, 0)","v":3196}]
[null,null,"Total Finished Floor Area","sq ft",{"$f":"FFA+IF(NewConst!F15=1, IF(NewConst!F17=\"yes\", NewConst!F16, 0),0)","v":2296}]
[null,null,"Total Conditioned Floor Area","sq ft",{"$f":"FFA+IF(NewConst!F15=1,IF(OR(NewConst!F21=\"yes\", NewConst!F22=\"yes\",NewConst!F23=\"yes\"),NewConst!F16,0),0)","v":2296}]
[null,null,"Above Grade Conditioned Floor Area","sq ft",{"$f":"CFA_total-CFA_bsmt","v":2296}]
[null,null,"Perimeter","ft",{"$f":"2*(E6+E7)","v":135.52859476877933}]
[null,null,"Perimeter (exterior and non-hallway walls only)","ft",{"$f":"E12-(NewConst!F35+NewConst!F36)","v":135.52859476877933}]
[null,null,"A_ExWa,Liv = total exterior wall area of above-grade living space on a specific floor","sq ft",{"$f":"$E$12*NewConst!$F$34","v":1084.2287581502346}]
[null,null,"A_ExWa,Bsm = total basement exterior wall area","sq ft",{"$f":"IF(NewConst!$F$15=1, NewConst!$F$20*$E$32,0)","v":240}]
[null,null,"Total Wall Area","sq ft",{"$f":"$E$12*H_FlrToFlr*Nstories+IF(NewConst!$F$15=1, NewConst!$F$32*$E$32, IF(NewConst!$F$15=2, NewConst!$F$33*$E$12, 0))","v":3128.4575163004693}]
[null,null,"Total Door Area","sq ft",0]
[null,null,"Basement/Crawlspace conditioned?",null,{"$f":"OR(NewConst!F21=\"yes\", NewConst!F22=\"yes\",NewConst!F23=\"yes\")","v":false}]
[null,null,"Above Grade Wall Area","sq ft",{"$f":"($E$12)*(H_FlrToFlr*Nstories+IF(E18,NewConst!$F$20,0))","v":2168.4575163004693}]
[null,null,"Above Grade Wall Area, exposed","sq ft",{"$f":"($E$12-NewConst!$F$35)*(H_FlrToFlr*Nstories+IF(E18,NewConst!$F$20,0))","v":2168.4575163004693}]
[null,null,"Ceiling Area","sq ft",{"$f":"FFA/NewConst!F13","v":1148}]
[null,null,"Ceiling Area, exposed","sq ft",{"$f":"IF(UnitLoc>=2,E21,0)","v":0}]
[null,null,"Floor Area","sq ft",{"$f":"E21","v":1148}]
[null,null,"Floor Area, exposed","sq ft",{"$f":"IF(OR(UnitLoc=1,UnitLoc=2),0,IF(FndType=0,0,IF(FndType=3,$E$21,IF($E$18,0,$E$21))))","v":0}]
[null,null,"Area of perimeter surfaces exposed to unconditioned space","sq ft",{"$f":"E22+E20+E24","v":2168.4575163004693}]
[null,null,"Area of all perimeter surfaces","sq ft",{"$f":"E23+E19+E21","v":4464.4575163004693}]
[null,null,"T = Area of perimeter surfaces exposed to unconditioned space (including a ceiling or floor if unit is on top or bottom floor respectively)/total area of perimeter surfaces for the residential unit (including ceiling and floor area)",null,{"$f":"E25/E26","v":0.48571579153415034}]
[null,null,"Volume for ACH calculation","cu ft",{"$f":"(IntCalc!$E$6*IntCalc!$E$7*NewConst!$F$34*NewConst!$F$13+IntCalc!$E$36*NewConst!$F$32+IF(NewConst!$F$24=\"Unvented\",NewConst!$F$33*IntCalc!#REF!,0))","v":18368}]
[null,null,"Basement"]
[null,null,"Basement Width","ft",{"$f":"IF(NewConst!F15=1, (NewConst!F16*NewConst!F14)^0.5, 0)","v":30}]
[null,null,"Basement Depth","ft",{"$f":"IF(NewConst!F15=1, (NewConst!F16/NewConst!F14)^0.5, 0)","v":30}]
[null,null,"Basement Perimeter","ft",{"$f":"IF(NewConst!F15=1, 2*(E30+E31), 0)","v":120}]
[null,null,"Basement Wall Area, Total","sq ft",{"$f":"IF(NewConst!F15=1, E32*NewConst!F32, 0)","v":960}]
[null,null,"Basement Wall Area, Above-Grade","sq ft",{"$f":"IF(NewConst!F15=1, E32*NewConst!F20, 0)","v":240}]
[null,null,"Basement Wall Area, Below-Grade","sq ft",{"$f":"IF(NewConst!F15=1, E33-E34, 0)","v":720}]
[null,null,"Basement Conditioned Floor Area","sq ft",{"$f":"IF(AND(OR(NewConst!F21=\"yes\",NewConst!F22=\"yes\", NewConst!F23=\"yes\"), NewConst!F15=1), NewConst!F16, 0)","v":0}]
[null,null,"Basement Floor Area - Carpeted","sq ft",{"$f":"IF(NewConst!F15=1, NewConst!F16*NewConst!F81/100, 0)","v":0}]
[null,null,"Basement Floor Area - Bare","sq ft",{"$f":"IF(NewConst!F15=1, NewConst!F16*(1-NewConst!F81/100), 0)","v":900}]
[null,null,"Lighting"]
[null,null,"Smart Replacement Algorithm Factor - Hard-wired","ft",{"$f":"(1.29*NewConst!E$205^4-2.23*NewConst!E$205^3+1.76*NewConst!E$205^2-0.82*NewConst!E$205+1.170886)","v":1.0000000144000003},{"$f":"(1.29*NewConst!F$205^4-2.23*NewConst!F$205^3+1.76*NewConst!F$205^2-0.82*NewConst!F$205+1.170886)","v":1.0546176464000001}]
[null,null,"Smart Replacement Algorithm Factor - Exterior","ft",{"$f":"(1.29*NewConst!E$209^4-2.23*NewConst!E$209^3+1.76*NewConst!E$209^2-0.82*NewConst!E$209+1.170886)","v":1.0000000144000003},{"$f":"(1.29*NewConst!F$209^4-2.23*NewConst!F$209^3+1.76*NewConst!F$209^2-0.82*NewConst!F$209+1.170886)","v":1.0000000144000003}]
[null,null,"Smart Replacement Algorithm Factor - Garage","ft",{"$f":"(1.29*NewConst!E$213^4-2.23*NewConst!E$213^3+1.76*NewConst!E$213^2-0.82*NewConst!E$213+1.170886)","v":1.0000000144000003},{"$f":"(1.29*NewConst!F$213^4-2.23*NewConst!F$213^3+1.76*NewConst!F$213^2-0.82*NewConst!F$213+1.170886)","v":1.0000000144000003}]
[]
[null,null,"Conversions"]
[null,null,"Therms_to_kWh","Therms_to_kWh",{"$f":"1/0.03412","v":29.308323563892149}]
[null,null,"kWh_to_therms","kWh_to_therms",{"$f":"0.03412","v":3.4119999999999998E-2}]
[null,null,"Therms_to_Btu","Therms_to_Btu",{"$f":"100000","v":100000}]
[null,null,"kWh_to_Btu","kWh_to_Btu",{"$f":"3412","v":3412}]

{"sheet":"DHW","index":7,"n_rows":112,"n_cols":20,"rows_kept":112,"cut":false,"hidden":true,"merged":[[102,3,102,6],[3,2,3,6],[4,3,4,6],[0,0,0,5],[84,3,84,6],[28,3,28,6],[77,3,77,6],[1,1,1,6],[27,2,27,5],[11,3,11,6],[15,3,15,6],[37,3,37,6]]}
["Water Heating"]
[null,"Water Heater"]
[]
[null,null,"Category Information"]
[null,null,null,"General"]
[null,null,null,null,null,"BEopt Category Type","DOE2/TRNSYS/E+/PV/BEopt","TRNSYS, E+"]
[null,null,null,null,null,"BEopt Mutually Exclusive With"]
[null,null,null,null,null,"BEopt Notes",null,"Daily DHW consumption profiles for all appliance options are identical to their corresponding Building America Benchmark profile; appliance options affect  the total quantity of water that is consumed. The gas tankless energy factor as shown has been derated by 8.8% to account for cycling inefficiencies, as proposed for California's 2008 Title 24.  If water heater is electric, display value for tank heat rate is given in kW, and if gas then Btu/hr."," ",null," "]
[null,null,null,null,null,"BEopt Affects Rendering","TRUE or FALSE",false]
[null,null,null,null,null,"BEopt Default Option",null,4]
[null,null,null,null,null,"BEopt Well Ordered Category",null,true]
[null,null,null,"Geometry"]
[null,null,null,null,null,{"$f":"NewConst!$C$26","v":"Number of Bedrooms (6 maximum)"},{"$f":"NewConst!$D$26","v":"#"},{"$f":"N_br","v":3},null,null," "]
[null,null,null,null,null,{"$f":"NewConst!$C$27","v":"Number of Bathrooms (0.5 increments, 1 - minimum, 3.5 - maximum)"},{"$f":"NewConst!$D$27","v":"#"},{"$f":"NewConst!$F$27","v":2}]
[null,null,null,null,null,"Tank Height","in",48]
[null,null,null,"Energy"]
[null,null,null,null,null,{"$f":"NewConst!$C$112","v":"Tank Setpoint"},{"$f":"NewConst!$D$112","v":"deg F"},{"$f":"NewConst!$F$112","v":130}]
[null,null,null,null,null,"Ttank","deg F",135]
[null,null,null,null,null,"Tin","deg F",58]
[null,null,null,null,null,"Tenv","deg F",67.5]
[null,null,null,null,null,"Cp","Btu/lb-F",1.0006999999999999]
[null,null,null,null,null,"Volume Drawn","gal/day",64.3]
[null,null,null,null,null,"Density","lb/gal",8.2899999999999991]
[null,null,null,null,null,"Draw Mass (M)","lb",{"$f":"$H$22*$H$23","v":533.04699999999991}]
[null,null,null,null,null,"Qload","Btu/day",{"$f":"$H$24*$H$21*($H$18-$H$19)","v":41073.350233299992}]
[null,null,null,null,null,"kWh/Btu",null,2.9300000000000002E-4]
[]
[null,null,"Option Information",null,null,null,"Units","Comments","Constraints"]
[null,null,null,"General"]
[null,null,null,null,null,"BEopt Option Type","Option/BAB/NCTH",null,null,"BAB","BAB","IECC_06","IECC_06","NCTH","Option","Option","Option","Option","Option","Option"]
[null,null,null,null,null,"BEopt Option Name",null,null,null,{"$f":"\"FollowsVar=\" & F80 & \"=Cannot have electric and gas options selected.\"","v":"FollowsVar=WaterHeaterFuelType=Cannot have electric and gas options selected."},{"$f":"\"FollowsVar=\" & F80 & \"=Cannot have electric and gas options selected.\"","v":"FollowsVar=WaterHeaterFuelType=Cannot have electric and gas options selected."},"FollowsVar=WaterHeaterFuelType=Cannot have electric and gas options selected.","FollowsVar=WaterHeaterFuelType=Cannot have electric and gas options selected.","NCTH","Electric Standard","Electric Premium","Electric Tankless","Gas Standard","Gas Premium","Gas Tankless"]
[null,null,null,null,null,"BEopt Column 1 (Energy Factor)",null,null,null,null,null,null,null,null,{"$f":"O43*(1-O45)","v":0.90400000000000003},0.95,0.98,0.59,0.62,0.76607999999999998]
[null,null,null,null,null,"BEopt Column 2 (Tank Volume)","gal",null,null,null,null,null,null,null,{"$f":"O39","v":50},50,0,40,40,0]
[null,null,null,null,null,"BEopt Column 3 (Burner Capacity)","kW or Btu/hr",null,null,null,null,null,null,null,"If @WaterHeaterType = Tank\n   Set @DV = @TankMaxHeatingRate\nElse\n   Set @DV = NA\nEndIf",{"$f":"O34","v":"If @WaterHeaterType = Tank\n   Set @DV = @TankMaxHeatingRate\nElse\n   Set @DV = NA\nEndIf"},{"$f":"O34","v":"If @WaterHeaterType = Tank\n   Set @DV = @TankMaxHeatingRate\nElse\n   Set @DV = NA\nEndIf"},{"$f":"O34","v":"If @WaterHeaterType = Tank\n   Set @DV = @TankMaxHeatingRate\nElse\n   Set @DV = NA\nEndIf"},{"$f":"O34","v":"If @WaterHeaterType = Tank\n   Set @DV = @TankMaxHeatingRate\nElse\n   Set @DV = NA\nEndIf"},{"$f":"O34","v":"If @WaterHeaterType = Tank\n   Set @DV = @TankMaxHeatingRate\nElse\n   Set @DV = NA\nEndIf"}]
[null,null,null,null,null,"Type","Tank or Tankless",null,null,"Tank","Tank","Tank","Tank","Tank","Tank","Tank","Tankless","Tank","Tank","Tankless"]
[null,null,null,null,null,"Make",null,null,null,"NA","NA","NA","NA","NA","Whirlpool","Whirlpool","Eemax",null,"Envirotemp","Takagi"]
[null,null,null,null,null,"Model Number",null,null,null,"NA","NA","NA","NA","NA","E1F50RD045V","EE3Z50RD055V","EX280T2T",null,"G2F4034T3NV","T-K1"]
[null,null,null,"Energy"]
[null,null,null,null,null,"Storage Volume","gal",null,null,{"$f":"IF(J35<>\"Tankless\", IF(J80=\"Gas\", IF($H$13=1, 20, IF($H$13=2, IF($H$14<=2.5, 30, 40), IF($H$13=3, IF($H$14<=1.5, 30, 40), IF($H$13=4, IF($H$14<=2.5, 40, 50), 50)))), IF($H$13=1, 20, IF($H$13=2, IF($H$14<=1.5, 30, IF($H$14<=2.5, 40, 50)), IF($H$13=3, IF($H$14<=1.5, 40, 50), IF($H$13=4, IF($H$14<=2.5, 50, 66), IF($H$13=5, 66, 80)))))), 0)","v":50},{"$f":"IF(K35<>\"Tankless\", IF(K80=\"Gas\", IF($H$13=1, 20, IF($H$13=2, IF($H$14<=2.5, 30, 40), IF($H$13=3, IF($H$14<=1.5, 30, 40), IF($H$13=4, IF($H$14<=2.5, 40, 50), 50)))), IF($H$13=1, 20, IF($H$13=2, IF($H$14<=1.5, 30, IF($H$14<=2.5, 40, 50)), IF($H$13=3, IF($H$14<=1.5, 40, 50), IF($H$13=4, IF($H$14<=2.5, 50, 66), IF($H$13=5, 66, 80)))))), 0)","v":40},50,40,{"$f":"NewConst!F113","v":40},{"$f":"IF(O35<>\"Tankless\", IF(O80=\"Gas\", IF($H$13=1, 20, IF($H$13=2, IF($H$14<=2.5, 30, 40), IF($H$13=3, IF($H$14<=1.5, 30, 40), IF($H$13=4, IF($H$14<=2.5, 40, 50), 50)))), IF($H$13=1, 20, IF($H$13=2, IF($H$14<=1.5, 30, IF($H$14<=2.5, 40, 50)), IF($H$13=3, IF($H$14<=1.5, 40, 50), IF($H$13=4, IF($H$14<=2.5, 50, 66), IF($H$13=5, 66, 80)))))), 0)","v":50},50,0,40,40,0]
[null,null,null,null,null,"Volume (corrected)","gal",null,null,null,null,null,null,{"$f":"IF(NewConst!F111=\"Gas\",0.95,0.9)*N39","v":38}]
[null,null,null,null,null,"Tank Height","in",null,null,null,null,null,null,{"$f":"NewConst!F114","v":45}]
[null,null,null,null,null,"Diameter","in",null,null,null,null,null,null,{"$f":"24*SQRT((N40*0.1337)/((N41/12)*PI()))","v":15.760796931300408}]
[null,null,null,null,null,"Energy Factor",null,null,null,{"$f":"0.93-(0.00132*J39)","v":0.8640000000000001},{"$f":"0.62-(0.0019*K39)","v":0.54400000000000004},0.90400000000000003,0.59399999999999997,{"$f":"NewConst!F115","v":0.54},0.90400000000000003,0.95,0.98,0.59,0.62,0.84]
[null,null,null,null,null,"Efficiency",null,null,null,{"$f":"IF(J80=\"gas\",0.76, 0.98)","v":0.98},{"$f":"IF(K80=\"gas\",0.76, 0.98)","v":0.76},0.98,0.76,{"$f":"NewConst!F116","v":0.76},0.99,0.99,0.99,0.8,0.8,"NA"]
[null,null,null,null,null,"Derate for Cycling Inefficiencies",null,null,null,0,0,0,0,0,0,0,0,0,0,8.7999999999999995E-2]
[null,null,null,null,null,"Burner Capacity","kBtu/hr, kW",null,null,{"$f":"IF(J80=\"Gas\",IF($H$13=1,27000,IF($H$13=2,36000,IF($H$13=3,IF($H$14<=2.5,36000,38000),IF($H$13=4,IF($H$14<=1.5,36000,38000),IF($H$13=5,47000,50000))))),IF($H$13=1,2.5,IF($H$13=2,IF($H$14<=1.5,3.5,IF($H$14<=2.5,4.5,5.5)),IF($H$13=3,IF($H$14<=1.5,4.5,5.5),5.5))))","v":5.5},{"$f":"IF(K80=\"Gas\", IF($H$13=1, 27000, IF($H$13=2, 36000, IF($H$13=3, IF($H$14<=2.5, 36000, 38000), IF($H$13=4, IF($H$14<=1.5, 36000, 38000), IF($H$13=5, 47000, 50000))))), IF($H$13=1, 2.5, IF($H$13=2, IF($H$14<=1.5, 3.5, IF($H$14<=2.5, 4.5, 5.5)), IF($H$13=3, IF($H$14<=1.5, 4.5, 5.5), 5.5))))","v":36000},5.5,36000,{"$f":"NewConst!F117","v":36},4.5,5.5,27777.78,40200,34170,1000000000]
[null,null,null,null,null,"U-Value","Btu / hr*sqft*F",null,null,{"$f":"J50/J49","v":0.18413725843886153},{"$f":"K50/K49","v":0.57845415599298178},0.19062818220572308,0.58787890632335493,{"$f":"N50/N49","v":0.62292437641106813},{"$f":"O50/O49","v":0.12422794739029915},{"$f":"P50/P49","v":6.1569114276771045E-2},"NA",{"$f":"R50/R49","v":0.51002665660464885},{"$f":"S50/S49","v":0.41991633421747704},"NA"]
[null,null,null,null,null,"Tank Diameter","in",null,null,{"$f":"IF(J39=0, \"NA\", 24*SQRT((J39*0.1337)/($H15/12*PI())))","v":17.504794452833895},{"$f":"IF(K39=0, \"NA\", 24*SQRT((K39*0.1337)/($H15/12*PI())))","v":15.656764131479132},17.504794452833895,15.656764131479132,{"$f":"N42","v":15.760796931300408},{"$f":"IF(O39=0, \"NA\", 24*SQRT((O39*0.1337)/($H15/12*PI())))","v":17.504794452833895},17.504794452833895,"NA",15.656764131479132,15.656764131479132,"NA"]
[null,null,null,null,null,"Surface Area","sq ft",null,null,{"$f":"IF(J39=0, \"NA\", 2*PI()*(J48/12)^2/4 + PI()*(J48/12)*($H15/12))","v":21.673477885207443},{"$f":"IF(K39=0, \"NA\", 2*PI()*(K48/12)^2/4 + PI()*(K48/12)*($H15/12))","v":19.069725058147672},21.673477885207443,19.069725058147672,{"$f":"2*PI()*((N42/12)^2)/4+PI()*(N42/12)*(N41/12)","v":18.18277953773768},{"$f":"IF(O39=0, \"NA\", 2*PI()*(O48/12)^2/4 + PI()*(O48/12)*($H15/12))","v":21.673477885207443},21.673477885207443,"NA",19.069725058147672,19.069725058147672,"NA"]
[null,null,null,null,null,"Tank UA","Btu/hr-F",null,null,{"$f":"IF(J80=\"gas\",((J44*(1-J45))/(J43*(1-J45))-1)/(($H$18-$H$20)*(24/$H$25-1/(J46*(J43*(1-J45))))),$H$25*(1/(J43*(1-J45))-1)/(($H$18-$H$20)*24))","v":3.990894798617393},{"$f":"IF(K80=\"gas\",((K44*(1-K45))/(K43*(1-K45))-1)/(($H$18-$H$20)*(24/$H$25-1/(K46*(K43*(1-K45))))),$H$25*(1/(K43*(1-K45))-1)/(($H$18-$H$20)*24))","v":11.030961713529027},4.1315756913330342,11.210689111070929,{"$f":"IF(N80=\"gas\",((N44*(1-N45))/(N43*(1-N45))-1)/(($H$18-$H$20)*(24/$H$25-1/(N46*1000*(N43*(1-N45))))),$H$25*(1/(N43*(1-N45))-1)/(($H$18-$H$20)*24))","v":11.326496604965174},{"$f":"IF(O80=\"gas\",((O44*(1-O45))/(O43*(1-O45))-1)/(($H$18-$H$20)*(24/$H$25-1/(O46*(O43*(1-O45))))),$H$25*(1/(O43*(1-O45))-1)/(($H$18-$H$20)*24))","v":2.6924516704883623},{"$f":"IF(P80=\"gas\",((P44*(1-P45))/(P43*(1-P45))-1)/(($H$18-$H$20)*(24/$H$25-1/(P46*(P43*(1-P45))))),$H$25*(1/(P43*(1-P45))-1)/(($H$18-$H$20)*24))","v":1.3344168366894071},{"$f":"IF(Q39=0, \"NA\", Q47*Q49)","v":"NA"},{"$f":"IF(R80=\"gas\",((R44*(1-R45))/(R43*(1-R45))-1)/(($H$18-$H$20)*(24/$H$25-1/(R46*(R43*(1-R45))))),$H$25*(1/(R43*(1-R45))-1)/(($H$18-$H$20)*24))","v":9.7260681137769502},{"$f":"IF(S80=\"gas\",((S44*(1-S45))/(S43*(1-S45))-1)/(($H$18-$H$20)*(24/$H$25-1/(S46*(S43*(1-S45))))),$H$25*(1/(S43*(1-S45))-1)/(($H$18-$H$20)*24))","v":8.0076890409525348},{"$f":"IF(T39=0, \"NA\", T47*T49)","v":"NA"}]
[null,null,null,null,null,"Conversion Efficiency (from test conditions)",null,null,null,{"$f":"IF(J80=\"gas\",(J44*(1-J45))+(J50*($H$18-$H$20)/J46),1)","v":1},{"$f":"IF(K80=\"gas\",(K44*(1-K45))+(K50*($H$18-$H$20)/K46),1)","v":0.78068305321286691},1,0.77634892162031177,{"$f":"IF(N80=\"gas\",(N44*(1-N45))+(N50*($H$18-$H$20)/(N46*1000)),1)","v":0.78123718113430973},"NA","NA","NA","NA","NA","NA"]
[null,null,null,null,"Corrected Recovery Efficiency by Month"]
[null,null,null,null,null,"Jan",null,null,{"$f":"Locations!N2","v":33.440000021457671},{"$f":"J$51-J$50*(120-IF(AND($F53<>\"Jul\", $F53<>\"Aug\",$I53<= 66),71,76))/IF(J$80=\"gas\",J$46,J$46/$H$26)","v":0.98958231334113633},{"$f":"K$51-K$50*(120-IF(AND($F53<>\"Jul\", $F53<>\"Aug\",$I53<= 66),71,76))/IF(K$80=\"gas\",K$46,K$46/$H$26)","v":0.76566868865834126},0.98921508505446032,0.76108992810802079,{"$f":"N$51-N$50*(120-IF(AND($F53<>\"Jul\", $F53<>\"Aug\",$I53<= 66),71,76))/IF(N$80=\"gas\",N$46*1000,N$46*1000/$H$26)","v":0.76582056075532934},"NA","NA","NA","NA","NA","NA"]
[null,null,null,null,null,"Feb",null,null,{"$f":"Locations!O2","v":31.81999999731779},{"$f":"J$51-J$50*(120-IF(AND($F54<>\"Jul\", $F54<>\"Aug\",$I54<= 66),71,76))/IF(J$80=\"gas\",J$46,J$46/$H$26)","v":0.98958231334113633},0.76566868865834126,0.98921508505446032,0.76108992810802079,{"$f":"N$51-N$50*(120-IF(AND($F54<>\"Jul\", $F54<>\"Aug\",$I54<= 66),71,76))/IF(N$80=\"gas\",N$46*1000,N$46*1000/$H$26)","v":0.76582056075532934},"NA","NA","NA","NA","NA","NA"]
[null,null,null,null,null,"Mar",null,null,{"$f":"Locations!P2","v":42.97999982833862},0.98958231334113633,0.76566868865834126,0.98921508505446032,0.76108992810802079,0.76582056075532934,"NA","NA","NA","NA","NA","NA"]
[null,null,null,null,null,"Apr",null,null,{"$f":"Locations!Q2","v":42.440000343322751},0.98958231334113633,0.76566868865834126,0.98921508505446032,0.76264696826233624,0.76582056075532934,"NA","NA","NA","NA","NA","NA"]
[null,null,null,null,null,"May",null,null,{"$f":"Locations!R2","v":59.9},0.98958231334113633,0.76566868865834126,0.99031558657951535,0.76264696826233624,0.76582056075532934,"NA","NA","NA","NA","NA","NA"]
[null,null,null,null,null,"Jun",null,null,{"$f":"Locations!S2","v":73.580000686645505},0.99064534259204085,0.76720076667410919,0.99031558657951535,0.76264696826233624,0.7673936852837967,"NA","NA","NA","NA","NA","NA"]
[null,null,null,null,null,"Jul",null,null,{"$f":"Locations!T2","v":72.139998626708987},0.99064534259204085,0.76720076667410919,0.99031558657951535,0.76264696826233624,0.7673936852837967,"NA","NA","NA","NA","NA","NA"]
[null,null,null,null,null,"Aug",null,null,{"$f":"Locations!U2","v":72.680000686645513},0.99064534259204085,0.76720076667410919,0.99031558657951535,0.76264696826233624,0.7673936852837967,"NA","NA","NA","NA","NA","NA"]
[null,null,null,null,null,"Sep",null,null,{"$f":"Locations!V2","v":66.560001373291016},0.99064534259204085,0.76720076667410919,0.99031558657951535,0.76108992810802079,0.7673936852837967,"NA","NA","NA","NA","NA","NA"]
[null,null,null,null,null,"Oct",null,null,{"$f":"Locations!W2","v":50},0.98958231334113633,0.76566868865834126,0.98921508505446032,0.76108992810802079,0.76582056075532934,"NA","NA","NA","NA","NA","NA"]
[null,null,null,null,null,"Nov",null,null,{"$f":"Locations!X2","v":37.220000171661376},0.98958231334113633,0.76566868865834126,0.98921508505446032,0.76108992810802079,0.76582056075532934,"NA","NA","NA","NA","NA","NA"]
[null,null,null,null,null,"Dec",null,null,{"$f":"Locations!Y2","v":34.519999957084657},0.98958231334113633,0.76566868865834126,0.98921508505446032,0.76108992810802079,0.76582056075532934,"NA","NA","NA","NA","NA","NA"]
[null,null,null,null,"DHW Draw by Month"]
[null,null,null,null,null,"Jan","gal/day",null,null,{"$f":"'Monthly Profiles'!W28+'Monthly Profiles'!Y28+Appliances!$AD$125+7.5+2.5*$H$13","v":42.149763057042257},{"$f":"'Monthly Profiles'!W28+'Monthly Profiles'!Y28+Appliances!$AD$125+7.5+2.5*$H$13","v":42.149763057042257},39.356912278411983,39.356912278411983,{"$f":"'Monthly Profiles'!W28+'Monthly Profiles'!Y28+Appliances!$AF$125+(IF(Appliances!AF$237=\"yes\",IF(AND(Appliances!AF$238=\"yes\",'Monthly Profiles'!G28<70),Appliances!AF$267+(Appliances!AF$267*((1/Appliances!AF$257)*(70-'Monthly Profiles'!G28)+('Monthly Profiles'!G28-NewConst!F$112))/(NewConst!F$112-'Monthly Profiles'!G28)),0),IF(Appliances!AF$238=\"yes\",Appliances!AF$267+(Appliances!AF$267*((1/Appliances!AF$257)*(Appliances!AF$258-'Monthly Profiles'!G28)+('Monthly Profiles'!G28-NewConst!F$112))/(NewConst!F$112-'Monthly Profiles'!G28)),Appliances!AF$267)*(Appliances!AF$261/365)))","v":33.005864905675168},"NA","NA","NA","NA","NA","NA"]
[null,null,null,null,null,"Feb","gal/day",null,null,{"$f":"'Monthly Profiles'!W29+'Monthly Profiles'!Y29+Appliances!$AD$125+7.5+2.5*$H$13","v":42.278424356259663},{"$f":"'Monthly Profiles'!W29+'Monthly Profiles'!Y29+Appliances!$AD$125+7.5+2.5*$H$13","v":42.278424356259663},39.452783234454557,39.452783234454557,{"$f":"'Monthly Profiles'!W29+'Monthly Profiles'!Y29+Appliances!$AF$125+(IF(Appliances!AF$237=\"yes\",IF(AND(Appliances!AF$238=\"yes\",'Monthly Profiles'!G29<70),Appliances!AF$267+(Appliances!AF$267*((1/Appliances!AF$257)*(70-'Monthly Profiles'!G29)+('Monthly Profiles'!G29-NewConst!F$112))/(NewConst!F$112-'Monthly Profiles'!G29)),0),IF(Appliances!AF$238=\"yes\",Appliances!AF$267+(Appliances!AF$267*((1/Appliances!AF$257)*(Appliances!AF$258-'Monthly Profiles'!G29)+('Monthly Profiles'!G29-NewConst!F$112))/(NewConst!F$112-'Monthly Profiles'!G29)),Appliances!AF$267)*(Appliances!AF$261/365)))","v":33.233194116835911},"NA","NA","NA","NA","NA","NA"]
[null,null,null,null,null,"Mar","gal/day",null,null,{"$f":"'Monthly Profiles'!W30+'Monthly Profiles'!Y30+Appliances!$AD$125+7.5+2.5*$H$13","v":42.097155458271175},{"$f":"'Monthly Profiles'!W30+'Monthly Profiles'!Y30+Appliances!$AD$125+7.5+2.5*$H$13","v":42.097155458271175},39.226722880921628,39.226722880921628,{"$f":"'Monthly Profiles'!W30+'Monthly Profiles'!Y30+Appliances!$AF$125+(IF(Appliances!AF$237=\"yes\",IF(AND(Appliances!AF$238=\"yes\",'Monthly Profiles'!G30<70),Appliances!AF$267+(Appliances!AF$267*((1/Appliances!AF$257)*(70-'Monthly Profiles'!G30)+('Monthly Profiles'!G30-NewConst!F$112))/(NewConst!F$112-'Monthly Profiles'!G30)),0),IF(Appliances!AF$238=\"yes\",Appliances!AF$267+(Appliances!AF$267*((1/Appliances!AF$257)*(Appliances!AF$258-'Monthly Profiles'!G30)+('Monthly Profiles'!G30-NewConst!F$112))/(NewConst!F$112-'Monthly Profiles'!G30)),Appliances!AF$267)*(Appliances!AF$261/365)))","v":32.912913536441117},"NA","NA","NA","NA","NA","NA"]
[null,null,null,null,null,"Apr","gal/day",null,null,{"$f":"'Monthly Profiles'!W31+'Monthly Profiles'!Y31+Appliances!$AD$125+7.5+2.5*$H$13","v":41.622484208231171},{"$f":"'Monthly Profiles'!W31+'Monthly Profiles'!Y31+Appliances!$AD$125+7.5+2.5*$H$13","v":41.622484208231171},38.678910680133328,38.678910680133328,{"$f":"'Monthly Profiles'!W31+'Monthly Profiles'!Y31+Appliances!$AF$125+(IF(Appliances!AF$237=\"yes\",IF(AND(Appliances!AF$238=\"yes\",'Monthly Profiles'!G31<70),Appliances!AF$267+(Appliances!AF$267*((1/Appliances!AF$257)*(70-'Monthly Profiles'!G31)+('Monthly Profiles'!G31-NewConst!F$112))/(NewConst!F$112-'Monthly Profiles'!G31)),0),IF(Appliances!AF$238=\"yes\",Appliances!AF$267+(Appliances!AF$267*((1/Appliances!AF$257)*(Appliances!AF$258-'Monthly Profiles'!G31)+('Monthly Profiles'!G31-NewConst!F$112))/(NewConst!F$112-'Monthly Profiles'!G31)),Appliances!AF$267)*(Appliances!AF$261/365)))","v":32.074225900853484},"NA","NA","NA","NA","NA","NA"]
[null,null,null,null,null,"May","gal/day",null,null,{"$f":"'Monthly Profiles'!W32+'Monthly Profiles'!Y32+Appliances!$AD$125+7.5+2.5*$H$13","v":40.914834009960458},{"$f":"'Monthly Profiles'!W32+'Monthly Profiles'!Y32+Appliances!$AD$125+7.5+2.5*$H$13","v":40.914834009960458},37.837325570916562,37.837325570916562,{"$f":"'Monthly Profiles'!W32+'Monthly Profiles'!Y32+Appliances!$AF$125+(IF(Appliances!AF$237=\"yes\",IF(AND(Appliances!AF$238=\"yes\",'Monthly Profiles'!G32<70),Appliances!AF$267+(Appliances!AF$267*((1/Appliances!AF$257)*(70-'Monthly Profiles'!G32)+('Monthly Profiles'!G32-NewConst!F$112))/(NewConst!F$112-'Monthly Profiles'!G32)),0),IF(Appliances!AF$238=\"yes\",Appliances!AF$267+(Appliances!AF$267*((1/Appliances!AF$257)*(Appliances!AF$258-'Monthly Profiles'!G32)+('Monthly Profiles'!G32-NewConst!F$112))/(NewConst!F$112-'Monthly Profiles'!G32)),Appliances!AF$267)*(Appliances!AF$261/365)))","v":30.823892177122033},"NA","NA","NA","NA","NA","NA"]
[null,null,null,null,null,"Jun","gal/day",null,null,{"$f":"'Monthly Profiles'!W33+'Monthly Profiles'!Y33+Appliances!$AD$125+7.5+2.5*$H$13","v":40.113594223197154},{"$f":"'Monthly Profiles'!W33+'Monthly Profiles'!Y33+Appliances!$AD$125+7.5+2.5*$H$13","v":40.113594223197154},36.831856190051994,36.831856190051994,{"$f":"'Monthly Profiles'!W33+'Monthly Profiles'!Y33+Appliances!$AF$125+(IF(Appliances!AF$237=\"yes\",IF(AND(Appliances!AF$238=\"yes\",'Monthly Profiles'!G33<70),Appliances!AF$267+(Appliances!AF$267*((1/Appliances!AF$257)*(70-'Monthly Profiles'!G33)+('Monthly Profiles'!G33-NewConst!F$112))/(NewConst!F$112-'Monthly Profiles'!G33)),0),IF(Appliances!AF$238=\"yes\",Appliances!AF$267+(Appliances!AF$267*((1/Appliances!AF$257)*(Appliances!AF$258-'Monthly Profiles'!G33)+('Monthly Profiles'!G33-NewConst!F$112))/(NewConst!F$112-'Monthly Profiles'!G33)),Appliances!AF$267)*(Appliances!AF$261/365)))","v":29.408196783220205},"NA","NA","NA","NA","NA","NA"]
[null,null,null,null,null,"Jul","gal/day",null,null,{"$f":"'Monthly Profiles'!W34+'Monthly Profiles'!Y34+Appliances!$AD$125+7.5+2.5*$H$13","v":39.453704200006143},{"$f":"'Monthly Profiles'!W34+'Monthly Profiles'!Y34+Appliances!$AD$125+7.5+2.5*$H$13","v":39.453704200006143},35.976455309782267,35.976455309782267,{"$f":"'Monthly Profiles'!W34+'Monthly Profiles'!Y34+Appliances!$AF$125+(IF(Appliances!AF$237=\"yes\",IF(AND(Appliances!AF$238=\"yes\",'Monthly Profiles'!G34<70),Appliances!AF$267+(Appliances!AF$267*((1/Appliances!AF$257)*(70-'Monthly Profiles'!G34)+('Monthly Profiles'!G34-NewConst!F$112))/(NewConst!F$112-'Monthly Profiles'!G34)),0),IF(Appliances!AF$238=\"yes\",Appliances!AF$267+(Appliances!AF$267*((1/Appliances!AF$257)*(Appliances!AF$258-'Monthly Profiles'!G34)+('Monthly Profiles'!G34-NewConst!F$112))/(NewConst!F$112-'Monthly Profiles'!G34)),Appliances!AF$267)*(Appliances!AF$261/365)))","v":28.242249607672317},"NA","NA","NA","NA","NA","NA"]
[null,null,null,null,null,"Aug","gal/day",null,null,{"$f":"'Monthly Profiles'!W35+'Monthly Profiles'!Y35+Appliances!$AD$125+7.5+2.5*$H$13","v":39.194247483602894},{"$f":"'Monthly Profiles'!W35+'Monthly Profiles'!Y35+Appliances!$AD$125+7.5+2.5*$H$13","v":39.194247483602894},35.688171698155386,35.688171698155386,{"$f":"'Monthly Profiles'!W35+'Monthly Profiles'!Y35+Appliances!$AF$125+(IF(Appliances!AF$237=\"yes\",IF(AND(Appliances!AF$238=\"yes\",'Monthly Profiles'!G35<70),Appliances!AF$267+(Appliances!AF$267*((1/Appliances!AF$257)*(70-'Monthly Profiles'!G35)+('Monthly Profiles'!G35-NewConst!F$112))/(NewConst!F$112-'Monthly Profiles'!G35)),0),IF(Appliances!AF$238=\"yes\",Appliances!AF$267+(Appliances!AF$267*((1/Appliances!AF$257)*(Appliances!AF$258-'Monthly Profiles'!G35)+('Monthly Profiles'!G35-NewConst!F$112))/(NewConst!F$112-'Monthly Profiles'!G35)),Appliances!AF$267)*(Appliances!AF$261/365)))","v":27.78382045275881},"NA","NA","NA","NA","NA","NA"]
[null,null,null,null,null,"Sep","gal/day",null,null,{"$f":"'Monthly Profiles'!W36+'Monthly Profiles'!Y36+Appliances!$AD$125+7.5+2.5*$H$13","v":39.453936712645756},{"$f":"'Monthly Profiles'!W36+'Monthly Profiles'!Y36+Appliances!$AD$125+7.5+2.5*$H$13","v":39.453936712645756},36.139981338393639,36.139981338393639,{"$f":"'Monthly Profiles'!W36+'Monthly Profiles'!Y36+Appliances!$AF$125+(IF(Appliances!AF$237=\"yes\",IF(AND(Appliances!AF$238=\"yes\",'Monthly Profiles'!G36<70),Appliances!AF$267+(Appliances!AF$267*((1/Appliances!AF$257)*(70-'Monthly Profiles'!G36)+('Monthly Profiles'!G36-NewConst!F$112))/(NewConst!F$112-'Monthly Profiles'!G36)),0),IF(Appliances!AF$238=\"yes\",Appliances!AF$267+(Appliances!AF$267*((1/Appliances!AF$257)*(Appliances!AF$258-'Monthly Profiles'!G36)+('Monthly Profiles'!G36-NewConst!F$112))/(NewConst!F$112-'Monthly Profiles'!G36)),Appliances!AF$267)*(Appliances!AF$261/365)))","v":28.242660429848605},"NA","NA","NA","NA","NA","NA"]
[null,null,null,null,null,"Oct","gal/day",null,null,{"$f":"'Monthly Profiles'!W37+'Monthly Profiles'!Y37+Appliances!$AD$125+7.5+2.5*$H$13","v":40.113957177730548},{"$f":"'Monthly Profiles'!W37+'Monthly Profiles'!Y37+Appliances!$AD$125+7.5+2.5*$H$13","v":40.113957177730548},37.068117356173431,37.068117356173431,{"$f":"'Monthly Profiles'!W37+'Monthly Profiles'!Y37+Appliances!$AF$125+(IF(Appliances!AF$237=\"yes\",IF(AND(Appliances!AF$238=\"yes\",'Monthly Profiles'!G37<70),Appliances!AF$267+(Appliances!AF$267*((1/Appliances!AF$257)*(70-'Monthly Profiles'!G37)+('Monthly Profiles'!G37-NewConst!F$112))/(NewConst!F$112-'Monthly Profiles'!G37)),0),IF(Appliances!AF$238=\"yes\",Appliances!AF$267+(Appliances!AF$267*((1/Appliances!AF$257)*(Appliances!AF$258-'Monthly Profiles'!G37)+('Monthly Profiles'!G37-NewConst!F$112))/(NewConst!F$112-'Monthly Profiles'!G37)),Appliances!AF$267)*(Appliances!AF$261/365)))","v":29.408838080706445},"NA","NA","NA","NA","NA","NA"]
[null,null,null,null,null,"Nov","gal/day",null,null,{"$f":"'Monthly Profiles'!W38+'Monthly Profiles'!Y38+Appliances!$AD$125+7.5+2.5*$H$13","v":40.91520152845581},{"$f":"'Monthly Profiles'!W38+'Monthly Profiles'!Y38+Appliances!$AD$125+7.5+2.5*$H$13","v":40.91520152845581},38.05592865925459,38.05592865925459,{"$f":"'Monthly Profiles'!W38+'Monthly Profiles'!Y38+Appliances!$AF$125+(IF(Appliances!AF$237=\"yes\",IF(AND(Appliances!AF$238=\"yes\",'Monthly Profiles'!G38<70),Appliances!AF$267+(Appliances!AF$267*((1/Appliances!AF$257)*(70-'Monthly Profiles'!G38)+('Monthly Profiles'!G38-NewConst!F$112))/(NewConst!F$112-'Monthly Profiles'!G38)),0),IF(Appliances!AF$238=\"yes\",Appliances!AF$267+(Appliances!AF$267*((1/Appliances!AF$257)*(Appliances!AF$258-'Monthly Profiles'!G38)+('Monthly Profiles'!G38-NewConst!F$112))/(NewConst!F$112-'Monthly Profiles'!G38)),Appliances!AF$267)*(Appliances!AF$261/365)))","v":30.824541538586139},"NA","NA","NA","NA","NA","NA"]
[null,null,null,null,null,"Dec","gal/day",null,null,{"$f":"'Monthly Profiles'!W39+'Monthly Profiles'!Y39+Appliances!$AD$125+7.5+2.5*$H$13","v":41.622767782522004},{"$f":"'Monthly Profiles'!W39+'Monthly Profiles'!Y39+Appliances!$AD$125+7.5+2.5*$H$13","v":41.622767782522004},38.835165773262574,38.835165773262574,{"$f":"'Monthly Profiles'!W39+'Monthly Profiles'!Y39+Appliances!$AF$125+(IF(Appliances!AF$237=\"yes\",IF(AND(Appliances!AF$238=\"yes\",'Monthly Profiles'!G39<70),Appliances!AF$267+(Appliances!AF$267*((1/Appliances!AF$257)*(70-'Monthly Profiles'!G39)+('Monthly Profiles'!G39-NewConst!F$112))/(NewConst!F$112-'Monthly Profiles'!G39)),0),IF(Appliances!AF$238=\"yes\",Appliances!AF$267+(Appliances!AF$267*((1/Appliances!AF$257)*(Appliances!AF$258-'Monthly Profiles'!G39)+('Monthly Profiles'!G39-NewConst!F$112))/(NewConst!F$112-'Monthly Profiles'!G39)),Appliances!AF$267)*(Appliances!AF$261/365)))","v":32.07472694289357},"NA","NA","NA","NA","NA","NA"]
[null,null,null,"Simulation Variables"]
[null,null,null,null,null,"WaterHeaterType","Tank or Tankless","Specifies the heater as either tank or tankless."," ",{"$f":"J35","v":"Tank"},{"$f":"K35","v":"Tank"},"Tank","Tank","NA",{"$f":"O35","v":"Tank"},"Tank","Tankless","Tank","Tank","Tankless"]
[null,null,null,null,null,"WaterHeaterFuelType","Electric or Gas","Indicates the type of energy used to heat water. This value is used to specify what type of water heater to model in the benchmark."," ","Electric","Gas","Electric","Gas",{"$f":"IF(NewConst!F111=\"Gas\", \"Gas\", \"Electric\")","v":"Gas"},"Electric","Electric","Electric","Gas","Gas","Gas"]
[null,null,null,null,null,"Utank","Btu / hr*sqft*F","Conductance through the tank walls."," ","NA","NA","NA","NA","NA",{"$f":"IF(O35=\"Tank\", O47, \"NA\")","v":0.12422794739029915},6.1569114276771045E-2,"NA",0.51002665660464885,0.41991633421747704,"NA"]
[null,null,null,null,null,"TankMaxHeatingRate","Btu/hr, kW","Rated maximum heat input."," ","NA","NA","NA","NA","NA",{"$f":"IF(O80=\"Electric\", 3413*O46, O46)","v":15358.5},18771.5,94805563.140000001,40200,34170,1000000000]
[null,null,null,null,null,"TankEfficiency",null,"Heating efficiency."," ",{"$f":"J44*(1-J45)","v":0.98},{"$f":"K44*(1-K45)","v":0.76},0.98,0.76,"NA",{"$f":"O44*(1-O45)","v":0.99},{"$f":"P44*(1-P45)","v":0.99},{"$f":"Q44*(1-Q45)","v":0.99},{"$f":"R44*(1-R45)","v":0.8},{"$f":"S44*(1-S45)","v":0.8},{"$f":"T43*(1-T45)","v":0.76607999999999998}]
[null,null,null,null,null,"WaterHeaterLocation","Basement or FinishedBasement or UnfinishedBasement or Crawlspace or VentedCrawlspace or UnventedCrawlspace or Attic or FinishedAttic or UnfinishedAttic or Garage or Living or Auto","The code-word for the location of the water heater.  Specify: Basement, Attic, Crawlspace, Garage, Living, or Auto.  Specifying \"Auto\" places the water heater in the basement, or garage, or living space in that order depending on which spaces are available. Note: This variable does not influence DOE2/TRNSYS simulations; Only EnergyPlus)"," ","Auto","Auto","Auto","Auto","NA","Auto","Auto","Auto","Auto","Auto","Auto"]
[null,null,null,"Standard Unit Cost Datasets"]
[null,null,null,null,"General"]
[null,null,null,null,null,"Multiplier","unit",null,null,null,null,null,null,null,1,1,1,1,1,1]
[null,null,null,null,"bchydro.com 2003 (2009 inflation adjusted)"]
[null,null,null,null,null,"Equipment Cost","$/unit",null,null,null,null,null,null,null,null,null,null,228,null,750]
[null,null,null,null,null,"Installation Cost","$/unit",null,null,null,null,null,null,null,null,null,null,200,null,300]
[null,null,null,null,null,"BEopt Option Unit Cost","$/unit",null,null,null,null,null,null,null,{"$f":"IF(AND(ISNUMBER(O89), ISNUMBER(O90)), O89+O90, \"\")","v":""},{"$f":"IF(AND(ISNUMBER(P89), ISNUMBER(P90)), P89+P90, \"\")","v":""},{"$f":"IF(AND(ISNUMBER(Q89), ISNUMBER(Q90)), Q89+Q90, \"\")","v":""},{"$f":"(R89+R90)*(1.02)^6","v":481.99751544499202},{"$f":"IF(AND(ISNUMBER(S89), ISNUMBER(S90)), S89+S90, \"\")","v":""},{"$f":"(T89+T90)*(1.02)^6","v":1182.4705402272}]
[null,null,null,null,null,"First Cost","$",null,null,null,null,null,null,null,{"$f":"IF(ISNUMBER(O91), O91*O87, \"\")","v":""},"","",481.99751544499202,"",1182.4705402272]
[null,null,null,null,"distributor 2003 (2009 inflation adjusted)"]
[null,null,null,null,null,"Equipment Cost","$/unit",null,null,null,null,null,null,null,279,370,775,null,424]
[null,null,null,null,null,"Installation Cost","$/unit",null,null,null,null,null,null,null,200,200,300,null,200]
[null,null,null,null,null,"BEopt Option Unit Cost","$/unit",null,null,null,null,null,null,null,{"$f":"(O94+O95)*(1.02)^6","v":539.43179882745608},{"$f":"(P94+P95)*(1.02)^6","v":641.91257898048002},{"$f":"(Q94+Q95)*(1.02)^6","v":1210.6246007088},{"$f":"IF(AND(ISNUMBER(R94),ISNUMBER(R95)), R94+R95, \"\")","v":""},{"$f":"(S94+S95)*(1.02)^6","v":702.7253496207361},{"$f":"IF(AND(ISNUMBER(T94),ISNUMBER(T95)), T94+T95, \"\")","v":""}]
[null,null,null,null,null,"First Cost","$",null,null,null,null,null,null,null,{"$f":"IF(ISNUMBER(O96), O96*O87, \"\")","v":539.43179882745608},641.91257898048002,1210.6246007088,"",702.7253496207361,""]
[null,null,null,null,"DEER 2008"]
[null,null,null,null,null,"Equipment Cost","$/unit",null,null,null,null,null,null,null,316.41000000000003,305.45999999999998,null,474.03,529.30999999999995,1081.06]
[null,null,null,null,null,"Installation Cost","$/unit",null,null,null,null,null,null,null,164.06,164.06,null,164.06,164.06,164.06]
[null,null,null,null,null,"BEopt Option Unit Cost","$/unit",null,null,null,null,null,null,null,{"$f":"O99+O100","v":480.47},{"$f":"P99+P100","v":469.52},null,{"$f":"R99+R100","v":638.08999999999992},{"$f":"S99+S100","v":693.36999999999989},{"$f":"T99+T100","v":1245.1199999999999}]
[null,null,null,null,null,"First Cost","$",null,null,null,null,null,null,null,{"$f":"IF(ISNUMBER(O101), O101*O87, \"\")","v":480.47},{"$f":"IF(ISNUMBER(P101), P101*P87, \"\")","v":469.52},null,{"$f":"IF(ISNUMBER(R101), R101*R87, \"\")","v":638.08999999999992},{"$f":"IF(ISNUMBER(S101), S101*S87, \"\")","v":693.36999999999989},{"$f":"IF(ISNUMBER(T101), T101*T87, \"\")","v":1245.1199999999999}]
[null,null,null,"Standard Lifetime Datasets"]
[null,null,null,null,"DEER 2008"]
[null,null,null,null,null,"BEopt Option Lifetime","years",null,null,null,null,null,null,null,13,13,20,11,11,20]
[null,null,null,null,"NAHB"]
[null,null,null,null,null,"BEopt Option Lifetime","years",null,null,null,null,null,null,null,11,11,20,10,10,20]
[null,null,null,"> The DHW and electricity consumption of clothes washer, clothes dryer, and dishwasher options are modeled in TRNSYS. The DHW consumption associated with showers, baths, and sinks is also modeled"]
[null,null,null,"   in TRNSYS. Note that there are currently no BEOpt options for showers, baths, and sinks."]
[null,null,null,"> The internal gains associated with the clothes washer, clothes dryer, dishwasher, showers, bath, and sink options are modeled as a thermal load in DOE2."]
[null,null,null,"> It has been assumed that the daily DHW consumption profile for all appliance options is identical to the corresponding BAB profile.  Appliance options affect only the total amount of water which is consumed."]
[null,null,null,"> Water Heaters are sized, in volume, the same way as the benchmark - based on the number of bedrooms and number of bathrooms."]

{"sheet":"Appliances","index":8,"n_rows":433,"n_cols":44,"rows_kept":433,"cut":false,"hidden":true,"merged":[[38,6,39,6],[38,7,39,7],[38,1,39,1],[38,2,39,2],[38,3,39,3],[38,4,39,4],[38,5,39,5],[356,32,356,33],[50,30,50,31],[223,22,223,25],[224,23,224,26],[62,23,62,26],[171,21,171,26],[55,6,56,6],[55,7,56,7],[55,8,56,8],[55,9,56,9],[52,2,52,4],[53,6,54,6],[53,7,54,7],[53,8,54,8],[53,9,54,9],[61,6,62,6],[61,7,62,7],[0,32,0,33],[356,30,356,31],[50,32,50,33],[171,30,171,31],[0,30,0,31],[174,33,174,34],[171,32,171,40],[174,35,174,36],[174,37,174,38],[174,39,174,40],[175,35,176,35],[175,36,176,36],[175,37,176,37],[175,38,176,38],[175,39,176,39],[175,40,176,40],[427,23,427,26],[356,21,356,26],[358,22,358,26],[14,23,14,26],[52,22,52,26],[60,23,60,26],[150,23,150,26],[159,23,159,26],[140,23,140,26],[44,23,44,26],[27,23,27,26],[183,23,183,26],[241,23,241,26],[337,23,337,26],[53,23,53,26],[106,23,106,26],[387,23,387,26],[401,23,401,26],[418,23,418,26],[411,23,411,26],[368,23,368,26],[96,23,96,26],[36,23,36,26],[95,22,95,25],[359,23,359,26],[366,23,366,26],[386,22,386,25],[173,22,173,26],[174,23,174,26],[346,23,346,26],[181,23,181,26],[1,12,1,13],[1,14,1,15],[2,22,2,26],[50,21,50,26],[51,12,51,13],[51,14,51,15],[53,12,54,12],[53,13,54,13],[55,12,56,12],[55,13,56,13],[53,14,54,14],[53,15,54,15],[55,14,56,14],[55,15,56,15],[59,14,60,14],[59,15,60,15],[0,21,0,26],[13,22,13,25],[19,23,19,26],[3,23,3,26],[10,23,10,26],[1,16,1,17],[2,2,2,4],[13,1,13,9],[18,1,18,9],[1,8,2,8],[1,9,2,9],[0,1,0,10],[2,5,2,7],[1,5,1,7],[1,2,1,4],[30,1,30,10],[25,1,25,9],[26,1,26,9],[27,1,27,9],[28,1,28,9],[6,7,7,7],[6,6,7,6],[6,5,7,5],[6,4,7,4],[6,3,7,3],[6,2,7,2],[6,1,7,1],[61,8,62,8],[61,9,62,9],[61,12,62,12],[61,13,62,13],[61,14,62,14],[61,15,62,15],[59,6,60,6],[59,7,60,7],[59,8,60,8],[59,9,60,9],[59,12,60,12],[59,13,60,13]]}
[null,"Table 21. Annual Appliance Loads and MELs for the Benchmark 1",null,null,null,null,null,null,null,null,null,null,null,null,null,null,null,null,null,null,null,"Cooking Range"]
[null,"Appliance","Electricity",null,null,"Natural Gas",null,null,"Sensible Load Fraction","Latent Load Fraction","Notes",null,"Electric (kWh/yr)",null,"Gas (therms/yr)",null,"Combined (kWh/yr)"]
[null,null,"(kWh/yr)",null,null,"(therms/yr)",null,null,null,null,null,null,"Sensible Load ","Latent Load","Sensible Load ","Latent Load","Sensible Load ","Latent Load",null,null,null,null,"Category Information"]
[null,"Refrigerator",434,"=",{"$f":"C4","v":434},null,"=",null,1,0,null,null,{"$f":"I4*$E4","v":434},{"$f":"J4*$E4","v":0},{"$f":"I4*$H4","v":0},{"$f":"J4*$H4","v":0},null,null,null,null,null,null,null,"General"]
[null,"Clothes washer (3.2 ft3 drum)","38.8 + 12.9 × Nbr","=",{"$f":"38.8 + 12.9*N_br","v":77.5},null,"=",null,0.8,0,null,null,{"$f":"I5*$E5","v":62},{"$f":"J5*$E5","v":0},{"$f":"I5*$H5","v":0},{"$f":"J5*$H5","v":0},null,null,null,null,null,null,null,null,null,"BEopt Category Type","DOE2/TRNSYS/E+/PV/BEopt","DOE2, E+"]
[null,"Clothes dryer (electric)","538.2 + 179.4 × Nbr","=",{"$f":"538.2 + 179.4 *N_br","v":1076.4000000000001},null,"=",null,0.15,0.05,null,null,161.46,53.820000000000007,0,0,null,null,null,null,null,null,null,null,null,"BEopt Mutually Exclusive With"]
[null,"Clothes dryer (gas)","43 + 14.3 × Nbr","=",{"$f":"43 + 14.3 *N_br","v":85.9},"19.5 + 6.5 × Nbr","=",{"$f":"19.5 + 6.5 *N_br","v":39},1,0,"Electric",null,{"$f":"I7*$E7","v":85.9},{"$f":"J7*$E7","v":0},{"$f":"I8*$H7","v":3.9000000000000004},{"$f":"J8*$H7","v":1.9500000000000002},null,null,null,null,null,null,null,null,null,"BEopt Notes",null,"The options for gas and electric ranges are identical to the Building America Benchmarks."," ",null," "]
[null,null,null,null,null,null,null,null,0.1,0.05,"Gas",null,null,null,null,null,null,null,null,null,null,null,null,null,null,"BEopt Affects Rendering","TRUE or FALSE",false]
[null,"Dishwasher (8 place settings)","87.6 + 29.2 × Nbr","=",{"$f":"87.6 + 29.2 *N_br","v":175.2},null,"=",null,0.6,0.15,null,null,105.11999999999999,26.279999999999998,0,0,null,null,null,null,null,null,null,null,null,"BEopt Default Option",null,1]
[null,"Range (electric)***","250 + 83 × Nbr","=",{"$f":"250 + 83 *N_br","v":499},null,"=",null,0.4,0.3,null,null,199.60000000000002,149.69999999999999,0,0,null,null,null,null,null,null,null,null,null,"BEopt Well Ordered Category",null,true]
[null,"Range (gas)****","40 + 13.3 × Nbr","=",{"$f":"40 + 13.3 *N_br","v":79.900000000000006},"14.3 + 4.8 × Nbr","=",{"$f":"14.3 + 4.8 *N_br","v":28.7},0.3,0.2,null,null,23.970000000000002,15.980000000000002,{"$f":"I11*$H11","v":8.61},{"$f":"J11*$H11","v":5.74},null,null,null,null,null,null,null,"Geometry"]
[null,"Miscellaneous loads (gas/electric house)","1595 + 248 × Nbr+ 0.426 × FFA","=",{"$f":"1595 + 248 *N_br+ 0.426*FFA","v":3317.096},"3.7 + 0.6 × Nbr+ 0.001 × FFA","=",{"$f":"3.7 + 0.6 *N_br+ 0.001 *FFA","v":7.7960000000000003},0.73399999999999999,0.02,null,null,{"$f":"I12*$E12","v":2434.7484639999998},66.341920000000002,{"$f":"I12*$H12","v":5.722264},0.15592,{"$f":"M12+O12/0.03412","v":2602.4584288300116},{"$f":"N12+P12/0.03412","v":70.911673810082064},null,null,null,null,null,null,null,{"$f":"NewConst!$C$26","v":"Number of Bedrooms (6 maximum)"},{"$f":"NewConst!$D$26","v":"#"},{"$f":"N_br","v":3}]
[null,"Miscellaneous loads (all- electric house)","1703 + 266 × Nbr+ 0.454 × FFA","=",{"$f":"1703 + 266 *N_br+ 0.454 *FFA","v":3543.384},null,"=",null,0.73399999999999999,0.02,null,null,2600.843856,70.867680000000007,0,0,{"$f":"M13+O13/0.03412","v":2600.843856},{"$f":"N13+P13/0.03412","v":70.867680000000007}]
[null,"Multi-Family Common Space MELs",null,null,null,null,null,null,null,null,null,null,null,null,null,null,null,null,null,null,null,null,"Option Information",null,null,null,"Units","Comments","Constraints"]
[null,"Office","3.2*FFA","=",{"$f":"3.2*NewConst!$E$42","v":3840},null,null,null,1,0,null,null,{"$f":"I15*$E15","v":3840},0,0,0,null,null,null,null,null,null,null,"General"]
[null,"Workout room","9.8*FFA","=",{"$f":"9.8*NewConst!$E$44","v":2205},null,null,null,1,0,null,null,{"$f":"I16*$E16","v":2205},0,0,0,null,null,null,null,null,null,null,null,null,"BEopt Option Type","Option/BAB/NCTH",null,null,"BAB","BAB","IECC_06","IECC_06","NCTH","NCTH","Option","Option"]
[null,"Corridor/restroom/mech.",0,"=",null,null,null,null,null,null,null,null,0,0,0,0,null,null,null,null,null,null,null,null,null,"BEopt Option Name",null,null,null,{"$f":"\"FollowsVar=\" & Z33 & \"=Cannot have electric and gas options selected.\"","v":"FollowsVar=CookingRangeFuelType=Cannot have electric and gas options selected."},{"$f":"\"FollowsVar=\" & Z33 & \"=Cannot have electric and gas options selected.\"","v":"FollowsVar=CookingRangeFuelType=Cannot have electric and gas options selected."},"FollowsVar=CookingRangeFuelType=Cannot have electric and gas options selected.","FollowsVar=CookingRangeFuelType=Cannot have electric and gas options selected.","Electric NCTH","Gas NCTH","Electric","Gas"]
[null,"Elevator","1900 * N_elev","=",{"$f":"1900*N_elev","v":1900},null,null,null,1,0,null,null,{"$f":"I18*$E18","v":1900},0,0,0,null,null,null,null,null,null,null,null,null,"BEopt Column 1 (Elec. Use)","kWh/yr",null,null,null,null,null,null,null,null,"Set @DV = RND(@ConstantAnnualRangeElec+@AnnualRangeElecPerBedroom*@NumberBedrooms,0)",{"$f":"$AJ$18","v":"Set @DV = RND(@ConstantAnnualRangeElec+@AnnualRangeElecPerBedroom*@NumberBedrooms,0)"}," "]
[null,"Multi-Purpose Room MELs",null,null,null,null,null,null,null,null,null,null,null,null,null,null,null,null,null,null,null,null,null,null,null,"BEopt Column 2 (Gas Use)","therms/yr",null,null,null,null,null,null,null,null,"Set @DV = RND(@ConstantAnnualRangeGas+@AnnualRangeGasPerBedroom*@NumberBedrooms,1)",{"$f":"$AJ$19","v":"Set @DV = RND(@ConstantAnnualRangeGas+@AnnualRangeGasPerBedroom*@NumberBedrooms,1)"}," "]
[null,"Television","673**","=",{"$f":"673","v":673},null,null,null,1,0,null,null,{"$f":"I20*$E20","v":673},0,0,0,null,null,null,null,null,null,null,"Energy"]
[null,"Refrigerator",434,"=",434,null,null,null,1,0,null,null,434,0,0,0,null,null,null,null,null,null,null,null,null,"Oven Volume",null,null,null,"NA","NA","NA","NA","NA","NA",4.5999999999999996,4.0999999999999996]
[null,"Dishwasher","52*","=",52,null,null,null,0.6,0.15,null,null,31.2,7.8,0,0,null,null,null,null,null,null,null,null,null,"Number of Burners","#",null,null,"NA","NA","NA","NA","NA","NA",4,4]
[null,"Range (electric)","62.4*","=",62.4,null,null,null,0.4,0.3,null,null,24.96,18.72,0,0,null,null,null,null,null,null,null,null,null,"Electric Usage Per Person",null,null,null,"NA","NA","NA","NA",null,null,202]
[null,"Range (gas)",null,null,null,"4.6*","=",4.5999999999999996,0.3,0.2,null,null,0,0,{"$f":"I24*$H24","v":1.38},0.91999999999999993,null,null,null,null,null,null,null,null,null,"Gas Usage Per Person",null,null,null,"NA","NA","NA","NA",null,null,null,15]
[null,"Microwave","78*","=",78,null,null,null,1,0,null,null,78,0,0,0,null,null,null,null,null,null,null,null,null,"Electricity Usage","kWh/yr",null,null,{"$f":"AD29+AD30*$AB12","v":605},{"$f":"AE29+AE30*$AB12","v":0},605,0,{"$f":"173.1/NewConst!F323+29.3/NewConst!F324","v":937.92241379310337},0,{"$f":"AJ29+AJ30*$AB12","v":605},{"$f":"AK29+AK30*$AB12","v":0}]
[null,"*Assuming 1 h/wk use (data from appliance usage list from PSNH: The Northeast Utility System) ",null,null,null,null,null,null,null,null,null,null,null,null,null,null,null,null,null,null,null,null,null,null,null,"Gas Usage","therms/yr",null,null,{"$f":"AD31+AD32*$AB12","v":0},{"$f":"AE31+AE32*$AB12","v":45},0,45,0,{"$f":"(527600/NewConst!F323+88800/NewConst!F324)/100000","v":28.500344827586208},{"$f":"AJ31+AJ32*$AB12","v":0},{"$f":"AK31+AK32*$AB12","v":45}]
[null,"**Assuming on during office hours (Data from appliance usage list from PSNH: The Northeast Utility System) ",null,null,null,null,null,null,null,null,null,null,null,null,null,null,null,null,null,null,null,null,null,null,null,"Total Energy Use","kJ/hr",null,null,{"$f":"AD26*105480/8760+AD25*3600/8760","v":248.63013698630138},{"$f":"AE26*105480/8760+AE25*3600/8760","v":541.84931506849318},248.63013698630138,541.84931506849318,{"$f":"AH26*105480/8760+AH25*3600/8760","v":385.44756731223424},{"$f":"AI26*105480/8760+AI25*3600/8760","v":343.17538497874352},{"$f":"AJ26*105480/8760+AJ25*3600/8760","v":248.63013698630138},{"$f":"AK26*105480/8760+AK25*3600/8760","v":541.84931506849318}]
[null,"***Assuming 74% EF cooktop, 11% EF oven ",null,null,null,null,null,null,null,null,null,null,null,null,null,null,null,null,null,null,null,null,null,"Simulation Variables"]
[null," ****Assuming 40% EF cooktop, 5.8% EF oven with electronic ignition",null,null,null,null,null,null,null,null,null,null,null,null,null,null,null,null,null,null,null,null,null,null,null,"ConstantAnnualRangeElec","kWh/yr","Portion of annual electricity consumed by cooking range regardless of the number of bedrooms."," ",302,0,302,0,"NA","NA",302,0]
[null,null,null,null,null,null,null,null,null,null,null,null,null,null,null,null,null,null,null,null,null,null,null,null,null,"AnnualRangeElecPerBedroom","kWh/yr/bedroom","Portion of annual electricity consumed by cooking range that scales with the number of bedrooms."," ",101,0,101,0,"NA","NA",101,0]
[null,"1 End-use loads in this table include only energy used within the machine. Associated DHW use is treated separately (see “Domestic Hot Water”). The BA Analysis Spreadsheet can assist with the calculation of this split for an energy- efficient clothes washer or dishwasher based on the Energy Guide label.",null,null,null,null,null,null,null,null,null,null,null,null,null,null,null,null,null,null,null,null,null,null,null,"ConstantAnnualRangeGas","therms/yr","Portion of annual gas consumed by cooking range regardless of the number of bedrooms."," ",0,22.5,0,22.5,"NA","NA",0,22.5]
[null,null,null,null,null,null,null,null,null,null,null,null,null,null,null,null,null,null,null,null,null,null,null,null,null,"AnnualRangeGasPerBedroom","therms/yr/bedroom","Portion of annual gas consumed by cooking range that scales with the number of bedrooms."," ",0,7.5,0,7.5,"NA","NA",0,7.5]
[null,"Common Laundry",null,null,null,{"$f":"E6*C36*C34","v":88958.677685950417},null,null,null,null,null,null,null,null,null,null,null,null,null,null,null,null,null,null,null,"CookingRangeFuelType","Electric or Gas","Indicates the type of cooking range. This value is used to specify what type of range to model in the benchmark."," ","Electric","Gas","Electric","Gas","NA","NA","Electric","Gas"]
[null,"N_units",{"$f":"Nunits","v":200}]
[null,"Bedrooms/unit",{"$f":"1.56","v":1.56}]
[null,"Less energy factor",{"$f":"1/2.42","v":0.41322314049586778}]
[null,"Clothes washer (3.2 ft3 drum)","38.8 + 12.9 × Nbr","=",{"$f":"(38.8 + 12.9*$C$35)*C36*Nunits","v":4869.7520661157032},null,"=",null,0.8,0,null,null,{"$f":"I37*$E37","v":3895.8016528925627},0,{"$f":"I37*$H37","v":0},{"$f":"J37*$H37","v":0},null,null,null,null,null,null,null,"Standard Unit Cost Datasets"]
[null,"Clothes dryer (electric)","538.2 + 179.4 × Nbr","=",{"$f":"(538.2 + 179.4 *$C$35)*C36*Nunits","v":67608.595041322333},null,"=",null,0.15,0.05,null,null,10141.28925619835,3380.4297520661166,{"$f":"I38*$H38","v":0},{"$f":"J38*$H38","v":0},null,null,null,null,null,null,null,null,"General"]
[null,"Clothes dryer (gas)","43 + 14.3 × Nbr","=",{"$f":"(43 + 14.3 *$C$35)*C36*Nunits","v":5397.3553719008269},"19.5 + 6.5 × Nbr","=",{"$f":"(19.5 + 6.5 *$C$35)*C36*Nunits","v":2449.5867768595044},1,0,"Electric",null,5397.3553719008269,0,{"$f":"I40*$H39","v":244.95867768595045},{"$f":"J40*$H39","v":122.47933884297522},null,null,null,null,null,null,null,null,null,"Multiplier","unit",null,null,null,null,null,null,null,null,1,1]
[null,null,null,null,null,null,null,null,0.1,0.05,"Gas",null,null,null,null,null,null,null,null,null,null,null,null,null,"RSMeans 2009"]
[null,null,null,null,null,null,null,null,null,null,null,null,null,null,null,null,null,null,null,null,null,null,null,null,null,"Minimum","$/unit",null,null,null,null,null,null,null,null,828.5,828.5]
[null,"Common Laundry or in-unt:",null,null,null,null,null,null,null,null,null,null,null,null,null,null,null,null,null,null,null,null,null,null,null,"Maximum","$/unit",null,null,null,null,null,null,null,null,1905,1905]
[null,"Point to these:",null,null,{"$f":"IF(NewConst!$F$249=\"yes\",E37,E5)","v":77.5},null,null,{"$f":"IF(NewConst!$F$249=\"yes\",H37,H5)","v":0},null,null,null,null,{"$f":"IF(NewConst!$F$249=\"yes\",M37,M5)","v":62},{"$f":"IF(NewConst!$F$249=\"yes\",N37,N5)","v":0},{"$f":"IF(NewConst!$F$249=\"yes\",O37,O5)","v":0},{"$f":"IF(NewConst!$F$249=\"yes\",P37,P5)","v":0},null,null,null,null,null,null,null,null,null,"BEopt Option Unit Cost","$/unit",null,null,null,null,null,null,null,null,{"$f":"AVERAGE(AJ41:AJ42)","v":1366.75},{"$f":"AVERAGE(AK41:AK42)","v":1366.75}]
[null,null,null,null,{"$f":"IF(NewConst!$F$249=\"yes\",E38,E6)","v":1076.4000000000001},null,null,{"$f":"IF(NewConst!$F$249=\"yes\",H38,H6)","v":0},null,null,null,null,{"$f":"IF(NewConst!$F$249=\"yes\",M38,M6)","v":161.46},{"$f":"IF(NewConst!$F$249=\"yes\",N38,N6)","v":53.820000000000007},{"$f":"IF(NewConst!$F$249=\"yes\",O38,O6)","v":0},{"$f":"IF(NewConst!$F$249=\"yes\",P38,P6)","v":0},null,null,null,null,null,null,null,null,null,"First Cost","$",null,null,null,null,null,null,null,null,{"$f":"IF(ISNUMBER(AJ43), AJ39*AJ43, \"\")","v":1366.75},{"$f":"IF(ISNUMBER(AK43), AK39*AK43, \"\")","v":1366.75}]
[null,null,null,null,{"$f":"IF(NewConst!$F$249=\"yes\",E39,E7)","v":85.9},null,null,{"$f":"IF(NewConst!$F$249=\"yes\",H39,H7)","v":39},null,null,null,null,{"$f":"IF(NewConst!$F$249=\"yes\",M39,M7)","v":85.9},{"$f":"IF(NewConst!$F$249=\"yes\",N39,N7)","v":0},{"$f":"IF(NewConst!$F$249=\"yes\",O39,O7)","v":3.9000000000000004},{"$f":"IF(NewConst!$F$249=\"yes\",P39,P7)","v":1.9500000000000002},null,null,null,null,null,null,null,"Standard Lifetime Datasets"]
[null,null,null,null,null,null,null,null,null,null,null,null,null,null,null,null,null,null,null,null,null,null,null,null,"NAHB"]
[null,null,null,null,null,null,null,null,null,null,null,null,null,null,null,null,null,null,null,null,null,null,null,null,null,"BEopt Option Lifetime","years",null,null,null,null,null,null,null,null,13,15]
[null,null,null,null,null,null,null,null,null,null,null,null,null,null,null,null,null,null,null,null,null,null,null,"> Currently, the BEOpt options are identical to the BA Benchmarks."]
[]
[]
[null,"Modeling the NCTH",null,null,null,null,null,null,null,null,null,null,null,null,null,null,null,null,null,null,null,"Dishwasher"]
[null,"Table 23. Useful Cooking Energy Output for Gas and Electric Ranges",null,null,null,null,null,null,null,null,null,null,"Electric (kWh/yr)",null,"Gas (therms/yr)"]
[null,"State","Useful Cooking Energy Output ",null,null,"Annual Energy Input\n(Divide by EF)",null,"Total",{"$f":"I2","v":"Sensible Load Fraction"},{"$f":"J2","v":"Latent Load Fraction"},null,null,"Sensible Load ","Latent Load","Sensible Load ","Latent Load",null,null,null,null,null,null,"Category Information"]
[null,"Electric cooktop","86.5 + 28.9 × Nbr kWh/yr","=",{"$f":"86.5 + 28.9*N_br","v":173.2},{"$f":"E54/NewConst!F323","v":432.99999999999994},"}",{"$f":"F54+F55","v":938.17241379310337},{"$f":"I10","v":0.4},{"$f":"J10","v":0.3},null,null,{"$f":"I54*$H54","v":375.26896551724138},{"$f":"J54*$H54","v":281.45172413793102},null,null,null,null,null,null,null,null,null,"General"]
[null,"Electric oven ","14.6 + 4.9 × Nbr kWh/yr","=",{"$f":"14.6 + 4.9 *N_br","v":29.3},{"$f":"E55/NewConst!F324","v":505.17241379310343},null,null,null,null,null,null,null,null,null,null,null,null,null,null,null,null,null,null,null,"BEopt Category Type","DOE2/TRNSYS/E+/PV/BEopt","TRNSYS, E+"]
[null,"Gas cooktop","2.64 + 0.88 × Nbr therms/yr","=",{"$f":"2.64 + 0.88 *N_br","v":5.28},{"$f":"E56/NewConst!F323","v":13.2},"}",{"$f":"F56+F57","v":28.544827586206893},{"$f":"I11","v":0.3},{"$f":"J11","v":0.2},null,null,null,null,{"$f":"I56*$H56","v":8.5634482758620667},{"$f":"J56*$H56","v":5.7089655172413787},null,null,null,null,null,null,null,null,null,"BEopt Mutually Exclusive With"]
[null,"Gas oven","0.44 + 0.15 × Nbr therms/yr","=",{"$f":"0.44 + 0.15*N_br","v":0.8899999999999999},{"$f":"E57/NewConst!F324","v":15.344827586206893},null,null,null,null,null,null,null,null,null,null,null,null,null,null,null,null,null,null,null,"BEopt Notes",null,"All dishwashers have similar features.  Energy consumption for water heating depends on mains water temperature and is location-dependent.  In the case where all hot water is heated internally, DHW use is zero."," ",null," "]
[null,"Ignitor electriciyt if gas w/ glo-bar","40 + 13.3 x N_br kWh/yr","=",{"$f":"40+13.3*N_br","v":79.900000000000006},{"$f":"40+13.3*N_br","v":79.900000000000006},"=",{"$f":"F58","v":79.900000000000006},{"$f":"I56","v":0.3},{"$f":"J56","v":0.2},null,null,{"$f":"$H58*I58","v":23.970000000000002},{"$f":"$H58*J58","v":15.980000000000002},null,null,null,null,null,null,null,null,null,null,null,"BEopt Affects Rendering","TRUE or FALSE",false]
[null,"Multifamily Common Area","Use reduction factor","=",{"$f":"1/7","v":0.14285714285714285},null,null,null,null,null,null,null,null,null,null,null,null,null,null,null,null,null,null,null,null,"BEopt Default Option",null,1]
[null,"Electric cooktop","86.5 + 28.9 × Nbr kWh/yr","=",{"$f":"E54*$E$59","v":24.74285714285714},{"$f":"E60/NewConst!F341","v":61.857142857142847},"}",{"$f":"F60+F61","v":134.02463054187191},{"$f":"I54","v":0.4},{"$f":"J54","v":0.3},null,null,{"$f":"I60*$H60","v":53.60985221674877},{"$f":"J60*$H60","v":40.207389162561576},null,null,null,null,null,null,null,null,null,null,null,"BEopt Well Ordered Category",null,true]
[null,"Electric oven ","14.6 + 4.9 × Nbr kWh/yr","=",{"$f":"E55*$E$59","v":4.1857142857142859},{"$f":"E61/NewConst!F342","v":72.167487684729068},null,null,null,null,null,null,null,null,null,null,null,null,null,null,null,null,null,"Geometry"]
[null,"Gas cooktop","2.64 + 0.88 × Nbr therms/yr","=",{"$f":"E56*$E$59","v":0.75428571428571423},{"$f":"E62/NewConst!F341","v":1.8857142857142855},"}",{"$f":"F62+F63","v":4.0778325123152701},{"$f":"I56","v":0.3},{"$f":"J56","v":0.2},null,null,null,null,{"$f":"I62*$H62","v":1.223349753694581},{"$f":"J62*$H62","v":0.81556650246305407},null,null,null,null,null,null,null,null,null,{"$f":"NewConst!$C$26","v":"Number of Bedrooms (6 maximum)"},{"$f":"NewConst!$D$26","v":"#"},{"$f":"N_br","v":3}]
[null,"Gas oven","0.44 + 0.15 × Nbr therms/yr","=",{"$f":"E57*$E$59","v":0.12714285714285711},{"$f":"E63/NewConst!F342","v":2.1921182266009844},null,null,null,null,null,null,null,null,null,null,null,null,null,null,null,null,null,"Energy"]
[null,"Ignitor electriciyt if gas w/ glo-bar","40 + 13.3 x N_br kWh/yr","=",{"$f":"E58*$E$59","v":11.414285714285715},{"$f":"40+13.3*N_br","v":79.900000000000006},"=",{"$f":"F64","v":79.900000000000006},{"$f":"I62","v":0.3},{"$f":"J62","v":0.2},null,null,{"$f":"$H64*I64","v":23.970000000000002},{"$f":"$H64*J64","v":15.980000000000002},null,null,null,null,null,null,null,null,null,null,null,"Mains Temperature, Jan","degF",{"$f":"'Monthly Profiles'!G6","v":48.718290388117268}]
[null,null,null,null,null,null,null,null,null,null,null,null,null,null,null,null,null,null,null,null,null,null,null,null,null,"Mains Temperature, Feb","degF",{"$f":"'Monthly Profiles'!G7","v":47.641339778292384}]
[null,null,null,null,null,null,null,null,null,null,null,null,null,null,null,null,null,null,null,null,null,null,null,null,null,"Mains Temperature, Mar","degF",{"$f":"'Monthly Profiles'!G8","v":49.150569276918105}]
[null,null,null,null,null,null,null,null,null,null,null,null,null,null,null,null,null,null,null,null,null,null,null,null,null,"Mains Temperature, Apr","degF",{"$f":"'Monthly Profiles'!G9","v":52.85257495724705}]
[null,null,null,null,null,null,null,null,null,null,null,null,null,null,null,null,null,null,null,null,null,null,null,null,null,"Mains Temperature, May","degF",{"$f":"'Monthly Profiles'!G10","v":57.782371989067066}]
[null,null,null,null,null,null,null,null,null,null,null,null,null,null,null,null,null,null,null,null,null,null,null,null,null,"Mains Temperature, Jun","degF",{"$f":"'Monthly Profiles'!G11","v":62.654932805562403}]
[null,null,null,null,null,null,null,null,null,null,null,null,null,null,null,null,null,null,null,null,null,null,null,null,null,"Mains Temperature, Jul","degF",{"$f":"'Monthly Profiles'!G12","v":66.200149341478465}]
[null,null,null,null,null,null,null,null,null,null,null,null,null,null,null,null,null,null,null,null,null,null,null,null,null,"Mains Temperature, Aug","degF",{"$f":"'Monthly Profiles'!G13","v":67.493906273288161}]
[null,null,null,null,null,null,null,null,null,null,null,null,null,null,null,null,null,null,null,null,null,null,null,null,null,"Mains Temperature, Sep","degF",{"$f":"'Monthly Profiles'!G14","v":66.198965919317473}]
[null,null,null,null,null,null,null,null,null,null,null,null,null,null,null,null,null,null,null,null,null,null,null,null,null,"Mains Temperature, Oct","degF",{"$f":"'Monthly Profiles'!G15","v":62.65287443846379}]
[null,null,null,null,null,null,null,null,null,null,null,null,null,null,null,null,null,null,null,null,null,null,null,null,null,"Mains Temperature, Nov","degF",{"$f":"'Monthly Profiles'!G16","v":57.779975222135477}]
[null,null,null,null,null,null,null,null,null,null,null,null,null,null,null,null,null,null,null,null,null,null,null,null,null,"Mains Temperature, Dec","degF",{"$f":"'Monthly Profiles'!G17","v":52.850464544718484}]
[null,null,null,null,null,null,null,null,null,null,null,null,null,null,null,null,null,null,null,null,null,null,null,null,null,{"$f":"'Monthly Profiles'!B47","v":"Number Days, Jan"},"#",{"$f":"'Monthly Profiles'!$D$47","v":31}]
[null,null,null,null,null,null,null,null,null,null,null,null,null,null,null,null,null,null,null,null,null,null,null,null,null,{"$f":"'Monthly Profiles'!B48","v":"Number Days, Feb"},"#",{"$f":"'Monthly Profiles'!$D$48","v":28}]
[null,null,null,null,null,null,null,null,null,null,null,null,null,null,null,null,null,null,null,null,null,null,null,null,null,{"$f":"'Monthly Profiles'!B49","v":"Number Days, Mar"},"#",{"$f":"'Monthly Profiles'!$D$49","v":31}]
[null,null,null,null,null,null,null,null,null,null,null,null,null,null,null,null,null,null,null,null,null,null,null,null,null,{"$f":"'Monthly Profiles'!B50","v":"Number Days, Apr"},"#",{"$f":"'Monthly Profiles'!$D$50","v":30}]
[null,null,null,null,null,null,null,null,null,null,null,null,null,null,null,null,null,null,null,null,null,null,null,null,null,{"$f":"'Monthly Profiles'!B51","v":"Number Days, May"},"#",{"$f":"'Monthly Profiles'!$D$51","v":31}]
[null,null,null,null,null,null,null,null,null,null,null,null,null,null,null,null,null,null,null,null,null,null,null,null,null,{"$f":"'Monthly Profiles'!B52","v":"Number Days, Jun"},"#",{"$f":"'Monthly Profiles'!$D$52","v":30}]
[null,null,null,null,null,null,null,null,null,null,null,null,null,null,null,null,null,null,null,null,null,null,null,null,null,{"$f":"'Monthly Profiles'!B53","v":"Number Days, Jul"},"#",{"$f":"'Monthly Profiles'!$D$53","v":31}]
[null,null,null,null,null,null,null,null,null,null,null,null,null,null,null,null,null,null,null,null,null,null,null,null,null,{"$f":"'Monthly Profiles'!B54","v":"Number Days, Aug"},"#",{"$f":"'Monthly Profiles'!$D$54","v":31}]
[null,null,null,null,null,null,null,null,null,null,null,null,null,null,null,null,null,null,null,null,null,null,null,null,null,{"$f":"'Monthly Profiles'!B55","v":"Number Days, Sep"},"#",{"$f":"'Monthly Profiles'!$D$55","v":30}]
[null,null,null,null,null,null,null,null,null,null,null,null,null,null,null,null,null,null,null,null,null,null,null,null,null,{"$f":"'Monthly Profiles'!B56","v":"Number Days, Oct"},"#",{"$f":"'Monthly Profiles'!$D$56","v":31}]
[null,null,null,null,null,null,null,null,null,null,null,null,null,null,null,null,null,null,null,null,null,null,null,null,null,{"$f":"'Monthly Profiles'!B57","v":"Number Days, Nov"},"#",{"$f":"'Monthly Profiles'!$D$57","v":30}]
[null,null,null,null,null,null,null,null,null,null,null,null,null,null,null,null,null,null,null,null,null,null,null,null,null,{"$f":"'Monthly Profiles'!B58","v":"Number Days, Dec"},"#",{"$f":"'Monthly Profiles'!$D$58","v":31}]
[null,null,null,null,null,null,null,null,null,null,null,null,null,null,null,null,null,null,null,null,null,null,null,null,null,"Standard Capacity","place settings",8]
[null,null,null,null,null,null,null,null,null,null,null,null,null,null,null,null,null,null,null,null,null,null,null,null,null,"Gas DHW Efficiency (test conditions)",null,0.75]
[null,null,null,null,null,null,null,null,null,null,null,null,null,null,null,null,null,null,null,null,null,null,null,null,null,"Electric DHW Efficiency (test conditions)",null,1]
[null,null,null,null,null,null,null,null,null,null,null,null,null,null,null,null,null,null,null,null,null,null,null,null,null,"kWh / therm * Gas DHW Efficiency","kWh / therm",{"$f":"29.3*$AB$89","v":21.975000000000001}]
[null,null,null,null,null,null,null,null,null,null,null,null,null,null,null,null,null,null,null,null,null,null,null,null,null,"Cold Water Inlet Temperature (test conditions)","degF",50]
[null,null,null,null,null,null,null,null,null,null,null,null,null,null,null,null,null,null,null,null,null,null,null,null,null,"Water Density","kg / gal",3.7850000000000001]
[null,null,null,null,null,null,null,null,null,null,null,null,null,null,null,null,null,null,null,null,null,null,null,null,null,{"$f":"NewConst!C112","v":"Tank Setpoint"},{"$f":"NewConst!D112","v":"deg F"},{"$f":"NewConst!$F$112","v":130}]
[]
[null,null,null,null,null,null,null,null,null,null,null,null,null,null,null,null,null,null,null,null,null,null,"Option Information",null,null,null,"Units","Comments","Constraints"]
[null,null,null,null,null,null,null,null,null,null,null,null,null,null,null,null,null,null,null,null,null,null,null,"General"]
[null,null,null,null,null,null,null,null,null,null,null,null,null,null,null,null,null,null,null,null,null,null,null,null,null,"BEopt Option Type","Option/BAB/NCTH",null,null,"BAB","IECC_06","NCTH","Common ","Option","Option"]
[null,null,null,null,null,null,null,null,null,null,null,null,null,null,null,null,null,null,null,null,null,null,null,null,null,"BEopt Option Name",null,null,null,"Benchmark","2006 IECC","NCTH","Area","Standard","EnergyStar"]
[null,null,null,null,null,null,null,null,null,null,null,null,null,null,null,null,null,null,null,null,null,null,null,null,"From the Manufacturer's Website"]
[null,null,null,null,null,null,null,null,null,null,null,null,null,null,null,null,null,null,null,null,null,null,null,null,null,"Make",null,null,null,"NA","NA","NA","NA","GE","GE"]
[null,null,null,null,null,null,null,null,null,null,null,null,null,null,null,null,null,null,null,null,null,null,null,null,null,"Model",null,null,null,"NA","NA","NA","NA","GSD1000GWW","GSD2600GWW"]
[null,null,null,null,null,null,null,null,null,null,null,null,null,null,null,null,null,null,null,null,null,null,null,null,null,"Capacity","place settings",null,null,"NA","NA",{"$f":"NewConst!F292","v":14},{"$f":"NewConst!F310","v":14},8,8]
[null,null,null,null,null,null,null,null,null,null,null,null,null,null,null,null,null,null,null,null,null,null,null,null,null,"Internal Heater Adjustment?","YES or NO",null,null,"NA","NA",{"$f":"NewConst!F293","v":"YES"},{"$f":"NewConst!F311","v":"YES"},"YES","YES"]
[null,null,null,null,null,null,null,null,null,null,null,null,null,null,null,null,null,null,null,null,null,null,null,null,null,"Cold Water Connection Only?","YES or NO",null,null,"NA","NA",{"$f":"NewConst!F294","v":"NO"},{"$f":"NewConst!F312","v":"NO"},"NO","NO"]
[null,null,null,null,null,null,null,null,null,null,null,null,null,null,null,null,null,null,null,null,null,null,null,null,null,"Energy Star?","YES or NO",null,null,"NA","NA","NA","NA","NO","YES"]
[null,null,null,null,null,null,null,null,null,null,null,null,null,null,null,null,null,null,null,null,null,null,null,"Energy"]
[null,null,null,null,null,null,null,null,null,null,null,null,null,null,null,null,null,null,null,null,null,null,null,null,"Energy Guide Label"]
[null,null,null,null,null,null,null,null,null,null,null,null,null,null,null,null,null,null,null,null,null,null,null,null,null,"Cost of Electricity","$ / kWh",null,null,"NA","NA",{"$f":"NewConst!F290","v":8.4000000000000005E-2},{"$f":"NewConst!F308","v":8.4000000000000005E-2},8.5999999999999993E-2,8.5999999999999993E-2]
[null,null,null,null,null,null,null,null,null,null,null,null,null,null,null,null,null,null,null,null,null,null,null,null,null,"Cost of Natural Gas","$ / therm",null,null,"NA","NA",{"$f":"NewConst!F291","v":0.82},{"$f":"NewConst!F309","v":0.82},0.91,0.91]
[null,null,null,null,null,null,null,null,null,null,null,null,null,null,null,null,null,null,null,null,null,null,null,null,null,"Annual Cost with Elec. DHW","$",null,null,"NA","NA",{"$f":"NewConst!F288","v":31},{"$f":"NewConst!F306","v":31},40,33]
[null,null,null,null,null,null,null,null,null,null,null,null,null,null,null,null,null,null,null,null,null,null,null,null,null,"Annual Cost with Gas DHW","$",null,null,"NA","NA",{"$f":"NewConst!F289","v":21},{"$f":"NewConst!F307","v":21},25,21]
[null,null,null,null,null,null,null,null,null,null,null,null,null,null,null,null,null,null,null,null,null,null,null,null,null,"Annual Energy Consumption (test conditions)","kWh / yr",null,null,"NA","NA",{"$f":"NewConst!F287","v":372},{"$f":"NewConst!F305","v":372},462,384]
[null,null,null,null,null,null,null,null,null,null,null,null,null,null,null,null,null,null,null,null,null,null,null,null,null,"Test Date"," ",null,null,"NA","NA",{"$f":"NewConst!F296","v":"2004 or later"},{"$f":"NewConst!F314","v":"2003-01-01"},"2004-01-01","2003-01-01"]
[null,null,null,null,null,null,null,null,null,null,null,null,null,null,null,null,null,null,null,null,null,null,null,null,"DOE Test Conditions"]
[null,null,null,null,null,null,null,null,null,null,null,null,null,null,null,null,null,null,null,null,null,null,null,null,null,"Cycles / Year (test conditions)","cycles / yr",null,null,"NA","NA",{"$f":"IF(AF114=\"Before 6/15/2002\",322,IF(AF114=\"6/15/2002 to 12/31/2003\",264,IF(AF114=\"2004 or later\",215,\"error\")))","v":215},{"$f":"IF(AG114<DATE(2002,6,15),322,IF(AG114<DATE(2004,1,1),264,215))","v":264},{"$f":"IF(AH114<DATE(2002,6,15),322,IF(AH114<DATE(2004,1,1),264,215))","v":215},{"$f":"IF(AI114<DATE(2002,6,15),322,IF(AI114<DATE(2004,1,1),264,215))","v":264}]
[null,null,null,null,null,null,null,null,null,null,null,null,null,null,null,null,null,null,null,null,null,null,null,null,null,"Water Consumption per Cycle (Cold inlet machines only)","gal/cycle",null,null,"NA","NA",{"$f":"NewConst!F295","v":5},{"$f":"NewConst!F313","v":5},0,0]
[null,null,null,null,null,null,null,null,null,null,null,null,null,null,null,null,null,null,null,null,null,null,null,null,"Annual Cycles"]
[null,null,null,null,null,null,null,null,null,null,null,null,null,null,null,null,null,null,null,null,null,null,null,null,null,"Actual Cycles / Year (BASED ON EXAMPLE DATA)","cycles / yr",null,null,"NA","NA",{"$f":"(215*(0.5+$AB$62/6))*$AB$88/$AF$103","v":122.85714285714286},52,{"$f":"AH116*(0.5+$AB$62/6)*$AB$88/AH103","v":215},{"$f":"AI116*(0.5+$AB$62/6)*$AB$88/AI103","v":264}]
[null,null,null,null,null,null,null,null,null,null,null,null,null,null,null,null,null,null,null,null,null,null,null,null,"Domestic Hot Water"]
[null,null,null,null,null,null,null,null,null,null,null,null,null,null,null,null,null,null,null,null,null,null,null,null,null,"Gas Consumption / Cycle (test conditions)","therms / cycle",null,null,"NA","NA",{"$f":"IF(AF105=\"yes\",0,(AF113*AF109-AF112)/(($AB91*AF109)-AF110)/AF116)","v":4.646175677850644E-2},{"$f":"IF(AG105=\"yes\",0,(AG113*AG109-AG112)/(($AB91*AG109)-AG110)/AG116)","v":3.7838173134010923E-2},{"$f":"IF(AH105=\"yes\",0,(AH113*AH109-AH112)/(($AB$91*AH109)-AH110)/AH116)","v":6.9930020138345803E-2},{"$f":"IF(AI105=\"yes\",0,(AI113*AI109-AI112)/(($AB$91*AI109)-AI110)/AI116)","v":4.6482068220089351E-2}]
[null,null,null,null,null,null,null,null,null,null,null,null,null,null,null,null,null,null,null,null,null,null,null,null,null,"Electricity Consumption / Cycle (test conditions)","kWh / cycle",null,null,"NA","NA",{"$f":"AF121*$AB91","v":1.0209971052076792},{"$f":"AG121*$AB91","v":0.83149385461989012},{"$f":"AH121*$AB$91","v":1.536712192540149},{"$f":"AI121*$AB$91","v":1.0214434491364635}]
[null,null,null,null,null,null,null,null,null,null,null,null,null,null,null,null,null,null,null,null,null,null,null,null,null,"Actual Electricity Consumption / Year (BASED ON EXAMPLE DATA)","kWh / yr",null,null,"NA","NA",{"$f":"AF122*AF119","v":125.43678721122916},{"$f":"AG122*AG119","v":43.237680440234286},{"$f":"AH122*AH119","v":330.39312139613202},{"$f":"AI122*AI119","v":269.66107057202635}]
[null,null,null,null,null,null,null,null,null,null,null,null,null,null,null,null,null,null,null,null,null,null,null,null,null,"Actual Hot Water Consumption / Year (BASED ON EXAMPLE DATA)","gal / yr",null,null,"NA","NA",{"$f":"IF(AF105=\"yes\",0,IF(AF104=\"yes\",AF123/(70*0.0024),AF123/(90*0.0024)))","v":746.64754292398322},{"$f":"IF(AG105=\"yes\",0,IF(AG104=\"yes\",AG123/(70*0.0024),AG123/(90*0.0024)))","v":257.36714547758504},{"$f":"IF(AH105=\"yes\",0,IF(AH104=\"yes\",AH123/(70*0.0024),AH123/(90*0.0024)))","v":1966.6257225960242},{"$f":"IF(AI105=\"yes\",0,IF(AI104=\"yes\",AI123/(70*0.0024),AI123/(90*0.0024)))","v":1605.1254200715855}]
[null,null,null,null,null,null,null,null,null,null,null,null,null,null,null,null,null,null,null,null,null,null,null,null,null,"Actual Hot Water Consumption / Day (BASED ON EXAMPLE DATA)","gal / day",null,null,{"$f":"2.5 + 0.833*$AB$62","v":4.9989999999999997},4.9989999999999997,{"$f":"AF124/365","v":2.0456097066410499},{"$f":"AG124/365","v":0.70511546706187678},{"$f":"AH124/365","v":5.3880156783452717},{"$f":"AI124/365","v":4.3976038906070833}]
[null,null,null,null,null,null,null,null,null,null,null,null,null,null,null,null,null,null,null,null,null,null,null,null,"Internal (Machine) Energy"]
[null,null,null,null,null,null,null,null,null,null,null,null,null,null,null,null,null,null,null,null,null,null,null,null,null,"Electricity Use / Cycle (test conditions)","kWh / cycle",null,null,"NA","NA",{"$f":"AF113/AF116-AF122","v":0.70923545293185564},{"$f":"AG113/AG116-AG122","v":0.57759705447101906},{"$f":"AH113/AH116-AH122","v":0.61212501676217657},{"$f":"AI113/AI116-AI122","v":0.43310200540899113}]
[null,null,null,null,null,null,null,null,null,null,null,null,null,null,null,null,null,null,null,null,null,null,null,null,null,"Actual Elec Use / Month, Jan (BASED ON EXAMPLE DATA)","kJ / month",null,null,"NA","NA",{"$f":"(IF(AF$105=\"yes\",($AB$92-$AB64)*AF$117*AF$119/365,IF(AND(AF$104=\"yes\",120-$AB$94>0),(120-$AB$94)*AF$124,0))*0.0024+(AF$127*AF$119/365))*3600*$AB76","v":26641.715002186997},{"$f":"(IF(AG$105=\"yes\",($AB$92-$AB64)*AG$117*AG$119/365,IF(AND(AG$104=\"yes\",120-$AB$94>0),(120-$AB$94)*AG$124,0))*0.0024+(AG$127*AG$119/365))*3600*$AB76","v":9183.3184287841596},{"$f":"(IF(AH$105=\"yes\",($AB$92-$AB64)*AH$117*AH$119/365,IF(AND(AH$104=\"yes\",120-$AB$94<>0),(120-$AB$94)*AH$124,0))*0.0024+(AH$127*AH$119/365))*3600*$AB76","v":-5227171.0815595696},-4264208.4058754556]
[null,null,null,null,null,null,null,null,null,null,null,null,null,null,null,null,null,null,null,null,null,null,null,null,null,"Actual Elec Use / Month, Feb (BASED ON EXAMPLE DATA)","kJ / month",null,null,"NA","NA",24063.484518104386,{"$f":"(IF(AG$105=\"yes\",($AB$92-$AB65)*AG$117*AG$119/365,IF(AND(AG$104=\"yes\",120-$AB$94>0),(120-$AB$94)*AG$124,0))*0.0024+(AG$127*AG$119/365))*3600*$AB77","v":8294.610193740531},-4721315.8156021927,-3851543.0762746045]
[null,null,null,null,null,null,null,null,null,null,null,null,null,null,null,null,null,null,null,null,null,null,null,null,null,"Actual Elec Use / Month, Mar (BASED ON EXAMPLE DATA)","kJ / month",null,null,"NA","NA",26641.715002186997,9183.3184287841596,-5227171.0815595696,-4264208.4058754556]
[null,null,null,null,null,null,null,null,null,null,null,null,null,null,null,null,null,null,null,null,null,null,null,null,null,"Actual Elec Use / Month, Apr (BASED ON EXAMPLE DATA)","kJ / month",null,null,"NA","NA",25782.304840826127,8887.0823504362834,-5058552.6595737776,-4126653.2960085049]
[null,null,null,null,null,null,null,null,null,null,null,null,null,null,null,null,null,null,null,null,null,null,null,null,null,"Actual Elec Use / Month, May (BASED ON EXAMPLE DATA)","kJ / month",null,null,"NA","NA",26641.715002186997,9183.3184287841596,-5227171.0815595696,-4264208.4058754556]
[null,null,null,null,null,null,null,null,null,null,null,null,null,null,null,null,null,null,null,null,null,null,null,null,null,"Actual Elec Use / Month, Jun (BASED ON EXAMPLE DATA)","kJ / month",null,null,"NA","NA",25782.304840826127,8887.0823504362834,-5058552.6595737776,-4126653.2960085049]
[null,null,null,null,null,null,null,null,null,null,null,null,null,null,null,null,null,null,null,null,null,null,null,null,null,"Actual Elec Use / Month, Jul (BASED ON EXAMPLE DATA)","kJ / month",null,null,"NA","NA",26641.715002186997,9183.3184287841596,-5227171.0815595696,-4264208.4058754556]
[null,null,null,null,null,null,null,null,null,null,null,null,null,null,null,null,null,null,null,null,null,null,null,null,null,"Actual Elec Use / Month, Aug (BASED ON EXAMPLE DATA)","kJ / month",null,null,"NA","NA",26641.715002186997,9183.3184287841596,-5227171.0815595696,-4264208.4058754556]
[null,null,null,null,null,null,null,null,null,null,null,null,null,null,null,null,null,null,null,null,null,null,null,null,null,"Actual Elec Use / Month, Sep (BASED ON EXAMPLE DATA)","kJ / month",null,null,"NA","NA",25782.304840826127,8887.0823504362834,-5058552.6595737776,-4126653.2960085049]
[null,null,null,null,null,null,null,null,null,null,null,null,null,null,null,null,null,null,null,null,null,null,null,null,null,"Actual Elec Use / Month, Oct (BASED ON EXAMPLE DATA)","kJ / month",null,null,"NA","NA",26641.715002186997,9183.3184287841596,-5227171.0815595696,-4264208.4058754556]
[null,null,null,null,null,null,null,null,null,null,null,null,null,null,null,null,null,null,null,null,null,null,null,null,null,"Actual Elec Use / Month, Nov (BASED ON EXAMPLE DATA)","kJ / month",null,null,"NA","NA",25782.304840826127,8887.0823504362834,-5058552.6595737776,-4126653.2960085049]
[null,null,null,null,null,null,null,null,null,null,null,null,null,null,null,null,null,null,null,null,null,null,null,null,null,"Actual Elec Use / Month, Dec (BASED ON EXAMPLE DATA)","kJ / month",null,null,"NA","NA",26641.715002186997,9183.3184287841596,-5227171.0815595696,-4264208.4058754556]
[null,null,null,null,null,null,null,null,null,null,null,null,null,null,null,null,null,null,null,null,null,null,null,null,null,"Actual Elec Use / Year (BASED ON EXAMPLE DATA)","kWh / yr",null,null,{"$f":"103+34.3*$AB$62","v":205.89999999999998},205.9,{"$f":"SUM(AF128:AF139)/3600","v":87.134641360199424},{"$f":"SUM(AG128:AG139)/3600","v":30.035046832492991},{"$f":"SUM(AH128:AH139)/3600","v":-17096.034451337302},{"$f":"SUM(AI128:AI139)/3600","v":-13946.559750399114}]
[null,null,null,null,null,null,null,null,null,null,null,null,null,null,null,null,null,null,null,null,null,null,null,"Simulation Variables"]
[null,null,null,null,null,null,null,null,null,null,null,null,null,null,null,null,null,null,null,null,null,null,null,null,null,"DWIsColdWaterInletOnly","YES or NO","Does the dishwasher use a cold water connection only.   Input obtained from manufacturer's literature."," ",{"$f":"AD105","v":"NA"},"NA",{"$f":"AF105","v":"NO"},null,{"$f":"AH105","v":"NO"},{"$f":"AI105","v":"NO"}]
[null,null,null,null,null,null,null,null,null,null,null,null,null,null,null,null,null,null,null,null,null,null,null,null,null,"DWInternalHeaterAdjustment","YES or NO","Does the system use an internal electric heater to adjust water temperature?   Input obtained from manufacturer's literature."," ",{"$f":"AD104","v":"NA"},"NA",{"$f":"AF104","v":"YES"},null,{"$f":"AH104","v":"YES"},{"$f":"AI104","v":"YES"}]
[null,null,null,null,null,null,null,null,null,null,null,null,null,null,null,null,null,null,null,null,null,null,null,null,null,"DWColdWaterConnUsePerCycle",{"$f":"AA117","v":"gal/cycle"},"Volume of water per cycle used if there is only a cold water inlet connection, for the dishwasher.   Input obtained from manufacturer's literature."," ",{"$f":"AD117","v":"NA"},"NA",{"$f":"AF117","v":5},null,{"$f":"AH117","v":0},{"$f":"AI117","v":0}]
[null,null,null,null,null,null,null,null,null,null,null,null,null,null,null,null,null,null,null,null,null,null,null,null,null,"DWEnergyGuideDate","mm, dd, yyyy","This is the Energy Guide test date."," ",{"$f":"IF(ISNUMBER(AD114)=TRUE,MONTH(AD114) & \", \" & DAY(AD114) & \", \" & YEAR(AD114),\"NA\")","v":"NA"},"NA",null,null,{"$f":"IF(ISNUMBER(AH114)=TRUE,MONTH(AH114) & \", \" & DAY(AH114) & \", \" & YEAR(AH114),\"NA\")","v":"1, 1, 2004"},{"$f":"IF(ISNUMBER(AI114)=TRUE,MONTH(AI114) & \", \" & DAY(AI114) & \", \" & YEAR(AI114),\"NA\")","v":"1, 1, 2003"}]
[null,null,null,null,null,null,null,null,null,null,null,null,null,null,null,null,null,null,null,null,null,null,null,null,null,"DWEnergyGuideAnnualEnergy","kWh/yr","Annual energy used by the dishwasher, as rated.  Obtained from EnergyGuide label."," ",{"$f":"AD113","v":"NA"},{"$f":"AE113","v":"NA"},{"$f":"AF113","v":372},null,{"$f":"AH113","v":462},{"$f":"AI113","v":384}]
[null,null,null,null,null,null,null,null,null,null,null,null,null,null,null,null,null,null,null,null,null,null,null,null,null,"DWEnergyGuideGasCost","$/therm","Obtained from the EnergyGuide label."," ",{"$f":"AD110","v":"NA"},{"$f":"AE110","v":"NA"},{"$f":"AF110","v":0.82},null,{"$f":"AH110","v":0.91},{"$f":"AI110","v":0.91}]
[null,null,null,null,null,null,null,null,null,null,null,null,null,null,null,null,null,null,null,null,null,null,null,null,null,"DWEnergyGuideElecCost","$/kWh","Obtained from the EnergyGuide label."," ",{"$f":"AD109","v":"NA"},{"$f":"AE109","v":"NA"},{"$f":"AF109","v":8.4000000000000005E-2},null,{"$f":"AH109","v":8.5999999999999993E-2},{"$f":"AI109","v":8.5999999999999993E-2}]
[null,null,null,null,null,null,null,null,null,null,null,null,null,null,null,null,null,null,null,null,null,null,null,null,null,"DWEnergyGuideAnnualGasCost","$/yr","Obtained from the EnergyGuide label."," ",{"$f":"AD112","v":"NA"},{"$f":"AE112","v":"NA"},{"$f":"AF112","v":21},null,{"$f":"AH112","v":25},{"$f":"AI112","v":21}]
[null,null,null,null,null,null,null,null,null,null,null,null,null,null,null,null,null,null,null,null,null,null,null,null,null,"DWcapacity","place settings","The number of place settings for the unit.  Data obtained from manufacturer's literature."," ",{"$f":"AD103","v":"NA"},"NA",{"$f":"AF103","v":14},null,{"$f":"AH103","v":8},{"$f":"AI103","v":8}]
[null,null,null,null,null,null,null,null,null,null,null,null,null,null,null,null,null,null,null,null,null,null,null,"Standard Unit Cost Datasets"]
[null,null,null,null,null,null,null,null,null,null,null,null,null,null,null,null,null,null,null,null,null,null,null,null,"General"]
[null,null,null,null,null,null,null,null,null,null,null,null,null,null,null,null,null,null,null,null,null,null,null,null,null,"Multiplier","unit",null,null,null,null,null,null,1,1]
[null,null,null,null,null,null,null,null,null,null,null,null,null,null,null,null,null,null,null,null,null,null,null,null,"ge.com 2007 (2009 inflation adjusted)"]
[null,null,null,null,null,null,null,null,null,null,null,null,null,null,null,null,null,null,null,null,null,null,null,null,null,"BEopt Option Unit Cost","$/unit",null,null,null,null,null,null,259,329]
[null,null,null,null,null,null,null,null,null,null,null,null,null,null,null,null,null,null,null,null,null,null,null,null,null,"First Cost","$",null,null,null,null,null,null,{"$f":"AH155*AH153*(1.02)^2","v":269.46359999999999},{"$f":"AI155*AI153*(1.02)^2","v":342.29160000000002}]
[null,null,null,null,null,null,null,null,null,null,null,null,null,null,null,null,null,null,null,null,null,null,null,null,"DEER 2008"]
[null,null,null,null,null,null,null,null,null,null,null,null,null,null,null,null,null,null,null,null,null,null,null,null,null,"BEopt Option Unit Cost","$/unit",null,null,null,null,null,null,{"$f":"230.37 + 115.51","v":345.88},{"$f":"514.91 + 120.53","v":635.43999999999994}]
[null,null,null,null,null,null,null,null,null,null,null,null,null,null,null,null,null,null,null,null,null,null,null,null,null,"First Cost","$",null,null,null,null,null,null,{"$f":"IF(ISNUMBER(AH158), AH153*AH158, \"\")","v":345.88},{"$f":"IF(ISNUMBER(AI158), AI153*AI158, \"\")","v":635.43999999999994}]
[null,null,null,null,null,null,null,null,null,null,null,null,null,null,null,null,null,null,null,null,null,null,null,"Standard Lifetime Datasets"]
[null,null,null,null,null,null,null,null,null,null,null,null,null,null,null,null,null,null,null,null,null,null,null,null,"DEER 2008"]
[null,null,null,null,null,null,null,null,null,null,null,null,null,null,null,null,null,null,null,null,null,null,null,null,null,"BEopt Option Lifetime","years",null,null,null,null,null,null,11,11]
[null,null,null,null,null,null,null,null,null,null,null,null,null,null,null,null,null,null,null,null,null,null,null,null,"NAHB"]
[null,null,null,null,null,null,null,null,null,null,null,null,null,null,null,null,null,null,null,null,null,null,null,null,null,"BEopt Option Lifetime","years",null,null,null,null,null,null,9,9]
[null,null,null,null,null,null,null,null,null,null,null,null,null,null,null,null,null,null,null,null,null,null,null,"> EnergyGuide labels only specify the test year.  We have assumed that testing occurs on January 1st."]
[null,null,null,null,null,null,null,null,null,null,null,null,null,null,null,null,null,null,null,null,null,null,null,"> Energy consumption for water heating depends on mains water temperature and is location-dependent.  "]
[null,null,null,null,null,null,null,null,null,null,null,null,null,null,null,null,null,null,null,null,null,null,null,"> In the case where all hot water is heated internally, DHW use is zero.In the case where all hot water is heated internally, DHW use is zero."]
[null,null,null,null,null,null,null,null,null,null,null,null,null,null,null,null,null,null,null,null,null,null,null,"> The calculations performed here are identical to the calculations performed in the Building America appliance spreadsheet."]
[null,null,null,null,null,null,null,null,null,null,null,null,null,null,null,null,null,null,null,null,null,null,null,"> DEER 2008 Costs were found by matching the cycles/year and EF values of options to units listed in the DEER cost worksheet."]
[null,null,null,null,null,null,null,null,null,null,null,null,null,null,null,null,null,null,null,null,null,null,null,"> EF = (1/(Hot Water Energy + Machine Energy), as rated."]
[]
[null,null,null,null,null,null,null,null,null,null,null,null,null,null,null,null,null,null,null,null,null,"Clothes Washer",null,null,null,null,null,null,null,null,null,null,"Note: This table has been implemented in the form of an equation in AF250."]
[null,null,null,null,null,null,null,null,null,null,null,null,null,null,null,null,null,null,null,null,null,null,null,null,null,null,null,null,null,null,null,null,null,"Table 5.1—Test Load Sizes"]
[null,null,null,null,null,null,null,null,null,null,null,null,null,null,null,null,null,null,null,null,null,null,"Category Information",null,null,null,null,null,null,null,null,null,null,"http://ecfr.gpoaccess.gov/cgi/t/text/text-idx?c=ecfr&sid=02725affade99683ebf0d57ba76072ff&rgn=div9&view=text&node=10:3.0.1.4.16.2.9.6.11&idno=10"]
[null,null,null,null,null,null,null,null,null,null,null,null,null,null,null,null,null,null,null,null,null,null,null,"General",null,null,null,null,null,null,null,null,null,"Container volume",null,"Minimum load",null,"Maximum load",null,"Average load"]
[null,null,null,null,null,null,null,null,null,null,null,null,null,null,null,null,null,null,null,null,null,null,null,null,null,"BEopt Category Type","DOE2/TRNSYS/E+/PV/BEopt","TRNSYS, E+",null,null,null,"cu. ft.","cu. ft.","cu. ft.","(liter)","lb","(kg)","lb","(kg)","lb","(kg)"]
[null,null,null,null,null,null,null,null,null,null,null,null,null,null,null,null,null,null,null,null,null,null,null,null,null,"BEopt Mutually Exclusive With",null,null,null,null,null,"≥  <","≥","<","≥  <"]
[null,null,null,null,null,null,null,null,null,null,null,null,null,null,null,null,null,null,null,null,null,null,null,null,null,"BEopt Notes",null,"Cold Only options refer to operating the clothes washer with cold water."," ",null," ","0–0.8",0,0.8,"0–22.7",3,1.36,3,1.36,3,1.36,null,{"$f":"4.103003337*AG178 + 0.198242492","v":0.19824249199999999},{"$f":"4.103003337*AH178 + 0.198242492","v":3.4806451615999996}]
[null,null,null,null,null,null,null,null,null,null,null,null,null,null,null,null,null,null,null,null,null,null,null,null,null,"BEopt Affects Rendering","TRUE or FALSE",false,null,null,null,"0.80–0.90",0.8,0.9,"22.7–25.5",3,1.36,3.5,1.59,3.25,1.47,null,{"$f":"4.103003337*AG179 + 0.198242492","v":3.4806451615999996},{"$f":"4.103003337*AH179 + 0.198242492","v":3.8909454952999996}]
[null,null,null,null,null,null,null,null,null,null,null,null,null,null,null,null,null,null,null,null,null,null,null,null,null,"BEopt Default Option",null,1,null,null,null,"0.90–1.00",0.9,1,"25.5–28.3",3,1.36,3.9,1.77,3.45,1.56,null,3.8909454952999996,4.301245829]
[null,null,null,null,null,null,null,null,null,null,null,null,null,null,null,null,null,null,null,null,null,null,null,null,null,"BEopt Well Ordered Category",null,true,null,null,null,"1.00–1.10",1,1.1000000000000001,"28.3–31.1",3,1.36,4.3,1.95,3.65,1.66,null,4.301245829,4.7115461627000004]
[null,null,null,null,null,null,null,null,null,null,null,null,null,null,null,null,null,null,null,null,null,null,null,"Geometry",null,null,null,null,null,null,null,"1.10–1.20",1.1000000000000001,1.2,"31.1–34.0",3,1.36,4.7,2.13,3.85,1.75,null,4.7115461627000004,5.1218464963999999]
[null,null,null,null,null,null,null,null,null,null,null,null,null,null,null,null,null,null,null,null,null,null,null,null,null,{"$f":"NewConst!$C$26","v":"Number of Bedrooms (6 maximum)"},{"$f":"NewConst!$D$26","v":"#"},{"$f":"N_br","v":3},null,null,null,"1.20–1.30",1.2,1.3,"34.0–36.8",3,1.36,5.0999999999999996,2.31,4.05,1.84,null,5.1218464963999999,5.5321468301000003]
[null,null,null,null,null,null,null,null,null,null,null,null,null,null,null,null,null,null,null,null,null,null,null,"Energy",null,null,null,null,null,null,null,"1.30–1.40",1.3,1.4,"36.8–39.6",3,1.36,5.5,2.4900000000000002,4.25,1.93,null,5.5321468301000003,5.9424471637999998]
[null,null,null,null,null,null,null,null,null,null,null,null,null,null,null,null,null,null,null,null,null,null,null,null,null,"Mains Temperature, Jan","degF",{"$f":"'Monthly Profiles'!G6","v":48.718290388117268},null,null,null,"1.40–1.50",1.4,1.5,"39.6–42.5",3,1.36,5.9,2.68,4.45,2.02,null,5.9424471637999998,6.3527474974999993]
[null,null,null,null,null,null,null,null,null,null,null,null,null,null,null,null,null,null,null,null,null,null,null,null,null,"Mains Temperature, Feb","degF",{"$f":"'Monthly Profiles'!G7","v":47.641339778292384},null,null,null,"1.50–1.60",1.5,1.6,"42.5–45.3",3,1.36,6.4,2.9,4.7,2.13,null,6.3527474974999993,6.7630478311999997]
[null,null,null,null,null,null,null,null,null,null,null,null,null,null,null,null,null,null,null,null,null,null,null,null,null,"Mains Temperature, Mar","degF",{"$f":"'Monthly Profiles'!G8","v":49.150569276918105},null,null,null,"1.60–1.70",1.6,1.7,"45.3–48.1",3,1.36,6.8,3.08,4.9000000000000004,2.2200000000000002,null,6.7630478311999997,7.1733481648999993]
[null,null,null,null,null,null,null,null,null,null,null,null,null,null,null,null,null,null,null,null,null,null,null,null,null,"Mains Temperature, Apr","degF",{"$f":"'Monthly Profiles'!G9","v":52.85257495724705},null,null,null,"1.70–1.80",1.7,1.8,"48.1–51.0",3,1.36,7.2,3.27,5.0999999999999996,2.31,null,7.1733481648999993,7.5836484985999997]
[null,null,null,null,null,null,null,null,null,null,null,null,null,null,null,null,null,null,null,null,null,null,null,null,null,"Mains Temperature, May","degF",{"$f":"'Monthly Profiles'!G10","v":57.782371989067066},null,null,null,"1.80–1.90",1.8,1.9,"51.0–53.8",3,1.36,7.6,3.45,5.3,2.4,null,7.5836484985999997,7.9939488322999992]
[null,null,null,null,null,null,null,null,null,null,null,null,null,null,null,null,null,null,null,null,null,null,null,null,null,"Mains Temperature, Jun","degF",{"$f":"'Monthly Profiles'!G11","v":62.654932805562403},null,null,null,"1.90–2.00",1.9,2,"53.8–56.6",3,1.36,8,3.63,5.5,2.4900000000000002,null,7.9939488322999992,8.4042491659999996]
[null,null,null,null,null,null,null,null,null,null,null,null,null,null,null,null,null,null,null,null,null,null,null,null,null,"Mains Temperature, Jul","degF",{"$f":"'Monthly Profiles'!G12","v":66.200149341478465},null,null,null,"2.00–2.10",2,2.1,"56.6–59.5",3,1.36,8.4,3.81,5.7,2.59,null,8.4042491659999996,8.8145494997]
[null,null,null,null,null,null,null,null,null,null,null,null,null,null,null,null,null,null,null,null,null,null,null,null,null,"Mains Temperature, Aug","degF",{"$f":"'Monthly Profiles'!G13","v":67.493906273288161},null,null,null,"2.10–2.20",2.1,2.2000000000000002,"59.5–62.3",3,1.36,8.8000000000000007,3.99,5.9,2.68,null,8.8145494997,9.2248498334000004]
[null,null,null,null,null,null,null,null,null,null,null,null,null,null,null,null,null,null,null,null,null,null,null,null,null,"Mains Temperature, Sep","degF",{"$f":"'Monthly Profiles'!G14","v":66.198965919317473},null,null,null,"2.20–2.30",2.2000000000000002,2.2999999999999998,"62.3–65.1",3,1.36,9.1999999999999993,4.17,6.1,2.77,null,9.2248498334000004,9.6351501670999991]
[null,null,null,null,null,null,null,null,null,null,null,null,null,null,null,null,null,null,null,null,null,null,null,null,null,"Mains Temperature, Oct","degF",{"$f":"'Monthly Profiles'!G15","v":62.65287443846379},null,null,null,"2.30–2.40",2.2999999999999998,2.4,"65.1–68.0",3,1.36,9.6,4.3499999999999996,6.3,2.86,null,9.6351501670999991,10.045450500799999]
[null,null,null,null,null,null,null,null,null,null,null,null,null,null,null,null,null,null,null,null,null,null,null,null,null,"Mains Temperature, Nov","degF",{"$f":"'Monthly Profiles'!G16","v":57.779975222135477},null,null,null,"2.40–2.50",2.4,2.5,"68.0–70.8",3,1.36,10,4.54,6.5,2.95,null,10.045450500799999,10.4557508345]
[null,null,null,null,null,null,null,null,null,null,null,null,null,null,null,null,null,null,null,null,null,null,null,null,null,"Mains Temperature, Dec","degF",{"$f":"'Monthly Profiles'!G17","v":52.850464544718484},null,null,null,"2.50–2.60",2.5,2.6,"70.8–73.6",3,1.36,10.5,4.76,6.75,3.06,null,10.4557508345,10.8660511682]
[null,null,null,null,null,null,null,null,null,null,null,null,null,null,null,null,null,null,null,null,null,null,null,null,null,{"$f":"'Monthly Profiles'!B47","v":"Number Days, Jan"},"#",{"$f":"'Monthly Profiles'!$D$47","v":31},null,null,null,"2.60–2.70",2.6,2.7,"73.6–76.5",3,1.36,10.9,4.9400000000000004,6.95,3.15,null,10.8660511682,11.276351501900001]
[null,null,null,null,null,null,null,null,null,null,null,null,null,null,null,null,null,null,null,null,null,null,null,null,null,{"$f":"'Monthly Profiles'!B48","v":"Number Days, Feb"},"#",{"$f":"'Monthly Profiles'!$D$48","v":28},null,null,null,"2.70–2.80",2.7,2.8,"76.5–79.3",3,1.36,11.3,5.13,7.15,3.24,null,11.276351501900001,11.686651835599999]
[null,null,null,null,null,null,null,null,null,null,null,null,null,null,null,null,null,null,null,null,null,null,null,null,null,{"$f":"'Monthly Profiles'!B49","v":"Number Days, Mar"},"#",{"$f":"'Monthly Profiles'!$D$49","v":31},null,null,null,"2.80–2.90",2.8,2.9,"79.3–82.1",3,1.36,11.7,5.31,7.35,3.33,null,11.686651835599999,12.0969521693]
[null,null,null,null,null,null,null,null,null,null,null,null,null,null,null,null,null,null,null,null,null,null,null,null,null,{"$f":"'Monthly Profiles'!B50","v":"Number Days, Apr"},"#",{"$f":"'Monthly Profiles'!$D$50","v":30},null,null,null,"2.90–3.00",2.9,3,"82.1–85.0",3,1.36,12.1,5.49,7.55,3.42,null,12.0969521693,12.507252502999998]
[null,null,null,null,null,null,null,null,null,null,null,null,null,null,null,null,null,null,null,null,null,null,null,null,null,{"$f":"'Monthly Profiles'!B51","v":"Number Days, May"},"#",{"$f":"'Monthly Profiles'!$D$51","v":31},null,null,null,"3.00–3.10",3,3.1,"85.0–87.8",3,1.36,12.5,5.67,7.75,3.52,null,12.507252502999998,12.917552836699999]
[null,null,null,null,null,null,null,null,null,null,null,null,null,null,null,null,null,null,null,null,null,null,null,null,null,{"$f":"'Monthly Profiles'!B52","v":"Number Days, Jun"},"#",{"$f":"'Monthly Profiles'!$D$52","v":30},null,null,null,"3.10–3.20",3.1,3.2,"87.8–90.6",3,1.36,12.9,5.85,7.95,3.61,null,12.917552836699999,13.327853170399999]
[null,null,null,null,null,null,null,null,null,null,null,null,null,null,null,null,null,null,null,null,null,null,null,null,null,{"$f":"'Monthly Profiles'!B53","v":"Number Days, Jul"},"#",{"$f":"'Monthly Profiles'!$D$53","v":31},null,null,null,"3.20–3.30",3.2,3.3,"90.6–93.4",3,1.36,13.3,6.03,8.15,3.7,null,13.327853170399999,13.738153504099998]
[null,null,null,null,null,null,null,null,null,null,null,null,null,null,null,null,null,null,null,null,null,null,null,null,null,{"$f":"'Monthly Profiles'!B54","v":"Number Days, Aug"},"#",{"$f":"'Monthly Profiles'!$D$54","v":31},null,null,null,"3.30–3.40",3.3,3.4,"93.4–96.3",3,1.36,13.7,6.21,8.35,3.79,null,13.738153504099998,14.148453837799998]
[null,null,null,null,null,null,null,null,null,null,null,null,null,null,null,null,null,null,null,null,null,null,null,null,null,{"$f":"'Monthly Profiles'!B55","v":"Number Days, Sep"},"#",{"$f":"'Monthly Profiles'!$D$55","v":30},null,null,null,"3.40–3.50",3.4,3.5,"96.3–99.1",3,1.36,14.1,6.4,8.5500000000000007,3.88,null,14.148453837799998,14.558754171499999]
[null,null,null,null,null,null,null,null,null,null,null,null,null,null,null,null,null,null,null,null,null,null,null,null,null,{"$f":"'Monthly Profiles'!B56","v":"Number Days, Oct"},"#",{"$f":"'Monthly Profiles'!$D$56","v":31},null,null,null,"3.50–3.60",3.5,3.6,"99.1–101.9",3,1.36,14.6,6.62,8.8000000000000007,3.99,null,14.558754171499999,14.969054505199999]
[null,null,null,null,null,null,null,null,null,null,null,null,null,null,null,null,null,null,null,null,null,null,null,null,null,{"$f":"'Monthly Profiles'!B57","v":"Number Days, Nov"},"#",{"$f":"'Monthly Profiles'!$D$57","v":30},null,null,null,"3.60–3.70",3.6,3.7,"101.9–104.8",3,1.36,15,6.8,9,4.08,null,14.969054505199999,15.379354838899999]
[null,null,null,null,null,null,null,null,null,null,null,null,null,null,null,null,null,null,null,null,null,null,null,null,null,{"$f":"'Monthly Profiles'!B58","v":"Number Days, Dec"},"#",{"$f":"'Monthly Profiles'!$D$58","v":31},null,null,null,"3.70–3.80",3.7,3.8,"104.8–107.6",3,1.36,15.4,6.99,9.1999999999999993,4.17,null,15.379354838899999,15.789655172599998]
[null,null,null,null,null,null,null,null,null,null,null,null,null,null,null,null,null,null,null,null,null,null,null,null,null,"Water Density","kg / gal",3.7850000000000001]
[null,null,null,null,null,null,null,null,null,null,null,null,null,null,null,null,null,null,null,null,null,null,null,null,null,"kWh / therm","kWh / therm",29.31,null,null,null,null,null,"Notes: (1) All test load weights are bone dry weights."]
[null,null,null,null,null,null,null,null,null,null,null,null,null,null,null,null,null,null,null,null,null,null,null,null,null,"Tank Setpoint (@DHWSupplyTemp)",{"$f":"NewConst!D112","v":"deg F"},{"$f":"NewConst!$F$112","v":130}]
[null,null,null,null,null,null,null,null,null,null,null,null,null,null,null,null,null,null,null,null,null,null,null,null,"Standard Washer Test Conditions and Assumptions",null,null,null,null,null,null,"Volume",{"$f":"NewConst!$F$262","v":3.15}]
[null,null,null,null,null,null,null,null,null,null,null,null,null,null,null,null,null,null,null,null,null,null,null,null,null,"Single Family Cycles / Year ","cycles / yr",{"$f":"392*(0.5+N_br/6)*12.5/W_test","v":373.39868155778845},{"$f":"392*(0.5+1.56/6)*12.5/W_test","v":283.78299798391919},null,null,"RndDown",{"$f":"FLOOR(AG212,0.1)","v":3.1}]
[null,null,null,null,null,null,null,null,null,null,null,null,null,null,null,null,null,null,null,null,null,null,null,null,null,"Multi Family Cycles / Year","cycles / yr",{"$f":"2.16*52*Nunits","v":22464},{"$f":"AC213*200/2.42","v":23453.14032924952}]
[null,null,null,null,null,null,null,null,null,null,null,null,null,null,null,null,null,null,null,null,null,null,null,null,null,"Cycles/year for this case","cycles / yr",{"$f":"IF(HomeType=2, IF(NewConst!$F$249=\"yes\", $AB$214, $AB$213),  $AB$213)","v":373.39868155778845}]
[null,null,null,null,null,null,null,null,null,null,null,null,null,null,null,null,null,null,null,null,null,null,null,null,null,"Standard Test Load","lb",{"$f":"W_test","v":13.122703003549999},null,null,null,"W_test",{"$f":"4.103003337*NewConst!$F$262 + 0.198242492","v":13.122703003549999},"lbs"]
[null,null,null,null,null,null,null,null,null,null,null,null,null,null,null,null,null,null,null,null,null,null,null,null,null,"Cold Water Inlet Temperature (@CWColdWaterInletTemp_Test)","degF",60,null,null,null,null,{"$f":"392*(0.5+N_br/6)*12.5/W_test","v":373.39868155778845},"cycles/yr"]
[null,null,null,null,null,null,null,null,null,null,null,null,null,null,null,null,null,null,null,null,null,null,null,null,null,"Gas DHW Heater Efficiency (@CWGasDHWHeaterEfficiency_Test)",null,0.75]
[null,null,null,null,null,null,null,null,null,null,null,null,null,null,null,null,null,null,null,null,null,null,null,null,"Standard Dry Assumptions"]
[null,null,null,null,null,null,null,null,null,null,null,null,null,null,null,null,null,null,null,null,null,null,null,null,null,"Load Adjustment Factor",null,0.52]
[null,null,null,null,null,null,null,null,null,null,null,null,null,null,null,null,null,null,null,null,null,null,null,null,null,"Dryer Energy Factor (nominal drying energy required)"," kWh / lb dry cloth",0.5]
[null,null,null,null,null,null,null,null,null,null,null,null,null,null,null,null,null,null,null,null,null,null,null,null,null,"Dryer Usage Factor (fraction of washed loads requiring drying)",null,0.84]
[]
[null,null,null,null,null,null,null,null,null,null,null,null,null,null,null,null,null,null,null,null,null,null,"Option Information",null,null,null,"Units","Comments","Constraints"]
[null,null,null,null,null,null,null,null,null,null,null,null,null,null,null,null,null,null,null,null,null,null,null,"General"]
[null,null,null,null,null,null,null,null,null,null,null,null,null,null,null,null,null,null,null,null,null,null,null,null,"General",null,"DOE2/TRNSYS/E+/PV/BEopt"]
[null,null,null,null,null,null,null,null,null,null,null,null,null,null,null,null,null,null,null,null,null,null,null,null,null,"BEopt Option Type","Option/BAB/NCTH",null,null,"BAB","IECC_06","NCTH","Option","Option","Option","Option"]
[null,null,null,null,null,null,null,null,null,null,null,null,null,null,null,null,null,null,null,null,null,null,null,null,null,"BEopt Option Name",null,null,null,"Benchmark","2006 IECC","NCTH","Standard (V-Axis)","EnergyStar (H-Axis)","Standard (V-Axis) - Cold Only","EnergyStar (H-Axis) - Cold Only"]
[null,null,null,null,null,null,null,null,null,null,null,null,null,null,null,null,null,null,null,null,null,null,null,null,null,"BEopt Column 1 (MEF)","cuft/kWh-cyc",null,null,null,null,{"$f":"AF250","v":1.1599999999999999},1.1599999999999999,1.47,1.1599999999999999,1.47]
[null,null,null,null,null,null,null,null,null,null,null,null,null,null,null,null,null,null,null,null,null,null,null,null,null,"BEopt Column 2 (WCF)","gal/cuft-cyc",null,null,null,null,{"$error":"#REF!"},"NA",9,"NA",9]
[null,null,null,null,null,null,null,null,null,null,null,null,null,null,null,null,null,null,null,null,null,null,null,null,"Manufacturer's Website"]
[null,null,null,null,null,null,null,null,null,null,null,null,null,null,null,null,null,null,null,null,null,null,null,null,null,"Make",null,null,null,"NA","NA","NA","GE","GE","GE","GE"]
[null,null,null,null,null,null,null,null,null,null,null,null,null,null,null,null,null,null,null,null,null,null,null,null,null,"Model",null,null,null,"NA","NA","NA","WWSE5240D","WPXH214A","WWSE5240D","WPXH214A"]
[null,null,null,null,null,null,null,null,null,null,null,null,null,null,null,null,null,null,null,null,null,null,null,null,null,"Axis","vertical or horizon",null,null,"NA","NA","NA","vertical","horizon","vertical","horizon"]
[null,null,null,null,null,null,null,null,null,null,null,null,null,null,null,null,null,null,null,null,null,null,null,null,null,"Drum Volume (@CWDrumVolume)","cu ft",null,null,"NA","NA",{"$f":"NewConst!F262","v":3.15},3.15,2.65,3.15,2.65]
[null,null,null,null,null,null,null,null,null,null,null,null,null,null,null,null,null,null,null,null,null,null,null,null,null,"EnergyStar?","YES or NO",null,null,"NA","NA","NA","NO","YES","NO","YES"]
[null,null,null,null,null,null,null,null,null,null,null,null,null,null,null,null,null,null,null,null,null,null,null,null,null,"Cold Water Detergent  (Cold Water Wash Only)?","YES or NO",null,null,"NA","NA","NO","NO","NO","YES","YES"]
[null,null,null,null,null,null,null,null,null,null,null,null,null,null,null,null,null,null,null,null,null,null,null,null,null,"Thermostatic Control Valves? (@ThermostaticControl)","YES or NO",null,null,"NA","NA",{"$f":"NewConst!F257","v":"YES"},"NO","YES","YES","YES"]
[null,null,null,null,null,null,null,null,null,null,null,null,null,null,null,null,null,null,null,null,null,null,null,null,null,"Internal Heater Adjustment?","YES or NO",null,null,"NA","NA",{"$f":"NewConst!F258","v":"NO"},"NO","NO","NO","NO"]
[null,null,null,null,null,null,null,null,null,null,null,null,null,null,null,null,null,null,null,null,null,null,null,null,null,"Cold Water Inlet Only? (@CWHasColdWaterInletOnly)","YES or NO",null,null,"NA","NA",{"$f":"NewConst!F259","v":"NO"},"NO","NO","NO","NO"]
[null,null,null,null,null,null,null,null,null,null,null,null,null,null,null,null,null,null,null,null,null,null,null,null,null,"Water Fill Level Sensor? (@CWHasWaterLevelFillSensor)","YES or NO",null,null,"NA","NA",{"$f":"NewConst!F261","v":"NO"},"NO","NO","NO","NO"]
[null,null,null,null,null,null,null,null,null,null,null,null,null,null,null,null,null,null,null,null,null,null,null,"Energy"]
[null,null,null,null,null,null,null,null,null,null,null,null,null,null,null,null,null,null,null,null,null,null,null,null,"Energy Guide Label"]
[null,null,null,null,null,null,null,null,null,null,null,null,null,null,null,null,null,null,null,null,null,null,null,null,null,"Cost of Electricity (@CWCostofElectricity_Test)","$ / kWh",null,null,"NA","NA",{"$f":"NewConst!F254","v":8.0299999999999996E-2},8.0299999999999996E-2,8.0299999999999996E-2,8.0299999999999996E-2,8.0299999999999996E-2]
[null,null,null,null,null,null,null,null,null,null,null,null,null,null,null,null,null,null,null,null,null,null,null,null,null,"Cost of Natural Gas (@CWCostofNaturalGas_Test)","$ / therm",null,null,"NA","NA",{"$f":"NewConst!F255","v":0.68879999999999997},0.68879999999999997,0.68879999999999997,0.68879999999999997,0.68879999999999997]
[null,null,null,null,null,null,null,null,null,null,null,null,null,null,null,null,null,null,null,null,null,null,null,null,null,"Annual Cost with Electric DHW","$",null,null,"NA","NA",{"$f":"NewConst!F252","v":43},43,28,43,28]
[null,null,null,null,null,null,null,null,null,null,null,null,null,null,null,null,null,null,null,null,null,null,null,null,null,"Annual Cost with Gas DHW (@CWAnnualCostwithGasDHW_Test)","$",null,null,"NA","NA",{"$f":"NewConst!F253","v":20},20,14,20,14]
[null,null,null,null,null,null,null,null,null,null,null,null,null,null,null,null,null,null,null,null,null,null,null,null,null,"Annual Energy Consumption (@CWAnnualEnergyConsumption)","kWh",null,null,"NA","NA",{"$f":"NewConst!F251","v":533},533,351,533,351]
[null,null,null,null,null,null,null,null,null,null,null,null,null,null,null,null,null,null,null,null,null,null,null,null,"EnergyStar Website"]
[null,null,null,null,null,null,null,null,null,null,null,null,null,null,null,null,null,null,null,null,null,null,null,null,null,"Modified Energy Factor","cuft / kWh * cycle",null,null,"NA","NA",{"$f":"NewConst!F256","v":1.1599999999999999},1.1599999999999999,1.47,1.1599999999999999,1.47]
[null,null,null,null,null,null,null,null,null,null,null,null,null,null,null,null,null,null,null,null,null,null,null,null,null,"Water Consumption Factor","gal / cuft * cycle",null,null,"NA","NA",{"$f":"NewConst!#REF!","v":{"$error":"#REF!"}},"NA",9,"NA",9]
[null,null,null,null,null,null,null,null,null,null,null,null,null,null,null,null,null,null,null,null,null,null,null,null,null,"Test Date (@CWTestDate)",null,null,null,"NA","NA",{"$f":"IF(NewConst!F260=\"2004 or later\",\"2004\",\"2003\")","v":"2004"},2004,2000,2004,2000]
[null,null,null,null,null,null,null,null,null,null,null,null,null,null,null,null,null,null,null,null,null,null,null,null,"Test Conditions and Correction Factors"]
[null,null,null,null,null,null,null,null,null,null,null,null,null,null,null,null,null,null,null,null,null,null,null,null,null,"Test Load (@CWTestLoad)","lb",null,null,"NA","NA",{"$f":"4.103003337*AF235 + 0.198242492","v":13.122703003549999},{"$f":"4.103003337*AG235 + 0.198242492","v":13.122703003549999},{"$f":"4.103003337*AH235 + 0.198242492","v":11.071201335049999},{"$f":"4.103003337*AI235 + 0.198242492","v":13.122703003549999},{"$f":"4.103003337*AJ235 + 0.198242492","v":11.071201335049999}]
[null,null,null,null,null,null,null,null,null,null,null,null,null,null,null,null,null,null,null,null,null,null,null,null,null,"DHW deltaT (@CW_DHWdeltaT_Test)","degF",null,null,"NA","NA",{"$f":"IF(AF252<2004,90,75)","v":75},{"$f":"IF(AG252<2004,90,75)","v":75},{"$f":"IF(AH252<2004,90,75)","v":90},{"$f":"IF(AI252<2004,90,75)","v":75},{"$f":"IF(AJ252<2004,90,75)","v":90}]
[null,null,null,null,null,null,null,null,null,null,null,null,null,null,null,null,null,null,null,null,null,null,null,null,null,"Hot Water Inlet Temperature (@CWHotWaterInletTemperature_Test)","degF",null,null,"NA","NA",{"$f":"IF(AF252<2004,140,135)","v":135},{"$f":"IF(AG252<2004,140,135)","v":135},{"$f":"IF(AH252<2004,140,135)","v":140},{"$f":"IF(AI252<2004,140,135)","v":135},{"$f":"IF(AJ252<2004,140,135)","v":140}]
[null,null,null,null,null,null,null,null,null,null,null,null,null,null,null,null,null,null,null,null,null,null,null,null,null,"Assumed Hot Water Vol. Frac. During Cycles Using DHW (@HotWaterVolFrac)",null,null,null,"NA","NA",{"$f":"IF(AF238=\"no\",0.5,(AF258-$AB$217)/(AF256-$AB$217))","v":0.43333333333333335},{"$f":"IF(AG238=\"no\",0.5,(AG258-$AB$217)/(AG256-$AB$217))","v":0.5},{"$f":"IF(AH238=\"no\",0.5,(AH258-$AB$217)/(AH256-$AB$217))","v":0.40625},{"$f":"IF(AI238=\"no\",0.5,(AI258-$AB$217)/(AI256-$AB$217))","v":0.43333333333333335},{"$f":"IF(AJ238=\"no\",0.5,(AJ258-$AB$217)/(AJ256-$AB$217))","v":0.40625}]
[null,null,null,null,null,null,null,null,null,null,null,null,null,null,null,null,null,null,null,null,null,null,null,null,null,"Mixed Cycle Temperature (@CWMixedCycleTemperature_Test)","degF",null,null,"NA","NA",{"$f":"IF(AF238=\"yes\",92.5,(AF256-$AB$217)*AF257+$AB$217)","v":92.5},{"$f":"IF(AG238=\"yes\",92.5,(AG256-$AB$217)*AG257+$AB$217)","v":97.5},{"$f":"IF(AH238=\"yes\",92.5,(AH256-$AB$217)*AH257+$AB$217)","v":92.5},{"$f":"IF(AI238=\"yes\",92.5,(AI256-$AB$217)*AI257+$AB$217)","v":92.5},{"$f":"IF(AJ238=\"yes\",92.5,(AJ256-$AB$217)*AJ257+$AB$217)","v":92.5}]
[null,null,null,null,null,null,null,null,null,null,null,null,null,null,null,null,null,null,null,null,null,null,null,null,null,"Assumed Water Temperature During Cold Cycle","degF",null,null,"NA","NA",{"$f":"IF(AF237=\"yes\",70,\"NA\")","v":"NA"},{"$f":"IF(AG237=\"yes\",70,\"NA\")","v":"NA"},{"$f":"IF(AH237=\"yes\",70,\"NA\")","v":"NA"},{"$f":"IF(AI237=\"yes\",70,\"NA\")","v":70},{"$f":"IF(AJ237=\"yes\",70,\"NA\")","v":70}]
[null,null,null,null,null,null,null,null,null,null,null,null,null,null,null,null,null,null,null,null,null,null,null,null,null,"Estimated Hot Water Temperature for Machines with Cold Inlets Only","degF",null,null,"NA","NA",{"$f":"IF(AF240=\"yes\",120,\"NA\")","v":"NA"},{"$f":"IF(AG240=\"yes\",120,\"NA\")","v":"NA"},{"$f":"IF(AH240=\"yes\",120,\"NA\")","v":"NA"},{"$f":"IF(AI240=\"yes\",120,\"NA\")","v":"NA"},{"$f":"IF(AJ240=\"yes\",120,\"NA\")","v":"NA"}]
[null,null,null,null,null,null,null,null,null,null,null,null,null,null,null,null,null,null,null,null,null,null,null,null,null,"Actual Cycles / Year (BASED ON EXAMPLE DATA) (@ActualCWCyclesPerYear)","cycles / year",null,null,"NA","NA",{"$f":"$AB$215","v":373.39868155778845},{"$f":"$AB$215","v":373.39868155778845},{"$f":"$AB$215","v":373.39868155778845},{"$f":"$AB$215","v":373.39868155778845},{"$f":"$AB$215","v":373.39868155778845}]
[null,null,null,null,null,null,null,null,null,null,null,null,null,null,null,null,null,null,null,null,null,null,null,null,"Hot Water Consumption"]
[null,null,null,null,null,null,null,null,null,null,null,null,null,null,null,null,null,null,null,null,null,null,null,null,null,"Gas Consumption for DHW / Cycle (test conditions) (@CWGasConsumptionforDHWPerCycle_Test)","therms / cycle",null,null,"NA","NA",{"$f":"IF(AF240=\"yes\",0,(AF248*AF244-AF247)/($AB$210*$AB$218*AF244-AF245)/$AB$213)","v":5.6726839940504085E-2},{"$f":"IF(AG240=\"yes\",0,(AG248*AG244-AG247)/($AB$210*$AB$218*AG244-AG245)/$AB$213)","v":5.6726839940504085E-2},{"$f":"IF(AH240=\"yes\",0,(AH248*AH244-AH247)/($AB$210*$AB$218*AH244-AH245)/$AB$213)","v":3.5293454910242258E-2},{"$f":"IF(AI240=\"yes\",0,(AI248*AI244-AI247)/($AB$210*$AB$218*AI244-AI245)/$AB$213)","v":5.6726839940504085E-2},{"$f":"IF(AJ240=\"yes\",0,(AJ248*AJ244-AJ247)/($AB$210*$AB$218*AJ244-AJ245)/$AB$213)","v":3.5293454910242258E-2}]
[null,null,null,null,null,null,null,null,null,null,null,null,null,null,null,null,null,null,null,null,null,null,null,null,null,"Electricity Consumption for DHW / Cycle (test conditions) (@CW_ElectricityConsumptionforDHWPerCycle_Test)","kWh / cycle",null,null,"NA","NA",{"$f":"AF263*$AB$210*$AB$218","v":1.2469977589921308},{"$f":"AG263*$AB$210*$AB$218","v":1.2469977589921308},{"$f":"AH263*$AB$210*$AB$218","v":0.77583837256440047},{"$f":"AI263*$AB$210*$AB$218","v":1.2469977589921308},{"$f":"AJ263*$AB$210*$AB$218","v":0.77583837256440047}]
[null,null,null,null,null,null,null,null,null,null,null,null,null,null,null,null,null,null,null,null,null,null,null,null,null,"Electricity Consumption for DHW / Year (test conditions) (@CW_ElectricityConsumptionforDHWPerYear_Test)","kWh / year",null,null,"NA","NA",{"$f":"AF264*$AB$213","v":465.62731911317849},{"$f":"AG264*$AB$213","v":465.62731911317849},{"$f":"AH264*$AB$213","v":289.6970254174874},{"$f":"AI264*$AB$213","v":465.62731911317849},{"$f":"AJ264*$AB$213","v":289.6970254174874}]
[null,null,null,null,null,null,null,null,null,null,null,null,null,null,null,null,null,null,null,null,null,null,null,null,null,"Hot Water Consumption / Year (test conditions) (@CW_HotWaterConsumptionPerYear_Test)","gal / year",null,null,"NA","NA",{"$f":"IF(AND(AF241=\"yes\",AF252<2004),AF265/(AF255*0.0024*0.94),AF265/(AF255*0.0024))","v":2586.8184395176581},{"$f":"IF(AND(AG241=\"yes\",AG252<2004),AG265/(AG255*0.0024*0.94),AG265/(AG255*0.0024))","v":2586.8184395176581},{"$f":"IF(AND(AH241=\"yes\",AH252<2004),AH265/(AH255*0.0024*0.94),AH265/(AH255*0.0024))","v":1341.1899324883677},{"$f":"IF(AND(AI241=\"yes\",AI252<2004),AI265/(AI255*0.0024*0.94),AI265/(AI255*0.0024))","v":2586.8184395176581},{"$f":"IF(AND(AJ241=\"yes\",AJ252<2004),AJ265/(AJ255*0.0024*0.94),AJ265/(AJ255*0.0024))","v":1341.1899324883677}]
[null,null,null,null,null,null,null,null,null,null,null,null,null,null,null,null,null,null,null,null,null,null,null,null,null,"Hot Water Consumption / Cycle (test conditions) (@CW_DHWPerCycle_Test)","gal / cycle",null,null,"NA","NA",{"$f":"AF266/$AB$213","v":6.9277653277340594},{"$f":"AG266/$AB$213","v":6.9277653277340594},{"$f":"AH266/$AB$213","v":3.5918443174277801},{"$f":"AI266/$AB$213","v":6.9277653277340594},{"$f":"AJ266/$AB$213","v":3.5918443174277801}]
[null,null,null,null,null,null,null,null,null,null,null,null,null,null,null,null,null,null,null,null,null,null,null,null,null,"Actual Hot Water Use / Month, Jan (BASED ON EXAMPLE DATA)","gal / month",null,null,"NA","NA",{"$f":"IF(AF$237=\"yes\",IF(AND(AF$238=\"yes\",$AB185<AF$259),AF$267+(AF$267*((1/AF$257)*(AF$259-$AB185)+($AB185-$AB$211))/($AB$211-$AB185)),0),IF(AF$238=\"yes\",AF$267+(AF$267*((1/AF$257)*(AF$258-$AB185)+($AB185-$AB$211))/($AB$211-$AB185)),AF$267))*(AF$261/365)*$AB197","v":273.09425640174771},219.70238801382851,151.03083611324661,132.74750376211074,73.414090612158418]
[null,null,null,null,null,null,null,null,null,null,null,null,null,null,null,null,null,null,null,null,null,null,null,null,null,"Actual Hot Water Use / Month, Feb (BASED ON EXAMPLE DATA)","gal / month",null,null,"NA","NA",249.42848151018555,198.44086659313541,137.94282094868589,124.32129359503256,68.754096720058357]
[null,null,null,null,null,null,null,null,null,null,null,null,null,null,null,null,null,null,null,null,null,null,null,null,null,"Actual Hot Water Use / Month, Mar (BASED ON EXAMPLE DATA)","gal / month",null,null,"NA","NA",271.84359951739549,219.70238801382851,150.33917837784324,130.74645274714715,72.307438235513004]
[null,null,null,null,null,null,null,null,null,null,null,null,null,null,null,null,null,null,null,null,null,null,null,null,null,"Actual Hot Water Use / Month, Apr (BASED ON EXAMPLE DATA)","gal / month",null,null,"NA","NA",252.15395957943787,212.6152142069308,139.45010724987395,109.05603873288872,60.311867887827844]
[null,null,null,null,null,null,null,null,null,null,null,null,null,null,null,null,null,null,null,null,null,null,null,null,null,"Actual Hot Water Use / Month, May (BASED ON EXAMPLE DATA)","gal / month",null,null,"NA","NA",243.73590227613624,219.70238801382851,134.79462218139074,85.774137161132415,47.436148321189009]
[null,null,null,null,null,null,null,null,null,null,null,null,null,null,null,null,null,null,null,null,null,null,null,null,null,"Actual Hot Water Use / Month, Jun (BASED ON EXAMPLE DATA)","gal / month",null,null,"NA","NA",217.43978560146022,212.6152142069308,120.25193446530302,53.513360368124502,29.594791432514349]
[null,null,null,null,null,null,null,null,null,null,null,null,null,null,null,null,null,null,null,null,null,null,null,null,null,"Actual Hot Water Use / Month, Jul (BASED ON EXAMPLE DATA)","gal / month",null,null,"NA","NA",209.00000673177877,219.70238801382851,115.584436598106,30.196704290160383,16.699851387933471]
[null,null,null,null,null,null,null,null,null,null,null,null,null,null,null,null,null,null,null,null,null,null,null,null,null,"Actual Hot Water Use / Month, Aug (BASED ON EXAMPLE DATA)","gal / month",null,null,"NA","NA",202.83186113796094,219.70238801382851,112.17323272081867,20.327671340051854,11.241925184273724]
[null,null,null,null,null,null,null,null,null,null,null,null,null,null,null,null,null,null,null,null,null,null,null,null,null,"Actual Hot Water Use / Month,Sept (BASED ON EXAMPLE DATA)","gal / month",null,null,"NA","NA",202.26342031685385,212.6152142069308,111.85886473071928,29.231175912754253,16.165879857180386]
[null,null,null,null,null,null,null,null,null,null,null,null,null,null,null,null,null,null,null,null,null,null,null,null,null,"Actual Hot Water Use / Month, Oct (BASED ON EXAMPLE DATA)","gal / month",null,null,"NA","NA",224.69640708638028,219.70238801382851,124.26510422092227,55.31094485752287,30.588919584439473]
[null,null,null,null,null,null,null,null,null,null,null,null,null,null,null,null,null,null,null,null,null,null,null,null,null,"Actual Hot Water Use / Month, Nov (BASED ON EXAMPLE DATA)","gal / month",null,null,"NA","NA",235.88190910467853,212.6152142069308,130.45108463819179,83.020757973273788,45.913431709136383]
[null,null,null,null,null,null,null,null,null,null,null,null,null,null,null,null,null,null,null,null,null,null,null,null,null,"Actual Hot Water Use / Month, Dec (BASED ON EXAMPLE DATA)","gal / month",null,null,"NA","NA",260.56583306564596,219.70238801382851,144.10217244758323,112.70202642434799,62.328228747097015]
[null,null,null,null,null,null,null,null,null,null,null,null,null,null,null,null,null,null,null,null,null,null,null,null,null,"Actual Hot Water Use / Day (BASED ON EXAMPLE DATA)","gal / day",null,null,"NA","NA",{"$f":"SUM(AF268:AF279)/365","v":7.7888641707661952},{"$f":"SUM(AG268:AG279)/365","v":7.0871738068976944},{"$f":"SUM(AH268:AH279)/365","v":4.3075188895689989},{"$f":"SUM(AI268:AI279)/365","v":2.6491727867521839},{"$f":"SUM(AJ268:AJ279)/365","v":1.4650867662447165}]
[null,null,null,null,null,null,null,null,null,null,null,null,null,null,null,null,null,null,null,null,null,null,null,null,"Mixed Temperature Cycle Water Consumption"]
[null,null,null,null,null,null,null,null,null,null,null,null,null,null,null,null,null,null,null,null,null,null,null,null,null,"Mixed Temp Cycle Water Use / Day (Accounts for act. drum vol. but not act. Tmains)","gal / day",null,null,"NA","NA",{"$f":"IF(AF240=\"yes\",AF320*AF261/365,(AF267/AF257)*(AF261/365))","v":16.355016477456214},{"$f":"IF(AG240=\"yes\",AG320*AG261/365,(AG267/AG257)*(AG261/365))","v":14.174347613795387},{"$f":"IF(AH240=\"yes\",AH320*AH261/365,(AH267/AH257)*(AH261/365))","v":9.0449057617761373},{"$f":"IF(AI240=\"yes\",AI320*AI261/365,(AI267/AI257)*(AI261/365))","v":16.355016477456214},{"$f":"IF(AJ240=\"yes\",AJ320*AJ261/365,(AJ267/AJ257)*(AJ261/365))","v":9.0449057617761373}]
[null,null,null,null,null,null,null,null,null,null,null,null,null,null,null,null,null,null,null,null,null,null,null,null,"Cold Water Consumption"]
[null,null,null,null,null,null,null,null,null,null,null,null,null,null,null,null,null,null,null,null,null,null,null,null,null,"Actual Cold Water Used During Mixed Temp Cycles, Jan (BOED)","gal / month",null,null,"NA","NA",{"$f":"(AF$282-AF268/$AB197)*$AB197","v":233.91125439939489},219.70238801382851,129.36124250181365,374.2580070390319,206.97798800290181]
[null,null,null,null,null,null,null,null,null,null,null,null,null,null,null,null,null,null,null,null,null,null,null,null,null,"Actual Cold Water Used During Mixed Temp Cycles, Feb (BOED)","gal / month",null,null,"NA","NA",208.51197985858846,198.44086659313541,115.31454038104596,333.61916777374142,184.50326460967347]
[null,null,null,null,null,null,null,null,null,null,null,null,null,null,null,null,null,null,null,null,null,null,null,null,null,"Actual Cold Water Used During Mixed Temp Cycles, Mar (BOED)","gal / month",null,null,"NA","NA",235.16191128374714,219.70238801382851,130.05290023721702,376.25905805399555,208.08464037954727]
[null,null,null,null,null,null,null,null,null,null,null,null,null,null,null,null,null,null,null,null,null,null,null,null,null,"Actual Cold Water Used During Mixed Temp Cycles, Apr (BOED)","gal / month",null,null,"NA","NA",238.49653474424858,212.6152142069308,131.89706560341017,381.59445559079768,211.03530496545628]
[null,null,null,null,null,null,null,null,null,null,null,null,null,null,null,null,null,null,null,null,null,null,null,null,null,"Actual Cold Water Used During Mixed Temp Cycles, May (BOED)","gal / month",null,null,"NA","NA",263.26960852500639,219.70238801382851,145.59745643366952,421.23137364001019,232.95593029387126]
[null,null,null,null,null,null,null,null,null,null,null,null,null,null,null,null,null,null,null,null,null,null,null,null,null,"Actual Cold Water Used During Mixed Temp Cycles, Jun (BOED)","gal / month",null,null,"NA","NA",273.21070872222623,212.6152142069308,151.09523838798108,437.13713395556192,241.75238142076975]
[null,null,null,null,null,null,null,null,null,null,null,null,null,null,null,null,null,null,null,null,null,null,null,null,null,"Actual Cold Water Used During Mixed Temp Cycles, Jul (BOED)","gal / month",null,null,"NA","NA",298.00550406936389,219.70238801382851,164.80764201695425,476.80880651098221,263.69222722712681]
[null,null,null,null,null,null,null,null,null,null,null,null,null,null,null,null,null,null,null,null,null,null,null,null,null,"Actual Cold Water Used During Mixed Temp Cycles, Aug (BOED)","gal / month",null,null,"NA","NA",304.17364966318172,219.70238801382851,168.21884589424161,486.6778394610908,269.15015343078653]
[null,null,null,null,null,null,null,null,null,null,null,null,null,null,null,null,null,null,null,null,null,null,null,null,null,"Actual Cold Water Used During Mixed Temp Cycles, Sep (BOED)","gal / month",null,null,"NA","NA",288.38707400683256,212.6152142069308,159.48830812256483,461.41931841093219,255.18129299610374]
[null,null,null,null,null,null,null,null,null,null,null,null,null,null,null,null,null,null,null,null,null,null,null,null,null,"Actual Cold Water Used During Mixed Temp Cycles, Oct (BOED)","gal / month",null,null,"NA","NA",282.30910371476233,219.70238801382851,156.12697439413799,451.69456594361981,249.80315903062075]
[null,null,null,null,null,null,null,null,null,null,null,null,null,null,null,null,null,null,null,null,null,null,null,null,null,"Actual Cold Water Used During Mixed Temp Cycles, Nov (BOED)","gal / month",null,null,"NA","NA",254.76858521900789,212.6152142069308,140.89608821509233,407.6297363504126,225.43374114414775]
[null,null,null,null,null,null,null,null,null,null,null,null,null,null,null,null,null,null,null,null,null,null,null,null,null,"Actual Cold Water Used During Mixed Temp Cycles, Dec (BOED)","gal / month",null,null,"NA","NA",246.43967773549664,219.70238801382851,136.28990616747703,394.30348437679464,218.06384986796323]
[null,null,null,null,null,null,null,null,null,null,null,null,null,null,null,null,null,null,null,null,null,null,null,null,"Total Water Consumption"]
[null,null,null,null,null,null,null,null,null,null,null,null,null,null,null,null,null,null,null,null,null,null,null,null,null,"Actual Total Water Consumption / Day (BASED ON EXAMPLE DATA)","gal / day",null,null,"NA","NA",{"$f":"IF(ISNUMBER(AF251),AF251*AF235*AF261/365,\"WCF Missing!\")","v":"WCF Missing!"},{"$f":"IF(ISNUMBER(AG251),AG251*AG235*AG261/365,\"WCF Missing!\")","v":"WCF Missing!"},{"$f":"IF(ISNUMBER(AH251),AH251*AH235*AH261/365,\"WCF Missing!\")","v":24.398790562063706},{"$f":"IF(ISNUMBER(AI251),AI251*AI235*AI261/365,\"WCF Missing!\")","v":"WCF Missing!"},{"$f":"IF(ISNUMBER(AJ251),AJ251*AJ235*AJ261/365,\"WCF Missing!\")","v":24.398790562063706}]
[null,null,null,null,null,null,null,null,null,null,null,null,null,null,null,null,null,null,null,null,null,null,null,null,null,"Actual Total Water Consumption / Hour (BASED ON EXAMPLE DATA)","gal / hour",null,null,"NA","NA",{"$f":"IF(ISNUMBER(AF251),AF297*$AB209/24,\"WCF Missing!\")","v":"WCF Missing!"},{"$f":"IF(ISNUMBER(AG251),AG297*$AB209/24,\"WCF Missing!\")","v":"WCF Missing!"},{"$f":"IF(ISNUMBER(AH251),AH297*$AB209/24,\"WCF Missing!\")","v":3.8478925948921305},{"$f":"IF(ISNUMBER(AI251),AI297*$AB209/24,\"WCF Missing!\")","v":"WCF Missing!"},{"$f":"IF(ISNUMBER(AJ251),AJ297*$AB209/24,\"WCF Missing!\")","v":3.8478925948921305}]
[null,null,null,null,null,null,null,null,null,null,null,null,null,null,null,null,null,null,null,null,null,null,null,null,"Internal (Machine) Energy"]
[null,null,null,null,null,null,null,null,null,null,null,null,null,null,null,null,null,null,null,null,null,null,null,null,null,"Electricity Consumption / Cycle (test conditions) (@DHWPerCycle_TestCond)","kWh / cycle",null,null,"NA","NA",{"$f":"AF248/$AB$213 - AF264","v":0.18043095547565469},{"$f":"AG248/$AB$213 - AG264","v":0.18043095547565469},{"$f":"AH248/$AB$213 - AH264","v":0.16417565891438513},{"$f":"AI248/$AB$213 - AI264","v":0.18043095547565469},{"$f":"AJ248/$AB$213 - AJ264","v":0.16417565891438513}]
[null,null,null,null,null,null,null,null,null,null,null,null,null,null,null,null,null,null,null,null,null,null,null,null,null,"Actual Electricity Use / Month, Jan (BASED ON EXAMPLE DATA)","kWh / month",null,null,"NA","NA",{"$f":"(IF(AF$237=\"no\",3600*AF$261/8760*(IF(AND(AF$239=\"yes\",AF$258>(($AB$211*AF268/$AB197+$AB185*AF284/$AB197)/(AF268/$AB197+AF284/$AB197))),AF$300+0.0024*(AF$258-(($AB$211*AF$267/$AB197+$AB185*AF284/$AB197)/(AF$267/$AB197+AF284/$AB197)))*AF$282*365/AF$261,IF(AF$240=\"yes\",AF$300+0.0024*AF$320*($AB$217-$AB185),AF$300))),3600*AF$261/8760*(IF(AND(AF$239=\"yes\",$AB185<AF$259),AF$300+0.0024*(AF$259-$AB185)*(AF$320/AF$257),IF(AND(AF$240=\"yes\",$AB185<AF$259),AF$300-AF$320*0.0024*(AF$260-$AB$217)+0.0024*AF$320*(AF$259-$AB185),IF(AF$240=\"yes\",AF$300-0.0024*AF$320*(AF$260-$AB$217),AF$300))))))*$AB197*24/3600","v":5.7220633081957972},5.7220633081957972,5.206554005638055,5.7220633081957972,5.206554005638055]
[null,null,null,null,null,null,null,null,null,null,null,null,null,null,null,null,null,null,null,null,null,null,null,null,null,"Actual Electricity Use / Month, Feb (BASED ON EXAMPLE DATA)","kWh / month",null,null,"NA","NA",5.1683152461123338,5.1683152461123338,4.7026939405763075,5.1683152461123338,4.7026939405763075]
[null,null,null,null,null,null,null,null,null,null,null,null,null,null,null,null,null,null,null,null,null,null,null,null,null,"Actual Electricity Use / Month, Mar (BASED ON EXAMPLE DATA)","kWh / month",null,null,"NA","NA",5.7220633081957972,5.7220633081957972,5.206554005638055,5.7220633081957972,5.206554005638055]
[null,null,null,null,null,null,null,null,null,null,null,null,null,null,null,null,null,null,null,null,null,null,null,null,null,"Actual Electricity Use / Month, Apr (BASED ON EXAMPLE DATA)","kWh / month",null,null,"NA","NA",5.5374806208346428,5.5374806208346428,5.0386006506174725,5.5374806208346428,5.0386006506174725]
[null,null,null,null,null,null,null,null,null,null,null,null,null,null,null,null,null,null,null,null,null,null,null,null,null,"Actual Electricity Use / Month, May (BASED ON EXAMPLE DATA)","kWh / month",null,null,"NA","NA",5.7220633081957972,5.7220633081957972,5.206554005638055,5.7220633081957972,5.206554005638055]
[null,null,null,null,null,null,null,null,null,null,null,null,null,null,null,null,null,null,null,null,null,null,null,null,null,"Actual Electricity Use / Month, Jun (BASED ON EXAMPLE DATA)","kWh / month",null,null,"NA","NA",5.5374806208346428,5.5374806208346428,5.0386006506174725,5.5374806208346428,5.0386006506174725]
[null,null,null,null,null,null,null,null,null,null,null,null,null,null,null,null,null,null,null,null,null,null,null,null,null,"Actual Electricity Use / Month, Jul (BASED ON EXAMPLE DATA)","kWh / month",null,null,"NA","NA",5.7220633081957972,5.7220633081957972,5.206554005638055,5.7220633081957972,5.206554005638055]
[null,null,null,null,null,null,null,null,null,null,null,null,null,null,null,null,null,null,null,null,null,null,null,null,null,"Actual Electricity Use / Month, Aug (BASED ON EXAMPLE DATA)","kWh / month",null,null,"NA","NA",5.7220633081957972,5.7220633081957972,5.206554005638055,5.7220633081957972,5.206554005638055]
[null,null,null,null,null,null,null,null,null,null,null,null,null,null,null,null,null,null,null,null,null,null,null,null,null,"Actual Electricity Use / Month, Sep (BASED ON EXAMPLE DATA)","kWh / month",null,null,"NA","NA",5.5374806208346428,5.5374806208346428,5.0386006506174725,5.5374806208346428,5.0386006506174725]
[null,null,null,null,null,null,null,null,null,null,null,null,null,null,null,null,null,null,null,null,null,null,null,null,null,"Actual Electricity Use / Month, Oct (BASED ON EXAMPLE DATA)","kWh / month",null,null,"NA","NA",5.7220633081957972,5.7220633081957972,5.206554005638055,5.7220633081957972,5.206554005638055]
[null,null,null,null,null,null,null,null,null,null,null,null,null,null,null,null,null,null,null,null,null,null,null,null,null,"Actual Electricity Use / Month, Nov (BASED ON EXAMPLE DATA)","kWh / month",null,null,"NA","NA",5.5374806208346428,5.5374806208346428,5.0386006506174725,5.5374806208346428,5.0386006506174725]
[null,null,null,null,null,null,null,null,null,null,null,null,null,null,null,null,null,null,null,null,null,null,null,null,null,"Actual Electricity Use / Month, Dec (BASED ON EXAMPLE DATA)","kWh / month",null,null,"NA","NA",5.7220633081957972,5.7220633081957972,5.206554005638055,5.7220633081957972,5.206554005638055]
[null,null,null,null,null,null,null,null,null,null,null,null,null,null,null,null,null,null,null,null,null,null,null,null,null,"Actual Electricity Use / Year (BASED ON EXAMPLE DATA)","kWh / year",null,null,{"$f":" 52.5 + 17.5 *N_br","v":105},105,{"$f":"SUM(AF301:AF312)","v":67.372680886821499},{"$f":"SUM(AG301:AG312)","v":67.372680886821499},{"$f":"SUM(AH301:AH312)","v":61.302974582512583},{"$f":"SUM(AI301:AI312)","v":67.372680886821499},{"$f":"SUM(AJ301:AJ312)","v":61.302974582512583}]
[null,null,null,null,null,null,null,null,null,null,null,null,null,null,null,null,null,null,null,null,null,null,null,null,"Water Remaining in Load after Spin Cycle (Test Conditions, Reference Dryer)"]
[null,null,null,null,null,null,null,null,null,null,null,null,null,null,null,null,null,null,null,null,null,null,null,null,null,"Remaining Moisture Content After Spin Cycle","lb water / lb dry cloth",null,null,"NA","NA",{"$f":"AF317/($AB$220*$AB$221*$AB$222*AF254) + 0.04","v":0.48943798841152469},{"$f":"AG317/($AB$220*$AB$221*$AB$222*AG254) + 0.04","v":0.48943798841152469},{"$f":"AH317/($AB$220*$AB$221*$AB$222*AH254) + 0.04","v":0.39679270637580066},{"$f":"AI317/($AB$220*$AB$221*$AB$222*AI254) + 0.04","v":0.48943798841152469},{"$f":"AJ317/($AB$220*$AB$221*$AB$222*AJ254) + 0.04","v":0.39679270637580066}]
[null,null,null,null,null,null,null,null,null,null,null,null,null,null,null,null,null,null,null,null,null,null,null,null,null,"Dyer Electricity Consumption / year","kWh",null,null,"NA","NA",{"$f":"$AB$213*AF235/AF250 - AF248","v":480.97055767847735},{"$f":"$AB$213*AG235/AG250 - AG248","v":480.97055767847735},{"$f":"$AB$213*AH235/AH250 - AH248","v":322.13367763819008},{"$f":"$AB$213*AI235/AI250 - AI248","v":480.97055767847735},{"$f":"$AB$213*AJ235/AJ250 - AJ248","v":322.13367763819008}]
[null,null,null,null,null,null,null,null,null,null,null,null,null,null,null,null,null,null,null,null,null,null,null,null,null,"Dryer Electricity Consumption / cycle","kWh",null,null,"NA","NA",{"$f":"AF316/$AB$213","v":1.288088526911525},{"$f":"AG316/$AB$213","v":1.288088526911525},{"$f":"AH316/$AB$213","v":0.86270705695658856},{"$f":"AI316/$AB$213","v":1.288088526911525},{"$f":"AJ316/$AB$213","v":0.86270705695658856}]
[null,null,null,null,null,null,null,null,null,null,null,null,null,null,null,null,null,null,null,null,null,null,null,null,null,"Remaining Water Weight After Spin Cycle","lb",null,null,"NA","NA",{"$f":"AF315*AF254","v":6.4227493605793846},{"$f":"AG315*AG254","v":6.4227493605793846},{"$f":"AH315*AH254","v":4.3929719405658663},{"$f":"AI315*AI254","v":6.4227493605793846},{"$f":"AJ315*AJ254","v":4.3929719405658663}]
[null,null,null,null,null,null,null,null,null,null,null,null,null,null,null,null,null,null,null,null,null,null,null,null,"Other"]
[null,null,null,null,null,null,null,null,null,null,null,null,null,null,null,null,null,null,null,null,null,null,null,null,null,"Cold Water Consumption per Cycle","gal / cycle",null,null,"NA","NA",0,0,0,0,0]
[null,null,null,null,null,null,null,null,null,null,null,null,null,null,null,null,null,null,null,null,null,null,null,"Simulation Variables"]
[null,null,null,null,null,null,null,null,null,null,null,null,null,null,null,null,null,null,null,null,null,null,null,null,null,"CWAnnualEnergyConsumption","kWh","The annual energy consumed by the clothes washer, as rated.  Data obtained from the EnergyGuide label."," ",{"$f":"AD248","v":"NA"},"NA",533,533,351,533,351]
[null,null,null,null,null,null,null,null,null,null,null,null,null,null,null,null,null,null,null,null,null,null,null,null,null,"CWRemainingWater","lb","The weight of the water remaining in clothes after the spin cycle."," ","NA","NA","NA",{"$f":"AG318","v":6.4227493605793846},{"$f":"AH318","v":4.3929719405658663},{"$f":"AI318","v":6.4227493605793846},{"$f":"AJ318","v":4.3929719405658663}]
[null,null,null,null,null,null,null,null,null,null,null,null,null,null,null,null,null,null,null,null,null,null,null,null,null,"DHWSupplyTemp","degF","The water temperature from the domestic hot water system."," ",{"$f":"$AB$211","v":130},120,"NA",{"$f":"$AB$211","v":130},{"$f":"$AB$211","v":130},{"$f":"$AB$211","v":130},{"$f":"$AB$211","v":130}]
[null,null,null,null,null,null,null,null,null,null,null,null,null,null,null,null,null,null,null,null,null,null,null,null,null,"CWDrumVolume","cu ft","Obtained from the EnergyStar website or the manufacturer's literature."," ","NA","NA","NA",{"$f":"AG235","v":3.15},{"$f":"AH235","v":2.65},{"$f":"AI235","v":3.15},{"$f":"AJ235","v":2.65}]
[null,null,null,null,null,null,null,null,null,null,null,null,null,null,null,null,null,null,null,null,null,null,null,null,null,"CWUseColdCycleOnly","YES or NO","Indicates that no hot water is used for clothes washing."," ","NA","NA","NA",{"$f":"AG237","v":"NO"},{"$f":"AH237","v":"NO"},{"$f":"AI237","v":"YES"},{"$f":"AJ237","v":"YES"}]
[null,null,null,null,null,null,null,null,null,null,null,null,null,null,null,null,null,null,null,null,null,null,null,null,null,"CWHasInternalHeaterAdjustment","YES or NO","The washer uses an internal electric heater to adjust the temperature of wash water.  Use this option for washers that have hot and cold water connections but use an internal electric heater to adjust the wash water temperature.  Obtain the input from the manufacturer's literature. "," ","NA","NA","NA",{"$f":"AG239","v":"NO"},"NO","NO","NO"]
[null,null,null,null,null,null,null,null,null,null,null,null,null,null,null,null,null,null,null,null,null,null,null,null,null,"CWHasColdWaterInletOnly","YES or NO","The washer uses a cold water connection only (all water is heated with internal electric heaters only and the washer is not connected to the hot water system.  Input obtained from the manufacturer's literature."," ","NA","NA","NA","NO","NO","NO","NO"]
[null,null,null,null,null,null,null,null,null,null,null,null,null,null,null,null,null,null,null,null,null,null,null,null,null,"ThermostaticControl","YES or NO","The clothes washer uses hot and cold water inlet valves to control temperature (varies hot water volume to control wash temperature).  Use this option for machines that use hot and cold inlet valves to control wash water temperature or machines that use both inlet valves AND internal electric heaters to control temperature of the wash water.  Input obtained from the manufacturer's literature."," ","NA","NA","NA",{"$f":"AG238","v":"NO"},{"$f":"AH238","v":"YES"},{"$f":"AI238","v":"YES"},{"$f":"AJ238","v":"YES"}]
[null,null,null,null,null,null,null,null,null,null,null,null,null,null,null,null,null,null,null,null,null,null,null,null,null,"CWHasWaterLevelFillSensor","YES or NO","Does the system have a vertical axis and water level fill sensor, yes or no?  Input obtained from the manufacturer's literature."," ",{"$f":"AD241","v":"NA"},"NA","NO","NO","NO","NO","NO"]
[null,null,null,null,null,null,null,null,null,null,null,null,null,null,null,null,null,null,null,null,null,null,null,null,null,"CWHotWaterTempForColdWaterInletOnlySystems","degF","The hot water temperature for systems that match the criteria CWHasColdWaterInletInly = YES.  "," ","NA","NA","NA",{"$f":"AG260","v":"NA"},{"$f":"AH260","v":"NA"},{"$f":"AI260","v":"NA"},{"$f":"AJ260","v":"NA"}]
[null,null,null,null,null,null,null,null,null,null,null,null,null,null,null,null,null,null,null,null,null,null,null,null,null,"CWColdWaterUsePerCycleForColdWaterInletOnlySystems","gal / cycle","The volume of water used per cycle for clothes washer types which match the criteria CWHasColdWaterInletOnly = YES.  This data should be available from the manufacturer's literature."," ","NA","NA","NA",{"$f":"AG320","v":0},{"$f":"AH320","v":0},{"$f":"AI320","v":0},{"$f":"AJ320","v":0}]
[null,null,null,null,null,null,null,null,null,null,null,null,null,null,null,null,null,null,null,null,null,null,null,null,null,"CWTestDate","year","Input obtained from E-guide labels.  The new E-guide labels state that the test was performed under the 2004 DOE procedure, otherwise use year < 2004."," ",{"$f":"AD252","v":"NA"},"NA","2004",2004,2000,2004,2000]
[null,null,null,null,null,null,null,null,null,null,null,null,null,null,null,null,null,null,null,null,null,null,null,null,null,"CWCostofNaturalGas_Test","$ / therm","The cost of natural gas used for rating the system.  Input is obtained from the EnergyGuide label."," ",{"$f":"AD245","v":"NA"},"NA",0.68879999999999997,0.68879999999999997,0.68879999999999997,0.68879999999999997,0.68879999999999997]
[null,null,null,null,null,null,null,null,null,null,null,null,null,null,null,null,null,null,null,null,null,null,null,null,null,"CWCostofElectricity_Test","$ / kWh","The cost of electricity used for rating the system.  Data available from the EnergyGuide label."," ",{"$f":"AD244","v":"NA"},"NA",8.0299999999999996E-2,8.0299999999999996E-2,8.0299999999999996E-2,8.0299999999999996E-2,8.0299999999999996E-2]
[null,null,null,null,null,null,null,null,null,null,null,null,null,null,null,null,null,null,null,null,null,null,null,null,null,"CWAnnualCostwithGasDHW_Test","$","The annual cost of using the system under test conditions.  Input is obtained from the EnergyGuide label."," ",{"$f":"AD247","v":"NA"},"NA",20,20,14,20,14]
[null,null,null,null,null,null,null,null,null,null,null,null,null,null,null,null,null,null,null,null,null,null,null,null,null,"ColdCycleTemp","degF","The temperature of cold water."," ","NA","NA","NA",{"$f":"AG259","v":"NA"},{"$f":"AH259","v":"NA"},{"$f":"AI259","v":70},{"$f":"AJ259","v":70}]
[null,null,null,null,null,null,null,null,null,null,null,null,null,null,null,null,null,null,null,null,null,null,null,"Standard Unit Cost Datasets"]
[null,null,null,null,null,null,null,null,null,null,null,null,null,null,null,null,null,null,null,null,null,null,null,null,"General"]
[null,null,null,null,null,null,null,null,null,null,null,null,null,null,null,null,null,null,null,null,null,null,null,null,null,"Multiplier","unit",null,null,null,null,null,1,1,1,1]
[null,null,null,null,null,null,null,null,null,null,null,null,null,null,null,null,null,null,null,null,null,null,null,null,"ge.com (2009 inflation adjusted)"]
[null,null,null,null,null,null,null,null,null,null,null,null,null,null,null,null,null,null,null,null,null,null,null,null,null,"BEopt Option Unit Cost","$/unit",null,null,null,null,null,419,799,419,799]
[null,null,null,null,null,null,null,null,null,null,null,null,null,null,null,null,null,null,null,null,null,null,null,null,null,"First Cost","$",null,null,null,null,null,{"$f":"AG342*AG340*(1.02)^3","v":444.64615199999997},{"$f":"AH342*AH340*(1.02)^3","v":847.90519199999994},{"$f":"AI342*AI340*(1.02)^3","v":444.64615199999997},{"$f":"AJ342*AJ340*(1.02)^3","v":847.90519199999994}]
[null,null,null,null,null,null,null,null,null,null,null,null,null,null,null,null,null,null,null,null,null,null,null,null,"DEER 2008"]
[null,null,null,null,null,null,null,null,null,null,null,null,null,null,null,null,null,null,null,null,null,null,null,null,null,"BEopt Option Unit Cost","$/unit",null,null,null,null,null,null,{"$f":"855.69+115.51","v":971.2},null,{"$f":"855.69+115.51","v":971.2}]
[null,null,null,null,null,null,null,null,null,null,null,null,null,null,null,null,null,null,null,null,null,null,null,null,null,"First Cost","$",null,null,null,null,null,{"$f":"IF(ISNUMBER(AG345), AG340*AG345, \"\")","v":""},{"$f":"IF(ISNUMBER(AH345), AH340*AH345, \"\")","v":971.2},{"$f":"IF(ISNUMBER(AI345), AI340*AI345, \"\")","v":""},{"$f":"IF(ISNUMBER(AJ345), AJ340*AJ345, \"\")","v":971.2}]
[null,null,null,null,null,null,null,null,null,null,null,null,null,null,null,null,null,null,null,null,null,null,null,"Standard Lifetime Datasets"]
[null,null,null,null,null,null,null,null,null,null,null,null,null,null,null,null,null,null,null,null,null,null,null,null,"DEER 2008"]
[null,null,null,null,null,null,null,null,null,null,null,null,null,null,null,null,null,null,null,null,null,null,null,null,null,"BEopt Option Lifetime","years",null,null,null,null,null,11,11,11,11]
[null,null,null,null,null,null,null,null,null,null,null,null,null,null,null,null,null,null,null,null,null,null,null,null,"NAHB"]
[null,null,null,null,null,null,null,null,null,null,null,null,null,null,null,null,null,null,null,null,null,null,null,null,null,"BEopt Option Lifetime","years",null,null,null,null,null,10,10,10,10]
[null,null,null,null,null,null,null,null,null,null,null,null,null,null,null,null,null,null,null,null,null,null,null,"> The calculations performed here are identical to the calculations performed in the Building America appliance spreadsheet."]
[null,null,null,null,null,null,null,null,null,null,null,null,null,null,null,null,null,null,null,null,null,null,null,"> Cost information is from the General Electric and Maytag websites"]
[]
[]
[]
[null,null,null,null,null,null,null,null,null,null,null,null,null,null,null,null,null,null,null,null,null,"Clothes Dryer"]
[]
[null,null,null,null,null,null,null,null,null,null,null,null,null,null,null,null,null,null,null,null,null,null,"Category Information"]
[null,null,null,null,null,null,null,null,null,null,null,null,null,null,null,null,null,null,null,null,null,null,null,"General"]
[null,null,null,null,null,null,null,null,null,null,null,null,null,null,null,null,null,null,null,null,null,null,null,null,null,"BEopt Category Type","DOE2/TRNSYS/E+/PV/BEopt","TRNSYS, E+"]
[null,null,null,null,null,null,null,null,null,null,null,null,null,null,null,null,null,null,null,null,null,null,null,null,null,"BEopt Mutually Exclusive With"]
[null,null,null,null,null,null,null,null,null,null,null,null,null,null,null,null,null,null,null,null,null,null,null,null,null,"BEopt Notes",null,"Characteristics of both the washer (remaining moisture in clothes) and the dryer (moisture removal efficiency) are used to calculate the overall drying energy consumption."," ",null," "]
[null,null,null,null,null,null,null,null,null,null,null,null,null,null,null,null,null,null,null,null,null,null,null,null,null,"BEopt Affects Rendering","TRUE or FALSE",false]
[null,null,null,null,null,null,null,null,null,null,null,null,null,null,null,null,null,null,null,null,null,null,null,null,null,"BEopt Default Option",null,1]
[null,null,null,null,null,null,null,null,null,null,null,null,null,null,null,null,null,null,null,null,null,null,null,null,null,"BEopt Well Ordered Category",null,true]
[null,null,null,null,null,null,null,null,null,null,null,null,null,null,null,null,null,null,null,null,null,null,null,"Geometry"]
[null,null,null,null,null,null,null,null,null,null,null,null,null,null,null,null,null,null,null,null,null,null,null,null,null,{"$f":"NewConst!$C$26","v":"Number of Bedrooms (6 maximum)"},{"$f":"NewConst!$D$26","v":"#"},{"$f":"N_br","v":3}]
[null,null,null,null,null,null,null,null,null,null,null,null,null,null,null,null,null,null,null,null,null,null,null,"Energy"]
[null,null,null,null,null,null,null,null,null,null,null,null,null,null,null,null,null,null,null,null,null,null,null,null,null,"Clothes washer cycles per year","cycles/year",{"$f":"AB215","v":373.39868155778845}]
[null,null,null,null,null,null,null,null,null,null,null,null,null,null,null,null,null,null,null,null,null,null,null,null,null,"Dryer Usage Factor (Fraction of Washed Loads Requiring Drying)",null,0.84]
[null,null,null,null,null,null,null,null,null,null,null,null,null,null,null,null,null,null,null,null,null,null,null,null,null,"Dryer cycles per year","cycles/year",{"$f":"AB371*AB370","v":313.65489250854228}]
[null,null,null,null,null,null,null,null,null,null,null,null,null,null,null,null,null,null,null,null,null,null,null,null,null,{"$f":"NewConst!#REF!","v":{"$error":"#REF!"}},{"$f":"NewConst!#REF!","v":{"$error":"#REF!"}},{"$f":"NewConst!#REF!","v":{"$error":"#REF!"}}]
[null,null,null,null,null,null,null,null,null,null,null,null,null,null,null,null,null,null,null,null,null,null,null,null,null,"Btu/Watt*hr","Btu/Watt*hr",3.4119999999999999]
[null,null,null,null,null,null,null,null,null,null,null,null,null,null,null,null,null,null,null,null,null,null,null,null,null,"Wh/kWh","Wh/kWh",1000]
[null,null,null,null,null,null,null,null,null,null,null,null,null,null,null,null,null,null,null,null,null,null,null,null,null,"Btu/therm","Btu/therm",100000]
[null,null,null,null,null,null,null,null,null,null,null,null,null,null,null,null,null,null,null,null,null,null,null,null,"Standard Dryer Test Conditons and Assumptions"]
[null,null,null,null,null,null,null,null,null,null,null,null,null,null,null,null,null,null,null,null,null,null,null,null,null,"Load Adjustment Factor",null,0.52]
[null,null,null,null,null,null,null,null,null,null,null,null,null,null,null,null,null,null,null,null,null,null,null,null,null,"Dryer Energy Factor (Nominal Drying Energy Required)","kWh / lb dry cloth",0.5]
[null,null,null,null,null,null,null,null,null,null,null,null,null,null,null,null,null,null,null,null,null,null,null,null,null,"Standard Washer Cycles Per Year","cycles",392]
[null,null,null,null,null,null,null,null,null,null,null,null,null,null,null,null,null,null,null,null,null,null,null,null,null,"Dryer Usage Factor (Fraction of Washed Loads Requiring Drying)",null,0.84]
[null,null,null,null,null,null,null,null,null,null,null,null,null,null,null,null,null,null,null,null,null,null,null,null,null,"@DryerNominalReductionInMoistureContent","%",0.66]
[null,null,null,null,null,null,null,null,null,null,null,null,null,null,null,null,null,null,null,null,null,null,null,null,"Gas Dryer Assumptions"]
[null,null,null,null,null,null,null,null,null,null,null,null,null,null,null,null,null,null,null,null,null,null,null,null,null,{"$f":"NewConst!$C$276","v":"Assumed gas-electric total energy split (electrical energy/gas energy)"},{"$f":"NewConst!$D$276","v":"%"},{"$f":"NewConst!$F$276","v":7.0000000000000007E-2}]
[null,null,null,null,null,null,null,null,null,null,null,null,null,null,null,null,null,null,null,null,null,null,null,null,null,"@DryerGasHeatingValue (GEF)","Btu / cu ft",1025]
[null,null,null,null,null,null,null,null,null,null,null,null,null,null,null,null,null,null,null,null,null,null,null,null,null,null,null,null,null,null,{"$f":"418+139*2","v":696}]
[null,null,null,null,null,null,null,null,null,null,null,null,null,null,null,null,null,null,null,null,null,null,"Option Information",null,null,null,"Units","Comments","Constraints"]
[null,null,null,null,null,null,null,null,null,null,null,null,null,null,null,null,null,null,null,null,null,null,null,"General"]
[null,null,null,null,null,null,null,null,null,null,null,null,null,null,null,null,null,null,null,null,null,null,null,null,null,"BEopt Option Type","Option/BAB/NCTH",null,null,"BAB","BAB","IECC_06","IECC_06","NCTH","NCTH","Option","Option","Option"]
[null,null,null,null,null,null,null,null,null,null,null,null,null,null,null,null,null,null,null,null,null,null,null,null,null,"BEopt Option Name",null,null,null,{"$f":"\"FollowsVar=\" & Z414 & \"=Cannot have electric and gas options selected.\"","v":"FollowsVar=ClothesDryerFuelType=Cannot have electric and gas options selected."},{"$f":"\"FollowsVar=\" & Z414 & \"=Cannot have electric and gas options selected.\"","v":"FollowsVar=ClothesDryerFuelType=Cannot have electric and gas options selected."},"FollowsVar=ClothesDryerFuelType=Cannot have electric and gas options selected.","FollowsVar=ClothesDryerFuelType=Cannot have electric and gas options selected.","Electric NCTH","Gas NCTH","Electric","Gas","None (Clothes Line)"]
[null,null,null,null,null,null,null,null,null,null,null,null,null,null,null,null,null,null,null,null,null,null,null,null,null,"BEopt Column 1 (Capacity)","cuft",null,null,null,null,null,null,{"$f":"AH399","v":5.7},5.7,5.7,5.7,"NA"]
[null,null,null,null,null,null,null,null,null,null,null,null,null,null,null,null,null,null,null,null,null,null,null,null,null,"BEopt Column 2 (Energy Factor)","lb/kWh",null,null,null,null,null,null,3.1,2.75,3.1,2.75,"NA"]
[null,null,null,null,null,null,null,null,null,null,null,null,null,null,null,null,null,null,null,null,null,null,null,null,null,"BEopt Column 3 (Energy/Cyc)","kWh",null,null,null,null,null,null,{"$f":"AH406","v":2.258064516129032},{"$f":"AI406","v":2.5454545454545454},{"$f":"AJ406","v":2.258064516129032},{"$f":"AK406","v":2.5454545454545454},"NA"]
[null,null,null,null,null,null,null,null,null,null,null,null,null,null,null,null,null,null,null,null,null,null,null,null,"From the Manufacturer's Website"]
[null,null,null,null,null,null,null,null,null,null,null,null,null,null,null,null,null,null,null,null,null,null,null,null,null,"Make",null,null,null,"NA","NA","NA","NA","NA","NA","GE","GE","Cord"]
[null,null,null,null,null,null,null,null,null,null,null,null,null,null,null,null,null,null,null,null,null,null,null,null,null,"Model",null,null,null,"NA","NA","NA","NA","NA","NA","DVL223Exxxx","DVL223Gxxxx","NA"]
[null,null,null,null,null,null,null,null,null,null,null,null,null,null,null,null,null,null,null,null,null,null,null,null,"From CEC website"]
[null,null,null,null,null,null,null,null,null,null,null,null,null,null,null,null,null,null,null,null,null,null,null,null,null,"Automatic Termination Control","YES or NO",null,null,"NA","NA","NA","NA",{"$f":"NewConst!F274","v":"NO"},{"$f":"NewConst!F274","v":"NO"},"NO","NO","NO"]
[null,null,null,null,null,null,null,null,null,null,null,null,null,null,null,null,null,null,null,null,null,null,null,null,null,"Capacity","cu ft",null,null,"NA","NA","NA","NA",{"$f":"NewConst!F275","v":5.7},{"$f":"NewConst!F275","v":5.7},5.7,5.7,"NA"]
[null,null,null,null,null,null,null,null,null,null,null,null,null,null,null,null,null,null,null,null,null,null,null,null,null,"@DryerEnergyFactor","lb/kWh",null,null,"NA","NA","NA","NA",{"$f":"NewConst!F272","v":3.1},{"$f":"NewConst!F273","v":2.75},3.1,2.75,"NA"]
[null,null,null,null,null,null,null,null,null,null,null,null,null,null,null,null,null,null,null,null,null,null,null,null,null,"Test Date",null,null,null,"NA","NA","NA","NA","NA","NA",2002,2002,"NA"]
[null,null,null,null,null,null,null,null,null,null,null,null,null,null,null,null,null,null,null,null,null,null,null,"Energy"]
[null,null,null,null,null,null,null,null,null,null,null,null,null,null,null,null,null,null,null,null,null,null,null,null,"Test Conditions"]
[null,null,null,null,null,null,null,null,null,null,null,null,null,null,null,null,null,null,null,null,null,null,null,null,null,"@DryerFieldUseFactor",null,null,null,"NA","NA","NA","NA",{"$f":"IF(AH398=\"yes\", 1.04, 1.18)","v":1.18},{"$f":"IF(AI398=\"yes\", 1.04, 1.18)","v":1.18},{"$f":"IF(AJ398=\"yes\", 1.04, 1.18)","v":1.18},{"$f":"IF(AK398=\"yes\", 1.04, 1.18)","v":1.18},{"$f":"IF(AL398=\"yes\", 1.04, 1.18)","v":1.18}]
[null,null,null,null,null,null,null,null,null,null,null,null,null,null,null,null,null,null,null,null,null,null,null,null,null,"@DryerTestLoadWeight","lb",null,null,"NA","NA","NA","NA",{"$f":"IF(AH399>4.4,7,3)","v":7},{"$f":"IF(AI399>4.4,7,3)","v":7},{"$f":"IF(AJ399>4.4,7,3)","v":7},{"$f":"IF(AK399>4.4,7,3)","v":7},{"$f":"IF(AL399>4.4,7,3)","v":7}]
[null,null,null,null,null,null,null,null,null,null,null,null,null,null,null,null,null,null,null,null,null,null,null,null,null,"@DryerTotalEnergyConsumptionPerCycle","kWh",null,null,"NA","NA","NA","NA",{"$f":"AH405/AH400","v":2.258064516129032},{"$f":"AI405/AI400","v":2.5454545454545454},{"$f":"AJ405/AJ400","v":2.258064516129032},{"$f":"AK405/AK400","v":2.5454545454545454},"NA"]
[null,null,null,null,null,null,null,null,null,null,null,null,null,null,null,null,null,null,null,null,null,null,null,null,null,"@DryerEnergyPerMoistureReduction_Gas (Natural Gas Consumption / (Cycle * Reduction in % Moisture Content))","cu ft / (cycle * %)",null,null,"NA","NA","NA","NA",{"$f":"IF(AH414=\"Electric\", 0,IF(AH414=\"Gas\",AH406*(1-AH416)*$AB$374*$AB$375/($AB$382*$AB$385*100),\"ERROR\"))","v":0},{"$f":"IF(AI414=\"Electric\", 0,IF(AI414=\"Gas\",AI406*(1-AI416)*$AB$374*$AB$375/($AB$382*$AB$385*100),\"ERROR\"))","v":0.11939592824027412},{"$f":"IF(AJ414=\"Electric\", 0,IF(AJ414=\"Gas\",AJ406*(1-AJ416)*AJ404*$AB$374*$AB$375/($AB$382*$AB$385*100),\"ERROR\"))","v":0},{"$f":"IF(AK414=\"Electric\", 0,IF(AK414=\"Gas\",AK406*(1-AK416)*AK404*$AB$374*$AB$375/($AB$382*$AB$385*100),\"ERROR\"))","v":0.14088719532352348},"NA"]
[null,null,null,null,null,null,null,null,null,null,null,null,null,null,null,null,null,null,null,null,null,null,null,null,null,"@DryerEnergyPerMoistureReduction_Elec (Electricity Consumption / (Cycle * Reduction in % Moisture Content)","kWh / (cycle * %)",null,null,"NA","NA","NA","NA",{"$f":"IF(AH414=\"Electric\",AH406/($AB$382*100),IF(AH414=\"Gas\",AH406*$AB$384/($AB$382*100),\"ERROR\"))","v":3.4213098729227759E-2},{"$f":"IF(AI414=\"Electric\",AI406/($AB$382*100),IF(AI414=\"Gas\",AI406*$AB$384/($AB$382*100),\"ERROR\"))","v":2.6997245179063364E-3},{"$f":"IF(AJ414=\"Electric\",AJ406*AJ404/($AB$382*100),IF(AJ414=\"Gas\",AJ406*AJ404*$AB$384/($AB$382*100),\"ERROR\"))","v":4.0371456500488755E-2},{"$f":"IF(AK414=\"Electric\",AK406*AK404/($AB$382*100),IF(AK414=\"Gas\",AK406*AK404*$AB$384/($AB$382*100),\"ERROR\"))","v":3.1856749311294768E-3},"NA"]
[null,null,null,null,null,null,null,null,null,null,null,null,null,null,null,null,null,null,null,null,null,null,null,null,"Dryer Energy Consumption"]
[null,null,null,null,null,null,null,null,null,null,null,null,null,null,null,null,null,null,null,null,null,null,null,null,null,"Electricity Consumption Per Year (BASED ON EXAMPLE DATA)","kWh",null,null,{"$f":"IF(HomeType=2, IF(NewConst!F249=\"yes\", IF(AD414=\"Electric\", ($E$6/2.42)*Nunits, 0), IF(AD414=\"Electric\", $E$6, $E$7)), IF(AD414=\"Electric\", $E$6, $E$7))","v":1076.4000000000001},{"$f":"IF(HomeType=2, IF(NewConst!F249=\"yes\", IF(AE414=\"Electric\", (E6/2.42)*Nunits, 0.09*(E6/2.42)*Nunits), IF(AE414=\"Electric\", $E$6, $E$7)), IF(AE414=\"Electric\", $E$6, $E$7))","v":85.9},76.099999999999994,76.099999999999994,{"$f":"AH408*100*($AF$318/AH405)*AB372","v":984.61718489825773},{"$f":"AI408*100*($AF$318/AI405)*$AB$372","v":77.69524695378982},{"$f":"AJ$408*100*($AB$373/AJ$405)*$AB$381*$AB$370","v":{"$error":"#REF!"}},{"$f":"AK$408*100*($AB$373/AK$405)*$AB$381*$AB$370","v":{"$error":"#REF!"}},0]
[null,null,null,null,null,null,null,null,null,null,null,null,null,null,null,null,null,null,null,null,null,null,null,null,null,"Gas Consumption Per Year (BASED ON EXAMPLE DATA)","therms",null,null,{"$f":"IF(AD414=\"Electric\", 0, $H$7)","v":0},{"$f":"IF(AE414=\"Electric\", 0, IF(HomeType=2, IF(NewConst!F249=\"yes\", (40.22/2.42)*Nunits, $H$7),  $H$7))","v":39},0,52.9,{"$f":"IF(AH414=\"Electric\",0,AB372*AH407*100*$AF$318*$AB$385/(AH405*$AB$376))","v":0},{"$f":"IF(AI414=\"Electric\",0,AB372*AI407*100*$AF$318*$AB$385/(AI405*$AB$376))","v":35.219921403412513},{"$f":"IF(AJ$414=\"Electric\", 0, IF(AJ414=\"Gas\",$AB$370*$AB$381*AJ$407*100*$AB$373*$AB$385/(AJ$405*$AB$376),\"Invalid Fuel Type\"))","v":0},{"$f":"IF(AK$414=\"Electric\", 0, IF(AK414=\"Gas\",$AB$370*$AB$381*AK$407*100*$AB$373*$AB$385/(AK$405*$AB$376),\"Invalid Fuel Type\"))","v":{"$error":"#REF!"}},0]
[null,null,null,null,null,null,null,null,null,null,null,null,null,null,null,null,null,null,null,null,null,null,null,"Simulation Variables"]
[null,null,null,null,null,null,null,null,null,null,null,null,null,null,null,null,null,null,null,null,null,null,null,null,null,"HasDryer","YES or NO","Is there a clothes dryer?"," ","YES","YES","YES","YES","YES","YES","YES","YES","NO"]
[null,null,null,null,null,null,null,null,null,null,null,null,null,null,null,null,null,null,null,null,null,null,null,null,null,"ClothesDryerFuelType","Electric or Gas or NA","The type of fuel used by the clothes dryer."," ","Electric","Gas","Electric","Gas","Electric","Gas","Electric","Gas","NA"]
[null,null,null,null,null,null,null,null,null,null,null,null,null,null,null,null,null,null,null,null,null,null,null,null,null,"DryerHasAutomaticTerminationControl","YES or NO","Is clothes dryer operation terminated with a moisture sensor or temperature sensor rather than a timer?"," ","NA","NA","NA","NA",{"$f":"AH398","v":"NO"},{"$f":"AI398","v":"NO"},{"$f":"AJ398","v":"NO"},{"$f":"AK398","v":"NO"},{"$f":"AL398","v":"NO"}]
[null,null,null,null,null,null,null,null,null,null,null,null,null,null,null,null,null,null,null,null,null,null,null,null,null,"DryerAssumedGasElectricTotalEnergySplit","%","For Gas Dryers, this is the Assumed Energy Use Ratio (Electric Energy / Gas Energy), otherwise this is 'NA'."," ","NA","NA","NA","NA","NA",{"$f":"$AB$384","v":7.0000000000000007E-2},"NA",7.0000000000000007E-2,"NA"]
[null,null,null,null,null,null,null,null,null,null,null,null,null,null,null,null,null,null,null,null,null,null,null,null,null,"DryerEnergyFactor","lb/kWh","The energy factor, for electric or gas systems."," ","NA","NA","NA","NA",{"$f":"AH400","v":3.1},{"$f":"AI400","v":2.75},{"$f":"AJ400","v":3.1},{"$f":"AK400","v":2.75},{"$f":"AL400","v":"NA"}]
[null,null,null,null,null,null,null,null,null,null,null,null,null,null,null,null,null,null,null,null,null,null,null,null,null,"DryerCapacity","cu ft","The Rated Volume Capacity of the Dryer."," ","NA","NA","NA","NA","NA","NA",{"$f":"AJ399","v":5.7},{"$f":"AK399","v":5.7},{"$f":"AL399","v":"NA"}]
[null,null,null,null,null,null,null,null,null,null,null,null,null,null,null,null,null,null,null,null,null,null,null,"Standard Unit Cost Datasets"]
[null,null,null,null,null,null,null,null,null,null,null,null,null,null,null,null,null,null,null,null,null,null,null,null,"General"]
[null,null,null,null,null,null,null,null,null,null,null,null,null,null,null,null,null,null,null,null,null,null,null,null,null,"Multiplier","unit",null,null,null,null,null,null,null,null,1,1,1]
[null,null,null,null,null,null,null,null,null,null,null,null,null,null,null,null,null,null,null,null,null,null,null,null,"ge.com (2009 inflation adjusted)"]
[null,null,null,null,null,null,null,null,null,null,null,null,null,null,null,null,null,null,null,null,null,null,null,null,null,"BEopt Option Unit Cost","$/unit",null,null,null,null,null,null,null,null,269,319,0.01]
[null,null,null,null,null,null,null,null,null,null,null,null,null,null,null,null,null,null,null,null,null,null,null,null,null,"First Cost","$",null,null,null,null,null,null,null,null,{"$f":"AJ423*AJ421*(1.02)^3","v":285.46495199999998},{"$f":"AK423*AK421*(1.02)^3","v":338.525352},0.01]
[null,null,null,null,null,null,null,null,null,null,null,null,null,null,null,null,null,null,null,null,null,null,null,null,"DEER 2005"]
[null,null,null,null,null,null,null,null,null,null,null,null,null,null,null,null,null,null,null,null,null,null,null,null,null,"BEopt Option Unit Cost","$/unit",null,null,null,null,null,null,null,null,319.02,362.65,0.01]
[null,null,null,null,null,null,null,null,null,null,null,null,null,null,null,null,null,null,null,null,null,null,null,null,null,"First Cost","$",null,null,null,null,null,null,null,null,{"$f":"IF(ISNUMBER(AJ426), AJ421*AJ426, \"\")","v":319.02},{"$f":"IF(ISNUMBER(AK426), AK421*AK426, \"\")","v":362.65},0.01]
[null,null,null,null,null,null,null,null,null,null,null,null,null,null,null,null,null,null,null,null,null,null,null,"Standard Lifetime Datasets"]
[null,null,null,null,null,null,null,null,null,null,null,null,null,null,null,null,null,null,null,null,null,null,null,null,"DEER 2005"]
[null,null,null,null,null,null,null,null,null,null,null,null,null,null,null,null,null,null,null,null,null,null,null,null,null,"BEopt Option Lifetime","years",null,null,null,null,null,null,null,null,18,18,30]
[null,null,null,null,null,null,null,null,null,null,null,null,null,null,null,null,null,null,null,null,null,null,null,null,"NAHB"]
[null,null,null,null,null,null,null,null,null,null,null,null,null,null,null,null,null,null,null,null,null,null,null,null,null,"BEopt Option Lifetime","years",null,null,null,null,null,null,null,null,13,13,30]
[null,null,null,null,null,null,null,null,null,null,null,null,null,null,null,null,null,null,null,null,null,null,null,"> BEopt uses characteristics of both the washer (remaining moisture in clothes) and the dryer (moisture removal efficiency) to calculate the overall drying energy used."]

{"sheet":"Lighting","index":9,"n_rows":369,"n_cols":100,"rows_kept":369,"cut":false,"hidden":true,"merged":[]}
["Calculation of Seasonal and Geographic Effects on Lighting Energy (Updated November 28, 2009)"]
[]
[null,null,null,null,null,null,null,null,null,"% of total annual energy",null,null,null,null,null,"RLW 2007","RLW 2007",null,"June Solst"]
["RLW Analytics, \"Extended Residential Logging Results, May 2, 2005.",null,null,null,null,null,null,null,null,"RLW 2005 (New England)","NEES 1994 (New England)","Stokes 2003 (UK)","Bench 2010 (London)",null,"Hour","% On - Winter","% On - Summer","Avg","2007-06-21","Day #",null,null,"Month #"]
["(92 dataloggers in 44 homes in MA, VT, and RI)",null,null,null,null,null,null,null,"Jan",9.7600000000000006E-2,0.11360000000000001,{"$f":"97/L18","v":0.12796833773087071},{"$f":"W$72*W$70/365","v":0.11591771923020547},null,1,0.05,0.08,{"$f":"AVERAGE(P5:Q5)","v":6.5000000000000002E-2},39254,1,{"$f":"SIN((T5+365/4+11)/365*2*PI())","v":0.97874007996691526},null,1,{"$f":"SIN((T5-0.5+12/4+11/30)/12*2*PI())","v":0.89879404629916693}]
[null,null,null,null,null,null,null,null,"Feb",8.0100000000000005E-2,0.11409999999999999,{"$f":"77/L18","v":0.10158311345646438},{"$f":"X$72*X$70/365","v":9.1738914940510063E-2},null,{"$f":"1+O5","v":2},0.03,0.06,{"$f":"AVERAGE(P6:Q6)","v":4.4999999999999998E-2},{"$f":"S5-S11","v":171},2,{"$f":"SIN((T6+365/4+11)/365*2*PI())","v":0.97506453225719469},null,2,{"$f":"SIN((T6-0.5+12/4+11/30)/12*2*PI())","v":0.55919290347074724}]
["New England Electric Systems, \"Residential Lighting Study\", 1994",null,null,null,null,null,null,null,"Mar",8.7300000000000003E-2,8.8900000000000007E-2,{"$f":"66/L18","v":8.7071240105540904E-2},{"$f":"Y$72*Y$70/365","v":8.5802989807230556E-2},null,{"$f":"1+O6","v":3},0.03,0.04,3.5000000000000003E-2,"Dec Solst",3,0.97110005188295045,null,3,6.9756473744125524E-2]
["(As cited in RLW study)",null,null,null,null,null,null,null,"Apr",7.6899999999999996E-2,8.0500000000000002E-2,{"$f":"51/L18","v":6.7282321899736153E-2},{"$f":"Z$72*Z$70/365","v":6.7960689257294551E-2},null,4,0.02,0.04,0.03,"2007-12-22",4,0.96684781360527761,null,4,-0.43837114678907707]
[null,null,null,null,null,null,null,null,"May",7.4899999999999994E-2,8.1000000000000003E-2,{"$f":"41/L18","v":5.4089709762532981E-2},{"$f":"AA$72*AA$70/365","v":6.1138912853048594E-2},null,5,0.03,0.04,3.5000000000000003E-2,39438,5,0.96230907745414873,null,5,-0.8290375725550414]
["RLW Analytics, \"Concidence Factor Study: Residential and Commercial",null,null,null,null,null,null,null,"Jun",7.1800000000000003E-2,7.0499999999999993E-2,{"$f":"32/L18","v":4.221635883905013E-2},{"$f":"AB$72*AB$70/365","v":5.533498570442362E-2},null,6,0.05,0.04,4.4999999999999998E-2,{"$f":"S9-S11","v":355},6,0.95748518835503926,null,6,-0.9975640502598242]
["& Industrial Lighting Measures\", 2007",null,null,null,null,null,null,null,"Jul",6.9599999999999995E-2,5.8900000000000001E-2,{"$f":"34/L18","v":4.4854881266490766E-2},{"$f":"AC$72*AC$70/365","v":5.824959230155409E-2},null,7,0.09,0.05,7.0000000000000007E-2,39083,7,0.95237757573039739,null,7,-0.89879404629916704]
[null,null,null,null,null,null,null,null,"Aug ",7.3700000000000002E-2,5.1400000000000001E-2,{"$f":"41/L18","v":5.4089709762532981E-2},{"$f":"AD$72*AD$70/365","v":6.5473480080343288E-2},null,8,0.11,0.08,9.5000000000000001E-2,null,8,0.9469877530760753,null,8,-0.55919290347074735]
[null,null,null,null,null,null,null,null,"Sep",8.0100000000000005E-2,5.67E-2,{"$f":"52/L18","v":6.860158311345646E-2},{"$f":"AE$72*AE$70/365","v":7.5633588935449761E-2},null,9,0.13,0.08,0.10500000000000001,null,9,0.94131731751284708,null,9,-6.9756473744125636E-2]
[null,null,null,null,null,null,null,null,"Oct",9.2700000000000005E-2,6.9199999999999998E-2,{"$f":"75/L18","v":9.894459102902374E-2},{"$f":"AF$72*AF$70/365","v":9.4449084525061053E-2},null,10,0.16,0.08,0.12,null,10,0.93536794931314837,null,10,0.43837114678907735,null,null,null,null,null,null,null,null,null,null,null,null,null,{"$f":"$O47+0.13/0.266*(1/1.5/SQRT(2*PI()))*EXP(-0.5*((ABS(6-12)-6)/1.5)^2)","v":0.15998119411575501}]
[null,null,null,null,null,null,null,null,"Nov",9.7100000000000006E-2,0.10879999999999999,{"$f":"89/L18","v":0.11741424802110818},{"$f":"AG$72*AG$70/365","v":0.10789130895095179},null,11,0.17,0.08,0.125,null,11,0.92914141140317441,null,11,0.82903757255504185]
[null,null,null,null,null,null,null,null,"Dec",9.8199999999999996E-2,0.10639999999999999,{"$f":"105/L18","v":0.13852242744063326},{"$f":"AH$72*AH$70/365","v":0.12040873341392722},null,12,0.18,7.0000000000000007E-2,0.125,null,12,0.9226395488404876,null,12,0.9975640502598242]
[null,null,null,null,null,null,null,null,null,{"$f":"SUM(J5:J16)","v":0.99999999999999989},{"$f":"SUM(K5:K16)","v":1},{"$f":"SUM(L5:L16)","v":1.0026385224274406},{"$f":"SUM(M5:M16)","v":1},null,13,0.15,7.0000000000000007E-2,0.11,null,13,0.91586428826728716,"Sunrise:",{"$f":"IF('Sunrise Calc'!$B$2<51.49,LOOKUP(W19,'Sunrise Calc'!$E$2:$G$13),LOOKUP(W19,'Sunrise Calc'!$E$18:$G$29))","v":7.3836552964700273},{"$f":"IF('Sunrise Calc'!$B$2<51.49,LOOKUP(X19,'Sunrise Calc'!$E$2:$G$13),LOOKUP(X19,'Sunrise Calc'!$E$18:$G$29))","v":6.9917731953053037},{"$f":"IF('Sunrise Calc'!$B$2<51.49,LOOKUP(Y19,'Sunrise Calc'!$E$2:$G$13),LOOKUP(Y19,'Sunrise Calc'!$E$18:$G$29))","v":6.2671876260428778},{"$f":"IF('Sunrise Calc'!$B$2<51.49,LOOKUP(Z19,'Sunrise Calc'!$E$2:$G$13),LOOKUP(Z19,'Sunrise Calc'!$E$18:$G$29))","v":6.4506554332670714},{"$f":"IF('Sunrise Calc'!$B$2<51.49,LOOKUP(AA19,'Sunrise Calc'!$E$2:$G$13),LOOKUP(AA19,'Sunrise Calc'!$E$18:$G$29))","v":5.8118788368786358},{"$f":"IF('Sunrise Calc'!$B$2<51.49,LOOKUP(AB19,'Sunrise Calc'!$E$2:$G$13),LOOKUP(AB19,'Sunrise Calc'!$E$18:$G$29))","v":5.5723871601683106},{"$f":"IF('Sunrise Calc'!$B$2<51.49,LOOKUP(AC19,'Sunrise Calc'!$E$2:$G$13),LOOKUP(AC19,'Sunrise Calc'!$E$18:$G$29))","v":5.7804497233468162},{"$f":"IF('Sunrise Calc'!$B$2<51.49,LOOKUP(AD19,'Sunrise Calc'!$E$2:$G$13),LOOKUP(AD19,'Sunrise Calc'!$E$18:$G$29))","v":6.237924799934734},{"$f":"IF('Sunrise Calc'!$B$2<51.49,LOOKUP(AE19,'Sunrise Calc'!$E$2:$G$13),LOOKUP(AE19,'Sunrise Calc'!$E$18:$G$29))","v":6.7275971166147936},{"$f":"IF('Sunrise Calc'!$B$2<51.49,LOOKUP(AF19,'Sunrise Calc'!$E$2:$G$13),LOOKUP(AF19,'Sunrise Calc'!$E$18:$G$29))","v":7.2244097492547761},{"$f":"IF('Sunrise Calc'!$B$2<51.49,LOOKUP(AG19,'Sunrise Calc'!$E$2:$G$13),LOOKUP(AG19,'Sunrise Calc'!$E$18:$G$29))","v":6.7728620705623177},{"$f":"IF('Sunrise Calc'!$B$2<51.49,LOOKUP(AH19,'Sunrise Calc'!$E$2:$G$13),LOOKUP(AH19,'Sunrise Calc'!$E$18:$G$29))","v":7.2556071483876323}]
[null,null,null,null,null,null,null,null,null,null,null,758,null,null,14,0.14000000000000001,7.0000000000000007E-2,0.10500000000000001,null,14,0.90881763733950294,"Sunset:",{"$f":"IF('Sunrise Calc'!$B$2<51.49,LOOKUP(W19,'Sunrise Calc'!$E$2:$F$13),LOOKUP(W19,'Sunrise Calc'!$E$18:$F$29))","v":16.857544678185238},{"$f":"IF('Sunrise Calc'!$B$2<51.49,LOOKUP(X19,'Sunrise Calc'!$E$2:$F$13),LOOKUP(X19,'Sunrise Calc'!$E$18:$F$29))","v":17.437241741007117},{"$f":"IF('Sunrise Calc'!$B$2<51.49,LOOKUP(Y19,'Sunrise Calc'!$E$2:$F$13),LOOKUP(Y19,'Sunrise Calc'!$E$18:$F$29))","v":17.998079287185259},{"$f":"IF('Sunrise Calc'!$B$2<51.49,LOOKUP(Z19,'Sunrise Calc'!$E$2:$F$13),LOOKUP(Z19,'Sunrise Calc'!$E$18:$F$29))","v":19.510561799828615},{"$f":"IF('Sunrise Calc'!$B$2<51.49,LOOKUP(AA19,'Sunrise Calc'!$E$2:$F$13),LOOKUP(AA19,'Sunrise Calc'!$E$18:$F$29))","v":20.010180572514365},{"$f":"IF('Sunrise Calc'!$B$2<51.49,LOOKUP(AB19,'Sunrise Calc'!$E$2:$F$13),LOOKUP(AB19,'Sunrise Calc'!$E$18:$F$29))","v":20.374629931868736},{"$f":"IF('Sunrise Calc'!$B$2<51.49,LOOKUP(AC19,'Sunrise Calc'!$E$2:$F$13),LOOKUP(AC19,'Sunrise Calc'!$E$18:$F$29))","v":20.361643541494157},{"$f":"IF('Sunrise Calc'!$B$2<51.49,LOOKUP(AD19,'Sunrise Calc'!$E$2:$F$13),LOOKUP(AD19,'Sunrise Calc'!$E$18:$F$29))","v":19.890155264174677},{"$f":"IF('Sunrise Calc'!$B$2<51.49,LOOKUP(AE19,'Sunrise Calc'!$E$2:$F$13),LOOKUP(AE19,'Sunrise Calc'!$E$18:$F$29))","v":19.108462689420406},{"$f":"IF('Sunrise Calc'!$B$2<51.49,LOOKUP(AF19,'Sunrise Calc'!$E$2:$F$13),LOOKUP(AF19,'Sunrise Calc'!$E$18:$F$29))","v":18.27174714218971},{"$f":"IF('Sunrise Calc'!$B$2<51.49,LOOKUP(AG19,'Sunrise Calc'!$E$2:$F$13),LOOKUP(AG19,'Sunrise Calc'!$E$18:$F$29))","v":16.654504851910414},{"$f":"IF('Sunrise Calc'!$B$2<51.49,LOOKUP(AH19,'Sunrise Calc'!$E$2:$F$13),LOOKUP(AH19,'Sunrise Calc'!$E$18:$F$29))","v":16.474106943976963},null,null,null,null,null,null,null,null,null,null,null,null,null,null,null,null,null,null,null,null,null,null,null,null,null,null,null,null,null,null,null,null,null,null,null,null,null,null,{"$f":"Locations!A2","v":"Denver Intl Ap, CO"}]
[null,null,null,null,null,null,null,null,null,null,null,null,null,null,{"$f":"1+O18","v":15},0.14000000000000001,7.0000000000000007E-2,0.10500000000000001,null,15,0.90150168413188414,null,1,2,3,4,5,6,7,8,9,10,11,12,null,null,"Selected City Hourly Profile",null,null,null,null,null,null,null,null,null,null,null,null,null,null,"U.S. Avg",null,null,null,null,null,"U.S. Avg Hourly Profiles",null,null,null,null,null,null,null,null,null,null,null,null,null,null,"Half-hourly Check for irregularity",null,null,null,null,null,null,null,null,null,null,null,null,null,"Hourly Check for irregularity"]
[null,null,null,null,null,null,null,null,null,null,null,null,null,null,16,0.17,0.08,0.125,null,16,0.89391859651925709,"Hour",{"$f":"AU60& \"- 1/2 hr\"","v":"Jan- 1/2 hr"},{"$f":"AV60& \"- 1/2 hr\"","v":"Feb- 1/2 hr"},"Mar- 1/2 hr","Apr- 1/2 hr","May- 1/2 hr","Jun- 1/2 hr","Jul- 1/2 hr","Aug- 1/2 hr","Sep- 1/2 hr","Oct- 1/2 hr","Nov- 1/2 hr","Dec- 1/2 hr","Average",null,"Hrly Profile","Ann Avg","Jan","Feb","Mar","Apr","May","Jun","Jul","Aug","Sep","Oct","Nov","Dec",null,"Ann Hrly Avg",null,null,"U.S. Avg Seasonal Fraction",null,null,"Hrly Profile","Ann Avg","Jan","Feb","Mar","Apr","May","Jun","Jul","Aug","Sep","Oct","Nov","Dec",null,{"$f":"V20","v":"Hour"},{"$f":"W20","v":"Jan- 1/2 hr"},{"$f":"X20","v":"Feb- 1/2 hr"},"Mar- 1/2 hr","Apr- 1/2 hr","May- 1/2 hr","Jun- 1/2 hr","Jul- 1/2 hr","Aug- 1/2 hr","Sep- 1/2 hr","Oct- 1/2 hr","Nov- 1/2 hr",{"$f":"AH20","v":"Dec- 1/2 hr"},null,{"$f":"AK20","v":"Hrly Profile"},{"$f":"AM20","v":"Jan"},{"$f":"AN20","v":"Feb"},"Mar","Apr","May","Jun","Jul","Aug","Sep","Oct","Nov","Dec"]
[null,null,null,null,null,null,null,null,null,null,null,null,null,null,17,0.24,0.09,0.16499999999999998,null,17,0.88607062153413796,0.5,{"$f":"IF($V21<6,$O33,IF($V21<=8,$O$44+0.005*(W$17-3)^2.4*EXP(-1*($V21-8)^2/(2*(0.8)^2))/(0.8*SQRT(2*PI())),W$45+0.005*(W$17-3)^2.4*EXP(-1*($V21-8)^2/(2*(0.8)^2))/(0.8*SQRT(2*PI()))))","v":0.06},{"$f":"IF($V21<6,$O33,IF($V21<=8,$O$44+0.005*(X$17-3)^2.4*EXP(-1*($V21-8)^2/(2*(0.8)^2))/(0.8*SQRT(2*PI())),X$45+0.005*(X$17-3)^2.4*EXP(-1*($V21-8)^2/(2*(0.8)^2))/(0.8*SQRT(2*PI()))))","v":0.06},0.06,0.06,0.06,0.06,0.06,0.06,0.06,0.06,0.06,0.06,{"$f":"SUMPRODUCT(W21:AH21,W$70:AH$70)/365","v":0.06},null,1,{"$f":"SUM(AI21:AI22)/SUM(AI$21:AI$68)","v":3.1447397074939161E-2},{"$f":"SUM(W21:W22)/SUM(W$21:W$68)","v":2.2958931029971312E-2},{"$f":"SUM(X21:X22)/SUM(X$21:X$68)","v":2.6195190778883642E-2},3.1239455903513302E-2,3.8111576244204547E-2,4.3720973085609134E-2,4.6795012448272444E-2,4.5987762031717699E-2,4.1059124582624729E-2,3.4259434721744648E-2,2.8290361094131959E-2,2.3890754548899936E-2,2.2116829887083123E-2,null,3.2619105570216002E-2,null,"Jan",0.11591771923020544,null,null,1,3.2619105570216002E-2,2.3899622995976207E-2,2.7276184291198248E-2,3.2287800161502921E-2,3.9449605425336744E-2,4.5313036475053886E-2,4.8450764764901066E-2,4.7560672593435778E-2,4.2313159232650437E-2,3.5447509676188142E-2,2.9332097839659191E-2,2.4849289546139488E-2,2.3008213022485718E-2,null,{"$f":"V21","v":0.5},null,null,null,null,null,null,null,null,null,null,null,null,null,{"$f":"AK21","v":1}]
[null,null,null,null,null,null,null,null,null,null,null,null,null,null,18,0.28999999999999998,0.11,0.19999999999999998,null,18,0.87796008470088815,1,{"$f":"IF($V22<6,$O34,IF($V22<=8,$O$44+0.005*(W$17-3)^2.4*EXP(-1*($V22-8)^2/(2*(0.8)^2))/(0.8*SQRT(2*PI())),W$45+0.005*(W$17-3)^2.4*EXP(-1*($V22-8)^2/(2*(0.8)^2))/(0.8*SQRT(2*PI()))))","v":0.04},0.04,0.04,0.04,0.04,0.04,0.04,0.04,0.04,0.04,0.04,0.04,{"$f":"SUMPRODUCT(W22:AH22,W$70:AH$70)/365","v":0.04},null,2,{"$f":"SUM(AI23:AI24)/SUM(AI$21:AI$68)","v":1.8868438244963499E-2},{"$f":"SUM(W23:W24)/SUM(W$21:W$68)","v":1.3775358617982788E-2},{"$f":"SUM(X23:X24)/SUM(X$21:X$68)","v":1.5717114467330186E-2},1.8743673542107982E-2,2.2866945746522729E-2,2.6232583851365482E-2,2.8077007468963466E-2,2.759265721903062E-2,2.4635474749574837E-2,2.0555660833046788E-2,1.6974216656479177E-2,1.4334452729339961E-2,1.3270097932249874E-2,null,1.9571463342129603E-2,null,"Feb",9.173891494051005E-2,null,null,2,1.9571463342129603E-2,1.4339773797585725E-2,1.6365710574718948E-2,1.937268009690175E-2,2.3669763255202047E-2,2.718782188503233E-2,2.9070458858940641E-2,2.8536403556061466E-2,2.5387895539590262E-2,2.1268505805712885E-2,1.7599258703795514E-2,1.4909573727683693E-2,1.3804927813491432E-2,null,1,{"$f":"IF(AND(W22<W21,W22<W23),1,0)","v":0},{"$f":"IF(AND(X22<X21,X22<X23),1,0)","v":0},0,0,0,0,0,0,0,0,0,0,null,2,{"$f":"IF(AND(AM22<AM21,AM22<AM23),1,0)","v":0},{"$f":"IF(AND(AN22<AN21,AN22<AN23),1,0)","v":0},0,0,0,0,0,0,0,0,0,0]
[null,null,null,null,null,null,null,null,null,null,null,null,null,null,19,0.31,0.13,0.22,null,19,0.86958938934661101,1.5,3.5000000000000003E-2,3.5000000000000003E-2,3.5000000000000003E-2,3.5000000000000003E-2,3.5000000000000003E-2,3.5000000000000003E-2,3.5000000000000003E-2,3.5000000000000003E-2,3.5000000000000003E-2,3.5000000000000003E-2,3.5000000000000003E-2,3.5000000000000003E-2,3.500000000000001E-2,null,3,{"$f":"SUM(AI25:AI26)/SUM(AI$21:AI$68)","v":1.2578958829975664E-2},{"$f":"SUM(W25:W26)/SUM(W$21:W$68)","v":9.1835724119885241E-3},{"$f":"SUM(X25:X26)/SUM(X$21:X$68)","v":1.0478076311553456E-2},1.2495782361405321E-2,1.5244630497681818E-2,1.7488389234243652E-2,1.8718004979308978E-2,1.839510481268708E-2,1.6423649833049891E-2,1.3703773888697857E-2,1.1316144437652784E-2,9.5563018195599734E-3,8.846731954833249E-3,null,1.3047642228086399E-2,null,"Mar",8.5802989807230542E-2,null,null,3,1.3047642228086399E-2,9.5598491983904833E-3,1.0910473716479298E-2,1.2915120064601167E-2,1.5779842170134697E-2,1.8125214590021553E-2,1.9380305905960425E-2,1.9024269037374312E-2,1.6925263693060175E-2,1.4179003870475257E-2,1.1732839135863676E-2,9.9397158184557945E-3,9.2032852089942874E-3,null,1.5,{"$f":"IF(AND(W23<W22,W23<W24),1,0)","v":0},0,0,0,0,0,0,0,0,0,0,0,null,3,{"$f":"IF(AND(AM23<AM22,AM23<AM24),1,0)","v":0},{"$f":"IF(AND(AN23<AN22,AN23<AN24),1,0)","v":0},{"$f":"IF(AND(AO23<AO22,AO23<AO24),1,0)","v":0},{"$f":"IF(AND(AP23<AP22,AP23<AP24),1,0)","v":0},{"$f":"IF(AND(AQ23<AQ22,AQ23<AQ24),1,0)","v":0},{"$f":"IF(AND(AR23<AR22,AR23<AR24),1,0)","v":0},{"$f":"IF(AND(AS23<AS22,AS23<AS24),1,0)","v":0},{"$f":"IF(AND(AT23<AT22,AT23<AT24),1,0)","v":0},{"$f":"IF(AND(AU23<AU22,AU23<AU24),1,0)","v":0},{"$f":"IF(AND(AV23<AV22,AV23<AV24),1,0)","v":0},{"$f":"IF(AND(AW23<AW22,AW23<AW24),1,0)","v":0},{"$f":"IF(AND(AX23<AX22,AX23<AX24),1,0)","v":0}]
[null,null,null,null,null,null,null,null,null,null,null,null,null,null,20,0.3,0.17,0.23499999999999999,null,20,0.86096101588899443,2,2.5000000000000001E-2,2.5000000000000001E-2,2.5000000000000001E-2,2.5000000000000001E-2,2.5000000000000001E-2,2.5000000000000001E-2,2.5000000000000001E-2,2.5000000000000001E-2,2.5000000000000001E-2,2.5000000000000001E-2,2.5000000000000001E-2,2.5000000000000001E-2,2.5000000000000005E-2,null,4,{"$f":"SUM(AI27:AI28)/SUM(AI$21:AI$68)","v":1.2578958829975664E-2},{"$f":"SUM(W27:W28)/SUM(W$21:W$68)","v":9.1835724119885241E-3},{"$f":"SUM(X27:X28)/SUM(X$21:X$68)","v":1.0478076311553456E-2},1.2495782361405321E-2,1.5244630497681818E-2,1.7488389234243652E-2,1.8718004979308978E-2,1.839510481268708E-2,1.6423649833049891E-2,1.3703773888697857E-2,1.1316144437652784E-2,9.5563018195599734E-3,8.846731954833249E-3,null,1.3047642228086399E-2,null,"Apr",6.7960689257294551E-2,null,null,4,1.3047642228086399E-2,9.5598491983904833E-3,1.0910473716479298E-2,1.2915120064601167E-2,1.5779842170134697E-2,1.8125214590021553E-2,1.9380305905960425E-2,1.9024269037374312E-2,1.6925263693060175E-2,1.4179003870475257E-2,1.1732839135863676E-2,9.9397158184557945E-3,9.2032852089942874E-3,null,2,0,0,0,0,0,0,0,0,0,0,0,0,null,4,0,0,0,0,0,0,0,0,0,0,0,0]
[null,null,null,null,null,null,null,null,null,null,null,null,null,null,21,0.28999999999999998,0.23,0.26,null,21,0.85207752110130941,2.5,0.02,0.02,0.02,0.02,0.02,0.02,0.02,0.02,0.02,0.02,0.02,0.02,0.02,null,5,{"$f":"SUM(AI29:AI30)/SUM(AI$21:AI$68)","v":1.2578958829975664E-2},{"$f":"SUM(W29:W30)/SUM(W$21:W$68)","v":9.1835724119885241E-3},{"$f":"SUM(X29:X30)/SUM(X$21:X$68)","v":1.0478076311553456E-2},1.2495782361405321E-2,1.5244630497681818E-2,1.7488389234243652E-2,1.8718004979308978E-2,1.839510481268708E-2,1.6423649833049891E-2,1.3703773888697857E-2,1.1316144437652784E-2,9.5563018195599734E-3,8.846731954833249E-3,null,1.3047642228086399E-2,null,"May",6.1138912853048587E-2,null,null,5,1.3047642228086399E-2,9.5598491983904833E-3,1.0910473716479298E-2,1.2915120064601167E-2,1.5779842170134697E-2,1.8125214590021553E-2,1.9380305905960425E-2,1.9024269037374312E-2,1.6925263693060175E-2,1.4179003870475257E-2,1.1732839135863676E-2,9.9397158184557945E-3,9.2032852089942874E-3,null,2.5,0,0,0,0,0,0,0,0,0,0,0,0,null,5,0,0,0,0,0,0,0,0,0,0,0,0]
[null,null,null,null,null,null,null,null,null,null,null,null,null,null,22,0.25,0.26,0.255,null,22,0.84294153735478283,3,0.02,0.02,0.02,0.02,0.02,0.02,0.02,0.02,0.02,0.02,0.02,0.02,0.02,null,6,{"$f":"SUM(AI31:AI32)/SUM(AI$21:AI$68)","v":1.3327366331788434E-2},{"$f":"SUM(W31:W32)/SUM(W$21:W$68)","v":1.0056501252779244E-2},{"$f":"SUM(X31:X32)/SUM(X$21:X$68)","v":1.1273574969145769E-2},1.3082381025789739E-2,1.6060537322136074E-2,1.8061055359325381E-2,1.9213029365548376E-2,1.8981429545294651E-2,1.7178168054488772E-2,1.4586507251847092E-2,1.2300374905524349E-2,1.0189967114268252E-2,9.6298917355566588E-3,null,1.3844991759640518E-2,null,"Jun",5.5334985704423606E-2,null,null,6,1.3844991759640518E-2,1.046786451174443E-2,1.1747934907070776E-2,1.3540695432430968E-2,1.6664961402907252E-2,1.8765663664446833E-2,1.9943599965884854E-2,1.9683500840876427E-2,1.7749518270534247E-2,1.5125141755857944E-2,1.2770755063530531E-2,1.06017598741972E-2,1.0014898224714816E-2,null,3,0,0,0,0,0,0,0,0,0,0,0,0,null,6,0,0,0,0,0,0,0,0,0,0,0,0]
[null,null,null,null,null,null,null,null,null,null,null,null,null,null,23,0.18,0.22,0.2,null,23,0.83355577183856988,3.5,0.02,0.02,0.02,0.02,0.02,0.02,0.02,0.02,0.02,0.02,0.02,0.02,0.02,null,7,{"$f":"SUM(AI33:AI34)/SUM(AI$21:AI$68)","v":2.3314518197176656E-2},{"$f":"SUM(W33:W34)/SUM(W$21:W$68)","v":2.1705332777767396E-2},{"$f":"SUM(X33:X34)/SUM(X$21:X$68)","v":2.1889136521967379E-2},2.0910268815598026E-2,2.6948436420012642E-2,2.5703019857946163E-2,2.5818900779809372E-2,2.6805661842273856E-2,2.7246864646199187E-2,2.6366175591705357E-2,2.543447515086706E-2,1.8645937310650354E-2,2.008079668507114E-2,null,2.4485252369186514E-2,null,"Jul",5.8249592301554083E-2,null,null,7,2.4485252369186514E-2,2.2584908780539908E-2,2.2923467049048581E-2,2.1888709297376616E-2,2.8476468069080219E-2,2.7312160262676785E-2,2.7460498590911923E-2,2.84806442689183E-2,2.8748814270421721E-2,2.7750914111194548E-2,2.6621262932581023E-2,1.943643150730048E-2,2.0845498431544984E-2,null,3.5,0,0,0,0,0,0,0,0,0,0,0,0,null,7,0,0,0,0,0,0,0,0,0,0,0,0]
[null,null,null,null,null,null,null,null,null,null,null,null,null,null,24,0.1,0.15,0.125,null,24,0.82392300575755428,4,0.02,0.02,0.02,0.02,0.02,0.02,0.02,0.02,0.02,0.02,0.02,0.02,0.02,null,8,{"$f":"SUM(AI35:AI36)/SUM(AI$21:AI$68)","v":4.3624154929143177E-2},{"$f":"SUM(W35:W36)/SUM(W$21:W$68)","v":4.5394122115626587E-2},{"$f":"SUM(X35:X36)/SUM(X$21:X$68)","v":4.3476692388702609E-2},3.6828876996632495E-2,4.908981150198486E-2,4.1243538814452432E-2,3.9252445250749245E-2,4.2716836299216049E-2,4.7722328812386562E-2,5.032103159371417E-2,5.2143671964885244E-2,3.5841799075808402E-2,4.1333510762699643E-2,null,4.6123035655756331E-2,null,"Aug",6.5473480080343274E-2,null,null,8,4.6123035655756331E-2,4.7225844522917025E-2,4.5649765912749912E-2,3.8865033610421922E-2,5.249606974135828E-2,4.4692114385792604E-2,4.2746686533482472E-2,4.6370307879795188E-2,5.1116723467765593E-2,5.34263873045146E-2,5.4787329411307248E-2,3.740241159181E-2,4.287035183867114E-2,null,4,0,0,0,0,0,0,0,0,0,0,0,0,null,8,0,0,0,0,0,0,0,0,0,0,0,0]
[null,null,null,null,null,null,null,null,null,null,null,null,null,null,null,null,null,"(100 UK Homes)",null,25,0.81404609350821799,4.5,0.02,0.02,0.02,0.02,0.02,0.02,0.02,0.02,0.02,0.02,0.02,0.02,0.02,null,9,{"$f":"SUM(AI37:AI38)/SUM(AI$21:AI$68)","v":3.7783774718156089E-2},{"$f":"SUM(W37:W38)/SUM(W$21:W$68)","v":4.3367632299515992E-2},{"$f":"SUM(X37:X38)/SUM(X$21:X$68)","v":3.8774107887683019E-2},2.9657300856219388E-2,3.8734295206579769E-2,3.0934413909181422E-2,2.9126140749211816E-2,3.1993551859968022E-2,3.7055454529747178E-2,4.169673085616836E-2,4.6708329597991302E-2,3.4554226629035546E-2,4.0942437834119293E-2,null,3.9956588261754224E-2,null,"Sep",7.5633588935449747E-2,null,null,9,3.9956588261754224E-2,4.5119493768682795E-2,4.0730939199668373E-2,3.1370516916852935E-2,4.164800661769371E-2,3.3673815186028105E-2,3.1829071428418822E-2,3.4895017356187205E-2,3.9921780545311848E-2,4.4427415355229052E-2,4.9090118439820925E-2,3.6056453966279205E-2,4.2474794205498996E-2,null,4.5,0,0,0,0,0,0,0,0,0,0,0,0,null,9,0,0,0,0,0,0,0,0,0,0,0,0]
[null,null,null,null,null,null,null,null,null,null,null,"Stokes 2003","Stokes 2003","Stokes 2003","Stokes 2003","Stokes 2003","Stokes 2003","Stokes 2003",null,26,0.80392796183282123,5,0.02,0.02,0.02,0.02,0.02,0.02,0.02,0.02,0.02,0.02,0.02,0.02,0.02,null,10,{"$f":"SUM(AI39:AI40)/SUM(AI$21:AI$68)","v":1.9659051214452779E-2},{"$f":"SUM(W39:W40)/SUM(W$21:W$68)","v":2.2227285844653537E-2},{"$f":"SUM(X39:X40)/SUM(X$21:X$68)","v":1.9508943947577486E-2},1.5451218509560763E-2,1.8974891990819972E-2,1.7065745901574818E-2,1.7137778651761724E-2,1.7794103516445614E-2,1.878274332767943E-2,2.0318941221749948E-2,2.2872511476334564E-2,1.9208297796599216E-2,2.1976093362088861E-2,null,2.0646600373843985E-2,null,"Oct",9.4449084525061039E-2,null,null,10,2.0646600373843985E-2,2.3129432937109194E-2,2.0449538374867432E-2,1.6220507670313872E-2,2.021243666021097E-2,1.8163598674242113E-2,1.8187373472853867E-2,1.8929925966292581E-2,1.9960213782293488E-2,2.1514112739470612E-2,2.3954160871937406E-2,2.0023256238411932E-2,2.2819377248412605E-2,null,5,0,0,0,0,0,0,0,0,0,0,0,0,null,10,0,0,0,0,0,0,0,0,0,0,0,0]
[null,null,null,null,null,null,null,null,null,null,"Hour","kW - March","kW - Sept","kW - December","kW - June","Hrly Fract - Winter","Hrly Fract - Summer","Avg kW",null,27,0.7935716089521474,5.5,0.02,0.02,0.02,0.02,0.02,0.02,0.02,0.02,0.02,0.02,0.02,0.02,0.02,null,11,{"$f":"SUM(AI41:AI42)/SUM(AI$21:AI$68)","v":1.6117766044398671E-2},{"$f":"SUM(W41:W42)/SUM(W$21:W$68)","v":1.8096795502270439E-2},{"$f":"SUM(X41:X42)/SUM(X$21:X$68)","v":1.574483469946579E-2},1.2675574029880253E-2,1.5114216181735633E-2,1.4356026863173695E-2,1.4795441738304013E-2,1.5019755216368592E-2,1.5212543694932339E-2,1.6142058226241953E-2,1.8215368474231206E-2,1.6209945287447354E-2,1.8270368726056994E-2,null,1.6873733233144762E-2,null,"Nov",0.10789130895095178,null,null,11,1.6873733233144762E-2,1.8832921804372297E-2,1.6486872464178324E-2,1.3260434758857352E-2,1.6024264300694369E-2,1.5133146943141577E-2,1.5522000803608518E-2,1.5810598856776093E-2,1.60600384039227E-2,1.7037214720388105E-2,1.9042991123495848E-2,1.6890622224401148E-2,1.8979018714549285E-2,null,5.5,0,0,0,0,0,0,0,0,0,0,0,0,null,11,0,0,0,0,0,0,0,0,0,0,0,0]
[null,null,null,null,null,null,null,null,null,null,0,0.08,7.4999999999999997E-2,0.1,0.08,{"$f":"N32/SUM(N$33:N55)","v":7.3529411764705885E-2},{"$f":"O33/SUM(O$34:O$80)","v":3.7499999999999985E-2},{"$f":"AVERAGE(N32:O32)","v":0.09},null,28,0.78298010367706294,6,2.3802131900876267E-2,2.3036811849576518E-2,2.1877749299463466E-2,2.2140837259593343E-2,2.1309820172484277E-2,2.105785715258993E-2,2.1274958177358548E-2,2.1837638354710993E-2,2.2576613917651589E-2,2.3479031125112487E-2,2.2652345255196035E-2,2.3541012815678428E-2,2.2379871059055586E-2,null,12,{"$f":"SUM(AI43:AI44)/SUM(AI$21:AI$68)","v":1.5974921507439413E-2},{"$f":"SUM(W43:W44)/SUM(W$21:W$68)","v":1.7930184243351865E-2},{"$f":"SUM(X43:X44)/SUM(X$21:X$68)","v":1.5593002125473352E-2},1.2563613080274654E-2,1.4958488410088813E-2,1.4246725142825606E-2,1.4700959081376298E-2,1.4907846550656098E-2,1.5068532837601675E-2,1.5973575630581011E-2,1.8027513669056531E-2,1.6089000981851124E-2,1.8120891207497148E-2,null,1.6721547392738768E-2,null,"Dec",0.1204087334139272,null,null,12,1.6721547392738768E-2,1.8659613778098119E-2,1.6327030725951982E-2,1.3141034534334859E-2,1.5855326326859421E-2,1.5010907853794303E-2,1.5414487879209833E-2,1.5684774808390711E-2,1.5902717341305554E-2,1.6856630442692141E-2,1.8844889661750616E-2,1.6764261416472387E-2,1.8824110479209729E-2,null,6,0,0,0,0,0,0,0,0,0,0,0,0,null,12,1,1,1,0,0,0,0,0,0,1,1,1]
[null,null,null,null,null,null,null,null,null,null,0.5,0.06,0.06,7.4999999999999997E-2,0.06,{"$f":"N33/SUM(N$33:N56)","v":5.3380782918149461E-2},{"$f":"O34/SUM(O$34:O$80)","v":2.4999999999999991E-2},{"$f":"AVERAGE(N33:O33)","v":6.7500000000000004E-2},null,29,0.77215658449916436,6.5,3.4920698886871618E-2,3.1917354885340005E-2,2.7368847954977949E-2,2.8401283529597143E-2,2.5140124777124125E-2,2.4151346784018732E-2,2.5003315916877402E-2,2.7211440651832661E-2,3.0111401028497124E-2,3.3652755135584356E-2,3.0408593370388329E-2,3.3895989764351583E-2,2.9339323407892526E-2,null,13,{"$f":"SUM(AI45:AI46)/SUM(AI$21:AI$68)","v":1.5989937456745464E-2},{"$f":"SUM(W45:W46)/SUM(W$21:W$68)","v":1.794860437380736E-2},{"$f":"SUM(X45:X46)/SUM(X$21:X$68)","v":1.5601516492816382E-2},1.2568449028167838E-2,1.4957442947170732E-2,1.4246048069974822E-2,1.4700497554475549E-2,1.4907237960308621E-2,1.5067633413133743E-2,1.5972952096993613E-2,1.8028482896186786E-2,1.6145857338623823E-2,1.8168186054587903E-2,null,1.6725584413917419E-2,null,null,null,null,null,13,1.6725584413917419E-2,1.8664031157895226E-2,1.6328453996544541E-2,1.3141631941761293E-2,1.5853912626447912E-2,1.5009898099194783E-2,1.5413631346221802E-2,1.5683758207973249E-2,1.590141807163626E-2,1.6855244219998174E-2,1.88438065240553E-2,1.6783798971952479E-2,1.8838991839394189E-2,null,6.5,0,0,0,0,0,0,0,0,0,0,0,0,null,13,0,0,0,1,1,1,1,1,1,0,0,0]
[null,null,null,null,null,null,null,null,null,null,1,0.04,4.4999999999999998E-2,5.5E-2,0.04,{"$f":"N34/SUM(N$33:N57)","v":3.793103448275862E-2},{"$f":"O35/SUM(O$34:O$80)","v":2.1874999999999995E-2},{"$f":"AVERAGE(N34:O34)","v":4.7500000000000001E-2},null,30,0.7611042586607748,7,5.9619124197367687E-2,5.1644306133798515E-2,3.9566597016220742E-2,4.2308036513576272E-2,3.3648639616608855E-2,3.1023124658530365E-2,3.32853692854728E-2,3.9148631373983084E-2,4.6848933565029047E-2,5.6252336800985972E-2,4.7638072223557593E-2,5.6898200847924699E-2,4.4798825900993523E-2,null,14,{"$f":"SUM(AI47:AI48)/SUM(AI$21:AI$68)","v":1.6166214905290927E-2},{"$f":"SUM(W47:W48)/SUM(W$21:W$68)","v":1.819451331049126E-2},{"$f":"SUM(X47:X48)/SUM(X$21:X$68)","v":1.5727286556300995E-2},1.2642825872089224E-2,1.4962720815938427E-2,1.4250322900245983E-2,1.4705397476779701E-2,1.4912197875032524E-2,1.5072979905924653E-2,1.5985488160429832E-2,1.8064976620279893E-2,1.670935915289613E-2,1.8688607482635292E-2,null,1.6802081413190215E-2,null,null,null,null,null,14,1.6802081413190215E-2,1.876330294789583E-2,1.6376895372817564E-2,1.3169544780238384E-2,1.5855410967785054E-2,1.5011146584358528E-2,1.5415130109337233E-2,1.5685260828250301E-2,1.5902978936481186E-2,1.6859119266201948E-2,1.8856086658154657E-2,1.7046461596662274E-2,1.9070768335975468E-2,null,7,0,0,0,0,0,0,0,0,0,0,0,0,null,14,0,0,0,0,0,0,0,0,0,0,0,0]
[null,null,null,null,null,null,null,null,null,null,1.5,0.03,3.5000000000000003E-2,0.04,3.5000000000000003E-2,{"$f":"N35/SUM(N$33:N58)","v":2.6755852842809368E-2},1.5624999999999997E-2,3.7500000000000006E-2,null,31,0.74982640120456845,7.5,9.1182673277745485E-2,7.6854520392775239E-2,5.515480745168741E-2,6.0080282105766991E-2,4.4522163833679879E-2,3.9804967852372655E-2,4.3869485264513675E-2,5.4403859207488137E-2,6.8238796402832549E-2,8.5133651950610886E-2,6.9656621769719596E-2,8.6294059465074235E-2,6.4555420079159584E-2,null,15,{"$f":"SUM(AI49:AI50)/SUM(AI$21:AI$68)","v":1.7202577683960607E-2},{"$f":"SUM(W49:W50)/SUM(W$21:W$68)","v":1.9820666841575029E-2},{"$f":"SUM(X49:X50)/SUM(X$21:X$68)","v":1.6617283432253698E-2},1.3185701910018314E-2,1.5015397596374741E-2,1.4290358098614085E-2,1.474620156654716E-2,1.4953357281752861E-2,1.5121313762620566E-2,1.6095414277396199E-2,1.8358619210167182E-2,1.9633765206504249E-2,2.1608394832259906E-2,null,1.7387205190656962E-2,null,null,null,null,null,15,1.7387205190656962E-2,1.9640071385896515E-2,1.6832198192493583E-2,1.3437636443270166E-2,1.5875498871840314E-2,1.5026624733937814E-2,1.5431392676517977E-2,1.5701525219736771E-2,1.592165715234448E-2,1.690437197247617E-2,1.8988016617825728E-2,1.8815534380760959E-2,2.0786475646983254E-2,null,7.5,0,0,0,0,0,0,0,0,0,0,0,0,null,15,0,0,0,0,0,0,0,0,0,0,0,0]
[null,null,null,null,null,null,null,null,null,null,2,2.5000000000000001E-2,0.03,3.5000000000000003E-2,2.5000000000000001E-2,{"$f":"N36/SUM(N$33:N59)","v":2.2727272727272731E-2},1.2499999999999995E-2,3.0000000000000002E-2,null,32,0.73832635400310653,8,0.10653612319569516,8.9117519115140334E-2,6.2737377067731789E-2,6.8725231440657703E-2,4.9811369717127227E-2,4.4076717816883652E-2,4.9017914365314594E-2,6.182445617306323E-2,7.8643462462271094E-2,9.9182383434674407E-2,8.0367099760075097E-2,0.10059308020967465,7.4165615640225377E-2,null,16,{"$f":"SUM(AI51:AI52)/SUM(AI$21:AI$68)","v":2.1476236989729228E-2},{"$f":"SUM(W51:W52)/SUM(W$21:W$68)","v":2.7055276508471848E-2},{"$f":"SUM(X51:X52)/SUM(X$21:X$68)","v":2.1003993007894385E-2},1.6037325404124208E-2,1.5404447874753414E-2,1.4576102569874981E-2,1.5012910285142388E-2,1.5221466099055272E-2,1.5454470779700583E-2,1.6809602812864307E-2,2.0057729161237232E-2,3.0211801103251529E-2,3.2619371115137422E-2,null,2.0369704214756798E-2,null,null,null,null,null,16,2.0369704214756798E-2,2.4591169112131557E-2,1.9673333443736112E-2,1.5208891057091367E-2,1.6066872193603088E-2,1.5167384936649191E-2,1.5564945568781758E-2,1.5834768506862263E-2,1.6085651096903367E-2,1.7280080494772525E-2,1.9962902670983006E-2,2.671294475571798E-2,2.8891383441698427E-2,null,8,0,0,0,0,0,0,0,0,0,0,0,0,null,16,0,0,0,0,0,0,0,0,0,0,0,0]
[null,null,null,null,null,null,null,null,null,null,2.5,0.02,2.5000000000000001E-2,0.03,0.02,{"$f":"N37/SUM(N$33:N60)","v":1.8927444794952685E-2},1.2499999999999995E-2,2.5000000000000001E-2,null,33,0.7266075247685656,8.5,0.11022787972449063,8.6615081355252449E-2,5.52618027151216E-2,5.9703091055798227E-2,4.081384972345363E-2,3.5511909951618209E-2,4.0076912096904609E-2,5.275212023103009E-2,7.1549308023229119E-2,9.6992324982973666E-2,8.3326426913063578E-2,0.10725739204159257,6.9952863241755925E-2,null,17,{"$f":"SUM(AI53:AI54)/SUM(AI$21:AI$68)","v":3.342566752776728E-2},{"$f":"SUM(W53:W54)/SUM(W$21:W$68)","v":4.7783179391746228E-2},{"$f":"SUM(X53:X54)/SUM(X$21:X$68)","v":3.5532044314113352E-2},2.6476830301252099E-2,1.7489702210209731E-2,1.6098414055920655E-2,1.6348462120007179E-2,1.6559350999131979E-2,1.7167528284221814E-2,2.0167816782794456E-2,2.6933927962713815E-2,5.5378838096215209E-2,5.89931805366887E-2,null,3.0256497911281623E-2,null,null,null,null,null,17,3.0256497911281623E-2,4.1885450185072212E-2,3.113326913158591E-2,2.3071798144044975E-2,1.7345029995198602E-2,1.609296385157508E-2,1.6381125018333748E-2,1.6647049089736368E-2,1.7126205674404437E-2,1.9461503632001272E-2,2.481986223720406E-2,4.9065252325709248E-2,5.2284144378683797E-2,null,8.5,0,0,0,0,0,0,0,0,0,0,0,0,null,17,0,0,0,0,0,0,0,0,0,0,0,0]
[null,null,null,null,null,null,null,null,null,null,3,0.02,2.5000000000000001E-2,2.5000000000000001E-2,0.02,{"$f":"N38/SUM(N$33:N61)","v":1.5290519877675844E-2},1.2499999999999995E-2,2.2499999999999999E-2,null,34,0.71467338604296105,9,{"$f":"IF($V38<6,$O50,IF($V38<=8,$O$44+0.005*(W$17-3)^2.4*EXP(-1*($V38-8)^2/(2*(0.8)^2))/(0.8*SQRT(2*PI())),W$45+0.005*(W$17-3)^2.4*EXP(-1*($V38-8)^2/(2*(0.8)^2))/(0.8*SQRT(2*PI()))))","v":7.8664330644112851E-2},6.1404867096275718E-2,3.9673592279654932E-2,4.1930845463607515E-2,2.9940325506382606E-2,2.6730066757775919E-2,2.9492796117863734E-2,3.7496892397525045E-2,5.0159445185425616E-2,6.8111009833348751E-2,6.1307877366901575E-2,7.7861533424443047E-2,5.0196269063589857E-2,null,18,{"$f":"SUM(AI55:AI56)/SUM(AI$21:AI$68)","v":5.5874364453370046E-2},{"$f":"SUM(W55:W56)/SUM(W$21:W$68)","v":8.4187280463387332E-2},{"$f":"SUM(X55:X56)/SUM(X$21:X$68)","v":6.6904219690388095E-2},5.2586365910286939E-2,2.5535851497704896E-2,2.2113742908472799E-2,2.1444161842061316E-2,2.1645711935460003E-2,2.3694162451726623E-2,3.1481929402994234E-2,4.6076964265967399E-2,9.2452438147088964E-2,9.6304900655428086E-2,null,5.1372480997497284E-2,null,null,null,null,null,18,5.1372480997497284E-2,7.762566664481528E-2,6.0193624032716879E-2,4.6086115793757376E-2,2.3284326694436915E-2,2.0466842805204843E-2,2.0073298596170158E-2,2.0312325251772619E-2,2.1866862575866203E-2,2.8235005368752505E-2,4.0883932693467198E-2,8.7031058919219167E-2,9.0953763485702888E-2,null,9,0,{"$f":"IF(AND(X38<X37,X38<X39),1,0)","v":0},{"$f":"IF(AND(Y38<Y37,Y38<Y39),1,0)","v":0},{"$f":"IF(AND(Z38<Z37,Z38<Z39),1,0)","v":0},{"$f":"IF(AND(AA38<AA37,AA38<AA39),1,0)","v":0},{"$f":"IF(AND(AB38<AB37,AB38<AB39),1,0)","v":0},{"$f":"IF(AND(AC38<AC37,AC38<AC39),1,0)","v":0},{"$f":"IF(AND(AD38<AD37,AD38<AD39),1,0)","v":0},{"$f":"IF(AND(AE38<AE37,AE38<AE39),1,0)","v":0},{"$f":"IF(AND(AF38<AF37,AF38<AF39),1,0)","v":0},{"$f":"IF(AND(AG38<AG37,AG38<AG39),1,0)","v":0},{"$f":"IF(AND(AH38<AH37,AH38<AH39),1,0)","v":0},null,18,0,0,0,0,0,0,0,0,0,0,0,0]
[null,null,null,null,null,null,null,null,null,null,3.5,0.02,2.5000000000000001E-2,2.5000000000000001E-2,0.02,{"$f":"N39/SUM(N$33:N62)","v":1.4749262536873158E-2},1.2499999999999995E-2,2.2499999999999999E-2,null,35,0.70252747416915717,9.5,5.3965905333616768E-2,4.1677915847817208E-2,2.7475843218412142E-2,2.8024092479628386E-2,2.1431810666897876E-2,1.9858288883264286E-2,2.1210742749268336E-2,2.5559701675374615E-2,3.3421912648893694E-2,4.5511428167947135E-2,4.4078398513732304E-2,5.4859322340869918E-2,3.4736766570488853E-2,null,19,{"$f":"SUM(AI57:AI58)/SUM(AI$21:AI$68)","v":8.3744847942743728E-2},{"$f":"SUM(W57:W58)/SUM(W$21:W$68)","v":0.11773734557773614},{"$f":"SUM(X57:X58)/SUM(X$21:X$68)","v":0.10784945819448277},9.5284735139678084E-2,4.7567539508267913E-2,3.9553892938662003E-2,3.6125706193047176E-2,3.6245773682684945E-2,4.1906692963341027E-2,5.8288052797964028E-2,8.1490187135324008E-2,0.11980748321655216,0.1196377248016227,null,7.9971913622316398E-2,null,null,null,null,null,19,7.9971913622316398E-2,0.1157944395695156,0.10341524109618247,8.8695204464781102E-2,4.2221698596689221E-2,3.5164694113811089E-2,3.2328026949494729E-2,3.244596096533979E-2,3.7201010723610456E-2,5.2244032531885823E-2,7.5028670101379286E-2,0.11922643714261331,0.11973068272674137,null,9.5,0,0,0,0,0,0,0,0,0,0,0,0,null,19,0,0,0,0,0,0,0,0,0,0,0,0]
[null,null,null,null,null,null,null,null,null,null,4,0.02,2.5000000000000001E-2,2.5000000000000001E-2,0.02,{"$f":"N40/SUM(N$33:N63)","v":1.4084507042253523E-2},1.2499999999999995E-2,2.2499999999999999E-2,null,36,0.69017338824297192,10,4.2847338347621423E-2,3.2797372812053721E-2,2.198474456289766E-2,2.1763646209624583E-2,1.7601506062258028E-2,1.6764799251835483E-2,1.7482385009749482E-2,2.018589937825295E-2,2.5887125538048165E-2,3.533770415747526E-2,3.6322150398540011E-2,4.4504345392196762E-2,2.777731422165192E-2,null,20,{"$f":"SUM(AI59:AI60)/SUM(AI$21:AI$68)","v":0.10576505643901661},{"$f":"SUM(W59:W60)/SUM(W$21:W$68)","v":0.11999318647125856},{"$f":"SUM(X59:X60)/SUM(X$21:X$68)","v":0.13151430539915016},0.1354371160380459,8.9162326462543046E-2,7.5914360473199965E-2,6.7562087250796876E-2,6.738245740769036E-2,7.8324139487000302E-2,0.10120183680223285,0.12121270952568716,0.11546296644051569,0.10863968716024415,null,0.10393975481875536,null,null,null,null,null,20,0.10393975481875536,0.12251923909611673,0.1322295716408029,0.13296665934794538,8.251340000084223E-2,6.9595425707041428E-2,6.1701206356899317E-2,6.1447616824084186E-2,7.1668980273370417E-2,9.5266175226541183E-2,0.11788418075629312,0.11876590936508105,0.11208719227278781,null,10,0,0,0,0,0,0,0,0,0,0,0,0,null,20,0,0,0,0,0,0,0,0,0,0,0,0]
[null,null,null,null,null,null,null,null,null,null,4.5,0.02,2.5000000000000001E-2,2.5000000000000001E-2,0.02,{"$f":"N41/SUM(N$33:N64)","v":1.3123359580052495E-2},1.2499999999999995E-2,2.2499999999999999E-2,null,37,0.67761478904668893,10.5,3.9700776203352481E-2,3.0284172993040981E-2,2.0430759846913043E-2,1.9991935586822576E-2,1.6517527210922287E-2,1.5889339547342732E-2,1.6427257191727714E-2,1.8665109612790672E-2,2.3754775576225306E-2,3.245853322853158E-2,3.4127126819371773E-2,4.1573879756426201E-2,2.5807784395256442E-2,null,21,{"$f":"SUM(AI61:AI62)/SUM(AI$21:AI$68)","v":0.12020021292875219},{"$f":"SUM(W61:W62)/SUM(W$21:W$68)","v":0.10319840540118846},{"$f":"SUM(X61:X62)/SUM(X$21:X$68)","v":0.12028906511728614},0.14041864713277744,0.13962265300436791,0.12809747653899098,0.11599809010774424,0.11513503038478512,0.12802610429743469,0.14270436212569823,0.12716272152771424,0.10738687136866859,9.9413233738834803E-2,null,0.12026121861334653,null,null,null,null,null,21,0.12026121861334653,0.10571329609521296,0.12274465897573474,0.14281605108627382,0.13594269490706479,0.12343961026325907,0.11092550583600207,0.10989434569554628,0.12299731154114305,0.14210195291561115,0.12974232876140787,0.10991388039840605,0.10177039346090398,null,10.5,0,0,0,0,0,0,0,0,0,0,0,0,null,21,0,0,0,0,0,0,0,0,0,0,0,0]
[null,null,null,null,null,null,null,null,null,null,5,0.02,2.5000000000000001E-2,2.5000000000000001E-2,0.02,{"$f":"N42/SUM(N$33:N65)","v":1.1933174224343677E-2},1.2499999999999995E-2,2.2499999999999999E-2,null,38,0.66485539796428661,11,3.9121689348925681E-2,2.9821648844141256E-2,2.0144767681576057E-2,1.9665873591389993E-2,1.6318033962575515E-2,1.5728221735836767E-2,1.6233073628479387E-2,1.8385226578180962E-2,2.3362342255250485E-2,3.1928656505888157E-2,3.3723159174185308E-2,4.1034562860964574E-2,2.54453161586305E-2,null,22,{"$f":"SUM(AI63:AI64)/SUM(AI$21:AI$68)","v":0.11779248000936876},{"$f":"SUM(W63:W64)/SUM(W$21:W$68)","v":8.8216285795950117E-2},{"$f":"SUM(X63:X64)/SUM(X$21:X$68)","v":0.10065113367921137},0.11323581628024801,0.14643807665539613,0.16201905099878697,0.16237132798623327,0.16010427367408481,0.15520007069248687,0.13163679444290308,0.10870151473048313,9.1796679401814713E-2,8.4980637106856355E-2,null,0.11886589949813355,null,null,null,null,null,22,0.11886589949813355,8.8984646798258862E-2,0.10155648168864986,0.12021605921347911,0.14688136317862785,0.16138072365325679,0.16116338181338788,0.15869021070326275,0.15754313487998561,0.13198049730510508,0.1092111941076848,9.2520507701028251E-2,8.5665690609834838E-2,null,11,0,0,0,0,0,0,0,0,0,0,0,0,null,22,0,0,0,0,0,0,0,0,0,0,0,0]
[null,null,null,null,null,null,null,null,null,null,5.5,0.02,0.03,2.5000000000000001E-2,0.02,{"$f":"N43/SUM(N$33:N66)","v":1.0752688172043013E-2},1.2499999999999995E-2,2.2499999999999999E-2,null,39,0.65189899587871269,11.5,3.90512440354727E-2,2.9765383262562707E-2,2.0109977032162676E-2,1.962620848882763E-2,1.629376581643455E-2,1.5708621921667904E-2,1.6209451400007312E-2,1.8351179098165606E-2,2.3314603149977877E-2,3.1864197553776383E-2,3.3674016930370788E-2,4.0968955521649489E-2,2.5401222274698119E-2,null,23,{"$f":"SUM(AI65:AI66)/SUM(AI$21:AI$68)","v":9.1175421603127207E-2},{"$f":"SUM(W65:W66)/SUM(W$21:W$68)","v":6.6564816516497149E-2},{"$f":"SUM(X65:X66)/SUM(X$21:X$68)","v":7.5947702684187476E-2},9.0572537875478115E-2,0.11049687272191509,0.12676019399888927,0.13567275468706119,0.13333229398396113,0.1190426980508172,9.9328360855949371E-2,8.2022228864141344E-2,6.9266451949012223E-2,6.4123313121086017E-2,null,9.0888379220282312E-2,null,null,null,null,null,23,9.0888379220282312E-2,6.6592813018866645E-2,7.6001108497725053E-2,8.996524502949263E-2,0.10992057063828223,0.12625816590531089,0.13500098805547539,0.13252087606567856,0.11789944558923897,9.8769314656063423E-2,8.1729611685355447E-2,6.9238920324238909E-2,6.4109029165966572E-2,null,11.5,0,0,0,0,0,0,0,0,0,0,0,0,null,23,0,0,0,0,0,0,0,0,0,0,0,0]
[null,null,null,null,null,null,null,null,null,null,6,2.5000000000000001E-2,3.5000000000000003E-2,0.03,0.02,{"$f":"N44/SUM(N$33:N67)","v":1.1650485436893204E-2},1.2499999999999995E-2,2.5000000000000001E-2,null,40,0.6387494220515274,12,3.9045528936863159E-2,2.9760818539499065E-2,2.0107154530816008E-2,1.9622990532069548E-2,1.6291796986409271E-2,1.570703182482238E-2,1.6207534972093551E-2,1.8348416888784226E-2,2.3310730164241979E-2,3.1858968117643174E-2,3.3670030110587792E-2,4.0963632918976346E-2,2.5397645019059677E-2,null,24,{"$f":"SUM(AI67:AI68)/SUM(AI$21:AI$68)","v":6.3332717307743105E-2},{"$f":"SUM(W67:W68)/SUM(W$21:W$68)","v":4.6237578428005952E-2},{"$f":"SUM(X67:X68)/SUM(X$21:X$68)","v":5.2755164711025489E-2},6.291393926404136E-2,7.675387818822757E-2,8.8050785960182204E-2,9.424167245818045E-2,9.261593019702008E-2,8.2690021177207668E-2,6.8995951848887002E-2,5.697468179763808E-2,4.8114201646276777E-2,4.4541649397696267E-2,null,6.3174035443195498E-2,null,null,null,null,null,24,6.3174035443195498E-2,4.6286849496125312E-2,5.2826299282119758E-2,6.2532390025067483E-2,7.6402793019434631E-2,8.775861024612723E-2,9.3835507657284864E-2,9.2111649402900286E-2,8.1948691552039141E-2,6.8651858887916639E-2,5.6808025730720149E-2,4.812608657054749E-2,4.4560439029765822E-2,null,12,0,0,0,0,0,0,0,0,0,0,0,0,null,24,{"$f":"IF(AND(AM44<AM43,AM44<AM21),1,0)","v":0},{"$f":"IF(AND(AN44<AN43,AN44<AN21),1,0)","v":0},0,0,0,0,0,0,0,0,0,0]
[null,null,null,null,null,null,null,null,null,null,6.5,3.5000000000000003E-2,0.04,4.4999999999999998E-2,0.02,{"$f":"N45/SUM(N$33:N68)","v":1.5873015873015872E-2},1.5624999999999997E-2,3.2500000000000001E-2,null,41,0.62541057298524627,12.5,{"$f":"IF($V45<6,$O57,$O57+($N57-$O57)/2/0.266*(1/1.5/SQRT(2*PI()))*EXP(-0.5*((ABS(6-W$19)-6)/1.5)^2)+($N57-$O57)/2/0.399*(1/1/SQRT(2*PI()))*EXP(-0.5*((ABS(4.847-W$17)-3.2)/1)^2))","v":3.9045206446745154E-2},{"$f":"IF($V45<6,$O57,$O57+($N57-$O57)/2/0.266*(1/1.5/SQRT(2*PI()))*EXP(-0.5*((ABS(6-X$19)-6)/1.5)^2)+($N57-$O57)/2/0.399*(1/1/SQRT(2*PI()))*EXP(-0.5*((ABS(4.847-X$17)-3.2)/1)^2))","v":2.9760560962477207E-2},2.0106995263434194E-2,1.962280895003124E-2,1.6291685889773751E-2,1.5706942099245554E-2,1.6207426832390934E-2,1.8348261023541958E-2,2.3310511620396573E-2,3.1858673032362776E-2,3.366980514334398E-2,4.0963332576518338E-2,2.5397443162596334E-2,null,null,null,null,null,null,null,null,null,null,null,null,null,null,null,null,null,null,null,null,null,null,null,null,null,null,null,null,null,null,null,null,null,null,null,null,null,12.5,1,1,1,1,1,1,1,1,1,1,1,1,null,null,null,null,null,null,null,null,null,null,null,null,null,null,{"$f":"SUM(CJ41:CU44)","v":0}]
[null,null,null,null,null,null,null,null,null,null,7,0.05,5.5E-2,7.4999999999999997E-2,2.5000000000000001E-2,{"$f":"N46/SUM(N$33:N69)","v":2.4232633279483037E-2},1.8749999999999992E-2,0.05,null,42,0.6118864012687244,13,{"$f":"IF($V46>19.1,IF($V46<22.2,IF($AN$54<W$18+$AN$51,IF(W$45+$AL$51*EXP((-1*($V46-(W$18+$AN$51))^2)/(2*((25.5/(ABS(6.5-W$19)+20))*$AP$51)^2))/((25.5/(ABS(6.5-W$19)+20))*$AP$51*SQRT(2*PI()))<0.04+$AL$54*EXP((-1*($V46-($AN$54))^2)/(2*($AP$54)^2))/($AP$54*SQRT(2*PI())),W$45+$AL$51*EXP((-1*($V46-(W$18+$AN$51))^2)/(2*((25.5/(ABS(6.5-W$19)+20))*$AP$51)^2))/((25.5/(ABS(6.5-W$19)+20))*$AP$51*SQRT(2*PI())),0.04+$AL$54*EXP((-1*($V46-($AN$54))^2)/(2*($AP$54)^2))/($AP$54*SQRT(2*PI()))),IF(0.04+$AL$54*EXP((-1*($V46-($AN$54))^2)/(2*(($AP$54)^2)))/($AP$54*SQRT(2*PI()))<W$45+$AL$51*EXP((-1*($V46-(W$18+$AN$51))^2)/(2*((25.5/(ABS(6.5-W$19)+20))*$AP$51)^2))/((25.5/(ABS(6.5-W$19)+20))*$AP$51*SQRT(2*PI())),W$45+$AL$51*EXP((-1*($V46-(W$18+$AN$51))^2)/(2*((25.5/(ABS(6.5-W$19)+20))*$AP$51)^2))/((25.5/(ABS(6.5-W$19)+20))*$AP$51*SQRT(2*PI())),0.04+$AL$54*EXP((-1*($V46-($AN$54))^2)/(2*($AP$54)^2))/($AP$54*SQRT(2*PI())))),0.04+$AL$54*EXP((-1*($V46-($AN$54))^2)/(2*($AP$54)^2))/($AP$54*SQRT(2*PI()))),W$45+$AL$51*EXP((-1*($V46-(W$18+$AN$51))^2)/(2*((25.5/(ABS(6.5-W$19)+20))*$AP$51)^2))/((25.5/(ABS(6.5-W$19)+20))*$AP$51*SQRT(2*PI())))","v":3.9131797309991986E-2},{"$f":"IF($V46>19.1,IF($V46<22.2,IF($AN$54<X$18+$AN$51,IF(X$45+$AL$51*EXP((-1*($V46-(X$18+$AN$51))^2)/(2*((25.5/(ABS(6.5-X$19)+20))*$AP$51)^2))/((25.5/(ABS(6.5-X$19)+20))*$AP$51*SQRT(2*PI()))<0.04+$AL$54*EXP((-1*($V46-($AN$54))^2)/(2*($AP$54)^2))/($AP$54*SQRT(2*PI())),X$45+$AL$51*EXP((-1*($V46-(X$18+$AN$51))^2)/(2*((25.5/(ABS(6.5-X$19)+20))*$AP$51)^2))/((25.5/(ABS(6.5-X$19)+20))*$AP$51*SQRT(2*PI())),0.04+$AL$54*EXP((-1*($V46-($AN$54))^2)/(2*($AP$54)^2))/($AP$54*SQRT(2*PI()))),IF(0.04+$AL$54*EXP((-1*($V46-($AN$54))^2)/(2*(($AP$54)^2)))/($AP$54*SQRT(2*PI()))<X$45+$AL$51*EXP((-1*($V46-(X$18+$AN$51))^2)/(2*((25.5/(ABS(6.5-X$19)+20))*$AP$51)^2))/((25.5/(ABS(6.5-X$19)+20))*$AP$51*SQRT(2*PI())),X$45+$AL$51*EXP((-1*($V46-(X$18+$AN$51))^2)/(2*((25.5/(ABS(6.5-X$19)+20))*$AP$51)^2))/((25.5/(ABS(6.5-X$19)+20))*$AP$51*SQRT(2*PI())),0.04+$AL$54*EXP((-1*($V46-($AN$54))^2)/(2*($AP$54)^2))/($AP$54*SQRT(2*PI())))),0.04+$AL$54*EXP((-1*($V46-($AN$54))^2)/(2*($AP$54)^2))/($AP$54*SQRT(2*PI()))),X$45+$AL$51*EXP((-1*($V46-(X$18+$AN$51))^2)/(2*((25.5/(ABS(6.5-X$19)+20))*$AP$51)^2))/((25.5/(ABS(6.5-X$19)+20))*$AP$51*SQRT(2*PI())))","v":2.9798144391152106E-2},2.0125616556012842E-2,1.9623646907184166E-2,1.6292328290514347E-2,1.5707725373544611E-2,1.6208236165141145E-2,1.8349144404117883E-2,2.3313001659159949E-2,3.1867918636791587E-2,3.3912226665556197E-2,4.1183096850054494E-2,2.5449173549882079E-2,null,null,null,null,null,null,null,null,null,null,null,null,null,null,null,null,null,null,null,null,null,null,null,null,null,null,null,null,null,null,null,null,null,null,null,null,null,13,0,0,0,0,0,0,0,0,0,0,0,0]
[null,null,null,null,null,null,null,null,null,null,7.5,6.5000000000000002E-2,6.5000000000000002E-2,0.13,0.03,{"$f":"N47/SUM(N$33:N70)","v":3.8863976083707029E-2},1.8749999999999992E-2,0.08,null,43,0.59818091440591648,13.5,{"$f":"IF($V47>19.1,IF($V47<22.2,IF($AN$54<W$18+$AN$51,IF(W$45+$AL$51*EXP((-1*($V47-(W$18+$AN$51))^2)/(2*((25.5/(ABS(6.5-W$19)+20))*$AP$51)^2))/((25.5/(ABS(6.5-W$19)+20))*$AP$51*SQRT(2*PI()))<0.04+$AL$54*EXP((-1*($V47-($AN$54))^2)/(2*($AP$54)^2))/($AP$54*SQRT(2*PI())),W$45+$AL$51*EXP((-1*($V47-(W$18+$AN$51))^2)/(2*((25.5/(ABS(6.5-W$19)+20))*$AP$51)^2))/((25.5/(ABS(6.5-W$19)+20))*$AP$51*SQRT(2*PI())),0.04+$AL$54*EXP((-1*($V47-($AN$54))^2)/(2*($AP$54)^2))/($AP$54*SQRT(2*PI()))),IF(0.04+$AL$54*EXP((-1*($V47-($AN$54))^2)/(2*(($AP$54)^2)))/($AP$54*SQRT(2*PI()))<W$45+$AL$51*EXP((-1*($V47-(W$18+$AN$51))^2)/(2*((25.5/(ABS(6.5-W$19)+20))*$AP$51)^2))/((25.5/(ABS(6.5-W$19)+20))*$AP$51*SQRT(2*PI())),W$45+$AL$51*EXP((-1*($V47-(W$18+$AN$51))^2)/(2*((25.5/(ABS(6.5-W$19)+20))*$AP$51)^2))/((25.5/(ABS(6.5-W$19)+20))*$AP$51*SQRT(2*PI())),0.04+$AL$54*EXP((-1*($V47-($AN$54))^2)/(2*($AP$54)^2))/($AP$54*SQRT(2*PI())))),0.04+$AL$54*EXP((-1*($V47-($AN$54))^2)/(2*($AP$54)^2))/($AP$54*SQRT(2*PI()))),W$45+$AL$51*EXP((-1*($V47-(W$18+$AN$51))^2)/(2*((25.5/(ABS(6.5-W$19)+20))*$AP$51)^2))/((25.5/(ABS(6.5-W$19)+20))*$AP$51*SQRT(2*PI())))","v":3.933353748023577E-2},2.9887441273207617E-2,2.0169689971252406E-2,1.9626030605492829E-2,1.6294043441457531E-2,1.5709618663084034E-2,1.6210187836357977E-2,1.8351448483124113E-2,2.3319507954278347E-2,3.189127175864942E-2,3.4378821120814029E-2,4.164145572856804E-2,2.5557557209996969E-2,null,null,null,null,null,null,null,null,null,null,null,null,null,null,null,null,null,null,null,null,null,null,null,null,null,null,null,null,null,null,null,null,null,null,null,null,null,13.5,0,0,0,0,0,0,0,0,0,0,0,0]
[null,null,null,null,null,null,null,null,null,null,8,0.06,5.5E-2,0.16,0.03,{"$f":"N48/SUM(N$33:N71)","v":4.4630404463040445E-2},1.5624999999999997E-2,9.5000000000000001E-2,null,44,0.58429817362836867,14,3.9914548098049951E-2,3.0151390621763766E-2,2.0301008081678049E-2,1.9634273717957292E-2,1.6299748266569467E-2,1.5715519845074629E-2,1.6216260453836277E-2,1.8358978393105956E-2,2.334059689060328E-2,3.1964316935221899E-2,3.5561871286766376E-2,4.2858029857971595E-2,2.5849606526851681E-2,null,null,null,null,null,null,null,null,null,null,null,null,null,null,null,null,null,null,null,null,null,null,null,null,null,null,null,null,null,null,null,null,null,null,null,null,null,14,0,0,0,0,0,0,0,0,0,0,0,0]
[null,null,null,null,null,null,null,null,null,null,8.5,4.4999999999999998E-2,3.5000000000000003E-2,0.14000000000000001,2.5000000000000001E-2,{"$f":"N49/SUM(N$33:N72)","v":3.6745406824146988E-2},1.2499999999999995E-2,8.2500000000000004E-2,null,45,0.57024229269178728,14.5,4.1418597858603301E-2,3.0859000708324771E-2,2.0658829255143483E-2,1.9660573154213625E-2,1.6317378701767436E-2,1.573272314787854E-2,1.6233932721411215E-2,1.8381840846799568E-2,2.3403637665997314E-2,3.2173351281874978E-2,3.8276739790795919E-2,4.5756812046052718E-2,2.6562808922358603E-2,null,null,"1st Gaussian Characteristics",null,null,null,null,null,null,null,null,null,null,null,null,null,null,null,null,null,null,null,null,null,null,null,null,null,null,null,null,null,null,null,null,null,null,14.5,0,0,0,0,0,0,0,0,0,0,0,0]
[null,null,null,null,null,null,null,null,null,null,9,2.5000000000000001E-2,2.5000000000000001E-2,0.1,0.02,{"$f":"N50/SUM(N$33:N73)","v":2.4783147459727387E-2},9.3749999999999962E-3,6.0000000000000005E-2,null,46,0.55601743665704451,15,4.4912367706389719E-2,3.2577389476888756E-2,2.1549658468662882E-2,1.9737948439754991E-2,1.6367982785115372E-2,1.5779612879059639E-2,1.6282016350951889E-2,1.8446303728449256E-2,2.3577330958042333E-2,3.2720197263092742E-2,4.3904696405861574E-2,5.1944327505053768E-2,2.8139898722941439E-2,null,null,"Ampl Const","Ampl Mult","Sunset lag","Mean Sun Mult","Std Dev Cons","St Dev Mult",null,1,null,2,null,3,null,4,null,5,null,6,null,null,null,null,null,null,null,null,null,null,null,null,null,null,null,null,null,15,0,0,0,0,0,0,0,0,0,0,0,0]
[null,null,null,null,null,null,null,null,null,null,9.5,0.02,0.02,7.4999999999999997E-2,1.4999999999999999E-2,{"$f":"N51/SUM(N$33:N74)","v":1.7626321974148061E-2},9.3749999999999962E-3,4.4999999999999998E-2,null,47,0.54162782065598136,15.5,5.2178282619188526E-2,3.6351389633354173E-2,2.3573565028558525E-2,1.9947744447249487E-2,1.6502815318422102E-2,1.5899052510003658E-2,1.640428120700332E-2,1.861500759269492E-2,2.4018118971080121E-2,3.4026610495921997E-2,5.4416544883495975E-2,6.3741159570895795E-2,3.1294729070964478E-2,null,null,0.92970790791709812,null,2.4501623061526918,null,1.5867981098344419,null,"original",0.87959121975405419,null,2.343798244773494,null,1.5283762577910061,null,1.1830166481125874,null,20.04984823554901,null,2.4366376963438809,null,null,null,null,0.87959121975405419,2.343798244773494,1.5283762577910061,1.1830166481125874,20.04984823554901,2.4366376963438809,null,null,null,null,null,null,null,15.5,0,0,0,0,0,0,0,0,0,0,0,0]
[null,null,null,null,null,null,null,null,null,null,10,0.02,0.02,6.5000000000000002E-2,1.4999999999999999E-2,{"$f":"N52/SUM(N$33:N75)","v":1.4557670772676373E-2},9.3749999999999962E-3,0.04,null,48,0.52707770864237224,16,6.5663774021658725E-2,4.3831240778431334E-2,2.776319785763692E-2,2.0471596322199533E-2,1.6836110010009668E-2,1.6183234681901189E-2,1.6694668223406119E-2,1.9024544971561551E-2,2.5047497404064457E-2,3.6872905754500293E-2,7.2041583684245944E-2,8.3745488749296298E-2,3.699784515561251E-2,null,null,null,null,null,null,null,null,"solvered3",0.92970727000324171,null,2.4501579454288613,null,1.5867985925285406,null,1.1830166481125874,null,20.04984823554901,null,2.4366376963438809,null,null,null,null,0.92970790791709812,2.4501623061526918,1.5867981098344419,1.1372291802272965,20.150196585907324,2.3656766327995449,null,null,null,null,null,null,null,16,0,0,0,0,0,0,0,0,0,0,0,0]
[null,null,null,null,null,null,null,null,null,null,10.5,0.02,0.02,0.06,1.4999999999999999E-2,{"$f":"N53/SUM(N$33:N76)","v":1.2861736334405145E-2},9.3749999999999962E-3,3.7499999999999999E-2,null,49,0.51237141212842374,16.5,8.7897243592358315E-2,5.7169080847751158E-2,3.5648940407047004E-2,2.1675055601494769E-2,1.7599881305114973E-2,1.6814403436811589E-2,1.7338459414536527E-2,1.9946000609688482E-2,2.7257165916976536E-2,4.2518268062623578E-2,9.8424229077204411E-2,0.11372335549259754,4.630327808250579E-2,null,null,"Ampl Const","Ampl Mult","Sunset lag","Mean Sun Mult","Std Dev Cons","St Dev Mult","solvered6",0.92970790791709812,null,2.4501623061526918,null,1.5867981098344419,null,1.1372291802272965,null,20.150196585907324,null,2.3656766327995449,null,null,null,null,null,null,null,null,null,null,null,null,null,null,null,null,null,16.5,0,0,0,0,0,0,0,0,0,0,0,0]
[null,null,null,null,null,null,null,null,null,null,11,0.02,0.02,0.05,1.4999999999999999E-2,{"$f":"N54/SUM(N$33:N77)","v":1.0319917440660476E-2},9.3749999999999962E-3,3.2500000000000001E-2,null,50,0.49751328890718088,17,0.12022733907818749,7.8474307337672175E-2,4.9105513649479703E-2,2.421573122438286E-2,1.9220923264807763E-2,1.8121931152433129E-2,1.8669709427667661E-2,2.1865724454432141E-2,3.1610754545219055E-2,5.2687048946569726E-2,0.13337605995454224,0.15301098590206341,5.9987450679922151E-2,null,null,1.1372291802272965,null,20.150196585907324,null,2.3656766327995449,null,null,null,null,null,null,null,null,null,null,null,null,null,null,null,null,null,null,null,null,null,null,null,null,null,null,null,null,null,null,17,0,0,0,0,0,0,0,0,0,0,0,0]
[null,null,null,null,null,null,null,null,null,null,11.5,0.02,0.02,4.4999999999999998E-2,1.4999999999999999E-2,{"$f":"N55/SUM(N$33:N78)","v":8.9999999999999993E-3},9.3749999999999962E-3,0.03,null,51,0.4825077417612183,17.5,0.16120210922601835,0.10875798362356792,6.9837713229945864E-2,2.9137124047672103E-2,2.2403683700842288E-2,2.0645880357285953E-2,2.1234700323859879E-2,2.5564316538601375E-2,3.946828133200983E-2,6.926530368814221E-2,0.17374808733968303,0.19720342354008924,7.8091105455977819E-2,null,null,null,null,null,null,null,null,null,null,null,null,null,null,null,null,null,null,null,null,null,null,null,null,null,null,null,null,null,null,null,null,null,null,null,null,null,17.5,0,0,0,0,0,0,0,0,0,0,0,0]
[null,null,null,null,null,null,null,null,null,null,12,0.02,0.02,4.4999999999999998E-2,1.4999999999999999E-2,{"$f":"N56/SUM(N$33:N79)","v":8.7804878048780479E-3},9.3749999999999962E-3,0.03,null,52,0.46735921715800227,18,0.20548430293091791,0.14664851543625435,9.8495455160393777E-2,3.7865750181619362E-2,2.8175572312449864E-2,2.5179862003111654E-2,2.5833717401123099E-2,3.214310584943815E-2,5.2424447367954645E-2,9.3606298101079122E-2,0.21323189672844681,0.23823375776984607,9.9584535934059665E-2,null,null,null,null,null,null,null,null,null,null,null,null,null,null,null,null,null,null,null,null,null,null,null,null,null,null,null,null,null,null,null,null,null,null,null,null,null,18,0,0,0,0,0,0,0,0,0,0,0,0]
[null,null,null,null,null,null,null,null,null,null,12.5,0.02,0.02,4.4999999999999998E-2,1.4999999999999999E-2,{"$f":"N57/SUM(N$33:N80)","v":8.6124401913875593E-3},9.3749999999999962E-3,{"$f":"AVERAGE(N57:O57)","v":0.03},null,53,0.45207220393230441,18.5,0.24438469024567766,0.18756602594800451,0.13367552861743526,5.2000142695468154E-2,3.7823492681545084E-2,3.2746800089917594E-2,3.3494332369029357E-2,4.2922521241067282E-2,7.1867228944097042E-2,0.12554374785995032,0.24368656227116786,0.26649693550230541,0.12239849164545473,null,null,null,null,null,null,null,null,null,null,null,null,null,null,null,null,null,null,null,null,null,null,null,null,null,null,null,null,null,null,null,null,null,null,null,null,null,18.5,0,0,0,0,0,0,0,0,0,0,0,0]
[null,null,null,null,null,null,null,null,null,null,13,0.02,0.02,4.4999999999999998E-2,1.4999999999999999E-2,{"$f":"N58/SUM(N$33:N81)","v":8.6124401913875593E-3},9.3749999999999962E-3,{"$f":"AVERAGE(N58:O58)","v":0.03},null,54,0.43665123195606409,19,0.26843250243649952,0.22414870102173354,0.17133853895780066,7.2811119907456312E-2,5.2645429090192125E-2,4.4453107128786119E-2,4.5321796273382696E-2,5.9141741914399422E-2,9.8269999738687663E-2,0.16250555226802463,0.25779397059073278,0.27443829532611747,0.14390287422969134,null,null,null,null,null,null,null,null,null,null,null,null,null,null,null,null,null,null,null,null,null,null,null,null,null,null,null,null,null,null,null,null,null,null,null,null,null,{"$f":"V58","v":19},0,0,0,0,0,0,0,0,0,0,0,0]
[null,null,null,null,null,null,null,null,null,null,13.5,0.02,0.02,4.4999999999999998E-2,1.4999999999999999E-2,{"$f":"N59/SUM(N$33:N82)","v":8.6124401913875593E-3},9.3749999999999962E-3,0.03,null,55,0.42110087079608982,19.5,0.27107622033249568,0.24824118820587049,0.20520649110395983,0.10049891079612205,7.3487530184420127E-2,6.1187490797078636E-2,6.2193820839878733E-2,8.1450934094940169E-2,0.13042119742855376,0.1993167713630597,0.25190202336409734,0.2598146429993799,0.16164378268438931,null,null,null,null,null,null,null,null,null,null,null,null,null,null,null,null,null,null,null,null,null,null,null,null,null,null,null,null,null,null,null,null,null,null,null,null,null,19.5,0,0,0,0,0,0,0,0,0,0,0,0]
[null,null,null,null,null,null,null,null,null,null,14,0.02,0.02,4.4999999999999998E-2,1.4999999999999999E-2,{"$f":"N60/SUM(N$33:N83)","v":8.6124401913875593E-3},9.3749999999999962E-3,0.03,null,56,0.40542572835999718,20,0.25156652080652198,0.25381396576982007,0.22833856312604728,0.13345186020118499,0.10014620922150214,8.3191330184068685E-2,8.4328763497269005E-2,0.10930846538856773,0.16497724572789302,0.22914262200548002,0.23139358039837257,0.23139358039837257,0.17467993971138937,null,null,null,null,null,null,null,null,null,null,null,"Jan","Feb","Mar","Apr","May","Jun","Jul","Aug","Sep","Oct","Nov","Dec",null,null,null,null,null,null,null,null,null,null,null,null,null,null,20,0,0,0,0,0,0,0,0,0,0,0,0]
[null,null,null,null,null,null,null,null,null,null,14.5,0.02,0.02,0.05,1.4999999999999999E-2,{"$f":"N61/SUM(N$33:N84)","v":9.5689659296968078E-3},9.3749999999999962E-3,3.2500000000000001E-2,null,57,0.38963044953078801,20.5,0.22969456541566022,0.2394060907658645,0.22969456541566022,0.16791385062346142,0.13085226309337258,0.10961714320969329,0.11084613504437482,0.14052872709077083,0.19674356029565787,0.22969456541566022,0.22969456541566022,0.22969456541566022,0.18672222225042276,null,null,null,null,null,null,null,null,null,"Selected City Hourly Profile",null,null,null,null,null,null,null,null,null,null,null,null,null,null,null,null,null,null,null,null,null,null,null,null,null,null,null,20.5,0,0,0,0,0,0,0,0,0,0,0,0]
[null,null,null,null,null,null,null,null,null,null,15,0.02,0.02,0.06,1.4999999999999999E-2,{"$f":"N62/SUM(N$33:N85)","v":1.1482264685338103E-2},9.3749999999999962E-3,3.7499999999999999E-2,null,58,0.37371971479046912,21,0.21979676876915014,0.21979676876915014,0.21979676876915014,0.19843849363466853,0.16213635883909439,0.13826844125503873,0.13951401578309242,0.17128041545391068,0.21979676876915014,0.21979676876915014,0.21979676876915014,0.21979676876915014,0.1955040479948221,null,null,null,null,null,null,null,null,null,"Hrly Profile","Ann Avg",{"$f":"AU60&\"- 1 hr\"","v":"Jan- 1 hr"},{"$f":"AV60&\"- 1 hr\"","v":"Feb- 1 hr"},"Mar- 1 hr","Apr- 1 hr","May- 1 hr","Jun- 1 hr","Jul- 1 hr","Aug- 1 hr","Sep- 1 hr","Oct- 1 hr","Nov- 1 hr","Dec- 1 hr",null,null,null,null,null,null,null,null,null,null,null,null,null,null,{"$f":"V62","v":21},0,0,0,0,0,0,0,0,0,0,0,0]
[null,null,null,null,null,null,null,null,null,null,15.5,0.02,0.02,0.08,1.4999999999999999E-2,{"$f":"N63/SUM(N$33:N86)","v":1.5309613001688841E-2},9.3749999999999962E-3,4.7500000000000001E-2,null,59,0.35769823883312574,21.5,0.20297025596799903,0.20297025596799903,0.19885510785024457,0.20297025596799903,0.18931021991206154,0.16571935484051187,0.16688048457178908,0.19672676413293932,0.20297025596799903,0.20297025596799903,0.20297025596799903,0.20297025596799903,0.19480343705463343,null,null,null,null,null,null,null,null,null,1,{"$f":"SUM(AI21:AI22)/SUM(AI$21:AI$68)","v":3.1447397074939161E-2},{"$f":"AM21*SUM(W$21:W$68)/2","v":0.05},{"$f":"AN21*SUM(X$21:X$68)/2","v":0.05},{"$f":"AO21*SUM(Y$21:Y$68)/2","v":0.05},0.05,0.05,0.05,0.05,0.05,5.000000000000001E-2,0.05,0.05,0.05,null,null,null,null,null,null,null,null,null,null,null,null,null,null,21.5,0,0,0,0,0,0,0,0,0,0,0,0]
[null,null,null,null,null,null,null,null,null,null,16,2.5000000000000001E-2,2.5000000000000001E-2,0.13,1.4999999999999999E-2,{"$f":"N64/SUM(N$33:N87)","v":2.487764504384685E-2},1.2499999999999995E-2,7.2500000000000009E-2,null,60,0.34157076916785584,22,0.18126490585547528,0.18126490585547528,0.16362180797693893,0.18126490585547528,0.18126490585547528,0.18126490585547528,0.18126490585547528,0.18126490585547528,0.18126490585547528,0.18126490585547528,0.18126490585547528,0.18126490585547528,0.17976645096716123,null,null,null,null,null,null,null,null,null,2,{"$f":"SUM(AI22:AI23)/SUM(AI$21:AI$68)","v":2.3585547806204376E-2},3.0000000000000002E-2,3.0000000000000002E-2,{"$f":"AO22*SUM(Y$21:Y$68)/2","v":3.0000000000000002E-2},{"$f":"AP22*SUM(Z$21:Z$68)/2","v":3.0000000000000002E-2},{"$f":"AQ22*SUM(AA$21:AA$68)/2","v":3.0000000000000006E-2},{"$f":"AR22*SUM(AB$21:AB$68)/2","v":3.0000000000000002E-2},{"$f":"AS22*SUM(AC$21:AC$68)/2","v":3.0000000000000002E-2},{"$f":"AT22*SUM(AD$21:AD$68)/2","v":3.0000000000000002E-2},{"$f":"AU22*SUM(AE$21:AE$68)/2","v":3.0000000000000002E-2},{"$f":"AV22*SUM(AF$21:AF$68)/2","v":3.0000000000000006E-2},{"$f":"AW22*SUM(AG$21:AG$68)/2","v":0.03},{"$f":"AX22*SUM(AH$21:AH$68)/2","v":3.0000000000000002E-2},null,null,null,null,null,null,null,null,null,null,null,null,null,null,22,0,0,0,0,0,0,0,0,0,0,0,0]
[null,null,null,null,null,null,null,null,null,null,16.5,3.5000000000000003E-2,0.03,0.19,0.02,{"$f":"N65/SUM(N$33:N88)","v":3.6358939275787337E-2},1.2499999999999995E-2,0.105,null,61,0.32534208471198017,22.5,0.15710075431902629,0.15710075431902629,0.15710075431902629,0.15710075431902629,0.15710075431902629,0.15710075431902629,0.15710075431902629,0.15710075431902629,0.15710075431902629,0.15710075431902629,0.15710075431902629,0.15710075431902629,0.15710075431902626,null,null,null,null,null,null,null,null,null,3,1.8868438244963499E-2,0.02,0.02,0.02,0.02,0.02,0.02,0.02,0.02,0.02,0.02,0.02,0.02,null,null,null,null,null,null,null,null,null,null,null,null,null,null,22.5,0,0,0,0,0,0,0,0,0,0,0,0]
[null,null,null,null,null,null,null,null,null,null,17,0.05,3.5000000000000003E-2,0.23,0.02,{"$f":"N66/SUM(N$33:N89)","v":4.4013242245058079E-2},1.2499999999999995E-2,0.125,null,62,0.30901699437494751,23,0.13282919246116717,0.13282919246116717,0.13282919246116717,0.13282919246116717,0.13282919246116717,0.13282919246116717,0.13282919246116717,0.13282919246116717,0.13282919246116717,0.13282919246116717,0.13282919246116717,0.13282919246116717,0.13282919246116714,null,"Reference Energy (St. Louis)",null,null,null,null,null,null,null,4,1.4151328683722625E-2,0.02,0.02,0.02,0.02,0.02,0.02,0.02,0.02,0.02,0.02,0.02,0.02,null,null,null,null,null,null,null,null,null,null,null,null,null,null,{"$f":"V66","v":23},0,0,0,0,0,0,0,0,0,0,0,0]
[null,null,null,null,null,null,null,null,null,null,17.5,7.4999999999999997E-2,0.04,0.25,0.02,{"$f":"N67/SUM(N$33:N90)","v":4.7840251831085638E-2},1.5624999999999997E-2,0.13500000000000001,null,63,0.29260033563334864,23.5,0.11037346318242089,0.11037346318242089,0.11037346318242089,0.11037346318242089,0.11037346318242089,0.11037346318242089,0.11037346318242089,0.11037346318242089,0.11037346318242089,0.11037346318242089,0.11037346318242089,0.11037346318242089,0.11037346318242088,null,1.5720000000000001,null,null,null,null,null,null,null,5,1.2578958829975664E-2,0.02,0.02,0.02,0.02,0.02,0.02,0.02,0.02,0.02,0.02,0.02,0.02,null,null,null,null,null,null,null,null,null,null,null,null,null,null,23.5,0,0,0,0,0,0,0,0,0,0,0,0]
[null,null,null,null,null,null,null,null,null,null,18,0.12,0.05,0.26,2.5000000000000001E-2,{"$f":"N68/SUM(N$33:N91)","v":4.975362388173947E-2},1.5624999999999997E-2,0.14250000000000002,null,64,0.27609697309746911,24,9.1019094544443471E-2,9.1019094544443471E-2,9.1019094544443471E-2,{"$f":"IF($V68>19.1,IF($V68<22.2,IF($AN$54<Z$18+$AN$51,IF(Z$45+$AL$51*EXP((-1*($V68-(Z$18+$AN$51))^2)/(2*((25.5/(ABS(6.5-Z$19)+20))*$AP$51)^2))/((25.5/(ABS(6.5-Z$19)+20))*$AP$51*SQRT(2*PI()))<0.04+$AL$54*EXP((-1*($V68-($AN$54))^2)/(2*($AP$54)^2))/($AP$54*SQRT(2*PI())),Z$45+$AL$51*EXP((-1*($V68-(Z$18+$AN$51))^2)/(2*((25.5/(ABS(6.5-Z$19)+20))*$AP$51)^2))/((25.5/(ABS(6.5-Z$19)+20))*$AP$51*SQRT(2*PI())),0.04+$AL$54*EXP((-1*($V68-($AN$54))^2)/(2*($AP$54)^2))/($AP$54*SQRT(2*PI()))),IF(0.04+$AL$54*EXP((-1*($V68-($AN$54))^2)/(2*(($AP$54)^2)))/($AP$54*SQRT(2*PI()))<Z$45+$AL$51*EXP((-1*($V68-(Z$18+$AN$51))^2)/(2*((25.5/(ABS(6.5-Z$19)+20))*$AP$51)^2))/((25.5/(ABS(6.5-Z$19)+20))*$AP$51*SQRT(2*PI())),Z$45+$AL$51*EXP((-1*($V68-(Z$18+$AN$51))^2)/(2*((25.5/(ABS(6.5-Z$19)+20))*$AP$51)^2))/((25.5/(ABS(6.5-Z$19)+20))*$AP$51*SQRT(2*PI())),0.04+$AL$54*EXP((-1*($V68-($AN$54))^2)/(2*($AP$54)^2))/($AP$54*SQRT(2*PI())))),0.04+$AL$54*EXP((-1*($V68-($AN$54))^2)/(2*($AP$54)^2))/($AP$54*SQRT(2*PI()))),Z$45+$AL$51*EXP((-1*($V68-(Z$18+$AN$51))^2)/(2*((25.5/(ABS(6.5-Z$19)+20))*$AP$51)^2))/((25.5/(ABS(6.5-Z$19)+20))*$AP$51*SQRT(2*PI())))","v":9.1019094544443471E-2},9.1019094544443471E-2,9.1019094544443471E-2,9.1019094544443471E-2,9.1019094544443471E-2,9.1019094544443471E-2,9.1019094544443471E-2,9.1019094544443471E-2,9.1019094544443471E-2,9.1019094544443485E-2,null,"Geographic Multiplier for Selected City",null,null,null,null,null,null,null,6,1.2578958829975664E-2,2.1901065950438135E-2,2.1518405924788257E-2,2.0938874649731733E-2,2.107041862979667E-2,2.0654910086242137E-2,2.0528928576294968E-2,2.0637479088679272E-2,2.0918819177355497E-2,2.1288306958825796E-2,2.1739515562556246E-2,2.132617262759802E-2,2.1770506407839212E-2,null,null,null,null,null,null,null,null,null,null,null,null,null,null,24,{"$f":"IF(AND(W68<W67,W68<W21),1,0)","v":0},{"$f":"IF(AND(X68<X67,X68<X21),1,0)","v":0},0,0,0,0,0,0,0,0,0,0]
[null,null,null,null,null,null,null,null,null,null,18.5,0.18,0.06,0.26,2.5000000000000001E-2,{"$f":"N69/SUM(N$33:N92)","v":4.975338586142726E-2},1.8749999999999992E-2,0.14250000000000002,null,65,0.25951179706980015,"Total (kWh/day)",{"$f":"SUM(W21:W68)/2","v":2.1778017423689469},{"$f":"SUM(X21:X68)/2","v":1.9087473125145473},1.6005400399555878,1.3119373410225528,1.1436159003619621,1.0684899390778104,1.087245775637333,1.2177561140979329,1.4594519847189638,1.7673864194816198,2.0928598089130794,2.2607218238451736,{"$f":"SUMPRODUCT(W69:AH69,W70:AH70)/365","v":1.5899567102755747},null,{"$f":"AI69/AK67","v":1.0114228436867523},null,null,null,null,null,null,null,7,1.2578958829975664E-2,4.7269911542119653E-2,4.178083050956926E-2,3.3467722485599344E-2,3.5354660021586708E-2,2.9394382196866492E-2,2.7587235721274549E-2,2.9144342601175099E-2,3.3180036012907872E-2,3.8480167296763082E-2,4.4952545968285164E-2,3.9023332796972961E-2,4.5397095306138141E-2,null,null,null,null,null,null,null,null,null,null,null,null,null,null,null,null,null,null,null,null,null,null,null,null,null,null,null,{"$f":"SUM(BV62:CG68)","v":0}]
[null,null,null,null,null,null,null,null,null,null,19,0.22,0.09,0.25,0.03,{"$f":"N70/SUM(N$33:N93)","v":4.7839565234031156E-2},1.8749999999999992E-2,0.14000000000000001,null,66,{"$f":"SIN((T70+365/4+11)/365*2*PI())","v":0.24284972209593567},"Days",31,28,31,30,31,30,31,31,30,31,30,31,{"$f":"SUMPRODUCT(W70:AH70,W71:AH71)/365","v":1},null,null,null,null,null,null,null,null,null,8,1.2578958829975664E-2,9.8859398236720325E-2,8.2986019753957779E-2,5.89460922597096E-2,6.4402756773212347E-2,4.7166766775403553E-2,4.194084283462815E-2,4.6443699814914134E-2,5.8114157690275683E-2,7.3441129432551822E-2,9.2158017692642646E-2,7.5011860764897353E-2,9.3443569837374452E-2]
[null,null,null,null,null,null,null,null,null,null,19.5,0.23,0.125,0.24,0.03,{"$f":"N71/SUM(N$33:N94)","v":4.5925762917816804E-2},2.1874999999999995E-2,0.13500000000000001,null,67,0.22611568550828834,"Seasonal Mult",{"$f":"W69/$AI$69","v":1.3697239228554126},{"$f":"X69/$AI$69","v":1.2005026930473592},1.0066563634164472,0.82514029001152178,0.7192748663979337,0.67202454769514919,0.68382099249034856,0.76590520120945227,0.91791932150530586,1.1115940503658697,1.316299868661418,1.4218763374087968,null,null,null,null,null,null,null,null,null,null,9,1.2578958829975664E-2,9.4446105184301743E-2,7.400997422576408E-2,4.7467697497388266E-2,5.0816968259702874E-2,3.5377087614918118E-2,3.1120988354697066E-2,3.4784854107384175E-2,4.5124506314277571E-2,6.0854376604327368E-2,8.2551667408161208E-2,7.2317152139982577E-2,9.2559462733017808E-2]
[null,null,null,null,null,null,null,null,null,null,20,0.22500000000000001,0.155,0.22500000000000001,3.5000000000000003E-2,{"$f":"N72/SUM(N$33:N95)","v":4.3055059020701072E-2},2.812499999999999E-2,0.13,null,68,0.20931464596304875,"U.S. Avg Seasonal Mult",1.3648376619040321,1.1958822840459347,1.0102610090206179,0.82685505263041714,0.71986139326976573,0.6732423260704874,0.68584197387313695,0.770897426752429,0.92020866538130552,1.1120618016660415,1.3126775922365801,1.4177157321317237,null,null,null,null,null,null,null,null,null,null,10,1.2578958829975664E-2,4.8406621840619106E-2,3.7237644329935468E-2,2.4730293890654901E-2,2.4893869344626486E-2,1.951665836457795E-2,1.8311544067549885E-2,1.9346563879508907E-2,2.2872800526813779E-2,2.965451909347093E-2,4.0424566162711201E-2,4.0200274456136158E-2,4.968183386653334E-2]
[null,null,null,null,null,null,null,null,null,null,20.5,0.22,0.185,0.22500000000000001,4.4999999999999998E-2,{"$f":"N73/SUM(N$33:N96)","v":4.3054043204067437E-2},3.7499999999999985E-2,0.13500000000000001,null,69,0.19245158197083026,"U.S. Avg Seasonal Fraction",{"$f":"W72*W70/SUMPRODUCT($W72:$AH72,$W70:$AH70)","v":0.11591771923020544},{"$f":"X72*X70/SUMPRODUCT($W72:$AH72,$W70:$AH70)","v":9.173891494051005E-2},8.5802989807230542E-2,6.7960689257294551E-2,6.1138912853048587E-2,5.5334985704423606E-2,5.8249592301554083E-2,6.5473480080343274E-2,7.5633588935449747E-2,9.4449084525061039E-2,0.10789130895095178,0.1204087334139272,null,null,null,null,null,null,null,null,null,null,11,1.3327366331788434E-2,3.9411232776139081E-2,3.0052910918591118E-2,2.028776376424455E-2,1.9828904589106286E-2,1.6417780586748899E-2,1.5808780641589748E-2,1.6330165410103549E-2,1.8525168095485815E-2,2.3558558915737896E-2,3.2193594867209865E-2,3.392514299677854E-2,4.1304221308695391E-2]
[null,null,null,null,null,null,null,null,null,null,21,0.215,0.19500000000000001,0.22,0.06,{"$f":"N74/SUM(N$33:N97)","v":4.2094647309262705E-2},5.3124999999999985E-2,0.14000000000000001,null,70,0.17553149042142849,"Simulated kWh/day:",null,null,{"$f":"SUM(Y21:Y68)/2","v":1.6005400399555878},null,null,{"$f":"SUM(AB21:AB68)/2","v":1.0684899390778104},null,null,{"$f":"SUM(AE21:AE68)/2","v":1.4594519847189638},null,null,{"$f":"SUM(AH21:AH68)/2","v":2.2607218238451736},null,null,null,null,null,null,null,null,null,null,12,1.6264340447981137E-2,3.904838648616793E-2,2.9763100901030886E-2,2.010856578148934E-2,1.9624599510448589E-2,1.6292781401421909E-2,1.5707826873245144E-2,1.6208493186050429E-2,1.8349797993474914E-2,2.3312666657109932E-2,3.1861582835709779E-2,3.3672023520479287E-2,4.0966294220312921E-2]
[null,null,null,null,null,null,null,null,null,null,21.5,0.2,0.185,0.21,8.5000000000000006E-2,{"$f":"N75/SUM(N$33:N98)","v":4.0166573443079022E-2},7.8124999999999972E-2,0.14749999999999999,null,71,0.15855938510313461,"Stokes kWh/day:",null,null,{"$f":"SUM(L33:L80)/2","v":1.6700000000000004},null,null,{"$f":"SUM(O33:O80)/2","v":0.83000000000000029},null,null,{"$f":"SUM(M33:M80)/2","v":1.3600000000000003},null,null,{"$f":"SUM(N33:N80)/2","v":2.6124999999999998},null,null,null,null,null,null,null,null,null,null,13,2.3314518197176656E-2,3.908850187836857E-2,2.9779352676814655E-2,2.011630590972352E-2,1.9623227928607705E-2,1.6292007090144049E-2,1.5707333736395081E-2,1.6207831498766041E-2,1.834870271382992E-2,2.3311756639778261E-2,3.1863295834577185E-2,3.3791015904450099E-2,4.1073214713286413E-2]
[null,null,null,null,null,null,null,null,null,null,22,0.19,0.17499999999999999,0.2,0.125,{"$f":"N76/SUM(N$33:N99)","v":3.8228074581253407E-2},9.0624999999999969E-2,0.16250000000000001,null,72,0.14154029521704331,null,null,null,null,null,null,null,null,null,null,null,null,null,null,null,null,null,null,null,null,null,null,null,14,3.4389063951684444E-2,3.962404278914286E-2,3.0019415947485695E-2,2.0235349026465226E-2,1.9630152161725062E-2,1.6296895854013498E-2,1.571256925407933E-2,1.6213224145097127E-2,1.8355213438115033E-2,2.3330052422440815E-2,3.1927794346935656E-2,3.4970346203790206E-2,4.2249742793269818E-2]
[null,null,null,null,null,null,null,null,null,null,22.5,0.17,0.155,0.18,0.14499999999999999,{"$f":"N77/SUM(N$33:N100)","v":3.4398218327580665E-2},8.1249999999999975E-2,0.16249999999999998,null,73,0.12447926388678943,null,null,null,null,null,null,null,null,null,null,null,null,null,null,null,null,null,null,null,null,null,null,null,15,4.3624154929143177E-2,4.316548278249651E-2,3.171819509260676E-2,2.1104243861903182E-2,1.9699260796984308E-2,1.6342680743441404E-2,1.5756168013469088E-2,1.6257974536181552E-2,1.8414072287624414E-2,2.3490484312019829E-2,3.244677427248386E-2,4.1090718098328746E-2,4.8850569775553243E-2]
[null,null,null,null,null,null,null,null,null,null,23,0.14000000000000001,0.125,0.155,0.13,{"$f":"N78/SUM(N$33:N101)","v":2.9617913962619764E-2},6.5624999999999975E-2,0.14250000000000002,null,74,0.10738134666416337,null,null,null,null,null,null,null,null,null,null,null,null,null,null,null,null,null,null,null,null,null,null,null,16,4.5321510312379007E-2,5.8921028320423625E-2,4.009131520589275E-2,2.5668381443097722E-2,2.0209670384724508E-2,1.6669462664215887E-2,1.6041143595952424E-2,1.654947471520472E-2,1.8819776282128234E-2,2.4532808187572287E-2,3.5449758125211145E-2,6.3229064283870956E-2,7.3743324160096047E-2]
[null,null,null,null,null,null,null,null,null,null,23.5,0.105,9.5000000000000001E-2,0.125,0.105,{"$f":"N79/SUM(N$33:N102)","v":2.388356321477518E-2},4.9999999999999982E-2,0.11499999999999999,null,75,9.0251610031041443E-2,null,null,null,null,null,null,null,null,null,null,null,null,null,null,null,null,null,null,null,null,null,null,null,17,3.7783774718156089E-2,0.10406229133527289,6.782169409271166E-2,4.2377227028263353E-2,2.294539341293882E-2,1.8410402284961366E-2,1.7468167294622361E-2,1.8004084421102094E-2,2.090586253206031E-2,2.9433960231097796E-2,4.7602658504596648E-2,0.11590014451587333,0.13336717069733048]
[null,null,null,null,null,null,null,null,null,null,24,0.08,7.4999999999999997E-2,0.1,0.08,{"$f":"N80/SUM(N$33:N103)","v":1.9105317131262543E-2},0,0.09,null,76,7.3095129898077621E-2,null,null,null,null,null,null,null,null,null,null,null,null,null,null,null,null,null,null,null,null,null,null,null,18,2.6709228963648305E-2,0.18334320607846813,0.12770324952991113,8.4166584195169813E-2,3.3501437114645732E-2,2.5289628006646074E-2,2.2912871180198802E-2,2.3534208862491489E-2,2.8853711194019763E-2,4.5946364349982234E-2,8.1435800894610666E-2,0.19348999203406492,0.21771859065496763]
[null,null,null,null,null,null,null,null,null,null,null,null,null,null,null,null,null,null,null,77,5.5916990100603324E-2,null,null,null,null,null,null,null,null,null,null,null,null,null,null,null,null,null,null,null,null,null,null,null,19,1.9659051214452779E-2,0.25640859634108859,0.20585736348486902,0.15250703378761796,6.2405631301462233E-2,4.5234460885868605E-2,3.8599953609351853E-2,3.9408064321206027E-2,5.1032131577733363E-2,8.5068614341392346E-2,0.14402465006398746,0.25074026643095032,0.27046761541421144]
[null,null,null,null,null,null,null,null,null,null,null,"RMSE",null,null,null,null,null,null,null,78,3.8722280892174742E-2,null,null,null,null,null,null,null,null,null,null,null,null,null,null,null,null,null,null,null,null,null,null,null,20,1.6851118735056906E-2,0.26132137056950883,0.25102757698784528,0.21677252711500355,0.11697538549865352,8.6816869702961125E-2,7.2189410490573661E-2,7.3261292168573869E-2,9.5379699741753948E-2,0.14769922157822341,0.21422969668426986,0.24164780188123497,0.24560411169887625]
[null,null,null,null,null,null,null,null,null,null,null,null,null,null,null,null,null,null,null,79,2.1516097436222539E-2,null,null,null,null,null,null,null,null,null,null,null,null,null,null,null,null,null,null,null,null,null,null,null,21,1.6117766044398671E-2,0.22474566709240518,0.2296014297675073,0.22474566709240518,0.18317617212906498,0.1464943109662335,0.12394279223236601,0.1251800754137336,0.15590457127234075,0.20827016453240402,0.22474566709240515,0.22474566709240518,0.22474566709240515]
[null,null,null,null,null,null,null,null,null,null,{"$f":"K33","v":0.5},{"$f":"(L33-Y21)^2","v":0},{"$f":"(M33-AE21)^2","v":0},{"$f":"(N33-AH21)^2","v":2.2499999999999999E-4},{"$f":"(O33-AB21)^2","v":0},null,null,null,null,80,4.3035382962445714E-3,null,null,null,null,null,null,null,null,null,null,null,null,null,null,null,null,null,null,null,null,null,null,null,22,1.5989912839990402E-2,0.19211758091173714,0.19211758091173714,0.18123845791359175,0.19211758091173714,0.18528756288376841,0.17349213034799357,0.17407269521363217,0.1889958349942073,0.19211758091173717,0.19211758091173714,0.19211758091173717,0.19211758091173714]
[null,null,null,null,null,null,null,null,null,null,1,{"$f":"(L34-Y22)^2","v":0},{"$f":"(M34-AE22)^2","v":2.4999999999999974E-5},{"$f":"(N34-AH22)^2","v":2.2499999999999999E-4},{"$f":"(O34-AB22)^2","v":0},null,null,null,null,81,-1.2910296075008536E-2,null,null,null,null,null,null,null,null,null,null,null,null,null,null,null,null,null,null,null,null,null,null,null,23,1.5974921507439413E-2,0.14496497339009676,0.14496497339009673,0.14496497339009673,0.14496497339009673,0.14496497339009673,0.14496497339009673,0.14496497339009673,0.14496497339009673,0.14496497339009673,0.14496497339009673,0.14496497339009673,0.14496497339009673]
[null,null,null,null,null,null,null,null,null,null,1.5,2.5000000000000045E-5,0,2.4999999999999974E-5,0,null,null,null,null,82,-3.0120304846907611E-2,null,null,null,null,null,null,null,null,null,null,null,null,null,null,null,null,null,null,null,null,null,null,null,24,1.5973733075050862E-2,0.10069627886343219,0.10069627886343219,0.10069627886343219,0.10069627886343219,0.10069627886343219,0.1006962788634322,0.10069627886343219,0.10069627886343219,0.10069627886343219,0.10069627886343219,0.10069627886343219,0.10069627886343219]
[null,null,null,null,null,null,null,null,null,null,2,0,2.4999999999999974E-5,1.0000000000000005E-4,0,null,null,null,null,83,-4.7321388322432018E-2]
[null,null,null,null,null,null,null,null,null,null,2.5,0,2.5000000000000011E-5,9.9999999999999964E-5,0,null,null,null,null,84,-6.4508449449316385E-2]
[null,null,null,null,null,null,null,null,null,null,3,0,2.5000000000000011E-5,2.5000000000000011E-5,0,null,null,null,null,85,-8.1676395330422577E-2]
[null,null,null,null,null,null,null,null,null,null,3.5,0,2.5000000000000011E-5,2.5000000000000011E-5,0,null,null,null,null,86,-9.8820138732871377E-2]
[null,null,null,null,null,null,null,null,null,null,4,0,2.5000000000000011E-5,2.5000000000000011E-5,0,null,null,null,null,87,-0.11593459959550036]
[null,null,null,null,null,null,null,null,null,null,4.5,0,2.5000000000000011E-5,2.5000000000000011E-5,0,null,null,null,null,88,-0.13301470653419561]
[null,null,null,null,null,null,null,null,null,null,5,0,2.5000000000000011E-5,2.5000000000000011E-5,0,null,null,null,null,89,-0.15005539834465231]
[null,null,null,null,null,null,null,null,null,null,5.5,0,9.9999999999999964E-5,2.5000000000000011E-5,0,null,null,null,null,90,-0.16705162550211874]
[null,null,null,null,null,null,null,null,null,null,6,9.7484494370008845E-6,1.5434052175108829E-4,4.1718515447230298E-5,1.1190617552856725E-6,null,null,null,null,91,-0.18399835165767955]
[null,null,null,null,null,null,null,null,null,null,6.5,5.8234481534244281E-5,9.7784389619207744E-5,1.2329904331338478E-4,1.7233680121182669E-5,null,null,null,null,92,-0.20089055513063456]
[null,null,null,null,null,null,null,null,null,null,7,1.0885589782193399E-4,6.6439884027310087E-5,3.2767513254207398E-4,3.6278030652196507E-5,null,null,null,null,93,-0.21772323039653194]
[null,null,null,null,null,null,null,null,null,null,7.5,9.6927816313349791E-5,1.0489802139001047E-5,1.9102092380424674E-3,9.6137394586061258E-5,null,null,null,null,94,-0.2344913895704098]
[null,null,null,null,null,null,null,null,null,null,8,7.493233210943901E-6,5.5901331720482233E-4,3.5291821189741496E-3,1.9815398449616968E-4,null,null,null,null,95,-0.25119006388481929]
[null,null,null,null,null,null,null,null,null,null,8.5,1.0530459496407706E-4,1.3358519169768802E-3,1.0720783759179664E-3,1.1050025083092991E-4,null,null,null,null,96,-0.26781430516217414]
[null,null,null,null,null,null,null,null,null,null,9,2.1531431038954879E-4,6.329976820384362E-4,4.901117023170526E-4,4.5293798564120458E-5,null,null,null,null,97,-0.28435918728100334]
[null,null,null,null,null,null,null,null,null,null,9.5,5.5888231826278813E-5,1.8014773915453252E-4,4.056468965689815E-4,2.3602970873249351E-5,null,null,null,null,98,-0.30081980763566729]
[null,null,null,null,null,null,null,null,null,null,10,3.9392109799518198E-6,3.4658247100738897E-5,4.2007185780236619E-4,3.1145163992790837E-6,null,null,null,null,99,-0.31719128858910561]
[null,null,null,null,null,null,null,null,null,null,10.5,1.8555404571254778E-7,1.4098339627818075E-5,3.3952190723064008E-4,7.9092483046777732E-7,null,null,null,null,100,-0.33346877891818638]
[null,null,null,null,null,null,null,null,null,null,11,2.0957681628906494E-8,1.1305345441442916E-5,8.0379063093995778E-5,5.3030689654511499E-7,null,null,null,null,101,-0.34964745525122798]
[null,null,null,null,null,null,null,null,null,null,11.5,1.2094947603310268E-8,1.0986594041843263E-5,1.6249319586440133E-5,5.0214502786831411E-7,null,null,null,null,102,-0.36572252349726891]
[null,null,null,null,null,null,null,null,null,null,12,1.1482093474398679E-8,1.096093422042172E-5,1.6292259212771398E-5,4.998940013116659E-7,null,null,null,null,103,-0.38168922026665913]
[null,null,null,null,null,null,null,null,null,null,12.5,1.1447986397352403E-8,1.0959487188780744E-5,1.6294683887798067E-5,4.9976713168571187E-7,null,null,null,null,104,-0.39754281428255589]
[null,null,null,null,null,null,null,null,null,null,13,1.5779519144527457E-8,1.097597999359657E-5,1.456874965606391E-5,5.0087520435885947E-7,null,null,null,null,105,-0.41327860778290415]
[null,null,null,null,null,null,null,null,null,null,13.5,2.8794686343642216E-8,1.1019133058517213E-5,1.1279819623168423E-5,5.0355864699717213E-7,null,null,null,null,106,-0.42889193791248342]
[null,null,null,null,null,null,null,null,null,null,14,9.060586523549853E-8,1.1159587585508301E-5,4.5880360893411763E-6,5.1196864869562191E-7,null,null,null,null,107,-0.44437817810461316]
[null,null,null,null,null,null,null,null,null,null,14.5,4.340559874329158E-7,1.1584749361395643E-5,1.8004644012523346E-5,5.3688321143703732E-7,null,null,null,null,108,-0.45973273945210391]
[null,null,null,null,null,null,null,null,null,null,15,2.4014413694985873E-6,1.2797296783368077E-5,6.4893859345833212E-5,6.0779624119566085E-7,null,null,null,null,109,-0.4749510720670499]
[null,null,null,null,null,null,null,null,null,null,15.5,1.2770367013336487E-5,1.6145280065753963E-5,2.6434989209907347E-4,8.0829541574387804E-7,null,null,null,null,110,-0.49002866642905879]
[null,null,null,null,null,null,null,null,null,null,16,7.6352624004492548E-6,2.256003392862203E-9,2.1394798110414759E-3,1.4000443124538103E-6,null,null,null,null,111,-0.50496105472151998]
[null,null,null,null,null,null,null,null,null,null,16.5,4.2112365189832721E-7,7.5231388069951591E-6,5.8181264973086498E-3,1.0148025463397819E-5,null,null,null,null,112,-0.51974381215551535]
[null,null,null,null,null,null,null,null,null,null,17,8.0010583126712534E-7,1.1486984752753315E-5,5.92730829177228E-3,3.5271425962011547E-6,null,null,null,null,113,-0.53437255828097896]
[null,null,null,null,null,null,null,null,null,null,17.5,2.6649204696275939E-5,2.8272474188924126E-7,2.7874784858872032E-3,4.1716143592782938E-7,null,null,null,null,114,-0.54884295828471918]
[null,null,null,null,null,null,null,null,null,null,18,4.6244544875863444E-4,5.877945039982192E-6,4.737693008217369E-4,3.235034016333616E-8,null,null,null,null,115,-0.56315072427491852]
[null,null,null,null,null,null,null,null,null,null,18.5,2.1459566488740592E-3,1.4083112281161465E-4,4.2210170921116335E-5,6.0012911633147214E-5,null,null,null,null,116,-0.57729161655172723]
[null,null,null,null,null,null,null,null,null,null,19,2.3679377907614846E-3,6.8392895677894081E-5,5.9723027844653474E-4,2.0889230567616818E-4,null,null,null,null,117,-0.59126144486357801]
[null,null,null,null,null,null,null,null,null,null,19.5,6.1471808337802344E-4,2.9389381559357948E-5,3.9262007719287508E-4,9.726595822178647E-4,null,null,null,null,118,-0.60505606964884873,null,null,{"$f":"V20","v":"Hour"},{"$f":"Y20","v":"Mar- 1/2 hr"},null,"All June"]
[null,null,null,null,null,null,null,null,null,null,20,1.1146003746602537E-5,9.9545432314759508E-5,4.0877870310453914E-5,2.322404304909929E-3,null,null,null,null,119,-0.61867140326250303,null,null,{"$f":"V21","v":0.5},{"$f":"Y21","v":0.06},{"$f":"Y123","v":0.06}]
[null,null,null,null,null,null,null,null,null,null,20.5,9.3984598598515157E-5,1.3791120841775203E-4,2.2038944441912942E-5,4.1753751965820122E-3,null,null,null,null,120,-0.63210341118734825,null,null,1,0.04,{"$f":"Y124","v":0.04}]
[null,null,null,null,null,null,null,null,null,null,21,2.3008990624694143E-5,6.1487974139069919E-4,4.1302933192751186E-8,6.1259488964934489E-3,null,null,null,null,121,-0.6453481132295501,null,null,1.5,3.5000000000000003E-2,3.5000000000000003E-2]
[null,null,null,null,null,null,null,null,null,null,21.5,1.3107780345716299E-6,3.2293009955540485E-4,4.9417301155453139E-5,6.5156142458684656E-3,null,null,null,null,122,-0.65840158469804866,null,null,2,2.5000000000000001E-2,2.5000000000000001E-2]
[null,null,null,null,null,null,null,null,null,null,22,6.9580901440548292E-4,3.9249045377968564E-5,3.5100375260420494E-4,3.1657396309254962E-3,null,null,null,null,123,-0.67125995756753165,null,null,2.5,0.02,0.02]
[null,null,null,null,null,null,null,null,null,null,{"$f":"K77","v":22.5},1.6639053913811931E-4,4.4131687089076025E-6,5.2437545275759291E-4,1.4642825508943359E-4,null,null,null,null,124,-0.6839194216246105,null,null,3,0.02,0.02]
[null,null,null,null,null,null,null,null,null,null,23,5.1420480758981899E-5,6.129625459399689E-5,4.9154470692396653E-4,8.004329982325139E-6,null,null,null,null,125,-0.69637622559687218,null,null,3.5,0.02,0.02]
[null,null,null,null,null,null,null,null,null,null,23.5,2.887410657283287E-5,2.3634337022125057E-4,2.1393557927599726E-4,2.887410657283287E-5,null,null,null,null,126,-0.70862667826445958,null,null,4,0.02,0.02]
[null,null,null,null,null,null,null,null,null,null,24,1.2142044457938383E-4,2.5661139002381865E-4,8.065666280164512E-5,1.2142044457938383E-4,null,null,null,null,127,-0.72066714955386091,null,null,4.5,0.02,0.02]
[null,null,null,null,null,null,null,null,null,null,null,null,null,"MSE",{"$f":"AVERAGE(L84:O131)","v":3.5110132530956454E-4},null,null,null,null,128,-0.7324940716135786,null,null,5,0.02,0.02]
[null,null,null,null,null,null,null,null,null,null,null,null,null,"RSE",{"$f":"SQRT(O132)","v":1.8737697972524919E-2},null,null,null,null,129,-0.74410393987136036,null,null,5.5,0.02,0.02]
[null,null,null,null,null,null,null,null,null,null,null,null,null,null,null,null,null,null,null,130,{"$f":"SIN((T134+365/4+11)/365*2*PI())","v":-0.75549331407268017},null,null,6,2.1877749299463466E-2,2.1877749299463466E-2,{"$f":"0.04+$AL$54*EXP((-1*($V32-($AN$54))^2)/(2*($AP$54)^2))/($AP$54*SQRT(2*PI()))","v":4.0000003263940251E-2},{"$f":"Y$45+$AL$51*EXP((-1*($V32-(Y$18+$AN$51))^2)/(2*((25.5/(ABS(6.5-Y$19)+20))*$AP$51)^2))/((25.5/(ABS(6.5-Y$19)+20))*$AP$51*SQRT(2*PI()))","v":2.0106995263434305E-2},{"$f":"Y$45+$AL$52*EXP((-1*($V32-(Y$18+$AN$52))^2)/(2*((25.5/(ABS(6.5-Y$19)+20))*$AP$52)^2))/((25.5/(ABS(6.5-Y$19)+20))*$AP$52*SQRT(2*PI()))","v":{"$error":"#DIV/0!"}}]
[null,null,null,null,null,null,null,null,null,null,null,null,null,null,null,null,null,null,null,131,-0.76665881930015867,null,null,6.5,2.7368847954977949E-2,2.7368847954977949E-2,{"$f":"0.04+$AL$54*EXP((-1*($V33-($AN$54))^2)/(2*($AP$54)^2))/($AP$54*SQRT(2*PI()))","v":4.0000011300158067E-2},2.0106995263435404E-2,{"$error":"#DIV/0!"}]
[null,null,null,null,null,null,null,null,null,null,null,null,null,null,null,null,null,null,null,132,-0.7775971469736267,null,null,7,3.9566597016220742E-2,3.9566597016220742E-2,4.0000037413325175E-2,2.010699526344641E-2,{"$error":"#DIV/0!"}]
[null,null,null,null,null,null,null,null,null,null,null,null,null,null,null,null,null,null,null,133,-0.78830505583052546,null,null,7.5,5.515480745168741E-2,5.515480745168741E-2,4.0000118458865842E-2,2.0106995263547318E-2,{"$error":"#DIV/0!"}]
[null,null,null,null,null,null,null,null,null,null,null,null,null,null,null,null,null,null,null,134,-0.79877937288636514,null,null,8,6.2737377067731789E-2,6.2737377067731789E-2,4.000035868094351E-2,2.010699526439717E-2,{"$error":"#DIV/0!"}]
[null,null,null,null,null,null,null,null,null,null,null,null,null,null,null,null,null,null,null,135,-0.80901699437494734,null,null,8.5,5.52618027151216E-2,5.52618027151216E-2,4.0001038600454425E-2,2.0106995270968653E-2,{"$error":"#DIV/0!"}]
[null,null,null,null,null,null,null,null,null,null,null,null,null,null,null,null,null,null,null,136,-0.81901488666807998,null,null,9,3.9673592279654932E-2,3.9673592279654932E-2,4.0002875995383651E-2,2.0106995317617653E-2,{"$error":"#DIV/0!"}]
[null,null,null,null,null,null,null,null,null,null,null,null,null,null,null,null,null,null,null,137,-0.82877008717450351,null,null,9.5,2.7475843218412142E-2,2.7475843218412142E-2,4.0007616006964133E-2,2.0106995621580047E-2,{"$error":"#DIV/0!"}]
[null,null,null,null,null,null,null,null,null,null,null,null,null,null,null,null,null,null,null,138,-0.83827970521777428,null,null,10,2.198474456289766E-2,2.198474456289766E-2,4.0019287056465465E-2,2.0106997439297489E-2,{"$error":"#DIV/0!"}]
[null,null,null,null,null,null,null,null,null,null,null,null,null,null,null,null,null,null,null,139,-0.84754092289283089,null,null,10.5,2.0430759846913043E-2,{"$f":"IF($V41>19.1,IF($V41<22.2,IF($AN$54<Y$18+$AN$51,IF(Y$45+$AL$51*EXP((-1*($V41-(Y$18+$AN$51))^2)/(2*((25.5/(ABS(6.5-Y$19)+20))*$AP$51)^2))/((25.5/(ABS(6.5-Y$19)+20))*$AP$51*SQRT(2*PI()))<0.04+$AL$54*EXP((-1*($V41-($AN$54))^2)/(2*($AP$54)^2))/($AP$54*SQRT(2*PI())),Y$45+$AL$51*EXP((-1*($V41-(Y$18+$AN$51))^2)/(2*((25.5/(ABS(6.5-Y$19)+20))*$AP$51)^2))/((25.5/(ABS(6.5-Y$19)+20))*$AP$51*SQRT(2*PI())),0.04+$AL$54*EXP((-1*($V41-($AN$54))^2)/(2*($AP$54)^2))/($AP$54*SQRT(2*PI()))),IF(0.04+$AL$54*EXP((-1*($V41-($AN$54))^2)/(2*(($AP$54)^2)))/($AP$54*SQRT(2*PI()))<Y$45+$AL$51*EXP((-1*($V41-(Y$18+$AN$51))^2)/(2*((25.5/(ABS(6.5-Y$19)+20))*$AP$51)^2))/((25.5/(ABS(6.5-Y$19)+20))*$AP$51*SQRT(2*PI())),Y$45+$AL$51*EXP((-1*($V41-(Y$18+$AN$51))^2)/(2*((25.5/(ABS(6.5-Y$19)+20))*$AP$51)^2))/((25.5/(ABS(6.5-Y$19)+20))*$AP$51*SQRT(2*PI())),0.04+$AL$54*EXP((-1*($V41-($AN$54))^2)/(2*($AP$54)^2))/($AP$54*SQRT(2*PI())))),0.04+$AL$54*EXP((-1*($V41-($AN$54))^2)/(2*($AP$54)^2))/($AP$54*SQRT(2*PI()))),Y$45+$AL$51*EXP((-1*($V41-(Y$18+$AN$51))^2)/(2*((25.5/(ABS(6.5-Y$19)+20))*$AP$51)^2))/((25.5/(ABS(6.5-Y$19)+20))*$AP$51*SQRT(2*PI())))","v":2.0107007413587809E-2},4.0046709373572895E-2,2.0107007413587809E-2,{"$error":"#DIV/0!"}]
[null,null,null,null,null,null,null,null,null,null,null,null,null,null,null,null,null,null,null,140,-0.85655099590100348,null,null,11,2.0144767681576057E-2,2.0107057624052779E-2,4.01081786619698E-2,2.0107057624052779E-2,{"$error":"#DIV/0!"}]
[null,null,null,null,null,null,null,null,null,null,null,null,null,null,null,null,null,null,null,141,-0.86530725436320577,null,null,11.5,2.0109977032162676E-2,2.0107289446414156E-2,4.0239595490374189E-2,2.0107289446414156E-2,{"$error":"#DIV/0!"}]
[null,null,null,null,null,null,null,null,null,null,null,null,null,null,null,null,null,null,null,142,-0.87380710361108105,null,null,12,2.0107154530816008E-2,2.0108270830078042E-2,4.050747557605814E-2,2.0108270830078042E-2,{"$error":"#DIV/0!"}]
[null,null,null,null,null,null,null,null,null,null,null,null,null,null,null,null,null,null,null,143,-0.88204802495585366,null,null,12.5,2.0106995263434194E-2,2.0112078815167168E-2,{"$f":"0.04+$AL$54*EXP((-1*($V45-($AN$54))^2)/(2*($AP$54)^2))/($AP$54*SQRT(2*PI()))","v":4.1027900606793455E-2},2.0112078815167168E-2,{"$error":"#DIV/0!"}]
[null,null,null,null,null,null,null,null,null,null,null,null,null,null,null,null,null,null,null,144,-0.89002757643467678,null,null,13,2.0125616556012842E-2,2.0125616556012842E-2,{"$f":"0.04+$AL$54*EXP((-1*($V46-($AN$54))^2)/(2*($AP$54)^2))/($AP$54*SQRT(2*PI()))","v":4.19910701944552E-2},2.0125616556012842E-2,{"$error":"#DIV/0!"}]
[null,null,null,null,null,null,null,null,null,null,null,null,null,null,null,null,null,null,null,145,-0.89774339353423371,null,null,13.5,2.0169689971252406E-2,2.0169689971252406E-2,{"$f":"0.04+$AL$54*EXP((-1*($V47-($AN$54))^2)/(2*($AP$54)^2))/($AP$54*SQRT(2*PI()))","v":4.3688259685007953E-2},2.0169689971252406E-2,{"$error":"#DIV/0!"}]
[null,null,null,null,null,null,null,null,null,null,null,null,null,null,null,null,null,null,null,146,-0.90519318989139752,null,null,14,2.0301008081678049E-2,2.0301008081678049E-2,{"$f":"0.04+$AL$54*EXP((-1*($V48-($AN$54))^2)/(2*($AP$54)^2))/($AP$54*SQRT(2*PI()))","v":4.653365025953022E-2},2.0301008081678049E-2,{"$error":"#DIV/0!"}]
[null,null,null,null,null,null,null,null,null,null,null,null,null,null,null,null,null,null,null,147,-0.9123747579707272,null,null,14.5,2.0658829255143483E-2,{"$f":"IF($V49>19.1,IF($V49<22.2,IF($AN$54<Y$18+$AN$51,IF(Y$45+$AL$51*EXP((-1*($V49-(Y$18+$AN$51))^2)/(2*((25.5/(ABS(6.5-Y$19)+20))*$AP$51)^2))/((25.5/(ABS(6.5-Y$19)+20))*$AP$51*SQRT(2*PI()))<0.04+$AL$54*EXP((-1*($V49-($AN$54))^2)/(2*($AP$54)^2))/($AP$54*SQRT(2*PI())),Y$45+$AL$51*EXP((-1*($V49-(Y$18+$AN$51))^2)/(2*((25.5/(ABS(6.5-Y$19)+20))*$AP$51)^2))/((25.5/(ABS(6.5-Y$19)+20))*$AP$51*SQRT(2*PI())),0.04+$AL$54*EXP((-1*($V49-($AN$54))^2)/(2*($AP$54)^2))/($AP$54*SQRT(2*PI()))),IF(0.04+$AL$54*EXP((-1*($V49-($AN$54))^2)/(2*(($AP$54)^2)))/($AP$54*SQRT(2*PI()))<Y$45+$AL$51*EXP((-1*($V49-(Y$18+$AN$51))^2)/(2*((25.5/(ABS(6.5-Y$19)+20))*$AP$51)^2))/((25.5/(ABS(6.5-Y$19)+20))*$AP$51*SQRT(2*PI())),Y$45+$AL$51*EXP((-1*($V49-(Y$18+$AN$51))^2)/(2*((25.5/(ABS(6.5-Y$19)+20))*$AP$51)^2))/((25.5/(ABS(6.5-Y$19)+20))*$AP$51*SQRT(2*PI())),0.04+$AL$54*EXP((-1*($V49-($AN$54))^2)/(2*($AP$54)^2))/($AP$54*SQRT(2*PI())))),0.04+$AL$54*EXP((-1*($V49-($AN$54))^2)/(2*($AP$54)^2))/($AP$54*SQRT(2*PI()))),Y$45+$AL$51*EXP((-1*($V49-(Y$18+$AN$51))^2)/(2*((25.5/(ABS(6.5-Y$19)+20))*$AP$51)^2))/((25.5/(ABS(6.5-Y$19)+20))*$AP$51*SQRT(2*PI())))","v":2.0658829255143483E-2},{"$f":"0.04+$AL$54*EXP((-1*($V49-($AN$54))^2)/(2*($AP$54)^2))/($AP$54*SQRT(2*PI()))","v":5.1068524909726229E-2},2.0658829255143483E-2,{"$error":"#DIV/0!"}]
[null,null,null,null,null,null,null,null,null,null,null,null,null,null,null,null,null,null,null,148,-0.91928596971861043,null,null,15,2.1549658468662882E-2,2.1549658468662882E-2,{"$f":"0.04+$AL$54*EXP((-1*($V50-($AN$54))^2)/(2*($AP$54)^2))/($AP$54*SQRT(2*PI()))","v":5.793176677757654E-2},2.1549658468662882E-2,{"$error":"#DIV/0!"}]
[null,null,null,null,null,null,null,null,null,null,null,null,null,null,null,null,null,null,null,149,-0.92592477719384958,null,null,15.5,2.3573565028558525E-2,2.3573565028558525E-2,6.7781512632594687E-2,2.3573565028558525E-2,{"$error":"#DIV/0!"}]
[null,null,null,null,null,null,null,null,null,null,null,null,null,null,null,null,null,null,null,150,-0.9322892131745133,null,null,16,2.776319785763692E-2,2.776319785763692E-2,8.1161213154725048E-2,2.776319785763692E-2,{"$error":"#DIV/0!"}]
[null,null,null,null,null,null,null,null,null,null,null,null,null,null,null,null,null,null,null,151,-0.93837739174086399,null,null,16.5,3.5648940407047004E-2,3.5648940407047004E-2,9.8320322378705888E-2,3.5648940407047004E-2,{"$error":"#DIV/0!"}]
[null,null,null,null,null,null,null,null,null,null,null,null,null,null,null,null,null,null,null,152,-0.94418750883419955,null,null,17,4.9105513649479703E-2,4.9105513649479703E-2,0.11902256768990446,4.9105513649479703E-2,{"$error":"#DIV/0!"}]
[null,null,null,null,null,null,null,"Stokes 2003","RLW 2005","NEES 1994",null,null,null,null,null,null,null,null,null,153,-0.94971784279143168,null,null,17.5,6.9837713229945864E-2,6.9837713229945864E-2,0.14239572607918785,6.9837713229945864E-2,{"$error":"#DIV/0!"}]
[null,null,null,null,null,null,"Apr",6.7282321899736153E-2,7.6899999999999996E-2,8.0500000000000002E-2,null,null,null,null,null,null,null,null,null,154,-0.95496675485525528,null,null,18,9.8495455160393777E-2,9.8495455160393777E-2,0.16688549964842619,9.8495455160393777E-2,{"$error":"#DIV/0!"}]
[null,null,null,null,null,null,"May",5.4089709762532981E-2,7.4899999999999994E-2,8.1000000000000003E-2,null,null,null,null,null,null,null,null,null,155,-0.95993268965974443,null,null,18.5,0.13367552861743526,0.13367552861743526,0.1903632243427455,0.13367552861743526,{"$error":"#DIV/0!"}]
[null,null,null,null,null,null,"Jun",4.221635883905013E-2,7.1800000000000003E-2,7.0499999999999993E-2,null,null,null,null,null,null,null,null,null,156,-0.96461417569124353,null,null,19,0.17133853895780066,0.17133853895780066,0.21040045003065522,0.17133853895780066,{"$error":"#DIV/0!"}]
[null,null,null,null,null,null,"Jul",4.4854881266490766E-2,6.9599999999999995E-2,5.8900000000000001E-2,null,null,null,null,null,null,null,null,null,157,-0.96900982572440608,null,null,19.5,0.20520649110395983,{"$f":"IF($V59>19.1,IF($V59<22.2,IF($AN$54<Y$18+$AN$51,IF(Y$45+$AL$51*EXP((-1*($V59-(Y$18+$AN$51))^2)/(2*((25.5/(ABS(6.5-Y$19)+20))*$AP$51)^2))/((25.5/(ABS(6.5-Y$19)+20))*$AP$51*SQRT(2*PI()))<0.04+$AL$54*EXP((-1*($V59-($AN$54))^2)/(2*($AP$54)^2))/($AP$54*SQRT(2*PI())),Y$45+$AL$51*EXP((-1*($V59-(Y$18+$AN$51))^2)/(2*((25.5/(ABS(6.5-Y$19)+20))*$AP$51)^2))/((25.5/(ABS(6.5-Y$19)+20))*$AP$51*SQRT(2*PI())),0.04+$AL$54*EXP((-1*($V59-($AN$54))^2)/(2*($AP$54)^2))/($AP$54*SQRT(2*PI()))),IF(0.04+$AL$54*EXP((-1*($V59-($AN$54))^2)/(2*(($AP$54)^2)))/($AP$54*SQRT(2*PI()))<Y$45+$AL$51*EXP((-1*($V59-(Y$18+$AN$51))^2)/(2*((25.5/(ABS(6.5-Y$19)+20))*$AP$51)^2))/((25.5/(ABS(6.5-Y$19)+20))*$AP$51*SQRT(2*PI())),Y$45+$AL$51*EXP((-1*($V59-(Y$18+$AN$51))^2)/(2*((25.5/(ABS(6.5-Y$19)+20))*$AP$51)^2))/((25.5/(ABS(6.5-Y$19)+20))*$AP$51*SQRT(2*PI())),0.04+$AL$54*EXP((-1*($V59-($AN$54))^2)/(2*($AP$54)^2))/($AP$54*SQRT(2*PI())))),0),0)","v":0.20520649110395983},0.22467126169907212,0.20520649110395983,{"$error":"#DIV/0!"}]
[null,null,null,null,null,null,"Aug ",5.4089709762532981E-2,7.3700000000000002E-2,5.1400000000000001E-2,null,null,null,null,null,null,null,null,null,158,-0.97311833723326191,null,null,20,0.22833856312604728,0.22833856312604728,{"$f":"0.04+$AL$54*EXP((-1*($V60-($AN$54))^2)/(2*($AP$54)^2))/($AP$54*SQRT(2*PI()))","v":0.23139358039837257},0.22833856312604728,{"$error":"#DIV/0!"}]
[null,null,null,null,null,null,"Sep",6.860158311345646E-2,8.0100000000000005E-2,5.67E-2,null,null,null,null,null,null,null,null,null,159,-0.97693849277718159,null,null,20.5,0.22969456541566022,0.22969456541566022,0.22969456541566022,0.23541807806191423,{"$error":"#DIV/0!"}]
[null,null,null,null,null,null,"Oct",9.894459102902374E-2,9.2700000000000005E-2,6.9199999999999998E-2,null,null,null,null,null,null,null,null,null,160,-0.98046916036163201,null,null,21,0.21979676876915014,0.21979676876915014,0.21979676876915014,0.22473481811056567,{"$error":"#DIV/0!"}]
[null,null,null,null,null,null,"Nov",0.11741424802110818,9.7100000000000006E-2,0.10879999999999999,null,null,null,null,null,null,null,null,null,161,-0.98370929377360961,null,null,21.5,0.19885510785024457,0.19885510785024457,0.20297025596799903,0.19885510785024457,{"$error":"#DIV/0!"}]
[null,null,null,null,null,null,"Dec",0.13852242744063326,9.8199999999999996E-2,0.10639999999999999,null,null,null,null,null,null,null,null,null,162,-0.98665793289165715,null,null,22,0.16362180797693893,0.16362180797693893,0.18126490585547528,0.16362180797693893,{"$error":"#DIV/0!"}]
[null,null,null,null,null,null,"Jan",0.12796833773087071,9.7600000000000006E-2,0.11360000000000001,null,null,null,null,null,null,null,null,null,163,-0.98931420397036629,null,null,22.5,0.15710075431902629,{"$f":"IF($V65>19.1,IF($V65<22.2,IF($AN$54<Y$18+$AN$51,IF(Y$45+$AL$51*EXP((-1*($V65-(Y$18+$AN$51))^2)/(2*((25.5/(ABS(6.5-Y$19)+20))*$AP$51)^2))/((25.5/(ABS(6.5-Y$19)+20))*$AP$51*SQRT(2*PI()))<0.04+$AL$54*EXP((-1*($V65-($AN$54))^2)/(2*($AP$54)^2))/($AP$54*SQRT(2*PI())),Y$45+$AL$51*EXP((-1*($V65-(Y$18+$AN$51))^2)/(2*((25.5/(ABS(6.5-Y$19)+20))*$AP$51)^2))/((25.5/(ABS(6.5-Y$19)+20))*$AP$51*SQRT(2*PI())),0.04+$AL$54*EXP((-1*($V65-($AN$54))^2)/(2*($AP$54)^2))/($AP$54*SQRT(2*PI()))),IF(0.04+$AL$54*EXP((-1*($V65-($AN$54))^2)/(2*(($AP$54)^2)))/($AP$54*SQRT(2*PI()))<Y$45+$AL$51*EXP((-1*($V65-(Y$18+$AN$51))^2)/(2*((25.5/(ABS(6.5-Y$19)+20))*$AP$51)^2))/((25.5/(ABS(6.5-Y$19)+20))*$AP$51*SQRT(2*PI())),Y$45+$AL$51*EXP((-1*($V65-(Y$18+$AN$51))^2)/(2*((25.5/(ABS(6.5-Y$19)+20))*$AP$51)^2))/((25.5/(ABS(6.5-Y$19)+20))*$AP$51*SQRT(2*PI())),0.04+$AL$54*EXP((-1*($V65-($AN$54))^2)/(2*($AP$54)^2))/($AP$54*SQRT(2*PI())))),0.04+$AL$54*EXP((-1*($V65-($AN$54))^2)/(2*($AP$54)^2))/($AP$54*SQRT(2*PI()))),Y$45+$AL$51*EXP((-1*($V65-(Y$18+$AN$51))^2)/(2*((25.5/(ABS(6.5-Y$19)+20))*$AP$51)^2))/((25.5/(ABS(6.5-Y$19)+20))*$AP$51*SQRT(2*PI())))","v":0.15710075431902629},0.15710075431902629,0.12601541185103859,{"$error":"#DIV/0!"}]
[null,null,null,null,null,null,"Feb",0.10158311345646438,8.0100000000000005E-2,0.11409999999999999,null,null,null,null,null,null,null,null,null,164,-0.99167731989929009,null,null,23,0.13282919246116717,{"$f":"IF($V66>19.1,IF($V66<22.2,IF($AN$54<Y$18+$AN$51,IF(Y$45+$AL$51*EXP((-1*($V66-(Y$18+$AN$51))^2)/(2*((25.5/(ABS(6.5-Y$19)+20))*$AP$51)^2))/((25.5/(ABS(6.5-Y$19)+20))*$AP$51*SQRT(2*PI()))<0.04+$AL$54*EXP((-1*($V66-($AN$54))^2)/(2*($AP$54)^2))/($AP$54*SQRT(2*PI())),Y$45+$AL$51*EXP((-1*($V66-(Y$18+$AN$51))^2)/(2*((25.5/(ABS(6.5-Y$19)+20))*$AP$51)^2))/((25.5/(ABS(6.5-Y$19)+20))*$AP$51*SQRT(2*PI())),0.04+$AL$54*EXP((-1*($V66-($AN$54))^2)/(2*($AP$54)^2))/($AP$54*SQRT(2*PI()))),IF(0.04+$AL$54*EXP((-1*($V66-($AN$54))^2)/(2*(($AP$54)^2)))/($AP$54*SQRT(2*PI()))<Y$45+$AL$51*EXP((-1*($V66-(Y$18+$AN$51))^2)/(2*((25.5/(ABS(6.5-Y$19)+20))*$AP$51)^2))/((25.5/(ABS(6.5-Y$19)+20))*$AP$51*SQRT(2*PI())),Y$45+$AL$51*EXP((-1*($V66-(Y$18+$AN$51))^2)/(2*((25.5/(ABS(6.5-Y$19)+20))*$AP$51)^2))/((25.5/(ABS(6.5-Y$19)+20))*$AP$51*SQRT(2*PI())),0.04+$AL$54*EXP((-1*($V66-($AN$54))^2)/(2*($AP$54)^2))/($AP$54*SQRT(2*PI())))),0.04+$AL$54*EXP((-1*($V66-($AN$54))^2)/(2*($AP$54)^2))/($AP$54*SQRT(2*PI()))),Y$45+$AL$51*EXP((-1*($V66-(Y$18+$AN$51))^2)/(2*((25.5/(ABS(6.5-Y$19)+20))*$AP$51)^2))/((25.5/(ABS(6.5-Y$19)+20))*$AP$51*SQRT(2*PI())))","v":0.13282919246116717},0.13282919246116717,9.1943088285958957E-2,{"$error":"#DIV/0!"}]
[null,null,null,null,null,null,"Mar",8.7071240105540904E-2,8.7300000000000003E-2,8.8900000000000007E-2,null,null,null,null,null,null,null,null,null,165,-0.99374658043617803,null,null,23.5,0.11037346318242089,{"$f":"IF($V67>19.1,IF($V67<22.2,IF($AN$54<Y$18+$AN$51,IF(Y$45+$AL$51*EXP((-1*($V67-(Y$18+$AN$51))^2)/(2*((25.5/(ABS(6.5-Y$19)+20))*$AP$51)^2))/((25.5/(ABS(6.5-Y$19)+20))*$AP$51*SQRT(2*PI()))<0.04+$AL$54*EXP((-1*($V67-($AN$54))^2)/(2*($AP$54)^2))/($AP$54*SQRT(2*PI())),Y$45+$AL$51*EXP((-1*($V67-(Y$18+$AN$51))^2)/(2*((25.5/(ABS(6.5-Y$19)+20))*$AP$51)^2))/((25.5/(ABS(6.5-Y$19)+20))*$AP$51*SQRT(2*PI())),0.04+$AL$54*EXP((-1*($V67-($AN$54))^2)/(2*($AP$54)^2))/($AP$54*SQRT(2*PI()))),IF(0.04+$AL$54*EXP((-1*($V67-($AN$54))^2)/(2*(($AP$54)^2)))/($AP$54*SQRT(2*PI()))<Y$45+$AL$51*EXP((-1*($V67-(Y$18+$AN$51))^2)/(2*((25.5/(ABS(6.5-Y$19)+20))*$AP$51)^2))/((25.5/(ABS(6.5-Y$19)+20))*$AP$51*SQRT(2*PI())),Y$45+$AL$51*EXP((-1*($V67-(Y$18+$AN$51))^2)/(2*((25.5/(ABS(6.5-Y$19)+20))*$AP$51)^2))/((25.5/(ABS(6.5-Y$19)+20))*$AP$51*SQRT(2*PI())),0.04+$AL$54*EXP((-1*($V67-($AN$54))^2)/(2*($AP$54)^2))/($AP$54*SQRT(2*PI())))),0.04+$AL$54*EXP((-1*($V67-($AN$54))^2)/(2*($AP$54)^2))/($AP$54*SQRT(2*PI()))),Y$45+$AL$51*EXP((-1*($V67-(Y$18+$AN$51))^2)/(2*((25.5/(ABS(6.5-Y$19)+20))*$AP$51)^2))/((25.5/(ABS(6.5-Y$19)+20))*$AP$51*SQRT(2*PI())))","v":0.11037346318242089},0.11037346318242089,6.489208161312901E-2,{"$error":"#DIV/0!"}]
[null,null,null,null,null,null,null,null,null,null,null,null,null,null,null,null,null,null,null,166,-0.99552137241447525,null,null,24,9.1019094544443471E-2,{"$f":"IF($V68>19.1,IF($V68<22.2,IF($AN$54<Y$18+$AN$51,IF(Y$45+$AL$51*EXP((-1*($V68-(Y$18+$AN$51))^2)/(2*((25.5/(ABS(6.5-Y$19)+20))*$AP$51)^2))/((25.5/(ABS(6.5-Y$19)+20))*$AP$51*SQRT(2*PI()))<0.04+$AL$54*EXP((-1*($V68-($AN$54))^2)/(2*($AP$54)^2))/($AP$54*SQRT(2*PI())),Y$45+$AL$51*EXP((-1*($V68-(Y$18+$AN$51))^2)/(2*((25.5/(ABS(6.5-Y$19)+20))*$AP$51)^2))/((25.5/(ABS(6.5-Y$19)+20))*$AP$51*SQRT(2*PI())),0.04+$AL$54*EXP((-1*($V68-($AN$54))^2)/(2*($AP$54)^2))/($AP$54*SQRT(2*PI()))),IF(0.04+$AL$54*EXP((-1*($V68-($AN$54))^2)/(2*(($AP$54)^2)))/($AP$54*SQRT(2*PI()))<Y$45+$AL$51*EXP((-1*($V68-(Y$18+$AN$51))^2)/(2*((25.5/(ABS(6.5-Y$19)+20))*$AP$51)^2))/((25.5/(ABS(6.5-Y$19)+20))*$AP$51*SQRT(2*PI())),Y$45+$AL$51*EXP((-1*($V68-(Y$18+$AN$51))^2)/(2*((25.5/(ABS(6.5-Y$19)+20))*$AP$51)^2))/((25.5/(ABS(6.5-Y$19)+20))*$AP$51*SQRT(2*PI())),0.04+$AL$54*EXP((-1*($V68-($AN$54))^2)/(2*($AP$54)^2))/($AP$54*SQRT(2*PI())))),0.04+$AL$54*EXP((-1*($V68-($AN$54))^2)/(2*($AP$54)^2))/($AP$54*SQRT(2*PI()))),Y$45+$AL$51*EXP((-1*($V68-(Y$18+$AN$51))^2)/(2*((25.5/(ABS(6.5-Y$19)+20))*$AP$51)^2))/((25.5/(ABS(6.5-Y$19)+20))*$AP$51*SQRT(2*PI())))","v":9.1019094544443471E-2},9.1019094544443471E-2,{"$f":"Y$45+$AL$51*EXP((-1*($V68-(Y$18+$AN$51))^2)/(2*((25.5/(ABS(6.5-Y$19)+20))*$AP$51)^2))/((25.5/(ABS(6.5-Y$19)+20))*$AP$51*SQRT(2*PI()))","v":4.5769710820516327E-2},{"$error":"#DIV/0!"}]
[null,null,null,null,null,null,null,null,null,null,null,null,null,null,null,null,null,null,null,167,-0.99700116992501508,null,null,"Total (kWh/day)",{"$f":"Y69","v":1.6005400399555878},{"$f":"Z69","v":1.3119373410225528}]
[null,null,null,null,null,null,null,null,null,null,null,null,null,null,null,null,null,null,null,168,-0.99818553447185865]
[null,null,null,null,null,null,null,null,null,null,null,null,null,null,null,null,null,null,null,169,-0.99907411510222999]
[null,null,null,null,null,null,null,null,null,null,null,null,null,null,null,null,null,null,null,170,-0.99966664851051124]
[null,null,null,null,null,null,null,null,null,null,null,null,null,null,null,null,null,null,null,171,-0.99996295911626554]
[null,null,null,null,null,null,null,null,null,null,null,null,null,null,null,null,null,null,null,172,-0.99996295911626554]
[null,null,null,null,null,null,null,null,null,null,null,null,null,null,null,null,null,null,null,173,-0.99966664851051124]
[null,null,null,null,null,null,null,null,null,null,null,null,null,null,null,null,null,null,null,174,-0.99907411510222999]
[null,null,null,null,null,null,null,null,null,null,null,null,null,null,null,null,null,null,null,175,-0.99818553447185865]
[null,null,null,null,null,null,null,null,null,null,null,null,null,null,null,null,null,null,null,176,-0.99700116992501508]
[null,null,null,null,null,null,null,null,null,null,null,null,null,null,null,null,null,null,null,177,-0.99552137241447525]
[null,null,null,null,null,null,null,null,null,null,null,null,null,null,null,null,null,null,null,178,-0.99374658043617814]
[null,null,null,null,null,null,null,null,null,null,null,null,null,null,null,null,null,null,null,179,-0.99167731989929009]
[null,null,null,null,null,null,null,null,null,null,null,null,null,null,null,null,null,null,null,180,-0.9893142039703664]
[null,null,null,null,null,null,null,null,null,null,null,null,null,null,null,null,null,null,null,181,-0.98665793289165715]
[null,null,null,null,null,null,null,null,null,null,null,null,null,null,null,null,null,null,null,182,-0.98370929377360972]
[null,null,null,null,null,null,null,null,null,null,null,null,null,null,null,null,null,null,null,183,-0.98046916036163212]
[null,null,null,null,null,null,null,null,null,null,null,null,null,null,null,null,null,null,null,184,-0.97693849277718159]
[null,null,null,null,null,null,null,null,null,null,null,null,null,null,null,null,null,null,null,185,-0.97311833723326202]
[null,null,null,null,null,null,null,null,null,null,null,null,null,null,null,null,null,null,null,186,-0.96900982572440619]
[null,null,null,null,null,null,null,null,null,null,null,null,null,null,null,null,null,null,null,187,-0.96461417569124364]
[null,null,null,null,null,null,null,null,null,null,null,null,null,null,null,null,null,null,null,188,-0.95993268965974454]
[null,null,null,null,null,null,null,null,null,null,null,null,null,null,null,null,null,null,null,189,-0.9549667548552554]
[null,null,null,null,null,null,null,null,null,null,null,null,null,null,null,null,null,null,null,190,-0.9497178427914319]
[null,null,null,null,null,null,null,null,null,null,null,null,null,null,null,null,null,null,null,191,-0.94418750883419966]
[null,null,null,null,null,null,null,null,null,null,null,null,null,null,null,null,null,null,null,192,-0.9383773917408641]
[null,null,null,null,null,null,null,null,null,null,null,null,null,null,null,null,null,null,null,193,-0.93228921317451341]
[null,null,null,null,null,null,null,null,null,null,null,null,null,null,null,null,null,null,null,194,{"$f":"SIN((T198+365/4+11)/365*2*PI())","v":-0.9259247771938498}]
[null,null,null,null,null,null,null,null,null,null,null,null,null,null,null,null,null,null,null,195,-0.91928596971861054]
[null,null,null,null,null,null,null,null,null,null,null,null,null,null,null,null,null,null,null,196,-0.91237475797072731]
[null,null,null,null,null,null,null,null,null,null,null,null,null,null,null,null,null,null,null,197,-0.90519318989139774]
[null,null,null,null,null,null,null,null,null,null,null,null,null,null,null,null,null,null,null,198,-0.89774339353423382]
[null,null,null,null,null,null,null,null,null,null,null,null,null,null,null,null,null,null,null,199,-0.890027576434677]
[null,null,null,null,null,null,null,null,null,null,null,null,null,null,null,null,null,null,null,200,-0.88204802495585388]
[null,null,null,null,null,null,null,null,null,null,null,null,null,null,null,null,null,null,null,201,-0.87380710361108127]
[null,null,null,null,null,null,null,null,null,null,null,null,null,null,null,null,null,null,null,202,-0.86530725436320599]
[null,null,null,null,null,null,null,null,null,null,null,null,null,null,null,null,null,null,null,203,-0.8565509959010037]
[null,null,null,null,null,null,null,null,null,null,null,null,null,null,null,null,null,null,null,204,-0.84754092289283101]
[null,null,null,null,null,null,null,null,null,null,null,null,null,null,null,null,null,null,null,205,-0.83827970521777451]
[null,null,null,null,null,null,null,null,null,null,null,null,null,null,null,null,null,null,null,206,-0.82877008717450373]
[null,null,null,null,null,null,null,null,null,null,null,null,null,null,null,null,null,null,null,207,-0.8190148866680802]
[null,null,null,null,null,null,null,null,null,null,null,null,null,null,null,null,null,null,null,208,-0.80901699437494756]
[null,null,null,null,null,null,null,null,null,null,null,null,null,null,null,null,null,null,null,209,-0.79877937288636536]
[null,null,null,null,null,null,null,null,null,null,null,null,null,null,null,null,null,null,null,210,-0.78830505583052568]
[null,null,null,null,null,null,null,null,null,null,null,null,null,null,null,null,null,null,null,211,-0.77759714697362692]
[null,null,null,null,null,null,null,null,null,null,null,null,null,null,null,null,null,null,null,212,-0.76665881930015889]
[null,null,null,null,null,null,null,null,null,null,null,null,null,null,null,null,null,null,null,213,-0.7554933140726805]
[null,null,null,null,null,null,null,null,null,null,null,null,null,null,null,null,null,null,null,214,-0.74410393987136059]
[null,null,null,null,null,null,null,null,null,null,null,null,null,null,null,null,null,null,null,215,-0.73249407161357916]
[null,null,null,null,null,null,null,null,null,null,null,null,null,null,null,null,null,null,null,216,-0.72066714955386113]
[null,null,null,null,null,null,null,null,null,null,null,null,null,null,null,null,null,null,null,217,-0.70862667826446013]
[null,null,null,null,null,null,null,null,null,null,null,null,null,null,null,null,null,null,null,218,-0.6963762255968724]
[null,null,null,null,null,null,null,null,null,null,null,null,null,null,null,null,null,null,null,219,-0.68391942162461117]
[null,null,null,null,null,null,null,null,null,null,null,null,null,null,null,null,null,null,null,220,-0.67125995756753187]
[null,null,null,null,null,null,null,null,null,null,null,null,null,null,null,null,null,null,null,221,-0.65840158469804899]
[null,null,null,null,null,null,null,null,null,null,null,null,null,null,null,null,null,null,null,222,-0.64534811322954999]
[null,null,null,null,null,null,null,null,null,null,null,null,null,null,null,null,null,null,null,223,-0.63210341118734892]
[null,null,null,null,null,null,null,null,null,null,null,null,null,null,null,null,null,null,null,224,-0.61867140326250336]
[null,null,null,null,null,null,null,null,null,null,null,null,null,null,null,null,null,null,null,225,-0.60505606964884939]
[null,null,null,null,null,null,null,null,null,null,null,null,null,null,null,null,null,null,null,226,-0.59126144486357834]
[null,null,null,null,null,null,null,null,null,null,null,null,null,null,null,null,null,null,null,227,-0.57729161655172789]
[null,null,null,null,null,null,null,null,null,null,null,null,null,null,null,null,null,null,null,228,-0.56315072427491886]
[null,null,null,null,null,null,null,null,null,null,null,null,null,null,null,null,null,null,null,229,-0.54884295828471996]
[null,null,null,null,null,null,null,null,null,null,null,null,null,null,null,null,null,null,null,230,-0.53437255828097929]
[null,null,null,null,null,null,null,null,null,null,null,null,null,null,null,null,null,null,null,231,-0.51974381215551568]
[null,null,null,null,null,null,null,null,null,null,null,null,null,null,null,null,null,null,null,232,-0.5049610547215202]
[null,null,null,null,null,null,null,null,null,null,null,null,null,null,null,null,null,null,null,233,-0.49002866642905946]
[null,null,null,null,null,null,null,null,null,null,null,null,null,null,null,null,null,null,null,234,-0.47495107206705023]
[null,null,null,null,null,null,null,null,null,null,null,null,null,null,null,null,null,null,null,235,-0.45973273945210463]
[null,null,null,null,null,null,null,null,null,null,null,null,null,null,null,null,null,null,null,236,-0.44437817810461344]
[null,null,null,null,null,null,null,null,null,null,null,null,null,null,null,null,null,null,null,237,-0.42889193791248414]
[null,null,null,null,null,null,null,null,null,null,null,null,null,null,null,null,null,null,null,238,-0.41327860778290448]
[null,null,null,null,null,null,null,null,null,null,null,null,null,null,null,null,null,null,null,239,-0.39754281428255667]
[null,null,null,null,null,null,null,null,null,null,null,null,null,null,null,null,null,null,null,240,-0.38168922026665947]
[null,null,null,null,null,null,null,null,null,null,null,null,null,null,null,null,null,null,null,241,-0.36572252349726925]
[null,null,null,null,null,null,null,null,null,null,null,null,null,null,null,null,null,null,null,242,-0.34964745525122831]
[null,null,null,null,null,null,null,null,null,null,null,null,null,null,null,null,null,null,null,243,-0.33346877891818716]
[null,null,null,null,null,null,null,null,null,null,null,null,null,null,null,null,null,null,null,244,-0.317191288589106]
[null,null,null,null,null,null,null,null,null,null,null,null,null,null,null,null,null,null,null,245,-0.30081980763566807]
[null,null,null,null,null,null,null,null,null,null,null,null,null,null,null,null,null,null,null,246,-0.28435918728100368]
[null,null,null,null,null,null,null,null,null,null,null,null,null,null,null,null,null,null,null,247,-0.26781430516217491]
[null,null,null,null,null,null,null,null,null,null,null,null,null,null,null,null,null,null,null,248,-0.25119006388481963]
[null,null,null,null,null,null,null,null,null,null,null,null,null,null,null,null,null,null,null,249,-0.23449138957041057]
[null,null,null,null,null,null,null,null,null,null,null,null,null,null,null,null,null,null,null,250,-0.2177232303965323]
[null,null,null,null,null,null,null,null,null,null,null,null,null,null,null,null,null,null,null,251,-0.20089055513063533]
[null,null,null,null,null,null,null,null,null,null,null,null,null,null,null,null,null,null,null,252,-0.18399835165767991]
[null,null,null,null,null,null,null,null,null,null,null,null,null,null,null,null,null,null,null,253,-0.16705162550211955]
[null,null,null,null,null,null,null,null,null,null,null,null,null,null,null,null,null,null,null,254,-0.15005539834465267]
[null,null,null,null,null,null,null,null,null,null,null,null,null,null,null,null,null,null,null,255,-0.13301470653419642]
[null,null,null,null,null,null,null,null,null,null,null,null,null,null,null,null,null,null,null,256,-0.11593459959550072]
[null,null,null,null,null,null,null,null,null,null,null,null,null,null,null,null,null,null,null,257,-9.8820138732872181E-2]
[null,null,null,null,null,null,null,null,null,null,null,null,null,null,null,null,null,null,null,258,{"$f":"SIN((T262+365/4+11)/365*2*PI())","v":-8.1676395330422938E-2}]
[null,null,null,null,null,null,null,null,null,null,null,null,null,null,null,null,null,null,null,259,-6.4508449449317204E-2]
[null,null,null,null,null,null,null,null,null,null,null,null,null,null,null,null,null,null,null,260,-4.7321388322432378E-2]
[null,null,null,null,null,null,null,null,null,null,null,null,null,null,null,null,null,null,null,261,-3.0120304846908422E-2]
[null,null,null,null,null,null,null,null,null,null,null,null,null,null,null,null,null,null,null,262,-1.2910296075008904E-2]
[null,null,null,null,null,null,null,null,null,null,null,null,null,null,null,null,null,null,null,263,4.3035382962437595E-3]
[null,null,null,null,null,null,null,null,null,null,null,null,null,null,null,null,null,null,null,264,2.1516097436221283E-2]
[null,null,null,null,null,null,null,null,null,null,null,null,null,null,null,null,null,null,null,265,3.872228089217393E-2]
[null,null,null,null,null,null,null,null,null,null,null,null,null,null,null,null,null,null,null,266,5.5916990100603844E-2]
[null,null,null,null,null,null,null,null,null,null,null,null,null,null,null,null,null,null,null,267,7.3095129898076802E-2]
[null,null,null,null,null,null,null,null,null,null,null,null,null,null,null,null,null,null,null,268,9.0251610031041526E-2]
[null,null,null,null,null,null,null,null,null,null,null,null,null,null,null,null,null,null,null,269,0.10738134666416212]
[null,null,null,null,null,null,null,null,null,null,null,null,null,null,null,null,null,null,null,270,0.12447926388678951]
[null,null,null,null,null,null,null,null,null,null,null,null,null,null,null,null,null,null,null,271,0.14154029521704292]
[null,null,null,null,null,null,null,null,null,null,null,null,null,null,null,null,null,null,null,272,0.15855938510313469]
[null,null,null,null,null,null,null,null,null,null,null,null,null,null,null,null,null,null,null,273,0.17553149042142768]
[null,null,null,null,null,null,null,null,null,null,null,null,null,null,null,null,null,null,null,274,0.1924515819708299]
[null,null,null,null,null,null,null,null,null,null,null,null,null,null,null,null,null,null,null,275,0.20931464596304794]
[null,null,null,null,null,null,null,null,null,null,null,null,null,null,null,null,null,null,null,276,0.22611568550828798]
[null,null,null,null,null,null,null,null,null,null,null,null,null,null,null,null,null,null,null,277,0.24284972209593575]
[null,null,null,null,null,null,null,null,null,null,null,null,null,null,null,null,null,null,null,278,0.25951179706979938]
[null,null,null,null,null,null,null,null,null,null,null,null,null,null,null,null,null,null,null,279,0.27609697309746878]
[null,null,null,null,null,null,null,null,null,null,null,null,null,null,null,null,null,null,null,280,0.29260033563334786]
[null,null,null,null,null,null,null,null,null,null,null,null,null,null,null,null,null,null,null,281,0.30901699437494717]
[null,null,null,null,null,null,null,null,null,null,null,null,null,null,null,null,null,null,null,282,0.32534208471197945]
[null,null,null,null,null,null,null,null,null,null,null,null,null,null,null,null,null,null,null,283,0.34157076916785512]
[null,null,null,null,null,null,null,null,null,null,null,null,null,null,null,null,null,null,null,284,0.35769823883312457]
[null,null,null,null,null,null,null,null,null,null,null,null,null,null,null,null,null,null,null,285,0.37371971479046834]
[null,null,null,null,null,null,null,null,null,null,null,null,null,null,null,null,null,null,null,286,0.38963044953078851]
[null,null,null,null,null,null,null,null,null,null,null,null,null,null,null,null,null,null,null,287,0.40542572835999646]
[null,null,null,null,null,null,null,null,null,null,null,null,null,null,null,null,null,null,null,288,0.42110087079608993]
[null,null,null,null,null,null,null,null,null,null,null,null,null,null,null,null,null,null,null,289,0.43665123195606298]
[null,null,null,null,null,null,null,null,null,null,null,null,null,null,null,null,null,null,null,290,0.45207220393230446]
[null,null,null,null,null,null,null,null,null,null,null,null,null,null,null,null,null,null,null,291,0.46735921715800199]
[null,null,null,null,null,null,null,null,null,null,null,null,null,null,null,null,null,null,null,292,0.48250774176121836]
[null,null,null,null,null,null,null,null,null,null,null,null,null,null,null,null,null,null,null,293,0.49751328890718022]
[null,null,null,null,null,null,null,null,null,null,null,null,null,null,null,null,null,null,null,294,0.51237141212842341]
[null,null,null,null,null,null,null,null,null,null,null,null,null,null,null,null,null,null,null,295,0.52707770864237236]
[null,null,null,null,null,null,null,null,null,null,null,null,null,null,null,null,null,null,null,296,0.54162782065598114]
[null,null,null,null,null,null,null,null,null,null,null,null,null,null,null,null,null,null,null,297,0.55601743665704451]
[null,null,null,null,null,null,null,null,null,null,null,null,null,null,null,null,null,null,null,298,0.57024229269178661]
[null,null,null,null,null,null,null,null,null,null,null,null,null,null,null,null,null,null,null,299,0.58429817362836833]
[null,null,null,null,null,null,null,null,null,null,null,null,null,null,null,null,null,null,null,300,0.59818091440591581]
[null,null,null,null,null,null,null,null,null,null,null,null,null,null,null,null,null,null,null,301,0.61188640126872407]
[null,null,null,null,null,null,null,null,null,null,null,null,null,null,null,null,null,null,null,302,0.62541057298524561]
[null,null,null,null,null,null,null,null,null,null,null,null,null,null,null,null,null,null,null,303,0.63874942205152674]
[null,null,null,null,null,null,null,null,null,null,null,null,null,null,null,null,null,null,null,304,0.6518989958787117]
[null,null,null,null,null,null,null,null,null,null,null,null,null,null,null,null,null,null,null,305,0.66485539796428594]
[null,null,null,null,null,null,null,null,null,null,null,null,null,null,null,null,null,null,null,306,0.67761478904668937]
[null,null,null,null,null,null,null,null,null,null,null,null,null,null,null,null,null,null,null,307,0.69017338824297136]
[null,null,null,null,null,null,null,null,null,null,null,null,null,null,null,null,null,null,null,308,0.70252747416915717]
[null,null,null,null,null,null,null,null,null,null,null,null,null,null,null,null,null,null,null,309,0.71467338604296082]
[null,null,null,null,null,null,null,null,null,null,null,null,null,null,null,null,null,null,null,310,0.72660752476856572]
[null,null,null,null,null,null,null,null,null,null,null,null,null,null,null,null,null,null,null,311,0.7383263540031062]
[null,null,null,null,null,null,null,null,null,null,null,null,null,null,null,null,null,null,null,312,0.74982640120456856]
[null,null,null,null,null,null,null,null,null,null,null,null,null,null,null,null,null,null,null,313,0.76110425866077425]
[null,null,null,null,null,null,null,null,null,null,null,null,null,null,null,null,null,null,null,314,0.77215658449916413]
[null,null,null,null,null,null,null,null,null,null,null,null,null,null,null,null,null,null,null,315,0.78298010367706294]
[null,null,null,null,null,null,null,null,null,null,null,null,null,null,null,null,null,null,null,316,0.79357160895214718]
[null,null,null,null,null,null,null,null,null,null,null,null,null,null,null,null,null,null,null,317,0.80392796183282134]
[null,null,null,null,null,null,null,null,null,null,null,null,null,null,null,null,null,null,null,318,0.81404609350821744]
[null,null,null,null,null,null,null,null,null,null,null,null,null,null,null,null,null,null,null,319,0.82392300575755406]
[null,null,null,null,null,null,null,null,null,null,null,null,null,null,null,null,null,null,null,320,0.83355577183856944]
[null,null,null,null,null,null,null,null,null,null,null,null,null,null,null,null,null,null,null,321,0.84294153735478261]
[null,null,null,null,null,null,null,null,null,null,null,null,null,null,null,null,null,null,null,322,{"$f":"SIN((T326+365/4+11)/365*2*PI())","v":0.85207752110130874}]
[null,null,null,null,null,null,null,null,null,null,null,null,null,null,null,null,null,null,null,323,0.8609610158889941]
[null,null,null,null,null,null,null,null,null,null,null,null,null,null,null,null,null,null,null,324,0.86958938934661045]
[null,null,null,null,null,null,null,null,null,null,null,null,null,null,null,null,null,null,null,325,0.87796008470088782]
[null,null,null,null,null,null,null,null,null,null,null,null,null,null,null,null,null,null,null,326,0.88607062153413818]
[null,null,null,null,null,null,null,null,null,null,null,null,null,null,null,null,null,null,null,327,0.89391859651925698]
[null,null,null,null,null,null,null,null,null,null,null,null,null,null,null,null,null,null,null,328,0.90150168413188414]
[null,null,null,null,null,null,null,null,null,null,null,null,null,null,null,null,null,null,null,329,0.90881763733950283]
[null,null,null,null,null,null,null,null,null,null,null,null,null,null,null,null,null,null,null,330,0.91586428826728716]
[null,null,null,null,null,null,null,null,null,null,null,null,null,null,null,null,null,null,null,331,0.92263954884048738]
[null,null,null,null,null,null,null,null,null,null,null,null,null,null,null,null,null,null,null,332,0.9291414114031743]
[null,null,null,null,null,null,null,null,null,null,null,null,null,null,null,null,null,null,null,333,0.93536794931314804]
[null,null,null,null,null,null,null,null,null,null,null,null,null,null,null,null,null,null,null,334,0.94131731751284697]
[null,null,null,null,null,null,null,null,null,null,null,null,null,null,null,null,null,null,null,335,0.9469877530760753]
[null,null,null,null,null,null,null,null,null,null,null,null,null,null,null,null,null,null,null,336,0.95237757573039727]
[null,null,null,null,null,null,null,null,null,null,null,null,null,null,null,null,null,null,null,337,0.95748518835503915]
[null,null,null,null,null,null,null,null,null,null,null,null,null,null,null,null,null,null,null,338,0.96230907745414851]
[null,null,null,null,null,null,null,null,null,null,null,null,null,null,null,null,null,null,null,339,0.9668478136052775]
[null,null,null,null,null,null,null,null,null,null,null,null,null,null,null,null,null,null,null,340,0.97110005188295023]
[null,null,null,null,null,null,null,null,null,null,null,null,null,null,null,null,null,null,null,341,0.97506453225719469]
[null,null,null,null,null,null,null,null,null,null,null,null,null,null,null,null,null,null,null,342,0.97874007996691503]
[null,null,null,null,null,null,null,null,null,null,null,null,null,null,null,null,null,null,null,343,0.98212560586800046]
[null,null,null,null,null,null,null,null,null,null,null,null,null,null,null,null,null,null,null,344,0.98522010675606042]
[null,null,null,null,null,null,null,null,null,null,null,null,null,null,null,null,null,null,null,345,0.98802266566369756]
[null,null,null,null,null,null,null,null,null,null,null,null,null,null,null,null,null,null,null,346,0.99053245213222285]
[null,null,null,null,null,null,null,null,null,null,null,null,null,null,null,null,null,null,null,347,0.99274872245774015]
[null,null,null,null,null,null,null,null,null,null,null,null,null,null,null,null,null,null,null,348,0.99467081991152106]
[null,null,null,null,null,null,null,null,null,null,null,null,null,null,null,null,null,null,null,349,0.99629817493460771]
[null,null,null,null,null,null,null,null,null,null,null,null,null,null,null,null,null,null,null,350,0.9976303053065857]
[null,null,null,null,null,null,null,null,null,null,null,null,null,null,null,null,null,null,null,351,0.99866681628847587]
[null,null,null,null,null,null,null,null,null,null,null,null,null,null,null,null,null,null,null,352,0.9994074007397048]
[null,null,null,null,null,null,null,null,null,null,null,null,null,null,null,null,null,null,null,353,0.99985183920911624]
[null,null,null,null,null,null,null,null,null,null,null,null,null,null,null,null,null,null,null,354,1]
[null,null,null,null,null,null,null,null,null,null,null,null,null,null,null,null,null,null,null,355,0.99985183920911624]
[null,null,null,null,null,null,null,null,null,null,null,null,null,null,null,null,null,null,null,356,0.9994074007397048]
[null,null,null,null,null,null,null,null,null,null,null,null,null,null,null,null,null,null,null,357,0.99866681628847598]
[null,null,null,null,null,null,null,null,null,null,null,null,null,null,null,null,null,null,null,358,0.99763030530658581]
[null,null,null,null,null,null,null,null,null,null,null,null,null,null,null,null,null,null,null,359,0.99629817493460782]
[null,null,null,null,null,null,null,null,null,null,null,null,null,null,null,null,null,null,null,360,0.99467081991152118]
[null,null,null,null,null,null,null,null,null,null,null,null,null,null,null,null,null,null,null,361,0.99274872245774026]
[null,null,null,null,null,null,null,null,null,null,null,null,null,null,null,null,null,null,null,362,0.99053245213222296]
[null,null,null,null,null,null,null,null,null,null,null,null,null,null,null,null,null,null,null,363,0.98802266566369756]
[null,null,null,null,null,null,null,null,null,null,null,null,null,null,null,null,null,null,null,364,0.98522010675606075]
[null,null,null,null,null,null,null,null,null,null,null,null,null,null,null,null,null,null,null,365,0.98212560586800068]

{"sheet":"Sunrise Calc","index":10,"n_rows":688,"n_cols":21,"rows_kept":688,"cut":false,"hidden":true,"merged":[]}
["WBAN#",{"$f":"NewConst!E7","v":"Denver Intl Ap, CO"},null,null,"Month","Sunset","Sunrise","WBAN#","City","State/Province","City/State","Country","Latitude (N+/S-)","Longitude (E+/W-)","TimeZone (GMT+/-)","Elevation {m}",null,null,null,"State/Province","City/State"]
["Latitude",{"$f":"Locations!G2","v":39.83},"deg",null,1,{"$f":"IF(OR(E2<4,E2>10),SunsetLocalTime(E2*30-15,B$2,B$3,B$5),SunsetLocalTime(E2*30-15,B$2,B$3,B$5)+1)","v":16.857544678185238},{"$f":"IF(OR(E2<4,E2>10),SunriseLocalTime(E2*30-15,B$2,B$3,B$5),SunriseLocalTime(E2*30-15,B$2,B$3,B$5)+1)","v":7.3836552964700273},24288,"Abbotsford","BC",{"$f":"CONCATENATE(I2,\", \",J2)","v":"Abbotsford, BC"},"CAN",49.03,-122.37,-8,58,null,null,null,"AK","Adak NAS, AK"]
["Longitude",{"$f":"-Locations!F2","v":104.65},"deg",null,2,{"$f":"IF(OR(E3<4,E3>10),SunsetLocalTime(E3*30-15,B$2,B$3,B$5),SunsetLocalTime(E3*30-15,B$2,B$3,B$5)+1)","v":17.437241741007117},{"$f":"IF(OR(E3<4,E3>10),SunriseLocalTime(E3*30-15,B$2,B$3,B$5),SunriseLocalTime(E3*30-15,B$2,B$3,B$5)+1)","v":6.9917731953053037},13962,"Abilene","TX","Abilene, TX","USA",32.42,-99.68,-6,546,null,null,null,"AK","Anchorage/Elmendorf AFB, AK"]
["Time Zone",{"$f":"Locations!H2","v":-7},null,null,3,17.998079287185259,6.2671876260428778,25704,"Adak NAS","AK","Adak NAS, AK","USA",51.88,-176.65,-10,5,null,null,null,"AK","Anchorage/Fort Richardson, AK"]
["Standard Longitude",{"$f":"IF(B4=-5,75,IF(B4=-6,90,IF(B4=-7,105,IF(B4=-8,120,IF(B4=-9,135,IF(B4=-10,150,IF(B4=0,0,\"error\")))))))","v":105},"deg",null,4,19.510561799828615,6.4506554332670714,14895,"Akron/Canton","OH","Akron/Canton, OH","USA",40.92,-81.430000000000007,-5,377,null,null,null,"AK","Anchorage/Int'l Airport, AK"]
["Julian Day (day of year)",15,null,null,5,20.010180572514365,5.8118788368786358,null,"Alameda/NAS","CA","Alameda/NAS, CA","USA",37.78,-122.32,-8,4,null,null,null,"AK","Annette, AK"]
["Sunrise (Local Std Time)",{"$f":"SunriseLocalTime(B6,B2,B3,B5)","v":7.3836552964700273},"hours",null,6,20.374629931868736,5.5723871601683106,74732,"Alamogordo/Holloman AFB","NM","Alamogordo/Holloman AFB, NM","USA",32.85,-106.1,-7,1248,null,null,null,"AK","Barrow, AK"]
["Sunset (Local Std Time)",{"$f":"SunsetLocalTime(B6,B2,B3,B5)","v":16.857544678185238},"hours",null,7,20.361643541494157,5.7804497233468162,23061,"Alamosa","CO","Alamosa, CO","USA",37.450000000000003,-105.87,-7,2299,null,null,null,"AK","Bethel, AK"]
[null,null,null,null,8,19.890155264174677,6.237924799934734,null,"Albany","GA","Albany, GA","USA",31.53,-84.18,-5,59,null,null,null,"AK","Bettles, AK"]
["Altitude",1.6339999999999999,"km",null,9,19.108462689420406,6.7275971166147936,14735,"Albany","NY","Albany, NY","USA",42.75,-73.8,-5,89,null,null,null,"AK","Big Delta/Ft Greely, AK"]
["Time",12,"hrs",null,10,18.27174714218971,7.2244097492547761,23050,"Albuquerque","NM","Albuquerque, NM","USA",35.049999999999997,-106.62,-7,1620,null,null,null,"AK","Cold Bay, AK"]
["Year",2007,null,null,11,16.654504851910414,6.7728620705623177,null,"Alexandria","MN","Alexandria, MN","USA",45.87,-95.4,-6,434,null,null,null,"AK","Cordova, AK"]
["Surface Angle",90,"deg from horizontal",null,12,16.474106943976963,7.2556071483876323,62318,"Alexandria/England AFB","LA","Alexandria/England AFB, LA","USA",31.33,-92.55,-6,27,null,null,null,"AK","Deadhorse, AK"]
["Surface Azimuth",0,"deg (-90=East, 0=South, 90=West)",null,null,null,null,14737,"Allentown","PA","Allentown, PA","USA",40.65,-75.430000000000007,-5,117,null,null,null,"AK","Dillingham, AK"]
["Ground Reflectance",0.2,null,null,null,null,null,94849,"Alpena","MI","Alpena, MI","USA",45.07,-83.57,-5,211,null,null,null,"AK","Fairbanks/Eielson AFB, AK"]
[null,null,null,null,"London Reference Data for N Alaska",null,null,null,"Altoona","PA","Altoona, PA","USA",40.299999999999997,-78.319999999999993,-5,458,null,null,null,"AK","Fairbanks/Int'l Airport, AK"]
["Incidence angle on horizontal",{"$f":"IncidenceAngleFixedSurface2(B2,B3,B5,B6,B11,0,B14)","v":61.122891986056565},"deg",null,"Month","Sunset","Sunrise",null,"Altus/AFB","OK","Altus/AFB, OK","USA",34.67,-99.27,-6,420,null,null,null,"AK","Galena, AK"]
["Incidence angle on surface",{"$f":"IncidenceAngleFixedSurface2(B2,B3,B5,B6,B11,B13,B14)","v":28.935695675711369},"deg",null,1,16.222140577365561,8.1257260639563729,23047,"Amarillo","TX","Amarillo, TX","USA",35.229999999999997,-101.7,-6,1099,null,null,null,"AK","Gulkana, AK"]
["Solar Zenith Angle",{"$f":"SolarZenith2(B2,B3,B5,B6,B11)","v":61.122891802417634},"deg",null,2,17.086423530496358,7.4492580724827304,26401,"Anchorage/Elmendorf AFB","AK","Anchorage/Elmendorf AFB, AK","USA",61.25,-149.80000000000001,-9,65,null,null,null,"AK","Homer, AK"]
["Extraterrestrial Horizontal",{"$f":"HorizExterrRad2(B6,B2,B3,B5,B11)","v":681.23233894457871},"W/m2",null,3,17.983244927298557,6.3886886525962439,null,"Anchorage/Fort Richardson","AK","Anchorage/Fort Richardson, AK","USA",61.27,-149.65,-9,115,null,null,null,"AK","Juneau, AK"]
["Clear-Day Horizontal Beam",{"$f":"EstimatedClearSkyHorizontalBeam(B10,0,B6,B2,B3,B5,B11)","v":433.96592276158123},"W/m2",null,4,19.835478642321458,6.2324052574408935,26451,"Anchorage/Int'l Airport","AK","Anchorage/Int'l Airport, AK","USA",61.17,-150.02000000000001,-9,40,null,null,null,"AK","Kenai, AK"]
["Clear-Day Horizontal Diffuse",{"$f":"EstimatedClearSkyHorizontalDiffuse(B10,0,B6,B2,B3,B5,B11)","v":57.027982562075969},"W/m2",null,5,20.651496716491014,5.2772293595686541,25308,"Annette","AK","Annette, AK","USA",55.03,-131.57,-9,34,null,null,null,"AK","Ketchikan, AK"]
["Clear-Day Global Horizontal",{"$f":"B21+B22","v":490.9939053236572},"W/m2",null,6,21.206629918943367,4.8470538397603455,null,"Anniston","AL","Anniston, AL","USA",33.58,-85.85,-6,186,null,null,null,"AK","King Salmon, AK"]
["Global Radiation on Surface",{"$f":"GlobalRadiationOnSurfaceHayAndDavies(B21,B22,B20,B18,B19,B13,B15)","v":911.68518670535866},"W/m2",null,7,21.121247769901593,5.1275121616060488,12832,"Apalachicola","FL","Apalachicola, FL","USA",29.73,-85.03,-5,6,null,null,null,"AK","King Salmon, AK"]
[null,null,null,null,8,20.374582742285835,5.8601639884902452,24283,"Arcata/Eureka","CA","Arcata/Eureka, CA","USA",40.98,-124.1,-8,66,null,null,null,"AK","Kodiak/State USCG Base, AK"]
[null,null,null,null,9,19.258347568460074,6.6843789042417905,99908,"Armstrong","ON","Armstrong, ON","CAN",50.3,-89.03,-5,351,null,null,null,"AK","Kotzebue, AK"]
[null,null,null,null,10,18.081556147150756,7.521267410960399,"CAN08","Armstrong","ON","Armstrong, ON","CAN",50.3,-89.03,-5,351,null,null,null,"AK","McGrath, AK"]
[null,null,null,null,11,16.143591644528701,7.3904419446106964,3812,"Asheville","NC","Asheville, NC","USA",35.43,-82.55,-5,661,null,null,null,"AK","Middleton Island, AK"]
[null,null,null,null,12,15.755713062210223,8.0806676968210382,94224,"Astoria","OR","Astoria, OR","USA",46.15,-123.88,-8,7,null,null,null,"AK","Nenana, AK"]
[null,null,null,null,null,null,null,13873,"Athens","GA","Athens, GA","USA",33.950000000000003,-83.32,-5,247,null,null,null,"AK","Nome, AK"]
[null,null,null,null,null,null,null,94932,"Atikokan","ON","Atikokan, ON","CAN",48.75,-91.62,-5,393,null,null,null,"AK","Northway, AK"]
[null,null,null,null,null,null,null,13874,"Atlanta","GA","Atlanta, GA","USA",33.65,-84.42,-5,315,null,null,null,"AK","Port Heiden, AK"]
[null,null,null,null,null,null,null,93730,"Atlantic City","NJ","Atlantic City, NJ","USA",39.450000000000003,-74.569999999999993,-5,20,null,null,null,"AK","Saint Paul Island, AK"]
[null,null,null,null,null,null,null,3820,"Augusta","GA","Augusta, GA","USA",33.369999999999997,-81.97,-5,45,null,null,null,"AK","Sitka, AK"]
[null,null,null,null,null,null,null,null,"Augusta","ME","Augusta, ME","USA",44.32,-69.8,-5,107,null,null,null,"AK","Summit, AK"]
[null,null,null,null,null,null,null,13958,"Austin","TX","Austin, TX","USA",30.3,-97.7,-6,189,null,null,null,"AK","Talkeetna, AK"]
[null,null,null,null,null,null,null,94795,"Bagotville","PQ","Bagotville, PQ","CAN",48.33,-71,-5,159,null,null,null,"AK","Valdez, AK"]
[null,null,null,null,null,null,null,14627,"Baie Comeau","PQ","Baie Comeau, PQ","CAN",49.13,-68.2,-5,22,null,null,null,"AK","Yakutat, AK"]
[null,null,null,null,null,null,null,16903,"Baker Lake","NU","Baker Lake, NU","CAN",64.3,-96.08,-6,18,null,null,null,"AL","Anniston, AL"]
[null,null,null,null,null,null,null,23155,"Bakersfield","CA","Bakersfield, CA","USA",35.43,-119.05,-8,150,null,null,null,"AL","Birmingham, AL"]
[null,null,null,null,null,null,null,null,"Bangor","ME","Bangor, ME","USA",44.8,-68.8,-5,56,null,null,null,"AL","Dothan, AL"]
[null,null,null,null,null,null,null,14601,"Bangor/Dow AFB","ME","Bangor/Dow AFB, ME","USA",44.8,-68.8,-5,56,null,null,null,"AL","Huntsville, AL"]
[null,null,null,null,null,null,null,27502,"Barrow","AK","Barrow, AK","USA",71.3,-156.78,-9,4,null,null,null,"AL","Mobile, AL"]
[null,null,null,null,null,null,null,23161,"Barstow/Daggett","CA","Barstow/Daggett, CA","USA",34.85,-116.78,-8,587,null,null,null,"AL","Montgomery, AL"]
[null,null,null,null,null,null,null,13970,"Baton Rouge","LA","Baton Rouge, LA","USA",30.53,-91.15,-6,21,null,null,null,"AL","Muscle Shoals/Florence, AL"]
[null,null,null,null,null,null,null,99906,"Battle Harbour","NF","Battle Harbour, NF","CAN",52.3,-55.83,-3.5,8,null,null,null,"AL","Ozark/Fort Rucker, AL"]
[null,null,null,null,null,null,null,"CAN06","Battle Harbour","NF","Battle Harbour, NF","CAN",52.3,-55.83,-3.5,8,null,null,null,"AL","Tuscaloosa, AL"]
[null,null,null,null,null,null,null,null,"Beaufort/MCAS","SC","Beaufort/MCAS, SC","USA",32.479999999999997,-80.72,-5,12,null,null,null,"AR","Blytheville/Eaker AFB, AR"]
[null,null,null,null,null,null,null,12917,"Beaumont/Port Arthur","TX","Beaumont/Port Arthur, TX","USA",29.95,-94.02,-6,7,null,null,null,"AR","Fayetteville, AR"]
[null,null,null,null,null,null,null,null,"Beeville/Chase Field NAS","TX","Beeville/Chase Field NAS, TX","USA",28.37,-97.67,-6,58,null,null,null,"AR","Fort Smith, AR"]
[null,null,null,null,null,null,null,null,"Belleville/Scott AFB","IL","Belleville/Scott AFB, IL","USA",38.549999999999997,-89.85,-6,138,null,null,null,"AR","Little Rock/AFB, AR"]
[null,null,null,null,null,null,null,72554,"Bellevue/Offutt AFB","NE","Bellevue/Offutt AFB, NE","USA",41.12,-95.92,-6,319,null,null,null,"AR","Texarkana, AR"]
[null,null,null,null,null,null,null,null,"Bellingham","WA","Bellingham, WA","USA",48.8,-122.53,-8,48,null,null,null,"AZ","Flagstaff, AZ"]
[null,null,null,null,null,null,null,26615,"Bethel","AK","Bethel, AK","USA",60.78,-161.80000000000001,-9,46,null,null,null,"AZ","Kingman, AZ"]
[null,null,null,null,null,null,null,26533,"Bettles","AK","Bettles, AK","USA",66.92,-151.52000000000001,-9,196,null,null,null,"AZ","Page, AZ"]
[null,null,null,null,null,null,null,26415,"Big Delta/Ft Greely","AK","Big Delta/Ft Greely, AK","USA",64,-145.72999999999999,-9,391,null,null,null,"AZ","Phoenix/Int'l Airport, AZ"]
[null,null,null,null,null,null,null,null,"Big Piney","WY","Big Piney, WY","USA",42.57,-110.1,-7,2124,null,null,null,"AZ","Phoenix/Luke AFB, AZ"]
[null,null,null,null,null,null,null,15806,"Big Trout Lake","ON","Big Trout Lake, ON","CAN",53.83,-89.87,-5,224,null,null,null,"AZ","Prescott, AZ"]
[null,null,null,null,null,null,null,24033,"Billings","MT","Billings, MT","USA",45.8,-108.53,-7,1088,null,null,null,"AZ","Safford/Agri Center, AZ"]
[null,null,null,null,null,null,null,null,"Biloxi/Keesler AFB","MS","Biloxi/Keesler AFB, MS","USA",30.42,-88.92,-6,10,null,null,null,"AZ","Tucson, AZ"]
[null,null,null,null,null,null,null,4725,"Binghamton","NY","Binghamton, NY","USA",42.22,-75.98,-5,497,null,null,null,"AZ","Winslow, AZ"]
[null,null,null,null,null,null,null,13876,"Birmingham","AL","Birmingham, AL","USA",33.57,-86.75,-6,192,null,null,null,"AZ","Yuma, AZ"]
[null,null,null,null,null,null,null,24011,"Bismarck","ND","Bismarck, ND","USA",46.77,-100.75,-6,506,null,null,null,"BC","Abbotsford, BC"]
[null,null,null,null,null,null,null,null,"Blue Canyon","CA","Blue Canyon, CA","USA",39.28,-120.72,-8,1611,null,null,null,"BC","Cape St James, BC"]
[null,null,null,null,null,null,null,null,"Bluefield","WV","Bluefield, WV","USA",37.299999999999997,-81.2,-5,871,null,null,null,"BC","Castlegar, BC"]
[null,null,null,null,null,null,null,null,"Blytheville/Eaker AFB","AR",{"$f":"CONCATENATE(I66,\", \",J66)","v":"Blytheville/Eaker AFB, AR"},"USA",35.97,-89.95,-6,78,null,null,null,"BC","Comox, BC"]
[null,null,null,null,null,null,null,24131,"Boise","ID","Boise, ID","USA",43.57,-116.22,-7,874,null,null,null,"BC","Cranbrook, BC"]
[null,null,null,null,null,null,null,14522,"Bonavista","NF","Bonavista, NF","CAN",48.67,-53.12,-3.5,27,null,null,null,"BC","Fort Nelson, BC"]
[null,null,null,null,null,null,null,72248,"Bossier City/Barksdale AFB","LA","Bossier City/Barksdale AFB, LA","USA",32.5,-93.67,-6,51,null,null,null,"BC","Fort St John, BC"]
[null,null,null,null,null,null,null,14739,"Boston","MA","Boston, MA","USA",42.37,-71.03,-5,9,null,null,null,"BC","Kamloops, BC"]
[null,null,null,null,null,null,null,94701,"Boston","MA","Boston, MA","USA",42.35,-71.069999999999993,-5,6,null,null,null,"BC","Penticton, BC"]
[null,null,null,null,null,null,null,94018,"Boulder","CO","Boulder, CO","USA",39.92,-105.12,-7,1724,null,null,null,"BC","Port Hardy, BC"]
[null,null,null,null,null,null,null,null,"Bowling Green","KY","Bowling Green, KY","USA",36.97,-86.42,-6,167,null,null,null,"BC","Prince George, BC"]
[null,null,null,null,null,null,null,null,"Bozeman","MT","Bozeman, MT","USA",45.78,-111.15,-7,1364,null,null,null,"BC","Prince Rupert, BC"]
[null,null,null,null,null,null,null,4751,"Bradford","PA","Bradford, PA","USA",41.8,-78.63,-5,653,null,null,null,"BC","Quesnel, BC"]
[null,null,null,null,null,null,null,null,"Brainerd/Pequot Lakes","MN","Brainerd/Pequot Lakes, MN","USA",46.6,-94.32,-6,390,null,null,null,"BC","Sandspit, BC"]
[null,null,null,null,null,null,null,14997,"Brandon","MB","Brandon, MB","CAN",49.92,-99.95,-6,409,null,null,null,"BC","Smithers, BC"]
[null,null,null,null,null,null,null,94702,"Bridgeport","CT","Bridgeport, CT","USA",41.17,-73.13,-5,5,null,null,null,"BC","Spring Island, BC"]
[null,null,null,null,null,null,null,13877,"Bristol","TN","Bristol, TN","USA",36.479999999999997,-82.4,-5,463,null,null,null,"BC","Spring Island, BC"]
[null,null,null,null,null,null,null,25030,"Broadview","SK","Broadview, SK","CAN",50.38,-102.68,-6,602,null,null,null,"BC","Summerland, BC"]
[null,null,null,null,null,null,null,12919,"Brownsville","TX","Brownsville, TX","USA",25.9,-97.43,-6,6,null,null,null,"BC","Terrace, BC"]
[null,null,null,null,null,null,null,null,"Brunswick","GA","Brunswick, GA","USA",31.15,-81.38,-5,6,null,null,null,"BC","Tofino, BC"]
[null,null,null,null,null,null,null,null,"Brunswick/NAS","ME","Brunswick/NAS, ME","USA",43.88,-69.930000000000007,-5,23,null,null,null,"BC","Vancouver Int'l, BC"]
[null,null,null,null,null,null,null,23159,"Bryce Canyon","UT","Bryce Canyon, UT","USA",37.700000000000003,-112.15,-7,2312,null,null,null,"BC","Vancouver Int'l, BC"]
[null,null,null,null,null,null,null,14733,"Buffalo","NY","Buffalo, NY","USA",42.93,-78.73,-5,215,null,null,null,"BC","Victoria Int'l, BC"]
[null,null,null,null,null,null,null,null,"Burbank/Glendale","CA","Burbank/Glendale, CA","USA",34.200000000000003,-118.35,-8,236,null,null,null,"BC","Williams Lake, BC"]
[null,null,null,null,null,null,null,null,"Burley","ID","Burley, ID","USA",42.55,-113.77,-7,1265,null,null,null,"CA","Alameda/NAS, CA"]
[null,null,null,null,null,null,null,14931,"Burlington","IA","Burlington, IA","USA",40.78,-91.13,-6,213,null,null,null,"CA","Arcata/Eureka, CA"]
[null,null,null,null,null,null,null,14742,"Burlington","VT","Burlington, VT","USA",44.47,-73.150000000000006,-5,104,null,null,null,"CA","Bakersfield, CA"]
[null,null,null,null,null,null,null,94185,"Burns","OR","Burns, OR","USA",43.58,-118.95,-8,1271,null,null,null,"CA","Barstow/Daggett, CA"]
[null,null,null,null,null,null,null,null,"Butte","MT","Butte, MT","USA",45.95,-112.5,-7,1690,null,null,null,"CA","Blue Canyon, CA"]
[null,null,null,null,null,null,null,26005,"Cambridge Bay","NU","Cambridge Bay, NU","CAN",69.099999999999994,-105.12,-6,27,null,null,null,"CA","Burbank/Glendale, CA"]
[null,null,null,null,null,null,null,null,"Camp Springs/Andrews AFB","MD","Camp Springs/Andrews AFB, MD","USA",38.82,-76.87,-5,86,null,null,null,"CA","China Lake, CA"]
[null,null,null,null,null,null,null,null,"Cape Canaveral NASA Shuttle FC","FL","Cape Canaveral NASA Shuttle FC, FL","USA",28.62,-80.72,-5,3,null,null,null,"CA","El Centro, CA"]
[null,null,null,null,null,null,null,null,"Cape Girardeau","MO","Cape Girardeau, MO","USA",37.229999999999997,-89.57,-6,104,null,null,null,"CA","El Centro, CA"]
[null,null,null,null,null,null,null,93729,"Cape Hatteras","NC","Cape Hatteras, NC","USA",35.270000000000003,-75.55,-5,3,null,null,null,"CA","El Toro MCAS, CA"]
[null,null,null,null,null,null,null,27202,"Cape Parry","NT","Cape Parry, NT","CAN",70.17,-124.68,-7,17,null,null,null,"CA","Fairfield/Travis AFB, CA"]
[null,null,null,null,null,null,null,25342,"Cape St James","BC","Cape St James, BC","CAN",51.93,-131.02000000000001,-8,92,null,null,null,"CA","Fresno, CA"]
[null,null,null,null,null,null,null,14607,"Caribou","ME","Caribou, ME","USA",46.87,-68.02,-5,190,null,null,null,"CA","Lancaster/Palmdale, CA"]
[null,null,null,null,null,null,null,null,"Carlsbad","NM","Carlsbad, NM","USA",32.33,-104.27,-7,1004,null,null,null,"CA","Lemoore/Reeves NAS, CA"]
[null,null,null,null,null,null,null,15503,"Cartwright","NF","Cartwright, NF","CAN",53.7,-57.03,-3.5,14,null,null,null,"CA","Long Beach, CA"]
[null,null,null,null,null,null,null,24089,"Casper","WY","Casper, WY","USA",42.92,-106.47,-7,1612,null,null,null,"CA","Los Angeles, CA"]
[null,null,null,null,null,null,null,94110,"Castlegar","BC","Castlegar, BC","CAN",49.3,-117.63,-8,495,null,null,null,"CA","Marysville/Yuba City/Beale AFB, CA"]
[null,null,null,null,null,null,null,93129,"Cedar City","UT","Cedar City, UT","USA",37.700000000000003,-113.1,-7,1714,null,null,null,"CA","Merced/Castle AFB, CA"]
[null,null,null,null,null,null,null,null,"Cedar Rapids","IA","Cedar Rapids, IA","USA",41.88,-91.7,-6,265,null,null,null,"CA","Mount Shasta, CA"]
[null,null,null,null,null,null,null,null,"Central Islip","NY","Central Islip, NY","USA",40.799999999999997,-73.099999999999994,-5,30,null,null,null,"CA","Mountain View/Moffet NAS, CA"]
[null,null,null,null,null,null,null,null,"Chamberlain","SD","Chamberlain, SD","USA",43.8,-99.32,-6,530,null,null,null,"CA","Oakland, CA"]
[null,null,null,null,null,null,null,13880,"Charleston","SC","Charleston, SC","USA",32.9,-80.03,-5,15,null,null,null,"CA","Ontario, CA"]
[null,null,null,null,null,null,null,13866,"Charleston","WV","Charleston, WV","USA",38.369999999999997,-81.599999999999994,-5,299,null,null,null,"CA","Oxnard/Point Mugu NF, CA"]
[null,null,null,null,null,null,null,14683,"Charlo","NB","Charlo, NB","CAN",47.98,-66.33,-4,38,null,null,null,"CA","Pasadena, CA"]
[null,null,null,null,null,null,null,13881,"Charlotte","NC","Charlotte, NC","USA",35.22,-80.930000000000007,-5,234,null,null,null,"CA","Pasadena, CA"]
[null,null,null,null,null,null,null,14688,"Charlottetown CDA","PE","Charlottetown CDA, PE","CAN",46.28,-63.13,-4,54,null,null,null,"CA","Paso Robles, CA"]
[null,null,null,null,null,null,null,14631,"Chatham","NB","Chatham, NB","CAN",47,-65.45,-4,31,null,null,null,"CA","Red Bluff, CA"]
[null,null,null,null,null,null,null,13882,"Chattanooga","TN","Chattanooga, TN","USA",35.03,-85.2,-5,210,null,null,null,"CA","Riverside/March AFB, CA"]
[null,null,null,null,null,null,null,13754,"Cherry Point MCAS","NC","Cherry Point MCAS, NC","USA",34.9,-76.88,-5,11,null,null,null,"CA","Riverside/March AFB, CA"]
[null,null,null,null,null,null,null,16914,"Chesterfield","NU","Chesterfield, NU","CAN",63.33,-90.72,-6,11,null,null,null,"CA","Riverside/March AFB, CA"]
[null,null,null,null,null,null,null,24018,"Cheyenne/Warren AFB","WY","Cheyenne/Warren AFB, WY","USA",41.15,-104.82,-7,1872,null,null,null,"CA","Sacramento/Mather Field, CA"]
[null,null,null,null,null,null,null,14819,"Chicago/Midway","IL","Chicago/Midway, IL","USA",41.78,-87.75,-6,187,null,null,null,"CA","Sacramento/Mcclellan AFB, CA"]
[null,null,null,null,null,null,null,94846,"Chicago/O'Hare Int'l Airport","IL","Chicago/O'Hare Int'l Airport, IL","USA",41.98,-87.9,-6,201,null,null,null,"CA","Sacramento/Metro, CA"]
[null,null,null,null,null,null,null,93104,"China Lake","CA","China Lake, CA","USA",35.68,-117.68,-8,676,null,null,null,"CA","Salinas, CA"]
[null,null,null,null,null,null,null,15901,"Churchill","MB","Churchill, MB","CAN",58.75,-94.07,-6,29,null,null,null,"CA","San Bernardino/Norton AFB, CA"]
[null,null,null,null,null,null,null,93814,"Cincinnati/Lunken Field","OH","Cincinnati/Lunken Field, OH","USA",39.1,-84.42,-5,147,null,null,null,"CA","San Diego/Int'l Airport, CA"]
[null,null,null,null,null,null,null,23051,"Clayton","NM","Clayton, NM","USA",36.450000000000003,-103.15,-7,1511,null,null,null,"CA","San Diego/Miramar NAS, CA"]
[null,null,null,null,null,null,null,14820,"Cleveland","OH","Cleveland, OH","USA",41.42,-81.87,-5,245,null,null,null,"CA","San Francisco, CA"]
[null,null,null,null,null,null,null,23008,"Clovis/Cannon AFB","NM","Clovis/Cannon AFB, NM","USA",34.380000000000003,-103.32,-7,1309,null,null,null,"CA","San Jose Int'l Airport, CA"]
[null,null,null,null,null,null,null,null,"Cody","WY","Cody, WY","USA",44.52,-109.02,-7,1553,null,null,null,"CA","Santa Barbara, CA"]
[null,null,null,null,null,null,null,25624,"Cold Bay","AK","Cold Bay, AK","USA",55.2,-162.72999999999999,-10,31,null,null,null,"CA","Santa Maria, CA"]
[null,null,null,null,null,null,null,null,"College Station/Bryan","TX","College Station/Bryan, TX","USA",30.58,-96.37,-6,98,null,null,null,"CA","Santa Rosa, CA"]
[null,null,null,null,null,null,null,93037,"Colorado Springs","CO","Colorado Springs, CO","USA",38.82,-104.72,-7,1881,null,null,null,"CA","Santa Rosa, CA"]
[null,null,null,null,null,null,null,3945,"Columbia","MO",{"$f":"CONCATENATE(I130,\", \",J130)","v":"Columbia, MO"},"USA",38.82,-92.22,-6,274,null,null,null,"CA","Stockton, CA"]
[null,null,null,null,null,null,null,13883,"Columbia","SC","Columbia, SC","USA",33.950000000000003,-81.12,-5,69,null,null,null,"CA","Victorville/George AFB, CA"]
[null,null,null,null,null,null,null,null,"Columbus/AFB","MS","Columbus/AFB, MS","USA",33.65,-88.45,-6,67,null,null,null,"CO","Alamosa, CO"]
[null,null,null,null,null,null,null,null,"Columbus/Fort Benning","GA","Columbus/Fort Benning, GA","USA",32.33,-85,-5,71,null,null,null,"CO","Boulder, CO"]
[null,null,null,null,null,null,null,14821,"Columbus/Int'l Airport","OH","Columbus/Int'l Airport, OH","USA",40,-82.88,-5,249,null,null,null,"CO","Colorado Springs, CO"]
[null,null,null,null,null,null,null,93842,"Columbus/Metro Airport","GA","Columbus/Metro Airport, GA","USA",32.520000000000003,-84.93,-5,121,null,null,null,"CO","Craig, CO"]
[null,null,null,null,null,null,null,null,"Columbus/Rickenbacker AFB","OH","Columbus/Rickenbacker AFB, OH","USA",39.82,-82.93,-5,227,null,null,null,"CO","Denver-Stapleton, CO"]
[null,null,null,null,null,null,null,24292,"Comox","BC","Comox, BC","CAN",49.72,-124.9,-8,24,null,null,null,"CO","Eagle, CO"]
[null,null,null,null,null,null,null,14745,"Concord","NH","Concord, NH","USA",43.2,-71.5,-5,105,null,null,null,"CO","Grand Junction, CO"]
[null,null,null,null,null,null,null,null,"Concordia","KS","Concordia, KS","USA",39.549999999999997,-97.65,-6,452,null,null,null,"CO","Limon, CO"]
[null,null,null,null,null,null,null,16801,"Coral Harbour","NU","Coral Harbour, NU","CAN",64.2,-83.37,-5,64,null,null,null,"CO","Pueblo, CO"]
[null,null,null,null,null,null,null,null,"Cordova","AK","Cordova, AK","USA",60.5,-145.5,-9,13,null,null,null,"CO","Trinidad, CO"]
[null,null,null,null,null,null,null,12924,"Corpus Christi","TX","Corpus Christi, TX","USA",27.77,-97.5,-6,13,null,null,null,"CT","Bridgeport, CT"]
[null,null,null,null,null,null,null,93814,"Covington/Cincinnati OH/Int'l","KY","Covington/Cincinnati OH/Int'l, KY","USA",39.049999999999997,-84.67,-5,267,null,null,null,"CT","Hartford/Brainard Field, CT"]
[null,null,null,null,null,null,null,null,"Craig","CO","Craig, CO","USA",40.5,-107.53,-7,1915,null,null,null,"CT","Windsor Locks/Bradley Field, CT"]
[null,null,null,null,null,null,null,94157,"Cranbrook","BC","Cranbrook, BC","CAN",49.6,-115.78,-7,939,null,null,null,"DE","Dover/AFB, DE"]
[null,null,null,null,null,null,null,null,"Crossville","TN","Crossville, TN","USA",35.950000000000003,-85.08,-6,573,null,null,null,"DE","Wilmington, DE"]
[null,null,null,null,null,null,null,24137,"Cut Bank","MT","Cut Bank, MT","USA",48.6,-112.37,-7,1175,null,null,null,"EN","London, EN"]
[null,null,null,null,null,null,null,null,"Dallas/Fort Worth/Int'l Airport","TX","Dallas/Fort Worth/Int'l Airport, TX","USA",32.9,-97.03,-6,182,null,null,null,"FL","Apalachicola, FL"]
[null,null,null,null,null,null,null,15504,"Daniels Harbour","NF","Daniels Harbour, NF","CAN",50.23,-57.58,-3.5,19,null,null,null,"FL","Cape Canaveral NASA Shuttle FC, FL"]
[null,null,null,null,null,null,null,25009,"Dauphin","MB","Dauphin, MB","CAN",51.1,-100.05,-6,305,null,null,null,"FL","Daytona Beach, FL"]
[null,null,null,null,null,null,null,93815,"Dayton/Int'l Airport","OH","Dayton/Int'l Airport, OH","USA",39.9,-84.2,-5,306,null,null,null,"FL","Fort Lauderdale/Hollywood, FL"]
[null,null,null,null,null,null,null,93815,"Dayton/Wright-Paterson AFB","OH","Dayton/Wright-Paterson AFB, OH","USA",39.83,-84.05,-5,251,null,null,null,"FL","Fort Myers, FL"]
[null,null,null,null,null,null,null,12834,"Daytona Beach","FL","Daytona Beach, FL","USA",29.18,-81.05,-5,11,null,null,null,"FL","Gainesville, FL"]
[null,null,null,null,null,null,null,null,"Deadhorse","AK","Deadhorse, AK","USA",70.2,-148.47,-9,17,null,null,null,"FL","Homestead/AFB, FL"]
[null,null,null,null,null,null,null,null,"Decatur","IL","Decatur, IL","USA",39.83,-88.87,-6,208,null,null,null,"FL","Jacksonville/Cecil Field NAS, FL"]
[null,null,null,null,null,null,null,14523,"Deer Lake","NF","Deer Lake, NF","CAN",49.22,-57.4,-3.5,22,null,null,null,"FL","Jacksonville/Int'l Airport, FL"]
[null,null,null,null,null,null,null,22010,"Del Rio/Laughlin AFB","TX","Del Rio/Laughlin AFB, TX","USA",29.36,-100.78,-6,327,null,null,null,"FL","Jacksonville/Mayport NS, FL"]
[null,null,null,null,null,null,null,72261,"Del Rio/Laughlin AFB","TX","Del Rio/Laughlin AFB, TX","USA",29.37,-100.78,-6,330,null,null,null,"FL","Key West, FL"]
[null,null,null,null,null,null,null,23062,"Denver-Stapleton","CO","Denver-Stapleton, CO","USA",39.76,-104.86,-7,1611,null,null,null,"FL","Melbourne, FL"]
[null,null,null,null,null,null,null,14933,"Des Moines","IA","Des Moines, IA","USA",41.53,-93.65,-6,294,null,null,null,"FL","Miami/Int'l Airport, FL"]
[null,null,null,null,null,null,null,14822,"Detroit/City","MI","Detroit/City, MI","USA",42.5,-83,-5,190,null,null,null,"FL","Miami/Kendall/New Tamiami Airport, FL"]
[null,null,null,null,null,null,null,94847,"Detroit/Metro","MI","Detroit/Metro, MI","USA",42.23,-83.33,-5,202,null,null,null,"FL","Milton/Whiting Field NAS, FL"]
[null,null,null,null,null,null,null,null,"Devils Lake","ND","Devils Lake, ND","USA",48.1,-98.87,-6,443,null,null,null,"FL","Orlando, FL"]
[null,null,null,null,null,null,null,null,"Dillingham","AK","Dillingham, AK","USA",59.05,-158.52000000000001,-9,29,null,null,null,"FL","Orlando, FL"]
[null,null,null,null,null,null,null,24138,"Dillon","MT","Dillon, MT","USA",45.25,-112.55,-7,1597,null,null,null,"FL","Panama City/Tyndall AFB, FL"]
[null,null,null,null,null,null,null,13985,"Dodge City","KS","Dodge City, KS","USA",37.770000000000003,-99.97,-6,790,null,null,null,"FL","Pensacola/Forest Sherman AFB, FL"]
[null,null,null,null,null,null,null,null,"Dothan","AL","Dothan, AL","USA",31.32,-85.45,-6,122,null,null,null,"FL","Saint Petersburg, FL"]
[null,null,null,null,null,null,null,null,"Dover/AFB","DE","Dover/AFB, DE","USA",39.130000000000003,-75.47,-5,9,null,null,null,"FL","Sarasota/Bradenton, FL"]
[null,null,null,null,null,null,null,null,"Du Bois","PA","Du Bois, PA","USA",41.18,-78.900000000000006,-5,554,null,null,null,"FL","Tallahassee, FL"]
[null,null,null,null,null,null,null,14913,"Duluth","MN","Duluth, MN","USA",46.83,-92.18,-6,432,null,null,null,"FL","Tampa/Int'l Airport, FL"]
[null,null,null,null,null,null,null,23063,"Eagle","CO","Eagle, CO","USA",39.65,-106.92,-7,1993,null,null,null,"FL","Valparaiso/Eglin AFB, FL"]
[null,null,null,null,null,null,null,94797,"Earlton","ON","Earlton, ON","CAN",47.7,-79.849999999999994,-5,243,null,null,null,"FL","Vero Beach, FL"]
[null,null,null,null,null,null,null,null,"East Falmouth/Otis ANGB","MA","East Falmouth/Otis ANGB, MA","USA",41.65,-70.52,-5,40,null,null,null,"FL","West Palm Beach, FL"]
[null,null,null,null,null,null,null,14991,"Eau Claire","WI","Eau Claire, WI","USA",44.87,-91.48,-6,276,null,null,null,"GA","Albany, GA"]
[null,null,null,null,null,null,null,15,"El Centro","CA","El Centro, CA","USA",32.766666669999999,-115.5667,-8,-9.1,null,null,null,"GA","Athens, GA"]
[null,null,null,null,null,null,null,"CTZ15","El Centro","CA","El Centro, CA","USA",32.766666669999999,-115.5667,-8,-9.1,null,null,null,"GA","Atlanta, GA"]
[null,null,null,null,null,null,null,23044,"El Paso","TX","El Paso, TX","USA",31.8,-106.4,-7,1194,null,null,null,"GA","Augusta, GA"]
[null,null,null,null,null,null,null,72270,"El Paso","TX","El Paso, TX","USA",31.8,-106.4,-7,1194,null,null,null,"GA","Brunswick, GA"]
[null,null,null,null,null,null,null,93101,"El Toro MCAS","CA","El Toro MCAS, CA","USA",33.659999999999997,-117.73,-8,116,null,null,null,"GA","Columbus/Fort Benning, GA"]
[null,null,null,null,null,null,null,13729,"Elkins","WV","Elkins, WV","USA",38.880000000000003,-79.849999999999994,-5,609,null,null,null,"GA","Columbus/Metro Airport, GA"]
[null,null,null,null,null,null,null,24121,"Elko","NV","Elko, NV","USA",40.83,-115.78,-8,1565,null,null,null,"GA","Macon, GA"]
[null,null,null,null,null,null,null,null,"Elmira/Corning","NY","Elmira/Corning, NY","USA",42.17,-76.900000000000006,-5,291,null,null,null,"GA","Marietta/Dobbins AFB, GA"]
[null,null,null,null,null,null,null,23154,"Ely","NV","Ely, NV","USA",39.28,-114.85,-8,1909,null,null,null,"GA","Rome, GA"]
[null,null,null,null,null,null,null,null,"Enid/Vance AFB","OK","Enid/Vance AFB, OK","USA",36.33,-97.92,-6,398,null,null,null,"GA","Savannah, GA"]
[null,null,null,null,null,null,null,14860,"Erie","PA","Erie, PA","USA",42.08,-80.180000000000007,-5,225,null,null,null,"GA","Valdosta/Moody AFB, GA"]
[null,null,null,null,null,null,null,24092,"Estevan","SK","Estevan, SK","CAN",49.22,-102.97,-6,581,null,null,null,"GA","Valdosta/Regional Airport, GA"]
[null,null,null,null,null,null,null,24221,"Eugene","OR","Eugene, OR","USA",44.12,-123.22,-8,114,null,null,null,"GA","Waycross, GA"]
[null,null,null,null,null,null,null,18801,"Eureka","NT","Eureka, NT","CAN",79.98,-85.93,-5,10,null,null,null,"HI","Ewa/Barbers Point NAS, HI"]
[null,null,null,null,null,null,null,93817,"Evansville","IN","Evansville, IN","USA",38.049999999999997,-87.53,-5,118,null,null,null,"HI","Hilo, HI"]
[null,null,null,null,null,null,null,22514,"Ewa/Barbers Point NAS","HI","Ewa/Barbers Point NAS, HI","USA",21.32,-158.07,-10,15,null,null,null,"HI","Honolulu, HI"]
[null,null,null,null,null,null,null,26407,"Fairbanks/Eielson AFB","AK","Fairbanks/Eielson AFB, AK","USA",64.67,-147.1,-9,167,null,null,null,"HI","Kahului, HI"]
[null,null,null,null,null,null,null,26411,"Fairbanks/Int'l Airport","AK","Fairbanks/Int'l Airport, AK","USA",64.819999999999993,-147.87,-9,138,null,null,null,"HI","Kaneohe/MCAS, HI"]
[null,null,null,null,null,null,null,null,"Fairfield/Travis AFB","CA","Fairfield/Travis AFB, CA","USA",38.270000000000003,-121.93,-8,19,null,null,null,"HI","Lihue, HI"]
[null,null,null,null,null,null,null,14914,"Fargo","ND",{"$f":"CONCATENATE(I194,\", \",J194)","v":"Fargo, ND"},"USA",46.9,-96.8,-6,274,null,null,null,"HI","Molokai, HI"]
[null,null,null,null,null,null,null,null,"Farmington","NM","Farmington, NM","USA",36.75,-108.23,-7,1677,null,null,null,"IA","Burlington, IA"]
[null,null,null,null,null,null,null,null,"Fayetteville","AR","Fayetteville, AR","USA",36,-94.17,-6,381,null,null,null,"IA","Cedar Rapids, IA"]
[null,null,null,null,null,null,null,null,"Fayetteville/Fort Bragg","NC","Fayetteville/Fort Bragg, NC","USA",35.130000000000003,-78.930000000000007,-5,74,null,null,null,"IA","Des Moines, IA"]
[null,null,null,null,null,null,null,null,"Findlay","OH","Findlay, OH","USA",41.02,-83.67,-5,247,null,null,null,"IA","Fort Dodge, IA"]
[null,null,null,null,null,null,null,3103,"Flagstaff","AZ","Flagstaff, AZ","USA",35.130000000000003,-111.67,-7,2137,null,null,null,"IA","Lamoni, IA"]
[null,null,null,null,null,null,null,14826,"Flint","MI","Flint, MI","USA",42.97,-83.75,-5,233,null,null,null,"IA","Mason City, IA"]
[null,null,null,null,null,null,null,null,"Florence","SC","Florence, SC","USA",34.18,-79.72,-5,45,null,null,null,"IA","Ottumwa, IA"]
[null,null,null,null,null,null,null,null,"Fort Belvoir","VA","Fort Belvoir, VA","USA",38.72,-77.180000000000007,-5,21,null,null,null,"IA","Sioux City, IA"]
[null,null,null,null,null,null,null,null,"Fort Campbell/AAF","KY","Fort Campbell/AAF, KY","USA",36.67,-87.5,-6,174,null,null,null,"IA","Spencer, IA"]
[null,null,null,null,null,null,null,null,"Fort Dodge","IA","Fort Dodge, IA","USA",42.55,-94.18,-6,355,null,null,null,"IA","Waterloo, IA"]
[null,null,null,null,null,null,null,null,"Fort Knox/Godman AAF","KY","Fort Knox/Godman AAF, KY","USA",37.9,-85.97,-5,230,null,null,null,"ID","Boise, ID"]
[null,null,null,null,null,null,null,null,"Fort Lauderdale/Hollywood","FL","Fort Lauderdale/Hollywood, FL","USA",26.07,-80.150000000000006,-5,7,null,null,null,"ID","Burley, ID"]
[null,null,null,null,null,null,null,null,"Fort Myers","FL","Fort Myers, FL","USA",26.58,-81.87,-5,5,null,null,null,"ID","Idaho Falls, ID"]
[null,null,null,null,null,null,null,25218,"Fort Nelson","BC","Fort Nelson, BC","CAN",58.83,-122.58,-8,382,null,null,null,"ID","Lewiston, ID"]
[null,null,null,null,null,null,null,13964,"Fort Smith","AR","Fort Smith, AR","USA",35.33,-94.37,-6,141,null,null,null,"ID","Mountain Home/AFB, ID"]
[null,null,null,null,null,null,null,26102,"Fort Smith","NT","Fort Smith, NT","CAN",60.02,-111.95,-7,203,null,null,null,"ID","Mullan, ID"]
[null,null,null,null,null,null,null,25231,"Fort St John","BC","Fort St John, BC","CAN",56.23,-120.73,-8,695,null,null,null,"ID","Pocatello, ID"]
[null,null,null,null,null,null,null,14827,"Fort Wayne","IN","Fort Wayne, IN","USA",41,-85.2,-5,252,null,null,null,"IL","Belleville/Scott AFB, IL"]
[null,null,null,null,null,null,null,null,"Fort Worth/Carswell AFB","TX","Fort Worth/Carswell AFB, TX","USA",32.770000000000003,-97.45,-6,198,null,null,null,"IL","Chicago/Midway, IL"]
[null,null,null,null,null,null,null,3927,"Fort Worth/Meacham Field","TX","Fort Worth/Meacham Field, TX","USA",32.82,-97.37,-6,216,null,null,null,"IL","Chicago/O'Hare Int'l Airport, IL"]
[null,null,null,null,null,null,null,14670,"Fredericton","NB","Fredericton, NB","CAN",45.87,-66.53,-4,20,null,null,null,"IL","Decatur, IL"]
[null,null,null,null,null,null,null,93193,"Fresno","CA","Fresno, CA","USA",36.770000000000003,-119.72,-8,100,null,null,null,"IL","Glenview/NAS, IL"]
[null,null,null,null,null,null,null,72455,"Ft Riley/Marshall AAF","KS","Ft Riley/Marshall AAF, KS","USA",39.049999999999997,-96.77,-6,325,null,null,null,"IL","Marseilles, IL"]
[null,null,null,null,null,null,null,null,"Gainesville","FL","Gainesville, FL","USA",29.68,-82.27,-5,46,null,null,null,"IL","Moline/Davenport IA, IL"]
[null,null,null,null,null,null,null,70222,"Galena","AK","Galena, AK","USA",64.73,-156.93,-9,46,null,null,null,"IL","Peoria, IL"]
[null,null,null,null,null,null,null,null,"Gallup","NM","Gallup, NM","USA",35.520000000000003,-108.78,-7,1972,null,null,null,"IL","Quincy, IL"]
[null,null,null,null,null,null,null,14509,"Gander Int'l","NF","Gander Int'l, NF","CAN",48.95,-54.57,-3.5,151,null,null,null,"IL","Rockford, IL"]
[null,null,null,null,null,null,null,null,"Garden City","KS","Garden City, KS","USA",37.93,-100.72,-6,881,null,null,null,"IL","Springfield, IL"]
[null,null,null,null,null,null,null,99910,"Geraldton","ON","Geraldton, ON","CAN",49.78,-86.93,-5,351,null,null,null,"IL","West Chicago, IL"]
[null,null,null,null,null,null,null,"CAN10","Geraldton","ON","Geraldton, ON","CAN",49.78,-86.93,-5,351,null,null,null,"IN","Evansville, IN"]
[null,null,null,null,null,null,null,null,"Gillette","WY","Gillette, WY","USA",44.35,-105.53,-7,1230,null,null,null,"IN","Fort Wayne, IN"]
[null,null,null,null,null,null,null,94008,"Glasgow","MT","Glasgow, MT","USA",48.22,-106.62,-7,700,null,null,null,"IN","Indianapolis, IN"]
[null,null,null,null,null,null,null,93721,"Glen Burnie/Baltimore/BWI Airp","MD","Glen Burnie/Baltimore/BWI Airp, MD","USA",39.18,-76.67,-5,47,null,null,null,"IN","Lafayette/Purdue Univ, IN"]
[null,null,null,null,null,null,null,null,"Glens Falls","NY","Glens Falls, NY","USA",43.33,-73.62,-5,100,null,null,null,"IN","Peru/Grissom AFB, IN"]
[null,null,null,null,null,null,null,null,"Glenview/NAS","IL","Glenview/NAS, IL","USA",42.08,-87.82,-6,199,null,null,null,"IN","South Bend, IN"]
[null,null,null,null,null,null,null,null,"Goldsboro/Seymour Johnson AFB","NC","Goldsboro/Seymour Johnson AFB, NC","USA",35.33,-77.97,-5,33,null,null,null,"IN","Terre Haute, IN"]
[null,null,null,null,null,null,null,23065,"Goodland","KS","Goodland, KS","USA",39.369999999999997,-101.7,-6,1124,null,null,null,"KS","Concordia, KS"]
[null,null,null,null,null,null,null,15601,"Goose","NF","Goose, NF","CAN",53.32,-60.37,-3.5,49,null,null,null,"KS","Dodge City, KS"]
[null,null,null,null,null,null,null,15601,"Gore Bay","ON","Gore Bay, ON","CAN",45.88,-82.57,-5,193,null,null,null,"KS","Ft Riley/Marshall AAF, KS"]
[null,null,null,null,null,null,null,null,"Grand Forks/AFB","ND","Grand Forks/AFB, ND","USA",47.97,-97.4,-6,278,null,null,null,"KS","Garden City, KS"]
[null,null,null,null,null,null,null,14935,"Grand Island","NE","Grand Island, NE","USA",40.97,-98.32,-6,566,null,null,null,"KS","Goodland, KS"]
[null,null,null,null,null,null,null,23066,"Grand Junction","CO","Grand Junction, CO","USA",39.119999999999997,-108.53,-7,1475,null,null,null,"KS","Russell, KS"]
[null,null,null,null,null,null,null,94860,"Grand Rapids","MI","Grand Rapids, MI","USA",42.88,-85.52,-5,245,null,null,null,"KS","Salina, KS"]
[null,null,null,null,null,null,null,24143,"Great Falls/Int'l Airport","MT","Great Falls/Int'l Airport, MT","USA",47.48,-111.37,-7,1115,null,null,null,"KS","Topeka, KS"]
[null,null,null,null,null,null,null,24143,"Great Falls/Malmstrom AFB","MT","Great Falls/Malmstrom AFB, MT","USA",47.5,-111.18,-7,1075,null,null,null,"KS","Wichita/Airport, KS"]
[null,null,null,null,null,null,null,14898,"Green Bay","WI","Green Bay, WI","USA",44.48,-88.13,-6,214,null,null,null,"KS","Wichita/Mcconnell AFB, KS"]
[null,null,null,null,null,null,null,13723,"Greensboro","NC","Greensboro, NC","USA",36.08,-79.95,-5,270,null,null,null,"KY","Bowling Green, KY"]
[null,null,null,null,null,null,null,null,"Greenwood","MS","Greenwood, MS","USA",33.5,-90.08,-6,47,null,null,null,"KY","Covington/Cincinnati OH/Int'l, KY"]
[null,null,null,null,null,null,null,14636,"Greenwood","NS","Greenwood, NS","CAN",44.98,-64.92,-4,28,null,null,null,"KY","Fort Campbell/AAF, KY"]
[null,null,null,null,null,null,null,25115,"Greenwood","NS","Greenwood, NS","CAN",44.98,-64.92,-4,28,null,null,null,"KY","Fort Knox/Godman AAF, KY"]
[null,null,null,null,null,null,null,3870,"Greer/Greenville","SC","Greer/Greenville, SC","USA",34.9,-82.22,-5,296,null,null,null,"KY","Jackson, KY"]
[null,null,null,null,null,null,null,"CAN13","Grindstone Island","PQ","Grindstone Island, PQ","CAN",47.38,-61.87,-5,59,null,null,null,"KY","Lexington, KY"]
[null,null,null,null,null,null,null,null,"Guadalupe Pass","TX","Guadalupe Pass, TX","USA",31.83,-104.8,-6,1662,null,null,null,"KY","Louisville, KY"]
[null,null,null,null,null,null,null,26425,"Gulkana","AK","Gulkana, AK","USA",62.15,-145.44999999999999,-9,481,null,null,null,"KY","Paducah, KY"]
[null,null,null,null,null,null,null,99913,"Halifax Int'l","NS","Halifax Int'l, NS","CAN",44.88,-63.5,-4,145,null,null,null,"LA","Alexandria/England AFB, LA"]
[null,null,null,null,null,null,null,14673,"Hall Beach","NU","Hall Beach, NU","CAN",68.78,-81.25,-5,8,null,null,null,"LA","Baton Rouge, LA"]
[null,null,null,null,null,null,null,16895,"Hall Beach","NU","Hall Beach, NU","CAN",68.78,-81.25,-5,8,null,null,null,"LA","Bossier City/Barksdale AFB, LA"]
[null,null,null,null,null,null,null,4797,"Hamilton","ON","Hamilton, ON","CAN",43.2,-79.900000000000006,-5,255,null,null,null,"LA","Lafayette, LA"]
[null,null,null,null,null,null,null,null,"Hampton/Langley AFB","VA","Hampton/Langley AFB, VA","USA",37.08,-76.37,-5,3,null,null,null,"LA","Lake Charles, LA"]
[null,null,null,null,null,null,null,94814,"Hancock","MI","Hancock, MI","USA",47.17,-88.5,-5,329,null,null,null,"LA","Leesville/Fort Polk, LA"]
[null,null,null,null,null,null,null,null,"Hanford","WA","Hanford, WA","USA",46.57,-119.6,-8,223,null,null,null,"LA","Monroe, LA"]
[null,null,null,null,null,null,null,null,"Harbor Beach","MI","Harbor Beach, MI","USA",44.02,-82.8,-5,183,null,null,null,"LA","New Orleans/Int'l Airport, LA"]
[null,null,null,null,null,null,null,14751,"Harrisburg","PA","Harrisburg, PA","USA",40.200000000000003,-76.77,-5,94,null,null,null,"LA","New Orleans/Lakefront Airport, LA"]
[null,null,null,null,null,null,null,14740,"Hartford/Brainard Field","CT",{"$f":"CONCATENATE(I258,\", \",J258)","v":"Hartford/Brainard Field, CT"},"USA",41.73,-72.650000000000006,-5,6,null,null,null,"LA","Shreveport, LA"]
[null,null,null,null,null,null,null,null,"Havre","MT","Havre, MT","USA",48.55,-109.77,-7,792,null,null,null,"MA","Boston, MA"]
[null,null,null,null,null,null,null,24144,"Helena","MT","Helena, MT","USA",46.6,-112,-7,1188,null,null,null,"MA","Boston, MA"]
[null,null,null,null,null,null,null,null,"Hibbing","MN","Hibbing, MN","USA",47.38,-92.83,-6,412,null,null,null,"MA","East Falmouth/Otis ANGB, MA"]
[null,null,null,null,null,null,null,null,"Hickory","NC","Hickory, NC","USA",35.729999999999997,-81.38,-5,362,null,null,null,"MA","Weymouth/South Weymouth NAS, MA"]
[null,null,null,null,null,null,null,null,"Hillsboro","OR","Hillsboro, OR","USA",45.53,-122.95,-8,62,null,null,null,"MA","Worcester, MA"]
[null,null,null,null,null,null,null,21504,"Hilo","HI","Hilo, HI","USA",19.72,-155.07,-10,11,null,null,null,"MB","Brandon, MB"]
[null,null,null,null,null,null,null,25507,"Homer","AK","Homer, AK","USA",59.65,-151.47999999999999,-9,25,null,null,null,"MB","Churchill, MB"]
[null,null,null,null,null,null,null,null,"Homestead/AFB","FL","Homestead/AFB, FL","USA",25.48,-80.38,-5,2,null,null,null,"MB","Dauphin, MB"]
[null,null,null,null,null,null,null,22521,"Honolulu","HI","Honolulu, HI","USA",21.35,-157.93,-10,5,null,null,null,"MB","Portage La Prairie, MB"]
[null,null,null,null,null,null,null,15642,"Hopedale","NF","Hopedale, NF","CAN",55.45,-60.23,-3.5,8,null,null,null,"MB","The Pas, MB"]
[null,null,null,null,null,null,null,12918,"Houston/Hobby Airport","TX","Houston/Hobby Airport, TX","USA",29.65,-95.28,-6,14,null,null,null,"MB","Thompson, MB"]
[null,null,null,null,null,null,null,12960,"Houston/Intercontinental Airport","TX","Houston/Intercontinental Airport, TX","USA",29.97,-95.35,-6,33,null,null,null,"MB","Winnipeg Int'l, MB"]
[null,null,null,null,null,null,null,72243,"Houston/Intercontinental Airport","TX","Houston/Intercontinental Airport, TX","USA",29.97,-95.35,-6,33,null,null,null,"MD","Camp Springs/Andrews AFB, MD"]
[null,null,null,null,null,null,null,3860,"Huntington","WV","Huntington, WV","USA",38.369999999999997,-82.55,-5,255,null,null,null,"MD","Glen Burnie/Baltimore/BWI Airp, MD"]
[null,null,null,null,null,null,null,3856,"Huntsville","AL","Huntsville, AL","USA",34.65,-86.77,-6,196,null,null,null,"MD","Patuxent River NAS, MD"]
[null,null,null,null,null,null,null,14936,"Huron","SD","Huron, SD","USA",44.38,-98.22,-6,393,null,null,null,"MD","Salisbury, MD"]
[null,null,null,null,null,null,null,null,"Idaho Falls","ID","Idaho Falls, ID","USA",43.52,-112.07,-7,1445,null,null,null,"ME","Augusta, ME"]
[null,null,null,null,null,null,null,93819,"Indianapolis","IN","Indianapolis, IN","USA",39.729999999999997,-86.27,-5,246,null,null,null,"ME","Bangor, ME"]
[null,null,null,null,null,null,null,14918,"International Falls","MN","International Falls, MN","USA",48.57,-93.38,-6,361,null,null,null,"ME","Bangor/Dow AFB, ME"]
[null,null,null,null,null,null,null,22258,"Inuvik Ua","NT","Inuvik Ua, NT","CAN",68.3,-133.47999999999999,-7,68,null,null,null,"ME","Brunswick/NAS, ME"]
[null,null,null,null,null,null,null,16603,"Iqaluit (Frobisher)","NU","Iqaluit (Frobisher), NU","CAN",63.75,-68.55,-5,33,null,null,null,"ME","Caribou, ME"]
[null,null,null,null,null,null,null,null,"Jackson","KY","Jackson, KY","USA",37.6,-83.32,-5,421,null,null,null,"ME","Limestone/Loring AFB, ME"]
[null,null,null,null,null,null,null,null,"Jackson","MI","Jackson, MI","USA",42.27,-84.47,-5,305,null,null,null,"ME","Portland, ME"]
[null,null,null,null,null,null,null,3940,"Jackson","MS","Jackson, MS","USA",32.32,-90.08,-6,101,null,null,null,"MI","Alpena, MI"]
[null,null,null,null,null,null,null,null,"Jackson","TN","Jackson, TN","USA",35.6,-88.92,-6,132,null,null,null,"MI","Detroit/City, MI"]
[null,null,null,null,null,null,null,null,"Jacksonville/Cecil Field NAS","FL","Jacksonville/Cecil Field NAS, FL","USA",30.22,-81.88,-5,25,null,null,null,"MI","Detroit/Metro, MI"]
[null,null,null,null,null,null,null,13889,"Jacksonville/Int'l Airport","FL","Jacksonville/Int'l Airport, FL","USA",30.5,-81.7,-5,9,null,null,null,"MI","Flint, MI"]
[null,null,null,null,null,null,null,null,"Jacksonville/Mayport NS","FL","Jacksonville/Mayport NS, FL","USA",30.4,-81.42,-5,5,null,null,null,"MI","Grand Rapids, MI"]
[null,null,null,null,null,null,null,null,"Jacksonville/New River MCAF","NC","Jacksonville/New River MCAF, NC","USA",34.72,-77.45,-5,8,null,null,null,"MI","Hancock, MI"]
[null,null,null,null,null,null,null,null,"Joplin","MO","Joplin, MO","USA",37.15,-94.5,-6,299,null,null,null,"MI","Harbor Beach, MI"]
[null,null,null,null,null,null,null,null,"Junction","TX","Junction, TX","USA",30.5,-99.77,-6,522,null,null,null,"MI","Jackson, MI"]
[null,null,null,null,null,null,null,25309,"Juneau","AK","Juneau, AK","USA",58.35,-134.58000000000001,-9,3,null,null,null,"MI","Lansing, MI"]
[null,null,null,null,null,null,null,22516,"Kahului","HI","Kahului, HI","USA",20.9,-156.43,-10,20,null,null,null,"MI","Marquette/Gwinn/K I Sawyer A, MI"]
[null,null,null,null,null,null,null,24146,"Kalispell","MT","Kalispell, MT","USA",48.3,-114.27,-7,906,null,null,null,"MI","Marquette/Ishpeming/Airport, MI"]
[null,null,null,null,null,null,null,25220,"Kamloops","BC","Kamloops, BC","CAN",50.7,-120.45,-8,346,null,null,null,"MI","Mount Clemens/Selfridge ANGB, MI"]
[null,null,null,null,null,null,null,null,"Kaneohe/MCAS","HI","Kaneohe/MCAS, HI","USA",21.45,-157.77000000000001,-10,3,null,null,null,"MI","Muskegon, MI"]
[null,null,null,null,null,null,null,3947,"Kansas City","MO","Kansas City, MO","USA",39.32,-94.72,-6,312,null,null,null,"MI","Oscoda/Wurtsmith AFB, MI"]
[null,null,null,null,null,null,null,13988,"Kansas City","MO","Kansas City, MO","USA",39.32,-94.72,-6,312,null,null,null,"MI","Pellston, MI"]
[null,null,null,null,null,null,null,14899,"Kapuskasing","ON","Kapuskasing, ON","CAN",49.42,-82.47,-5,227,null,null,null,"MI","Saginaw, MI"]
[null,null,null,null,null,null,null,null,"Kenai","AK","Kenai, AK","USA",60.57,-151.25,-9,29,null,null,null,"MI","Sault Ste Marie, MI"]
[null,null,null,null,null,null,null,14999,"Kenora","ON","Kenora, ON","CAN",49.78,-94.37,-5,411,null,null,null,"MI","Seul Choix Point, MI"]
[null,null,null,null,null,null,null,null,"Ketchikan","AK","Ketchikan, AK","USA",55.35,-131.69999999999999,-9,29,null,null,null,"MI","Traverse City, MI"]
[null,null,null,null,null,null,null,12836,"Key West","FL","Key West, FL","USA",24.55,-81.75,-5,6,null,null,null,"MN","Alexandria, MN"]
[null,null,null,null,null,null,null,72257,"Killeen/Fort Hood","TX","Killeen/Fort Hood, TX","USA",31.07,-97.83,-6,309,null,null,null,"MN","Brainerd/Pequot Lakes, MN"]
[null,null,null,null,null,null,null,25503,"King Salmon","AK","King Salmon, AK","USA",58.68,-156.65,-9,15,null,null,null,"MN","Duluth, MN"]
[null,null,null,null,null,null,null,70326,"King Salmon","AK","King Salmon, AK","USA",58.7,-156.66999999999999,-9,15,null,null,null,"MN","Hibbing, MN"]
[null,null,null,null,null,null,null,null,"Kingman","AZ","Kingman, AZ","USA",35.270000000000003,-113.95,-7,1033,null,null,null,"MN","International Falls, MN"]
[null,null,null,null,null,null,null,12928,"Kingsville/NAS","TX","Kingsville/NAS, TX","USA",27.5,-97.82,-6,15,null,null,null,"MN","Minneapolis-St Paul, MN"]
[null,null,null,null,null,null,null,null,"Klamath Falls","OR","Klamath Falls, OR","USA",42.15,-121.73,-8,1247,null,null,null,"MN","Redwood Falls, MN"]
[null,null,null,null,null,null,null,13891,"Knoxville","TN","Knoxville, TN","USA",35.82,-83.98,-5,299,null,null,null,"MN","Rochester, MN"]
[null,null,null,null,null,null,null,25501,"Kodiak/State USCG Base","AK","Kodiak/State USCG Base, AK","USA",57.75,-152.5,-9,34,null,null,null,"MN","Saint Cloud, MN"]
[null,null,null,null,null,null,null,26616,"Kotzebue","AK","Kotzebue, AK","USA",66.87,-162.63,-9,5,null,null,null,"MN","Tofte, MN"]
[null,null,null,null,null,null,null,15701,"Kuujjuarapik","PQ","Kuujjuarapik, PQ","CAN",55.28,-77.77,-5,12,null,null,null,"MO","Cape Girardeau, MO"]
[null,null,null,null,null,null,null,15605,"Kuujuaq","PQ","Kuujuaq, PQ","CAN",58.1,-68.42,-5,37,null,null,null,"MO","Columbia, MO"]
[null,null,null,null,null,null,null,14920,"La Crosse","WI","La Crosse, WI","USA",43.87,-91.25,-6,202,null,null,null,"MO","Joplin, MO"]
[null,null,null,null,null,null,null,73715,"La Grande Riviere","PQ","La Grande Riviere, PQ","CAN",53.63,-77.7,-5,195,null,null,null,"MO","Kansas City, MO"]
[null,null,null,null,null,null,null,null,"Lafayette","LA","Lafayette, LA","USA",30.2,-91.98,-6,13,null,null,null,"MO","Kansas City, MO"]
[null,null,null,null,null,null,null,null,"Lafayette/Purdue Univ","IN","Lafayette/Purdue Univ, IN","USA",40.42,-86.93,-5,185,null,null,null,"MO","Poplar Bluff, MO"]
[null,null,null,null,null,null,null,3937,"Lake Charles","LA","Lake Charles, LA","USA",30.12,-93.22,-6,10,null,null,null,"MO","Spickard/Trenton, MO"]
[null,null,null,null,null,null,null,99907,"Lake Eon","PQ","Lake Eon, PQ","CAN",51.87,-63.28,-5,561,null,null,null,"MO","Springfield, MO"]
[null,null,null,null,null,null,null,"CAN07","Lake Eon","PQ","Lake Eon, PQ","CAN",51.87,-63.28,-5,561,null,null,null,"MO","St Louis/Int'l Airport, MO"]
[null,null,null,null,null,null,null,14780,"Lakehurst NAS","NJ","Lakehurst NAS, NJ","USA",40.03,-74.7,-5,34,null,null,null,"MO","Warrensburg/Sedalia/Whiteman A, MO"]
[null,null,null,null,null,null,null,null,"Lamoni","IA","Lamoni, IA","USA",40.619999999999997,-93.95,-6,342,null,null,null,"MS","Biloxi/Keesler AFB, MS"]
[null,null,null,null,null,null,null,null,"Lancaster/Palmdale","CA",{"$f":"CONCATENATE(I322,\", \",J322)","v":"Lancaster/Palmdale, CA"},"USA",34.729999999999997,-118.22,-8,715,null,null,null,"MS","Columbus/AFB, MS"]
[null,null,null,null,null,null,null,24021,"Lander","WY","Lander, WY","USA",42.82,-108.73,-7,1694,null,null,null,"MS","Greenwood, MS"]
[null,null,null,null,null,null,null,14836,"Lansing","MI","Lansing, MI","USA",42.77,-84.6,-5,266,null,null,null,"MS","Jackson, MS"]
[null,null,null,null,null,null,null,12907,"Laredo AFB","TX","Laredo AFB, TX","USA",27.53,-99.46,-6,152,null,null,null,"MS","Mccomb, MS"]
[null,null,null,null,null,null,null,72252,"Laredo","TX","Laredo, TX","USA",27.55,-99.47,-6,155,null,null,null,"MS","Meridian, MS"]
[null,null,null,null,null,null,null,23169,"Las Vegas/Int'l Airport","NV","Las Vegas/Int'l Airport, NV","USA",36.08,-115.17,-8,664,null,null,null,"MS","Tupelo, MS"]
[null,null,null,null,null,null,null,null,"Lawton/Fort Sill/Post Field AF","OK","Lawton/Fort Sill/Post Field AF, OK","USA",34.65,-98.4,-6,362,null,null,null,"MT","Billings, MT"]
[null,null,null,null,null,null,null,null,"Lebanon","NH","Lebanon, NH","USA",43.63,-72.3,-5,182,null,null,null,"MT","Bozeman, MT"]
[null,null,null,null,null,null,null,null,"Leesville/Fort Polk","LA","Leesville/Fort Polk, LA","USA",31.05,-93.2,-6,100,null,null,null,"MT","Butte, MT"]
[null,null,null,null,null,null,null,null,"Lemoore/Reeves NAS","CA","Lemoore/Reeves NAS, CA","USA",36.33,-119.95,-8,72,null,null,null,"MT","Cut Bank, MT"]
[null,null,null,null,null,null,null,24149,"Lewiston","ID","Lewiston, ID","USA",46.36,-117.01,-8,437,null,null,null,"MT","Dillon, MT"]
[null,null,null,null,null,null,null,24036,"Lewistown","MT","Lewistown, MT","USA",47.05,-109.47,-7,1270,null,null,null,"MT","Glasgow, MT"]
[null,null,null,null,null,null,null,93820,"Lexington","KY","Lexington, KY","USA",38.03,-84.6,-5,301,null,null,null,"MT","Great Falls/Int'l Airport, MT"]
[null,null,null,null,null,null,null,22536,"Lihue","HI","Lihue, HI","USA",21.98,-159.35,-10,45,null,null,null,"MT","Great Falls/Malmstrom AFB, MT"]
[null,null,null,null,null,null,null,null,"Limestone/Loring AFB","ME","Limestone/Loring AFB, ME","USA",46.95,-67.88,-5,227,null,null,null,"MT","Havre, MT"]
[null,null,null,null,null,null,null,null,"Limon","CO","Limon, CO","USA",39.270000000000003,-103.67,-7,1635,null,null,null,"MT","Helena, MT"]
[null,null,null,null,null,null,null,null,"Lincoln","NE","Lincoln, NE","USA",40.85,-96.75,-6,362,null,null,null,"MT","Kalispell, MT"]
[null,null,null,null,null,null,null,13963,"Little Rock/AFB","AR","Little Rock/AFB, AR","USA",34.92,-92.15,-6,95,null,null,null,"MT","Lewistown, MT"]
[null,null,null,null,null,null,null,1,"London","EN","London, EN","UK",51.48,-0.45,0,26,null,null,null,"MT","Miles City, MT"]
[null,null,null,null,null,null,null,94805,"London","ON","London, ON","CAN",43.03,-81.150000000000006,-5,278,null,null,null,"MT","Missoula, MT"]
[null,null,null,null,null,null,null,23129,"Long Beach","CA","Long Beach, CA","USA",33.82,-118.15,-8,12,null,null,null,"NB","Charlo, NB"]
[null,null,null,null,null,null,null,23174,"Los Angeles","CA","Los Angeles, CA","USA",33.93,-118.4,-8,32,null,null,null,"NB","Chatham, NB"]
[null,null,null,null,null,null,null,93821,"Louisville","KY","Louisville, KY","USA",38.18,-85.73,-5,149,null,null,null,"NB","Fredericton, NB"]
[null,null,null,null,null,null,null,24172,"Lovelock","NV","Lovelock, NV","USA",40.06,-118.55,-8,1188,null,null,null,"NB","Moncton, NB"]
[null,null,null,null,null,null,null,23042,"Lubbock/Int'l Arpt","TX","Lubbock/Int'l Arpt, TX","USA",33.65,-101.82,-6,988,null,null,null,"NB","Saint John, NB"]
[null,null,null,null,null,null,null,23021,"Lubbock/Reese AFB","TX","Lubbock/Reese AFB, TX","USA",33.6,-102.05,-6,1017,null,null,null,"NC","Asheville, NC"]
[null,null,null,null,null,null,null,93987,"Lufkin","TX","Lufkin, TX","USA",31.23,-94.75,-6,88,null,null,null,"NC","Cape Hatteras, NC"]
[null,null,null,null,null,null,null,13733,"Lynchburg","VA","Lynchburg, VA","USA",37.33,-79.2,-5,286,null,null,null,"NC","Charlotte, NC"]
[null,null,null,null,null,null,null,3813,"Macon","GA","Macon, GA","USA",32.700000000000003,-83.65,-5,110,null,null,null,"NC","Cherry Point MCAS, NC"]
[null,null,null,null,null,null,null,14837,"Madison","WI","Madison, WI","USA",43.13,-89.33,-6,264,null,null,null,"NC","Fayetteville/Fort Bragg, NC"]
[null,null,null,null,null,null,null,14891,"Mansfield","OH","Mansfield, OH","USA",40.82,-82.52,-5,395,null,null,null,"NC","Goldsboro/Seymour Johnson AFB, NC"]
[null,null,null,null,null,null,null,null,"Marfa","TX","Marfa, TX","USA",30.37,-104.02,-6,1481,null,null,null,"NC","Greensboro, NC"]
[null,null,null,null,null,null,null,null,"Marietta/Dobbins AFB","GA","Marietta/Dobbins AFB, GA","USA",33.92,-84.52,-5,326,null,null,null,"NC","Hickory, NC"]
[null,null,null,null,null,null,null,94836,"Marquette/Gwinn/K I Sawyer A","MI","Marquette/Gwinn/K I Sawyer A, MI","USA",46.35,-87.4,-5,372,null,null,null,"NC","Jacksonville/New River MCAF, NC"]
[null,null,null,null,null,null,null,null,"Marquette/Ishpeming/Airport","MI","Marquette/Ishpeming/Airport, MI","USA",46.53,-87.55,-5,434,null,null,null,"NC","New Bern, NC"]
[null,null,null,null,null,null,null,null,"Marseilles","IL","Marseilles, IL","USA",41.37,-88.68,-6,225,null,null,null,"NC","Raleigh/Durham, NC"]
[null,null,null,null,null,null,null,null,"Martinsburg","WV","Martinsburg, WV","USA",39.4,-77.98,-5,170,null,null,null,"NC","Wilmington, NC"]
[null,null,null,null,null,null,null,null,"Marysville/Yuba City/Beale AFB","CA","Marysville/Yuba City/Beale AFB, CA","USA",39.130000000000003,-121.43,-8,34,null,null,null,"NC","Winston-Salem, NC"]
[null,null,null,null,null,null,null,14940,"Mason City","IA","Mason City, IA","USA",43.15,-93.33,-6,370,null,null,null,"ND","Bismarck, ND"]
[null,null,null,null,null,null,null,94725,"Massena","NY","Massena, NY","USA",44.93,-74.849999999999994,-5,65,null,null,null,"ND","Devils Lake, ND"]
[null,null,null,null,null,null,null,null,"Mcalester","OK","Mcalester, OK","USA",34.880000000000003,-95.78,-6,235,null,null,null,"ND","Fargo, ND"]
[null,null,null,null,null,null,null,null,"McAllen","TX","McAllen, TX","USA",26.18,-98.23,-6,33,null,null,null,"ND","Grand Forks/AFB, ND"]
[null,null,null,null,null,null,null,null,"Mccomb","MS","Mccomb, MS","USA",31.18,-90.47,-6,126,null,null,null,"ND","Minot/AFB, ND"]
[null,null,null,null,null,null,null,26510,"McGrath","AK","McGrath, AK","USA",62.97,-155.62,-9,103,null,null,null,"ND","Minot/Int'l Airport, ND"]
[null,null,null,null,null,null,null,null,"Meacham","OR","Meacham, OR","USA",45.52,-118.4,-8,1236,null,null,null,"ND","Williston, ND"]
[null,null,null,null,null,null,null,24225,"Medford","OR","Medford, OR","USA",42.37,-122.87,-8,405,null,null,null,"NE","Bellevue/Offutt AFB, NE"]
[null,null,null,null,null,null,null,null,"Melbourne","FL","Melbourne, FL","USA",28.1,-80.650000000000006,-5,11,null,null,null,"NE","Grand Island, NE"]
[null,null,null,null,null,null,null,13893,"Memphis","TN","Memphis, TN","USA",35.049999999999997,-90,-6,87,null,null,null,"NE","Lincoln, NE"]
[null,null,null,null,null,null,null,null,"Merced/Castle AFB","CA","Merced/Castle AFB, CA","USA",37.380000000000003,-120.57,-8,57,null,null,null,"NE","Norfolk, NE"]
[null,null,null,null,null,null,null,null,"Mercury","NV","Mercury, NV","USA",36.619999999999997,-116.02,-8,1009,null,null,null,"NE","North Platte, NE"]
[null,null,null,null,null,null,null,13865,"Meridian","MS","Meridian, MS","USA",32.33,-88.75,-6,94,null,null,null,"NE","Omaha/Eppley Airfield, NE"]
[null,null,null,null,null,null,null,12839,"Miami/Int'l Airport","FL","Miami/Int'l Airport, FL","USA",25.82,-80.28,-5,4,null,null,null,"NE","Omaha/WSO, NE"]
[null,null,null,null,null,null,null,12839,"Miami/Kendall/New Tamiami Airport","FL","Miami/Kendall/New Tamiami Airport, FL","USA",25.65,-80.430000000000007,-5,3,null,null,null,"NE","Scottsbluff, NE"]
[null,null,null,null,null,null,null,null,"Middleton Island","AK","Middleton Island, AK","USA",59.43,-146.33000000000001,-9,14,null,null,null,"NE","Sidney, NE"]
[null,null,null,null,null,null,null,23023,"Midland/Odessa","TX","Midland/Odessa, TX","USA",31.95,-102.18,-6,872,null,null,null,"NE","Valentine, NE"]
[null,null,null,null,null,null,null,72265,"Midland/Odessa","TX","Midland/Odessa, TX","USA",31.95,-102.18,-6,872,null,null,null,"NF","Battle Harbour, NF"]
[null,null,null,null,null,null,null,24037,"Miles City","MT","Miles City, MT","USA",46.43,-105.87,-7,801,null,null,null,"NF","Battle Harbour, NF"]
[null,null,null,null,null,null,null,null,"Millville","NJ","Millville, NJ","USA",39.369999999999997,-75.069999999999993,-5,25,null,null,null,"NF","Bonavista, NF"]
[null,null,null,null,null,null,null,null,"Milton/Whiting Field NAS","FL","Milton/Whiting Field NAS, FL","USA",30.72,-87.02,-6,61,null,null,null,"NF","Cartwright, NF"]
[null,null,null,null,null,null,null,14839,"Milwaukee","WI","Milwaukee, WI","USA",42.95,-87.9,-6,211,null,null,null,"NF","Daniels Harbour, NF"]
[null,null,null,null,null,null,null,14922,"Minneapolis-St Paul","MN","Minneapolis-St Paul, MN","USA",44.88,-93.22,-6,255,null,null,null,"NF","Deer Lake, NF"]
[null,null,null,null,null,null,null,null,"Minot/AFB","ND","Minot/AFB, ND","USA",48.42,-101.35,-6,508,null,null,null,"NF","Gander Int'l, NF"]
[null,null,null,null,null,null,null,24013,"Minot/Int'l Airport","ND","Minot/Int'l Airport, ND","USA",48.27,-101.28,-6,523,null,null,null,"NF","Goose, NF"]
[null,null,null,null,null,null,null,24153,"Missoula","MT","Missoula, MT","USA",46.92,-114.08,-7,972,null,null,null,"NF","Hopedale, NF"]
[null,null,null,null,null,null,null,13894,"Mobile","AL",{"$f":"CONCATENATE(I386,\", \",J386)","v":"Mobile, AL"},"USA",30.68,-88.25,-6,67,null,null,null,"NF","St John's, NF"]
[null,null,null,null,null,null,null,14923,"Moline/Davenport IA","IL","Moline/Davenport IA, IL","USA",41.45,-90.52,-6,181,null,null,null,"NF","St John's, NF"]
[null,null,null,null,null,null,null,null,"Molokai","HI","Molokai, HI","USA",21.15,-157.1,-10,137,null,null,null,"NF","Stephenville, NF"]
[null,null,null,null,null,null,null,14625,"Moncton","NB","Moncton, NB","CAN",46.12,-64.680000000000007,-4,71,null,null,null,"NF","Wabush Lake, NF"]
[null,null,null,null,null,null,null,null,"Monroe","LA","Monroe, LA","USA",32.520000000000003,-92.03,-6,24,null,null,null,"NH","Concord, NH"]
[null,null,null,null,null,null,null,14639,"Mont Joli","PQ","Mont Joli, PQ","CAN",48.6,-68.22,-5,52,null,null,null,"NH","Lebanon, NH"]
[null,null,null,null,null,null,null,13895,"Montgomery","AL","Montgomery, AL","USA",32.299999999999997,-86.4,-6,62,null,null,null,"NH","Mount Washington, NH"]
[null,null,null,null,null,null,null,null,"Montpelier/Barre","VT","Montpelier/Barre, VT","USA",44.2,-72.569999999999993,-5,355,null,null,null,"NH","Portsmouth/Pease AFB, NH"]
[null,null,null,null,null,null,null,94792,"Montreal Int'l","PQ","Montreal Int'l, PQ","CAN",45.47,-73.75,-5,36,null,null,null,"NJ","Atlantic City, NJ"]
[null,null,null,null,null,null,null,4770,"Montreal Mirabel","PQ","Montreal Mirabel, PQ","CAN",45.68,-74.03,-5,82,null,null,null,"NJ","Lakehurst NAS, NJ"]
[null,null,null,null,null,null,null,75290,"Montreal Mirabel","PQ","Montreal Mirabel, PQ","CAN",45.68,-74.03,-5,82,null,null,null,"NJ","Millville, NJ"]
[null,null,null,null,null,null,null,25018,"Moose Jaw","SK","Moose Jaw, SK","CAN",50.33,-105.55,-6,577,null,null,null,"NJ","Newark, NJ"]
[null,null,null,null,null,null,null,null,"Morgantown","WV","Morgantown, WV","USA",39.65,-79.92,-5,380,null,null,null,"NJ","Teterboro, NJ"]
[null,null,null,null,null,null,null,27101,"Mould Bay","NT","Mould Bay, NT","CAN",76.2,-119.3,-7,40,null,null,null,"NJ","Trenton/Wrightstown/McGuire AFB, NJ"]
[null,null,null,null,null,null,null,null,"Mount Clemens/Selfridge ANGB","MI","Mount Clemens/Selfridge ANGB, MI","USA",42.62,-82.83,-5,177,null,null,null,"NM","Alamogordo/Holloman AFB, NM"]
[null,null,null,null,null,null,null,94857,"Mount Forest","ON","Mount Forest, ON","CAN",43.98,-80.75,-5,415,null,null,null,"NM","Albuquerque, NM"]
[null,null,null,null,null,null,null,24215,"Mount Shasta","CA","Mount Shasta, CA","USA",41.33,-122.33,-8,1077,null,null,null,"NM","Carlsbad, NM"]
[null,null,null,null,null,null,null,null,"Mount Washington","NH","Mount Washington, NH","USA",44.27,-71.3,-5,1910,null,null,null,"NM","Clayton, NM"]
[null,null,null,null,null,null,null,null,"Mountain Home/AFB","ID","Mountain Home/AFB, ID","USA",43.05,-115.87,-7,913,null,null,null,"NM","Clovis/Cannon AFB, NM"]
[null,null,null,null,null,null,null,23244,"Mountain View/Moffet NAS","CA","Mountain View/Moffet NAS, CA","USA",37.42,-122.05,-8,12,null,null,null,"NM","Farmington, NM"]
[null,null,null,null,null,null,null,null,"Mullan","ID","Mullan, ID","USA",47.47,-115.8,-8,1011,null,null,null,"NM","Gallup, NM"]
[null,null,null,null,null,null,null,null,"Muscle Shoals/Florence","AL","Muscle Shoals/Florence, AL","USA",34.75,-87.62,-6,168,null,null,null,"NM","Roswell, NM"]
[null,null,null,null,null,null,null,14840,"Muskegon","MI","Muskegon, MI","USA",43.17,-86.25,-5,193,null,null,null,"NM","Roswell, NM"]
[null,null,null,null,null,null,null,4704,"Muskoka","ON","Muskoka, ON","CAN",44.97,-79.3,-5,282,null,null,null,"NM","Truth or Consequences, NM"]
[null,null,null,null,null,null,null,null,"Myrtle Beach/AFB","SC","Myrtle Beach/AFB, SC","USA",33.68,-78.930000000000007,-5,8,null,null,null,"NM","Tucumcari, NM"]
[null,null,null,null,null,null,null,13897,"Nashville","TN","Nashville, TN","USA",36.130000000000003,-86.68,-6,180,null,null,null,"NS","Greenwood, NS"]
[null,null,null,null,null,null,null,null,"Nenana","AK","Nenana, AK","USA",64.55,-149.08000000000001,-9,110,null,null,null,"NS","Greenwood, NS"]
[null,null,null,null,null,null,null,null,"New Bern","NC","New Bern, NC","USA",35.07,-77.05,-5,6,null,null,null,"NS","Halifax Int'l, NS"]
[null,null,null,null,null,null,null,12916,"New Orleans/Int'l Airport","LA","New Orleans/Int'l Airport, LA","USA",29.98,-90.25,-6,9,null,null,null,"NS","Sable Island, NS"]
[null,null,null,null,null,null,null,12916,"New Orleans/Lakefront Airport","LA","New Orleans/Lakefront Airport, LA","USA",30.05,-90.03,-6,3,null,null,null,"NS","Shearwater, NS"]
[null,null,null,null,null,null,null,94728,"New York City/Central Park","NY","New York City/Central Park, NY","USA",40.78,-73.959999999999994,-5,40,null,null,null,"NS","Sydney, NS"]
[null,null,null,null,null,null,null,14732,"New York City/La Guardia","NY","New York City/La Guardia, NY","USA",40.78,-73.88,-5,3,null,null,null,"NS","Truro, NS"]
[null,null,null,null,null,null,null,74486,"New York/John F Kennedy Airport","NY","New York/John F Kennedy Airport, NY","USA",40.65,-73.78,-5,7,null,null,null,"NS","Yarmouth, NS"]
[null,null,null,null,null,null,null,94789,"New York/John F Kennedy Airport","NY","New York/John F Kennedy Airport, NY","USA",40.65,-73.78,-5,7,null,null,null,"NT","Cape Parry, NT"]
[null,null,null,null,null,null,null,14734,"Newark","NJ","Newark, NJ","USA",40.700000000000003,-74.17,-5,9,null,null,null,"NT","Eureka, NT"]
[null,null,null,null,null,null,null,null,"Newburgh","NY","Newburgh, NY","USA",41.5,-74.099999999999994,-5,150,null,null,null,"NT","Fort Smith, NT"]
[null,null,null,null,null,null,null,null,"Newport News","VA","Newport News, VA","USA",37.130000000000003,-76.5,-5,13,null,null,null,"NT","Inuvik Ua, NT"]
[null,null,null,null,null,null,null,14733,"Niagara Falls","NY","Niagara Falls, NY","USA",43.1,-78.95,-5,180,null,null,null,"NT","Mould Bay, NT"]
[null,null,null,null,null,null,null,15703,"Nitchequon","PQ","Nitchequon, PQ","CAN",53.2,-70.900000000000006,-5,536,null,null,null,"NT","Norman Wells, NT"]
[null,null,null,null,null,null,null,26617,"Nome","AK","Nome, AK","USA",64.5,-165.43,-9,7,null,null,null,"NT","Yellowknife, NT"]
[null,null,null,null,null,null,null,14941,"Norfolk","NE","Norfolk, NE","USA",41.98,-97.43,-6,473,null,null,null,"NU","Baker Lake, NU"]
[null,null,null,null,null,null,null,13737,"Norfolk","VA","Norfolk, VA","USA",36.9,-76.2,-5,9,null,null,null,"NU","Cambridge Bay, NU"]
[null,null,null,null,null,null,null,26202,"Norman Wells","NT","Norman Wells, NT","CAN",65.28,-126.8,-7,74,null,null,null,"NU","Chesterfield, NU"]
[null,null,null,null,null,null,null,25012,"North Battleford","SK","North Battleford, SK","CAN",52.77,-108.25,-6,548,null,null,null,"NU","Coral Harbour, NU"]
[null,null,null,null,null,null,null,4705,"North Bay","ON","North Bay, ON","CAN",46.35,-79.430000000000007,-5,371,null,null,null,"NU","Hall Beach, NU"]
[null,null,null,null,null,null,null,24284,"North Bend","OR","North Bend, OR","USA",43.42,-124.25,-8,4,null,null,null,"NU","Hall Beach, NU"]
[null,null,null,null,null,null,null,null,"North Las Vegas/Nellis AFB","NV","North Las Vegas/Nellis AFB, NV","USA",36.229999999999997,-115.03,-8,570,null,null,null,"NU","Iqaluit (Frobisher), NU"]
[null,null,null,null,null,null,null,24023,"North Platte","NE","North Platte, NE","USA",41.13,-100.68,-6,849,null,null,null,"NU","Resolute, NU"]
[null,null,null,null,null,null,null,null,"Northway","AK","Northway, AK","USA",62.97,-141.93,-9,525,null,null,null,"NV","Elko, NV"]
[null,null,null,null,null,null,null,23230,"Oakland","CA","Oakland, CA","USA",37.71,-122.21,-8,1,null,null,null,"NV","Ely, NV"]
[null,null,null,null,null,null,null,null,"Oceana/NAS","VA","Oceana/NAS, VA","USA",36.82,-76.03,-5,7,null,null,null,"NV","Las Vegas/Int'l Airport, NV"]
[null,null,null,null,null,null,null,72575,"Ogden/Hill AFB","UT","Ogden/Hill AFB, UT","USA",41.12,-111.97,-7,1459,null,null,null,"NV","Lovelock, NV"]
[null,null,null,null,null,null,null,null,"Oklahoma City/Tinker AFB","OK","Oklahoma City/Tinker AFB, OK","USA",35.42,-97.38,-6,394,null,null,null,"NV","Mercury, NV"]
[null,null,null,null,null,null,null,13967,"Oklahoma City/Will Rogers Airport","OK","Oklahoma City/Will Rogers Airport, OK","USA",35.4,-97.6,-6,397,null,null,null,"NV","North Las Vegas/Nellis AFB, NV"]
[null,null,null,null,null,null,null,24227,"Olympia","WA","Olympia, WA","USA",46.97,-122.9,-8,61,null,null,null,"NV","Reno, NV"]
[null,null,null,null,null,null,null,94918,"Omaha/Eppley Airfield","NE","Omaha/Eppley Airfield, NE","USA",41.3,-95.9,-6,299,null,null,null,"NV","Tonopah, NV"]
[null,null,null,null,null,null,null,14942,"Omaha/WSO","NE","Omaha/WSO, NE","USA",41.37,-96.02,-6,406,null,null,null,"NV","Winnemucca, NV"]
[null,null,null,null,null,null,null,null,"Ontario","CA","Ontario, CA","USA",34.049999999999997,-117.6,-8,287,null,null,null,"NV","Yucca Flats, NV"]
[null,null,null,null,null,null,null,12841,"Orlando","FL","Orlando, FL","USA",28.55,-81.33,-5,32,null,null,null,"NY","Albany, NY"]
[null,null,null,null,null,null,null,null,"Orlando","FL","Orlando, FL","USA",28.55,-81.33,-5,32,null,null,null,"NY","Binghamton, NY"]
[null,null,null,null,null,null,null,14808,"Oscoda/Wurtsmith AFB","MI","Oscoda/Wurtsmith AFB, MI","USA",44.45,-83.4,-5,193,null,null,null,"NY","Buffalo, NY"]
[null,null,null,null,null,null,null,4772,"Ottawa Int'l","ON","Ottawa Int'l, ON","CAN",45.32,-75.67,-5,114,null,null,null,"NY","Central Islip, NY"]
[null,null,null,null,null,null,null,99914,"Ottawa Int'l","ON","Ottawa Int'l, ON","CAN",45.32,-75.67,-5,114,null,null,null,"NY","Elmira/Corning, NY"]
[null,null,null,null,null,null,null,"CAN14","Ottawa Int'l","ON","Ottawa Int'l, ON","CAN",45.32,-75.67,-5,114,null,null,null,"NY","Glens Falls, NY"]
[null,null,null,null,null,null,null,null,"Ottumwa","IA",{"$f":"CONCATENATE(I450,\", \",J450)","v":"Ottumwa, IA"},"USA",41.1,-92.45,-6,258,null,null,null,"NY","Massena, NY"]
[null,null,null,null,null,null,null,93111,"Oxnard/Point Mugu NF","CA","Oxnard/Point Mugu NF, CA","USA",34.11,-119.11,-8,3,null,null,null,"NY","New York City/Central Park, NY"]
[null,null,null,null,null,null,null,null,"Ozark/Fort Rucker","AL","Ozark/Fort Rucker, AL","USA",31.28,-85.72,-6,91,null,null,null,"NY","New York City/La Guardia, NY"]
[null,null,null,null,null,null,null,null,"Paducah","KY","Paducah, KY","USA",37.07,-88.77,-6,126,null,null,null,"NY","New York/John F Kennedy Airport, NY"]
[null,null,null,null,null,null,null,null,"Page","AZ","Page, AZ","USA",36.93,-111.45,-7,1304,null,null,null,"NY","New York/John F Kennedy Airport, NY"]
[null,null,null,null,null,null,null,null,"Panama City/Tyndall AFB","FL","Panama City/Tyndall AFB, FL","USA",30.07,-85.58,-6,5,null,null,null,"NY","Newburgh, NY"]
[null,null,null,null,null,null,null,null,"Parkersburg","WV","Parkersburg, WV","USA",39.35,-81.430000000000007,-5,262,null,null,null,"NY","Niagara Falls, NY"]
[null,null,null,null,null,null,null,9,"Pasadena","CA","Pasadena, CA","USA",34.15,-118.15,-8,263.3,null,null,null,"NY","Plattsburgh/AFB, NY"]
[null,null,null,null,null,null,null,"CTZ09","Pasadena","CA","Pasadena, CA","USA",34.15,-118.15,-8,263.3,null,null,null,"NY","Poughkeepsie, NY"]
[null,null,null,null,null,null,null,null,"Paso Robles","CA","Paso Robles, CA","USA",35.67,-120.63,-8,255,null,null,null,"NY","Rochester, NY"]
[null,null,null,null,null,null,null,13721,"Patuxent River NAS","MD","Patuxent River NAS, MD","USA",38.299999999999997,-76.41,-5,14,null,null,null,"NY","Rome/Griffiss AFB, NY"]
[null,null,null,null,null,null,null,null,"Pellston","MI","Pellston, MI","USA",45.57,-84.8,-5,219,null,null,null,"NY","Syracuse, NY"]
[null,null,null,null,null,null,null,24155,"Pendleton","OR","Pendleton, OR","USA",45.68,-118.85,-8,456,null,null,null,"NY","Watertown, NY"]
[null,null,null,null,null,null,null,null,"Pensacola/Forest Sherman AFB","FL","Pensacola/Forest Sherman AFB, FL","USA",30.35,-87.32,-6,9,null,null,null,"NY","White Plains, NY"]
[null,null,null,null,null,null,null,94116,"Penticton","BC","Penticton, BC","CAN",49.47,-119.6,-8,344,null,null,null,"OH","Akron/Canton, OH"]
[null,null,null,null,null,null,null,14842,"Peoria","IL","Peoria, IL","USA",40.67,-89.68,-6,186,null,null,null,"OH","Cincinnati/Lunken Field, OH"]
[null,null,null,null,null,null,null,null,"Peru/Grissom AFB","IN","Peru/Grissom AFB, IN","USA",40.65,-86.15,-5,247,null,null,null,"OH","Cleveland, OH"]
[null,null,null,null,null,null,null,13739,"Philadelphia/Int'l Airport","PA","Philadelphia/Int'l Airport, PA","USA",39.880000000000003,-75.25,-5,9,null,null,null,"OH","Columbus/Int'l Airport, OH"]
[null,null,null,null,null,null,null,null,"Philadelphia/Northeast Airport","PA","Philadelphia/Northeast Airport, PA","USA",40.08,-75.02,-5,37,null,null,null,"OH","Columbus/Rickenbacker AFB, OH"]
[null,null,null,null,null,null,null,13739,"Philadelphia/Willow Grove NAS","PA","Philadelphia/Willow Grove NAS, PA","USA",40.200000000000003,-75.150000000000006,-5,110,null,null,null,"OH","Dayton/Int'l Airport, OH"]
[null,null,null,null,null,null,null,23183,"Phoenix/Int'l Airport","AZ","Phoenix/Int'l Airport, AZ","USA",33.43,-112.02,-7,337,null,null,null,"OH","Dayton/Wright-Paterson AFB, OH"]
[null,null,null,null,null,null,null,23183,"Phoenix/Luke AFB","AZ","Phoenix/Luke AFB, AZ","USA",33.53,-112.38,-7,332,null,null,null,"OH","Findlay, OH"]
[null,null,null,null,null,null,null,24025,"Pierre","SD","Pierre, SD","USA",44.38,-100.28,-6,531,null,null,null,"OH","Mansfield, OH"]
[null,null,null,null,null,null,null,null,"Pittsburgh/Allegheny Co Airport","PA","Pittsburgh/Allegheny Co Airport, PA","USA",40.35,-79.930000000000007,-5,382,null,null,null,"OH","Toledo, OH"]
[null,null,null,null,null,null,null,94823,"Pittsburgh/Pittsburgh Int'l AP","PA","Pittsburgh/Pittsburgh Int'l AP, PA","USA",40.5,-80.22,-5,373,null,null,null,"OH","Youngstown, OH"]
[null,null,null,null,null,null,null,null,"Plattsburgh/AFB","NY","Plattsburgh/AFB, NY","USA",44.65,-73.47,-5,72,null,null,null,"OH","Zanesville, OH"]
[null,null,null,null,null,null,null,24156,"Pocatello","ID","Pocatello, ID","USA",42.92,-112.6,-7,1365,null,null,null,"OK","Altus/AFB, OK"]
[null,null,null,null,null,null,null,null,"Poplar Bluff","MO","Poplar Bluff, MO","USA",36.770000000000003,-90.47,-6,146,null,null,null,"OK","Enid/Vance AFB, OK"]
[null,null,null,null,null,null,null,25223,"Port Hardy","BC","Port Hardy, BC","CAN",50.68,-127.37,-8,22,null,null,null,"OK","Lawton/Fort Sill/Post Field AF, OK"]
[null,null,null,null,null,null,null,null,"Port Heiden","AK","Port Heiden, AK","USA",56.95,-158.62,-9,29,null,null,null,"OK","Mcalester, OK"]
[null,null,null,null,null,null,null,94912,"Portage La Prairie","MB","Portage La Prairie, MB","CAN",49.9,-98.27,-6,269,null,null,null,"OK","Oklahoma City/Tinker AFB, OK"]
[null,null,null,null,null,null,null,14764,"Portland","ME","Portland, ME","USA",43.65,-70.319999999999993,-5,19,null,null,null,"OK","Oklahoma City/Will Rogers Airport, OK"]
[null,null,null,null,null,null,null,24229,"Portland","OR","Portland, OR","USA",45.6,-122.6,-8,12,null,null,null,"OK","Tulsa, OK"]
[null,null,null,null,null,null,null,null,"Portsmouth/Pease AFB","NH","Portsmouth/Pease AFB, NH","USA",43.08,-70.819999999999993,-5,31,null,null,null,"ON","Armstrong, ON"]
[null,null,null,null,null,null,null,null,"Poughkeepsie","NY","Poughkeepsie, NY","USA",41.63,-73.88,-5,51,null,null,null,"ON","Armstrong, ON"]
[null,null,null,null,null,null,null,23184,"Prescott","AZ","Prescott, AZ","USA",34.65,-112.42,-7,1537,null,null,null,"ON","Atikokan, ON"]
[null,null,null,null,null,null,null,25013,"Prince Albert","SK","Prince Albert, SK","CAN",53.22,-105.68,-6,428,null,null,null,"ON","Big Trout Lake, ON"]
[null,null,null,null,null,null,null,25206,"Prince George","BC","Prince George, BC","CAN",53.88,-122.68,-8,691,null,null,null,"ON","Earlton, ON"]
[null,null,null,null,null,null,null,25353,"Prince Rupert","BC","Prince Rupert, BC","CAN",54.3,-130.43,-8,34,null,null,null,"ON","Geraldton, ON"]
[null,null,null,null,null,null,null,14765,"Providence","RI","Providence, RI","USA",41.73,-71.430000000000007,-5,19,null,null,null,"ON","Geraldton, ON"]
[null,null,null,null,null,null,null,93058,"Pueblo","CO","Pueblo, CO","USA",38.28,-104.52,-7,1439,null,null,null,"ON","Gore Bay, ON"]
[null,null,null,null,null,null,null,null,"Quantico/MCAS","VA","Quantico/MCAS, VA","USA",38.5,-77.3,-5,4,null,null,null,"ON","Hamilton, ON"]
[null,null,null,null,null,null,null,4708,"Quebec","PQ","Quebec, PQ","CAN",46.8,-71.38,-5,73,null,null,null,"ON","Kapuskasing, ON"]
[null,null,null,null,null,null,null,25224,"Quesnel","BC","Quesnel, BC","CAN",53.03,-122.52,-8,545,null,null,null,"ON","Kenora, ON"]
[null,null,null,null,null,null,null,94240,"Quillayute","WA","Quillayute, WA","USA",47.95,-124.55,-8,62,null,null,null,"ON","London, ON"]
[null,null,null,null,null,null,null,null,"Quincy","IL","Quincy, IL","USA",39.950000000000003,-91.2,-6,234,null,null,null,"ON","Mount Forest, ON"]
[null,null,null,null,null,null,null,13722,"Raleigh/Durham","NC","Raleigh/Durham, NC","USA",35.869999999999997,-78.78,-5,134,null,null,null,"ON","Muskoka, ON"]
[null,null,null,null,null,null,null,24090,"Rapid City","SD","Rapid City, SD","USA",44.05,-103.07,-7,966,null,null,null,"ON","North Bay, ON"]
[null,null,null,null,null,null,null,24216,"Red Bluff","CA","Red Bluff, CA","USA",40.15,-122.25,-8,106,null,null,null,"ON","Ottawa Int'l, ON"]
[null,null,null,null,null,null,null,24230,"Redmond","OR","Redmond, OR","USA",44.25,-121.15,-8,938,null,null,null,"ON","Ottawa Int'l, ON"]
[null,null,null,null,null,null,null,null,"Redwood Falls","MN","Redwood Falls, MN","USA",44.55,-95.08,-6,312,null,null,null,"ON","Ottawa Int'l, ON"]
[null,null,null,null,null,null,null,25005,"Regina","SK","Regina, SK","CAN",50.43,-104.67,-6,577,null,null,null,"ON","Sault Ste Marie, ON"]
[null,null,null,null,null,null,null,23185,"Reno","NV","Reno, NV","USA",39.5,-119.78,-8,1341,null,null,null,"ON","Simcoe, ON"]
[null,null,null,null,null,null,null,17901,"Resolute","NU","Resolute, NU","CAN",74.72,-94.98,-6,67,null,null,null,"ON","Sioux Lookout, ON"]
[null,null,null,null,null,null,null,13740,"Richmond","VA","Richmond, VA","USA",37.5,-77.33,-5,54,null,null,null,"ON","Sudbury, ON"]
[null,null,null,null,null,null,null,10,"Riverside/March AFB","CA","Riverside/March AFB, CA","USA",33.880000000000003,-117.27,-8,469,null,null,null,"ON","Thunder Bay, ON"]
[null,null,null,null,null,null,null,72286,"Riverside/March AFB","CA","Riverside/March AFB, CA","USA",33.880000000000003,-117.27,-8,469,null,null,null,"ON","Timmins, ON"]
[null,null,null,null,null,null,null,"CTZ10","Riverside/March AFB","CA","Riverside/March AFB, CA","USA",33.880000000000003,-117.27,-8,469,null,null,null,"ON","Toronto Int'l, ON"]
[null,null,null,null,null,null,null,99912,"Riviere Du Loup","PQ","Riviere Du Loup, PQ","CAN",47.8,-69.55,-5,148,null,null,null,"ON","Toronto Int'l, ON"]
[null,null,null,null,null,null,null,"CAN12","Riviere Du Loup","PQ","Riviere Du Loup, PQ","CAN",47.8,-69.55,-5,148,null,null,null,"ON","Toronto Int'l, ON"]
[null,null,null,null,null,null,null,13741,"Roanoke","VA","Roanoke, VA","USA",37.32,-79.97,-5,358,null,null,null,"ON","Trenton, ON"]
[null,null,null,null,null,null,null,4752,"Roberval","PQ","Roberval, PQ","CAN",48.52,-72.27,-5,179,null,null,null,"ON","Wiarton, ON"]
[null,null,null,null,null,null,null,14925,"Rochester","MN","Rochester, MN","USA",43.92,-92.5,-6,402,null,null,null,"ON","Windsor, ON"]
[null,null,null,null,null,null,null,14768,"Rochester","NY","Rochester, NY","USA",43.12,-77.67,-5,169,null,null,null,"OR","Astoria, OR"]
[null,null,null,null,null,null,null,24027,"Rock Springs","WY",{"$f":"CONCATENATE(I514,\", \",J514)","v":"Rock Springs, WY"},"USA",41.6,-109.07,-7,2060,null,null,null,"OR","Burns, OR"]
[null,null,null,null,null,null,null,94822,"Rockford","IL","Rockford, IL","USA",42.2,-89.1,-6,226,null,null,null,"OR","Eugene, OR"]
[null,null,null,null,null,null,null,null,"Rome","GA","Rome, GA","USA",34.35,-85.17,-5,196,null,null,null,"OR","Hillsboro, OR"]
[null,null,null,null,null,null,null,null,"Rome/Griffiss AFB","NY","Rome/Griffiss AFB, NY","USA",43.23,-75.400000000000006,-5,154,null,null,null,"OR","Klamath Falls, OR"]
[null,null,null,null,null,null,null,23043,"Roswell","NM","Roswell, NM","USA",33.299999999999997,-104.53,-7,1112,null,null,null,"OR","Meacham, OR"]
[null,null,null,null,null,null,null,72268,"Roswell","NM","Roswell, NM","USA",33.299999999999997,-104.53,-7,1118,null,null,null,"OR","Medford, OR"]
[null,null,null,null,null,null,null,null,"Russell","KS","Russell, KS","USA",38.869999999999997,-98.82,-6,568,null,null,null,"OR","North Bend, OR"]
[null,null,null,null,null,null,null,14642,"Sable Island","NS","Sable Island, NS","CAN",43.93,-60.02,-4,4,null,null,null,"OR","Pendleton, OR"]
[null,null,null,null,null,null,null,23232,"Sacramento/Mather Field","CA","Sacramento/Mather Field, CA","USA",38.549999999999997,-121.3,-8,29,null,null,null,"OR","Portland, OR"]
[null,null,null,null,null,null,null,null,"Sacramento/Mcclellan AFB","CA","Sacramento/Mcclellan AFB, CA","USA",38.67,-121.4,-8,23,null,null,null,"OR","Redmond, OR"]
[null,null,null,null,null,null,null,23232,"Sacramento/Metro","CA","Sacramento/Metro, CA","USA",38.700000000000003,-121.58,-8,7,null,null,null,"OR","Salem, OR"]
[null,null,null,null,null,null,null,null,"Safford/Agri Center","AZ","Safford/Agri Center, AZ","USA",32.82,-109.68,-7,950,null,null,null,"OR","Sexton Summit, OR"]
[null,null,null,null,null,null,null,null,"Saginaw","MI","Saginaw, MI","USA",43.53,-84.08,-5,204,null,null,null,"PA","Allentown, PA"]
[null,null,null,null,null,null,null,14926,"Saint Cloud","MN","Saint Cloud, MN","USA",45.55,-94.07,-6,312,null,null,null,"PA","Altoona, PA"]
[null,null,null,null,null,null,null,14643,"Saint John","NB","Saint John, NB","CAN",45.32,-65.88,-4,109,null,null,null,"PA","Bradford, PA"]
[null,null,null,null,null,null,null,25713,"Saint Paul Island","AK","Saint Paul Island, AK","USA",57.15,-170.22,-10,9,null,null,null,"PA","Du Bois, PA"]
[null,null,null,null,null,null,null,null,"Saint Petersburg","FL","Saint Petersburg, FL","USA",27.92,-82.68,-5,3,null,null,null,"PA","Erie, PA"]
[null,null,null,null,null,null,null,24232,"Salem","OR","Salem, OR","USA",44.92,-123,-8,61,null,null,null,"PA","Harrisburg, PA"]
[null,null,null,null,null,null,null,null,"Salina","KS","Salina, KS","USA",38.799999999999997,-97.65,-6,388,null,null,null,"PA","Philadelphia/Int'l Airport, PA"]
[null,null,null,null,null,null,null,null,"Salinas","CA","Salinas, CA","USA",36.67,-121.6,-8,26,null,null,null,"PA","Philadelphia/Northeast Airport, PA"]
[null,null,null,null,null,null,null,null,"Salisbury","MD","Salisbury, MD","USA",38.33,-75.52,-5,16,null,null,null,"PA","Philadelphia/Willow Grove NAS, PA"]
[null,null,null,null,null,null,null,24127,"Salt Lake City","UT","Salt Lake City, UT","USA",40.78,-111.97,-7,1288,null,null,null,"PA","Pittsburgh/Allegheny Co Airport, PA"]
[null,null,null,null,null,null,null,23034,"San Angelo","TX","San Angelo, TX","USA",31.37,-100.5,-6,582,null,null,null,"PA","Pittsburgh/Pittsburgh Int'l AP, PA"]
[null,null,null,null,null,null,null,72263,"San Angelo","TX","San Angelo, TX","USA",31.37,-100.5,-6,582,null,null,null,"PA","Wilkes-Barre/Scranton, PA"]
[null,null,null,null,null,null,null,12921,"San Antonio/Int'l Airport","TX","San Antonio/Int'l Airport, TX","USA",29.53,-98.47,-6,242,null,null,null,"PA","Williamsport, PA"]
[null,null,null,null,null,null,null,12909,"San Antonio/Kelly AFB","TX","San Antonio/Kelly AFB, TX","USA",29.38,-98.58,-6,210,null,null,null,"PE","Charlottetown CDA, PE"]
[null,null,null,null,null,null,null,12921,"San Antonio/Randolph AFB","TX","San Antonio/Randolph AFB, TX","USA",29.53,-98.28,-6,232,null,null,null,"PE","Summerside, PE"]
[null,null,null,null,null,null,null,72286,"San Bernardino/Norton AFB","CA","San Bernardino/Norton AFB, CA","USA",34.1,-117.23,-8,353,null,null,null,"PQ","Bagotville, PQ"]
[null,null,null,null,null,null,null,23188,"San Diego/Int'l Airport","CA","San Diego/Int'l Airport, CA","USA",32.729999999999997,-117.17,-8,9,null,null,null,"PQ","Baie Comeau, PQ"]
[null,null,null,null,null,null,null,null,"San Diego/Miramar NAS","CA","San Diego/Miramar NAS, CA","USA",32.85,-117.12,-8,128,null,null,null,"PQ","Grindstone Island, PQ"]
[null,null,null,null,null,null,null,23234,"San Francisco","CA","San Francisco, CA","USA",37.619999999999997,-122.38,-8,5,null,null,null,"PQ","Kuujjuarapik, PQ"]
[null,null,null,null,null,null,null,null,"San Jose Int'l Airport","CA","San Jose Int'l Airport, CA","USA",37.369999999999997,-121.93,-8,17,null,null,null,"PQ","Kuujuaq, PQ"]
[null,null,null,null,null,null,null,null,"Sanderson","TX","Sanderson, TX","USA",30.17,-102.42,-6,865,null,null,null,"PQ","La Grande Riviere, PQ"]
[null,null,null,null,null,null,null,25346,"Sandspit","BC","Sandspit, BC","CAN",53.25,-131.82,-8,6,null,null,null,"PQ","Lake Eon, PQ"]
[null,null,null,null,null,null,null,null,"Santa Barbara","CA","Santa Barbara, CA","USA",34.43,-119.83,-8,3,null,null,null,"PQ","Lake Eon, PQ"]
[null,null,null,null,null,null,null,23273,"Santa Maria","CA","Santa Maria, CA","USA",34.9,-120.45,-8,73,null,null,null,"PQ","Mont Joli, PQ"]
[null,null,null,null,null,null,null,2,"Santa Rosa","CA","Santa Rosa, CA","USA",38.450000000000003,-122.7167,-8,50.9,null,null,null,"PQ","Montreal Int'l, PQ"]
[null,null,null,null,null,null,null,"CTZ02","Santa Rosa","CA","Santa Rosa, CA","USA",38.450000000000003,-122.7167,-8,50.9,null,null,null,"PQ","Montreal Mirabel, PQ"]
[null,null,null,null,null,null,null,null,"Sarasota/Bradenton","FL","Sarasota/Bradenton, FL","USA",27.4,-82.55,-5,9,null,null,null,"PQ","Montreal Mirabel, PQ"]
[null,null,null,null,null,null,null,25015,"Saskatoon","SK","Saskatoon, SK","CAN",52.17,-106.68,-6,504,null,null,null,"PQ","Nitchequon, PQ"]
[null,null,null,null,null,null,null,14847,"Sault Ste Marie","MI","Sault Ste Marie, MI","USA",46.47,-84.37,-5,221,null,null,null,"PQ","Quebec, PQ"]
[null,null,null,null,null,null,null,94842,"Sault Ste Marie","ON","Sault Ste Marie, ON","CAN",46.48,-84.52,-5,192,null,null,null,"PQ","Riviere Du Loup, PQ"]
[null,null,null,null,null,null,null,3822,"Savannah","GA","Savannah, GA","USA",32.130000000000003,-81.2,-5,15,null,null,null,"PQ","Riviere Du Loup, PQ"]
[null,null,null,null,null,null,null,15619,"Schefferville","PQ","Schefferville, PQ","CAN",54.8,-66.819999999999993,-5,521,null,null,null,"PQ","Roberval, PQ"]
[null,null,null,null,null,null,null,24028,"Scottsbluff","NE","Scottsbluff, NE","USA",41.87,-103.6,-7,1206,null,null,null,"PQ","Schefferville, PQ"]
[null,null,null,null,null,null,null,24233,"Seattle-Tacoma/Int'l Airport","WA","Seattle-Tacoma/Int'l Airport, WA","USA",47.45,-122.3,-8,137,null,null,null,"PQ","Sept-Iles, PQ"]
[null,null,null,null,null,null,null,77912,"Sept-Iles","PQ","Sept-Iles, PQ","CAN",50.22,-66.27,-5,55,null,null,null,"PQ","Sherbrooke, PQ"]
[null,null,null,null,null,null,null,null,"Seul Choix Point","MI","Seul Choix Point, MI","USA",45.92,-85.92,-5,180,null,null,null,"PQ","St Hubert, PQ"]
[null,null,null,null,null,null,null,null,"Sexton Summit","OR","Sexton Summit, OR","USA",42.62,-123.37,-8,1171,null,null,null,"PQ","Ste Agathe Des Monts, PQ"]
[null,null,null,null,null,null,null,14633,"Shearwater","NS","Shearwater, NS","CAN",44.63,-63.5,-4,51,null,null,null,"PQ","Val d'Or, PQ"]
[null,null,null,null,null,null,null,4785,"Sherbrooke","PQ","Sherbrooke, PQ","CAN",45.43,-71.680000000000007,-5,241,null,null,null,"RI","Providence, RI"]
[null,null,null,null,null,null,null,24029,"Sheridan","WY","Sheridan, WY","USA",44.77,-106.97,-7,1209,null,null,null,"SC","Beaufort/MCAS, SC"]
[null,null,null,null,null,null,null,13923,"Sherman-Denison","TX","Sherman-Denison, TX","USA",33.72,-96.67,-6,233,null,null,null,"SC","Charleston, SC"]
[null,null,null,null,null,null,null,13957,"Shreveport","LA","Shreveport, LA","USA",32.47,-93.82,-6,79,null,null,null,"SC","Columbia, SC"]
[null,null,null,null,null,null,null,null,"Sidney","NE","Sidney, NE","USA",41.1,-102.98,-7,1312,null,null,null,"SC","Florence, SC"]
[null,null,null,null,null,null,null,94858,"Simcoe","ON","Simcoe, ON","CAN",42.85,-80.27,-5,241,null,null,null,"SC","Greer/Greenville, SC"]
[null,null,null,null,null,null,null,14943,"Sioux City","IA","Sioux City, IA","USA",42.4,-96.38,-6,336,null,null,null,"SC","Myrtle Beach/AFB, SC"]
[null,null,null,null,null,null,null,14944,"Sioux Falls","SD","Sioux Falls, SD","USA",43.58,-96.73,-6,435,null,null,null,"SC","Sumter/Shaw AFB, SC"]
[null,null,null,null,null,null,null,15909,"Sioux Lookout","ON","Sioux Lookout, ON","CAN",50.12,-91.9,-5,390,null,null,null,"SD","Chamberlain, SD"]
[null,null,null,null,null,null,null,null,"Sitka","AK","Sitka, AK","USA",57.07,-135.35,-9,20,null,null,null,"SD","Huron, SD"]
[null,null,null,null,null,null,null,25225,"Smithers","BC","Smithers, BC","CAN",54.82,-127.18,-8,523,null,null,null,"SD","Pierre, SD"]
[null,null,null,null,null,null,null,14848,"South Bend","IN","South Bend, IN","USA",41.7,-86.32,-6,236,null,null,null,"SD","Rapid City, SD"]
[null,null,null,null,null,null,null,null,"Spencer","IA","Spencer, IA","USA",43.17,-95.15,-6,408,null,null,null,"SD","Sioux Falls, SD"]
[null,null,null,null,null,null,null,null,"Spickard/Trenton","MO","Spickard/Trenton, MO","USA",40.25,-93.72,-6,270,null,null,null,"SK","Broadview, SK"]
[null,null,null,null,null,null,null,24157,"Spokane/Fairchild AFB","WA",{"$f":"CONCATENATE(I578,\", \",J578)","v":"Spokane/Fairchild AFB, WA"},"USA",47.62,-117.65,-8,750,null,null,null,"SK","Estevan, SK"]
[null,null,null,null,null,null,null,99909,"Spring Island","BC","Spring Island, BC","CAN",50.12,-127.93,-8,98,null,null,null,"SK","Moose Jaw, SK"]
[null,null,null,null,null,null,null,"CAN09","Spring Island","BC","Spring Island, BC","CAN",50.12,-127.93,-8,98,null,null,null,"SK","North Battleford, SK"]
[null,null,null,null,null,null,null,93822,"Springfield","IL","Springfield, IL","USA",39.85,-89.67,-6,187,null,null,null,"SK","Prince Albert, SK"]
[null,null,null,null,null,null,null,13995,"Springfield","MO","Springfield, MO","USA",37.229999999999997,-93.38,-6,387,null,null,null,"SK","Regina, SK"]
[null,null,null,null,null,null,null,4712,"St Hubert","PQ","St Hubert, PQ","CAN",45.52,-73.42,-5,27,null,null,null,"SK","Saskatoon, SK"]
[null,null,null,null,null,null,null,14506,"St John's","NF","St John's, NF","CAN",47.62,-52.73,-3.5,140,null,null,null,"SK","Swift Current, SK"]
[null,null,null,null,null,null,null,14521,"St John's","NF","St John's, NF","CAN",47.62,-52.73,-3.5,140,null,null,null,"SK","Uranium City, SK"]
[null,null,null,null,null,null,null,13994,"St Louis/Int'l Airport","MO","St Louis/Int'l Airport, MO","USA",38.75,-90.37,-6,172,null,null,null,"SK","Uranium City, SK"]
[null,null,null,null,null,null,null,null,"Stampede Pass","WA","Stampede Pass, WA","USA",47.28,-121.33,-8,1209,null,null,null,"SK","Wynyard, SK"]
[null,null,null,null,null,null,null,4790,"Ste Agathe Des Monts","PQ","Ste Agathe Des Monts, PQ","CAN",46.05,-74.28,-5,395,null,null,null,"SK","Yorkton, SK"]
[null,null,null,null,null,null,null,14503,"Stephenville","NF","Stephenville, NF","CAN",48.53,-58.55,-3.5,26,null,null,null,"TN","Bristol, TN"]
[null,null,null,null,null,null,null,93734,"Sterling/Washington Dulles Airport","VA","Sterling/Washington Dulles Airport, VA","USA",38.950000000000003,-77.45,-5,98,null,null,null,"TN","Chattanooga, TN"]
[null,null,null,null,null,null,null,93738,"Sterling/Washington Dulles Airport","VA","Sterling/Washington Dulles Airport, VA","USA",38.950000000000003,-77.45,-5,98,null,null,null,"TN","Crossville, TN"]
[null,null,null,null,null,null,null,null,"Stockton","CA","Stockton, CA","USA",37.9,-121.25,-8,8,null,null,null,"TN","Jackson, TN"]
[null,null,null,null,null,null,null,94828,"Sudbury","ON","Sudbury, ON","CAN",46.62,-80.8,-5,348,null,null,null,"TN","Knoxville, TN"]
[null,null,null,null,null,null,null,94152,"Summerland","BC","Summerland, BC","CAN",49.57,-119.65,-8,479,null,null,null,"TN","Memphis, TN"]
[null,null,null,null,null,null,null,14645,"Summerside","PE","Summerside, PE","CAN",46.43,-63.83,-4,24,null,null,null,"TN","Nashville, TN"]
[null,null,null,null,null,null,null,26414,"Summit","AK","Summit, AK","USA",63.33,-149.13,-9,734,null,null,null,"TX","Abilene, TX"]
[null,null,null,null,null,null,null,null,"Sumter/Shaw AFB","SC","Sumter/Shaw AFB, SC","USA",33.97,-80.47,-5,74,null,null,null,"TX","Amarillo, TX"]
[null,null,null,null,null,null,null,25028,"Swift Current","SK","Swift Current, SK","CAN",50.28,-107.68,-6,818,null,null,null,"TX","Austin, TX"]
[null,null,null,null,null,null,null,14646,"Sydney","NS","Sydney, NS","CAN",46.17,-60.05,-4,62,null,null,null,"TX","Beaumont/Port Arthur, TX"]
[null,null,null,null,null,null,null,14771,"Syracuse","NY","Syracuse, NY","USA",43.12,-76.12,-5,124,null,null,null,"TX","Beeville/Chase Field NAS, TX"]
[null,null,null,null,null,null,null,null,"Tacoma/McChord AFB","WA","Tacoma/McChord AFB, WA","USA",47.13,-122.48,-8,98,null,null,null,"TX","Brownsville, TX"]
[null,null,null,null,null,null,null,26528,"Talkeetna","AK","Talkeetna, AK","USA",62.3,-150.1,-9,109,null,null,null,"TX","College Station/Bryan, TX"]
[null,null,null,null,null,null,null,93805,"Tallahassee","FL","Tallahassee, FL","USA",30.38,-84.37,-5,21,null,null,null,"TX","Corpus Christi, TX"]
[null,null,null,null,null,null,null,12842,"Tampa/Int'l Airport","FL","Tampa/Int'l Airport, FL","USA",27.97,-82.53,-5,3,null,null,null,"TX","Dallas/Fort Worth/Int'l Airport, TX"]
[null,null,null,null,null,null,null,25229,"Terrace","BC","Terrace, BC","CAN",54.47,-128.58000000000001,-8,217,null,null,null,"TX","Del Rio/Laughlin AFB, TX"]
[null,null,null,null,null,null,null,null,"Terre Haute","IN","Terre Haute, IN","USA",39.450000000000003,-87.32,-5,178,null,null,null,"TX","Del Rio/Laughlin AFB, TX"]
[null,null,null,null,null,null,null,null,"Teterboro","NJ","Teterboro, NJ","USA",40.85,-74.069999999999993,-5,3,null,null,null,"TX","El Paso, TX"]
[null,null,null,null,null,null,null,72341,"Texarkana","AR","Texarkana, AR","USA",33.450000000000003,-93.98,-6,119,null,null,null,"TX","El Paso, TX"]
[null,null,null,null,null,null,null,25004,"The Pas","MB","The Pas, MB","CAN",53.97,-101.1,-6,271,null,null,null,"TX","Fort Worth/Carswell AFB, TX"]
[null,null,null,null,null,null,null,15919,"Thompson","MB","Thompson, MB","CAN",55.8,-97.87,-6,218,null,null,null,"TX","Fort Worth/Meacham Field, TX"]
[null,null,null,null,null,null,null,94804,"Thunder Bay","ON","Thunder Bay, ON","CAN",48.37,-89.32,-5,199,null,null,null,"TX","Guadalupe Pass, TX"]
[null,null,null,null,null,null,null,94831,"Timmins","ON","Timmins, ON","CAN",48.57,-81.37,-5,295,null,null,null,"TX","Houston/Hobby Airport, TX"]
[null,null,null,null,null,null,null,94234,"Tofino","BC","Tofino, BC","CAN",49.08,-125.77,-8,24,null,null,null,"TX","Houston/Intercontinental Airport, TX"]
[null,null,null,null,null,null,null,null,"Tofte","MN","Tofte, MN","USA",47.58,-90.83,-6,241,null,null,null,"TX","Houston/Intercontinental Airport, TX"]
[null,null,null,null,null,null,null,94830,"Toledo","OH","Toledo, OH","USA",41.6,-83.8,-5,211,null,null,null,"TX","Junction, TX"]
[null,null,null,null,null,null,null,23153,"Tonopah","NV","Tonopah, NV","USA",38.049999999999997,-117.08,-8,1654,null,null,null,"TX","Killeen/Fort Hood, TX"]
[null,null,null,null,null,null,null,13996,"Topeka","KS","Topeka, KS","USA",39.07,-95.62,-6,270,null,null,null,"TX","Kingsville/NAS, TX"]
[null,null,null,null,null,null,null,4714,"Toronto Int'l","ON","Toronto Int'l, ON","CAN",43.67,-79.63,-5,173,null,null,null,"TX","Laredo AFB, TX"]
[null,null,null,null,null,null,null,4795,"Toronto Int'l","ON","Toronto Int'l, ON","CAN",43.67,-79.63,-5,173,null,null,null,"TX","Laredo, TX"]
[null,null,null,null,null,null,null,94791,"Toronto Int'l","ON","Toronto Int'l, ON","CAN",43.67,-79.63,-5,173,null,null,null,"TX","Lubbock/Int'l Arpt, TX"]
[null,null,null,null,null,null,null,14850,"Traverse City","MI","Traverse City, MI","USA",44.73,-85.58,-5,190,null,null,null,"TX","Lubbock/Reese AFB, TX"]
[null,null,null,null,null,null,null,4715,"Trenton","ON","Trenton, ON","CAN",44.12,-77.53,-5,86,null,null,null,"TX","Lufkin, TX"]
[null,null,null,null,null,null,null,null,"Trenton/Wrightstown/McGuire AFB","NJ","Trenton/Wrightstown/McGuire AFB, NJ","USA",40.020000000000003,-74.599999999999994,-5,41,null,null,null,"TX","Marfa, TX"]
[null,null,null,null,null,null,null,null,"Trinidad","CO","Trinidad, CO","USA",37.270000000000003,-104.33,-7,1756,null,null,null,"TX","McAllen, TX"]
[null,null,null,null,null,null,null,14675,"Truro","NS","Truro, NS","CAN",45.37,-63.27,-4,40,null,null,null,"TX","Midland/Odessa, TX"]
[null,null,null,null,null,null,null,93045,"Truth or Consequences","NM","Truth or Consequences, NM","USA",33.229999999999997,-107.25,-7,1478,null,null,null,"TX","Midland/Odessa, TX"]
[null,null,null,null,null,null,null,23160,"Tucson","AZ","Tucson, AZ","USA",32.119999999999997,-110.93,-7,779,null,null,null,"TX","San Angelo, TX"]
[null,null,null,null,null,null,null,23048,"Tucumcari","NM","Tucumcari, NM","USA",35.18,-103.6,-7,1239,null,null,null,"TX","San Angelo, TX"]
[null,null,null,null,null,null,null,13968,"Tulsa","OK","Tulsa, OK","USA",36.200000000000003,-95.9,-6,206,null,null,null,"TX","San Antonio/Int'l Airport, TX"]
[null,null,null,null,null,null,null,null,"Tupelo","MS","Tupelo, MS","USA",34.270000000000003,-88.77,-6,110,null,null,null,"TX","San Antonio/Kelly AFB, TX"]
[null,null,null,null,null,null,null,null,"Tuscaloosa","AL","Tuscaloosa, AL","USA",33.22,-87.62,-6,52,null,null,null,"TX","San Antonio/Randolph AFB, TX"]
[null,null,null,null,null,null,null,99902,"Uranium City","SK","Uranium City, SK","CAN",59.57,-108.48,-7,318,null,null,null,"TX","Sanderson, TX"]
[null,null,null,null,null,null,null,"CAN02","Uranium City","SK","Uranium City, SK","CAN",59.57,-108.48,-7,318,null,null,null,"TX","Sherman-Denison, TX"]
[null,null,null,null,null,null,null,4730,"Val d'Or","PQ","Val d'Or, PQ","CAN",48.07,-77.78,-5,337,null,null,null,"TX","Victoria, TX"]
[null,null,null,null,null,null,null,null,"Valdez","AK","Valdez, AK","USA",61.13,-146.35,-9,10,null,null,null,"TX","Waco, TX"]
[null,null,null,null,null,null,null,null,"Valdosta/Moody AFB","GA","Valdosta/Moody AFB, GA","USA",30.97,-83.2,-5,71,null,null,null,"TX","Wichita Falls/Sheppard AFB, TX"]
[null,null,null,null,null,null,null,null,"Valdosta/Regional Airport","GA","Valdosta/Regional Airport, GA","USA",30.78,-83.28,-5,62,null,null,null,"UT","Bryce Canyon, UT"]
[null,null,null,null,null,null,null,null,"Valentine","NE","Valentine, NE","USA",42.87,-100.55,-7,792,null,null,null,"UT","Cedar City, UT"]
[null,null,null,null,null,null,null,null,"Valparaiso/Eglin AFB","FL","Valparaiso/Eglin AFB, FL","USA",30.48,-86.53,-6,26,null,null,null,"UT","Ogden/Hill AFB, UT"]
[null,null,null,null,null,null,null,24287,"Vancouver Int'l","BC","Vancouver Int'l, BC","CAN",49.18,-123.17,-8,2,null,null,null,"UT","Salt Lake City, UT"]
[null,null,null,null,null,null,null,94238,"Vancouver Int'l","BC","Vancouver Int'l, BC","CAN",49.18,-123.17,-8,2,null,null,null,"VA","Fort Belvoir, VA"]
[null,null,null,null,null,null,null,null,"Vero Beach","FL",{"$f":"CONCATENATE(I642,\", \",J642)","v":"Vero Beach, FL"},"USA",27.65,-80.42,-5,8,null,null,null,"VA","Hampton/Langley AFB, VA"]
[null,null,null,null,null,null,null,24297,"Victoria Int'l","BC","Victoria Int'l, BC","CAN",48.65,-123.43,-8,19,null,null,null,"VA","Lynchburg, VA"]
[null,null,null,null,null,null,null,12912,"Victoria","TX","Victoria, TX","USA",28.85,-96.92,-6,36,null,null,null,"VA","Newport News, VA"]
[null,null,null,null,null,null,null,72382,"Victorville/George AFB","CA","Victorville/George AFB, CA","USA",34.58,-117.38,-8,876,null,null,null,"VA","Norfolk, VA"]
[null,null,null,null,null,null,null,15628,"Wabush Lake","NF","Wabush Lake, NF","CAN",52.93,-66.87,-3.5,551,null,null,null,"VA","Oceana/NAS, VA"]
[null,null,null,null,null,null,null,13959,"Waco","TX","Waco, TX","USA",31.62,-97.22,-6,155,null,null,null,"VA","Quantico/MCAS, VA"]
[null,null,null,null,null,null,null,null,"Walla Walla","WA","Walla Walla, WA","USA",46.1,-118.28,-8,367,null,null,null,"VA","Richmond, VA"]
[null,null,null,null,null,null,null,null,"Warrensburg/Sedalia/Whiteman A","MO","Warrensburg/Sedalia/Whiteman A, MO","USA",38.729999999999997,-93.55,-6,265,null,null,null,"VA","Roanoke, VA"]
[null,null,null,null,null,null,null,null,"Washington National Airport","VA","Washington National Airport, VA","USA",38.85,-77.03,-5,20,null,null,null,"VA","Sterling/Washington Dulles Airport, VA"]
[null,null,null,null,null,null,null,94910,"Waterloo","IA","Waterloo, IA","USA",42.55,-92.4,-6,268,null,null,null,"VA","Sterling/Washington Dulles Airport, VA"]
[null,null,null,null,null,null,null,null,"Watertown","NY","Watertown, NY","USA",44,-76.02,-5,99,null,null,null,"VA","Washington National Airport, VA"]
[null,null,null,null,null,null,null,null,"Wausau","WI","Wausau, WI","USA",44.93,-89.63,-6,366,null,null,null,"VT","Burlington, VT"]
[null,null,null,null,null,null,null,null,"Waycross","GA","Waycross, GA","USA",31.25,-82.4,-5,46,null,null,null,"VT","Montpelier/Barre, VT"]
[null,null,null,null,null,null,null,null,"Wenatchee","WA","Wenatchee, WA","USA",47.4,-120.2,-8,379,null,null,null,"WA","Bellingham, WA"]
[null,null,null,null,null,null,null,94892,"West Chicago","IL","West Chicago, IL","USA",41.92,-88.25,-6,231,null,null,null,"WA","Hanford, WA"]
[null,null,null,null,null,null,null,12844,"West Palm Beach","FL","West Palm Beach, FL","USA",26.68,-80.12,-5,6,null,null,null,"WA","Olympia, WA"]
[null,null,null,null,null,null,null,null,"Weymouth/South Weymouth NAS","MA","Weymouth/South Weymouth NAS, MA","USA",42.15,-70.930000000000007,-5,49,null,null,null,"WA","Quillayute, WA"]
[null,null,null,null,null,null,null,24255,"Whidbey Island NAS","WA","Whidbey Island NAS, WA","USA",48.35,-122.66,-8,10,null,null,null,"WA","Seattle-Tacoma/Int'l Airport, WA"]
[null,null,null,null,null,null,null,null,"White Plains","NY","White Plains, NY","USA",41.07,-73.7,-5,134,null,null,null,"WA","Spokane/Fairchild AFB, WA"]
[null,null,null,null,null,null,null,94809,"Wiarton","ON","Wiarton, ON","CAN",44.75,-81.099999999999994,-5,222,null,null,null,"WA","Stampede Pass, WA"]
[null,null,null,null,null,null,null,13966,"Wichita Falls/Sheppard AFB","TX","Wichita Falls/Sheppard AFB, TX","USA",33.979999999999997,-98.5,-6,314,null,null,null,"WA","Tacoma/McChord AFB, WA"]
[null,null,null,null,null,null,null,3928,"Wichita/Airport","KS","Wichita/Airport, KS","USA",37.65,-97.43,-6,408,null,null,null,"WA","Walla Walla, WA"]
[null,null,null,null,null,null,null,72450,"Wichita/Mcconnell AFB","KS","Wichita/Mcconnell AFB, KS","USA",37.619999999999997,-97.27,-6,418,null,null,null,"WA","Wenatchee, WA"]
[null,null,null,null,null,null,null,14777,"Wilkes-Barre/Scranton","PA","Wilkes-Barre/Scranton, PA","USA",41.33,-75.73,-5,289,null,null,null,"WA","Whidbey Island NAS, WA"]
[null,null,null,null,null,null,null,25247,"Williams Lake","BC","Williams Lake, BC","CAN",52.18,-122.05,-8,940,null,null,null,"WA","Yakima, WA"]
[null,null,null,null,null,null,null,14778,"Williamsport","PA","Williamsport, PA","USA",41.25,-76.92,-5,160,null,null,null,"WI","Eau Claire, WI"]
[null,null,null,null,null,null,null,null,"Williston","ND","Williston, ND","USA",48.18,-103.63,-6,581,null,null,null,"WI","Green Bay, WI"]
[null,null,null,null,null,null,null,13781,"Wilmington","DE","Wilmington, DE","USA",39.68,-75.599999999999994,-5,24,null,null,null,"WI","La Crosse, WI"]
[null,null,null,null,null,null,null,13748,"Wilmington","NC","Wilmington, NC","USA",34.270000000000003,-77.900000000000006,-5,10,null,null,null,"WI","Madison, WI"]
[null,null,null,null,null,null,null,null,"Windsor Locks/Bradley Field","CT","Windsor Locks/Bradley Field, CT","USA",41.93,-72.680000000000007,-5,55,null,null,null,"WI","Milwaukee, WI"]
[null,null,null,null,null,null,null,94810,"Windsor","ON","Windsor, ON","CAN",42.27,-82.97,-5,190,null,null,null,"WI","Wausau, WI"]
[null,null,null,null,null,null,null,24128,"Winnemucca","NV","Winnemucca, NV","USA",40.9,-117.8,-8,1315,null,null,null,"WV","Bluefield, WV"]
[null,null,null,null,null,null,null,14996,"Winnipeg Int'l","MB","Winnipeg Int'l, MB","CAN",49.9,-97.23,-6,239,null,null,null,"WV","Charleston, WV"]
[null,null,null,null,null,null,null,23194,"Winslow","AZ","Winslow, AZ","USA",35.03,-110.71,-7,1490,null,null,null,"WV","Elkins, WV"]
[null,null,null,null,null,null,null,null,"Winston-Salem","NC","Winston-Salem, NC","USA",36.130000000000003,-80.22,-5,296,null,null,null,"WV","Huntington, WV"]
[null,null,null,null,null,null,null,94746,"Worcester","MA","Worcester, MA","USA",42.27,-71.88,-5,308,null,null,null,"WV","Martinsburg, WV"]
[null,null,null,null,null,null,null,null,"Worland","WY","Worland, WY","USA",43.97,-107.95,-7,1294,null,null,null,"WV","Morgantown, WV"]
[null,null,null,null,null,null,null,25029,"Wynyard","SK","Wynyard, SK","CAN",51.77,-104.2,-6,561,null,null,null,"WV","Parkersburg, WV"]
[null,null,null,null,null,null,null,24243,"Yakima","WA","Yakima, WA","USA",46.57,-120.53,-8,325,null,null,null,"WY","Big Piney, WY"]
[null,null,null,null,null,null,null,25339,"Yakutat","AK","Yakutat, AK","USA",59.52,-139.66999999999999,-9,9,null,null,null,"WY","Casper, WY"]
[null,null,null,null,null,null,null,14647,"Yarmouth","NS","Yarmouth, NS","CAN",43.83,-66.08,-4,43,null,null,null,"WY","Cheyenne/Warren AFB, WY"]
[null,null,null,null,null,null,null,26110,"Yellowknife","NT","Yellowknife, NT","CAN",62.47,-114.45,-7,206,null,null,null,"WY","Cody, WY"]
[null,null,null,null,null,null,null,25017,"Yorkton","SK","Yorkton, SK","CAN",51.27,-102.47,-6,498,null,null,null,"WY","Gillette, WY"]
[null,null,null,null,null,null,null,14852,"Youngstown","OH","Youngstown, OH","USA",41.27,-80.67,-5,361,null,null,null,"WY","Lander, WY"]
[null,null,null,null,null,null,null,3133,"Yucca Flats","NV","Yucca Flats, NV","USA",36.950000000000003,-116.05,-8,1196,null,null,null,"WY","Rock Springs, WY"]
[null,null,null,null,null,null,null,23195,"Yuma","AZ","Yuma, AZ","USA",32.659999999999997,-114.6,-7,62,null,null,null,"WY","Sheridan, WY"]
[null,null,null,null,null,null,null,null,"Zanesville","OH","Zanesville, OH","USA",39.950000000000003,-81.900000000000006,-5,274,null,null,null,"WY","Worland, WY"]

{"sheet":"Locations","index":11,"n_rows":1020,"n_cols":114,"rows_kept":562,"cut":true,"hidden":true,"merged":[[0,102,0,103]],"bounds":{"rows_first":250,"rows_last":62,"rows_between":250,"halvings":3}}
["StateAndCity",null,"City","State","Elevation","Longitude","Latitude","Time Zone","HeatDesignDB","CoolDesignDB","CoolDesignWB","HDD65F","CDD65F","JanTemp","FebTemp","MarTemp","AprTemp","MayTemp","JunTemp","JulTemp","AugTemp","SepTemp","OctTemp","NovTemp","DecTemp","AnnualTemp","JanTmains","FebTmains","MarTmains","AprTmains","MayTmains","JunTmains","JulTmains","AugTmains","SepTmains","OctTmains","NovTmains","DecTmains","JanHtgTempBasisOnly","FebHtgTempBasisOnly","MarHtgTempBasisOnly","AprHtgTempBasisOnly","MayHtgTempBasisOnly","JunHtgTempBasisOnly","JulHtgTempBasisOnly","AugHtgTempBasisOnly","SepHtgTempBasisOnly","OctHtgTempBasisOnly","NovHtgTempBasisOnly","DecHtgTempBasisOnly","JanClgTempBasisOnly","FebClgTempBasisOnly","MarClgTempBasisOnly","AprClgTempBasisOnly","MayClgTempBasisOnly","JunClgTempBasisOnly","JulClgTempBasisOnly","AugClgTempBasisOnly","SepClgTempBasisOnly","OctClgTempBasisOnly","NovClgTempBasisOnly","DecClgTempBasisOnly","JanHeating","FebHeating","MarHeating","AprHeating","MayHeating","JunHeating","JulHeating","AugHeating","SepHeating","OctHeating","NovHeating","DecHeating","JanCooling","FebCooling","MarCooling","AprCooling","MayCooling","JunCooling","JulCooling","AugCooling","SepCooling","OctCooling","NovCooling","DecCooling","JanWindowShadeMultiplier","FebWindowShadeMultiplier","MarWindowShadeMultiplier","AprWindowShadeMultiplier","MayWindowShadeMultiplier","JunWindowShadeMultiplier","JulWindowShadeMultiplier","AugWindowShadeMultiplier","SepWindowShadeMultiplier","OctWindowShadeMultiplier","NovWindowShadeMultiplier","DecWindowShadeMultiplier","PlugLoadMultiplier",null,"# Days Cooling",null,"Climate Zone",null,null,null,null,null,null,"Lighting Glitch"]
[{"$f":"NewConst!E7","v":"Denver Intl Ap, CO"},null,{"$f":"VLOOKUP($A$2,$B$3:$CU$1012,2,FALSE)","v":"Denver Intl Ap"},{"$f":"VLOOKUP($A$2,$B$3:$CU$1012,3,FALSE)","v":"CO"},{"$f":"VLOOKUP($A$2,$B$3:$CU$1012,4,FALSE)","v":5412},{"$f":"VLOOKUP($A$2,$B$3:$CU$1012,5,FALSE)","v":-104.65},{"$f":"VLOOKUP($A$2,$B$3:$CU$1012,6,FALSE)","v":39.83},{"$f":"VLOOKUP($A$2,$B$3:$CU$1012,7,FALSE)","v":-7},{"$f":"VLOOKUP($A$2,$B$3:$CU$1012,8,FALSE)","v":6.7999999999999989},{"$f":"VLOOKUP($A$2,$B$3:$CU$1012,9,FALSE)","v":91.760001373291018},{"$f":"VLOOKUP($A$2,$B$3:$CU$1012,10,FALSE)","v":60.080000686645505},{"$f":"VLOOKUP($A$2,$B$3:$CU$1012,11,FALSE)","v":5632.2},{"$f":"VLOOKUP($A$2,$B$3:$CU$1012,12,FALSE)","v":952.2},{"$f":"VLOOKUP($A$2,$B$3:$CU$1012,13,FALSE)","v":33.440000021457671},{"$f":"VLOOKUP($A$2,$B$3:$CU$1012,14,FALSE)","v":31.81999999731779},{"$f":"VLOOKUP($A$2,$B$3:$CU$1012,15,FALSE)","v":42.97999982833862},{"$f":"VLOOKUP($A$2,$B$3:$CU$1012,16,FALSE)","v":42.440000343322751},{"$f":"VLOOKUP($A$2,$B$3:$CU$1012,17,FALSE)","v":59.9},{"$f":"VLOOKUP($A$2,$B$3:$CU$1012,18,FALSE)","v":73.580000686645505},{"$f":"VLOOKUP($A$2,$B$3:$CU$1012,19,FALSE)","v":72.139998626708987},{"$f":"VLOOKUP($A$2,$B$3:$CU$1012,20,FALSE)","v":72.680000686645513},{"$f":"VLOOKUP($A$2,$B$3:$CU$1012,21,FALSE)","v":66.560001373291016},{"$f":"VLOOKUP($A$2,$B$3:$CU$1012,22,FALSE)","v":50},{"$f":"VLOOKUP($A$2,$B$3:$CU$1012,23,FALSE)","v":37.220000171661376},{"$f":"VLOOKUP($A$2,$B$3:$CU$1012,24,FALSE)","v":34.519999957084657},{"$f":"VLOOKUP($A$2,$B$3:$CU$1012,25,FALSE)","v":51.562794657259772},{"$f":"VLOOKUP($A$2,$B$3:$CU$1012,26,FALSE)","v":48.718290388117268},{"$f":"VLOOKUP($A$2,$B$3:$CU$1012,27,FALSE)","v":47.641339778292384},{"$f":"VLOOKUP($A$2,$B$3:$CU$1012,28,FALSE)","v":49.150569276918105},{"$f":"VLOOKUP($A$2,$B$3:$CU$1012,29,FALSE)","v":52.85257495724705},{"$f":"VLOOKUP($A$2,$B$3:$CU$1012,30,FALSE)","v":57.782371989067066},{"$f":"VLOOKUP($A$2,$B$3:$CU$1012,31,FALSE)","v":62.654932805562403},{"$f":"VLOOKUP($A$2,$B$3:$CU$1012,32,FALSE)","v":66.200149341478465},{"$f":"VLOOKUP($A$2,$B$3:$CU$1012,33,FALSE)","v":67.493906273288161},{"$f":"VLOOKUP($A$2,$B$3:$CU$1012,34,FALSE)","v":66.198965919317473},{"$f":"VLOOKUP($A$2,$B$3:$CU$1012,35,FALSE)","v":62.65287443846379},{"$f":"VLOOKUP($A$2,$B$3:$CU$1012,36,FALSE)","v":57.779975222135477},{"$f":"VLOOKUP($A$2,$B$3:$CU$1012,37,FALSE)","v":52.850464544718484},{"$f":"VLOOKUP($A$2,$B$3:$CU$1012,38,FALSE)","v":1},{"$f":"VLOOKUP($A$2,$B$3:$CU$1012,39,FALSE)","v":1},{"$f":"VLOOKUP($A$2,$B$3:$CU$1012,40,FALSE)","v":1},{"$f":"VLOOKUP($A$2,$B$3:$CU$1012,41,FALSE)","v":1},{"$f":"VLOOKUP($A$2,$B$3:$CU$1012,42,FALSE)","v":1},{"$f":"VLOOKUP($A$2,$B$3:$CU$1012,43,FALSE)","v":0},{"$f":"VLOOKUP($A$2,$B$3:$CU$1012,44,FALSE)","v":0},{"$f":"VLOOKUP($A$2,$B$3:$CU$1012,45,FALSE)","v":0},{"$f":"VLOOKUP($A$2,$B$3:$CU$1012,46,FALSE)","v":0},{"$f":"VLOOKUP($A$2,$B$3:$CU$1012,47,FALSE)","v":1},{"$f":"VLOOKUP($A$2,$B$3:$CU$1012,48,FALSE)","v":1},{"$f":"VLOOKUP($A$2,$B$3:$CU$1012,49,FALSE)","v":1},{"$f":"VLOOKUP($A$2,$B$3:$CU$1012,50,FALSE)","v":0},{"$f":"VLOOKUP($A$2,$B$3:$CU$1012,51,FALSE)","v":0},{"$f":"VLOOKUP($A$2,$B$3:$CU$1012,52,FALSE)","v":0},{"$f":"VLOOKUP($A$2,$B$3:$CU$1012,53,FALSE)","v":0},{"$f":"VLOOKUP($A$2,$B$3:$CU$1012,54,FALSE)","v":0},{"$f":"VLOOKUP($A$2,$B$3:$CU$1012,55,FALSE)","v":1},{"$f":"VLOOKUP($A$2,$B$3:$CU$1012,56,FALSE)","v":1},{"$f":"VLOOKUP($A$2,$B$3:$CU$1012,57,FALSE)","v":1},{"$f":"VLOOKUP($A$2,$B$3:$CU$1012,58,FALSE)","v":1},{"$f":"VLOOKUP($A$2,$B$3:$CU$1012,59,FALSE)","v":0},{"$f":"VLOOKUP($A$2,$B$3:$CU$1012,60,FALSE)","v":0},{"$f":"VLOOKUP($A$2,$B$3:$CU$1012,61,FALSE)","v":0},{"$f":"VLOOKUP($A$2,$B$3:$CU$1012,62,FALSE)","v":1},{"$f":"VLOOKUP($A$2,$B$3:$CU$1012,63,FALSE)","v":1},{"$f":"VLOOKUP($A$2,$B$3:$CU$1012,64,FALSE)","v":1},{"$f":"VLOOKUP($A$2,$B$3:$CU$1012,65,FALSE)","v":1},{"$f":"VLOOKUP($A$2,$B$3:$CU$1012,66,FALSE)","v":1},{"$f":"VLOOKUP($A$2,$B$3:$CU$1012,67,FALSE)","v":1},{"$f":"VLOOKUP($A$2,$B$3:$CU$1012,68,FALSE)","v":0},{"$f":"VLOOKUP($A$2,$B$3:$CU$1012,69,FALSE)","v":0},{"$f":"VLOOKUP($A$2,$B$3:$CU$1012,70,FALSE)","v":0},{"$f":"VLOOKUP($A$2,$B$3:$CU$1012,71,FALSE)","v":1},{"$f":"VLOOKUP($A$2,$B$3:$CU$1012,72,FALSE)","v":1},{"$f":"VLOOKUP($A$2,$B$3:$CU$1012,73,FALSE)","v":1},{"$f":"VLOOKUP($A$2,$B$3:$CU$1012,74,FALSE)","v":0},{"$f":"VLOOKUP($A$2,$B$3:$CU$1012,75,FALSE)","v":0},{"$f":"VLOOKUP($A$2,$B$3:$CU$1012,76,FALSE)","v":0},{"$f":"VLOOKUP($A$2,$B$3:$CU$1012,77,FALSE)","v":0},{"$f":"VLOOKUP($A$2,$B$3:$CU$1012,78,FALSE)","v":1},{"$f":"VLOOKUP($A$2,$B$3:$CU$1012,79,FALSE)","v":1},{"$f":"VLOOKUP($A$2,$B$3:$CU$1012,80,FALSE)","v":1},{"$f":"VLOOKUP($A$2,$B$3:$CU$1012,81,FALSE)","v":1},{"$f":"VLOOKUP($A$2,$B$3:$CU$1012,82,FALSE)","v":1},{"$f":"VLOOKUP($A$2,$B$3:$CU$1012,83,FALSE)","v":1},{"$f":"VLOOKUP($A$2,$B$3:$CU$1012,84,FALSE)","v":0},{"$f":"VLOOKUP($A$2,$B$3:$CU$1012,85,FALSE)","v":0},{"$f":"VLOOKUP($A$2,$B$3:$CU$1012,86,FALSE)","v":0.85},{"$f":"VLOOKUP($A$2,$B$3:$CU$1012,87,FALSE)","v":0.85},{"$f":"VLOOKUP($A$2,$B$3:$CU$1012,88,FALSE)","v":0.85},{"$f":"VLOOKUP($A$2,$B$3:$CU$1012,89,FALSE)","v":0.85},{"$f":"VLOOKUP($A$2,$B$3:$CU$1012,90,FALSE)","v":0.85},{"$f":"VLOOKUP($A$2,$B$3:$CU$1012,91,FALSE)","v":0.85},{"$f":"VLOOKUP($A$2,$B$3:$CU$1012,92,FALSE)","v":0.7},{"$f":"VLOOKUP($A$2,$B$3:$CU$1012,93,FALSE)","v":0.7},{"$f":"VLOOKUP($A$2,$B$3:$CU$1012,94,FALSE)","v":0.7},{"$f":"VLOOKUP($A$2,$B$3:$CU$1012,95,FALSE)","v":0.85},{"$f":"VLOOKUP($A$2,$B$3:$CU$1012,96,FALSE)","v":0.85},{"$f":"VLOOKUP($A$2,$B$3:$CU$1012,97,FALSE)","v":0.85},{"$f":"VLOOKUP($A$2,$B$3:$CU$1012,98,FALSE)","v":1},null,{"$f":"VLOOKUP($A$2,$B$3:$CZ$1012,100,FALSE)","v":184},{"$f":"VLOOKUP($A$2,$B$3:$CZ$1012,101,FALSE)","v":181},{"$f":"VLOOKUP($A$2,$B$3:$CZ$1012,102,FALSE)","v":"Cold"},{"$f":"VLOOKUP($A$2,$B$3:$CZ$1012,103,FALSE)","v":"5B"},{"$f":"LEFT(CZ2)","v":"5"},{"$f":"RIGHT(CZ2)","v":"B"},null,null,null,"half-hourly","hourly"]
["Adak Nas, AK","Aberdeen Regional Arpt, SD","Aberdeen Regional Arpt","SD",1305,-98.42,45.45,-6,-12.28000068664551,88.7,71.239998626708982,7777.8,730.80000000000007,11.659999656677245,12.559999656677245,33.440000021457671,46.220000171661376,60.440000343322751,70.33999862670899,72.319999313354487,69.8,62.239998626708989,49.280000686645508,30.559999978542329,20.120000171661378,45.099561420499462,{"$f":"MAX($Z3+6+(0.4+0.01*($Z3-44))*(MAX($N3:$Y3)-MIN($N3:$Y3))/2*SIN((0.986*((1*30-15)-15-(35-1*($Z3-44)))-90)*PI()/180),32)","v":40.695862835930917},{"$f":"MAX($Z3+6+(0.4+0.01*($Z3-44))*(MAX($N3:$Y3)-MIN($N3:$Y3))/2*SIN((0.986*((2*30-15)-15-(35-1*($Z3-44)))-90)*PI()/180),32)","v":38.662135131163005},{"$f":"MAX($Z3+6+(0.4+0.01*($Z3-44))*(MAX($N3:$Y3)-MIN($N3:$Y3))/2*SIN((0.986*((3*30-15)-15-(35-1*($Z3-44)))-90)*PI()/180),32)","v":39.870414255251454},{"$f":"MAX($Z3+6+(0.4+0.01*($Z3-44))*(MAX($N3:$Y3)-MIN($N3:$Y3))/2*SIN((0.986*((4*30-15)-15-(35-1*($Z3-44)))-90)*PI()/180),32)","v":44.005743634357685},{"$f":"MAX($Z3+6+(0.4+0.01*($Z3-44))*(MAX($N3:$Y3)-MIN($N3:$Y3))/2*SIN((0.986*((5*30-15)-15-(35-1*($Z3-44)))-90)*PI()/180),32)","v":49.990185938462915},{"$f":"MAX($Z3+6+(0.4+0.01*($Z3-44))*(MAX($N3:$Y3)-MIN($N3:$Y3))/2*SIN((0.986*((6*30-15)-15-(35-1*($Z3-44)))-90)*PI()/180),32)","v":56.263804057954644},{"$f":"MAX($Z3+6+(0.4+0.01*($Z3-44))*(MAX($N3:$Y3)-MIN($N3:$Y3))/2*SIN((0.986*((7*30-15)-15-(35-1*($Z3-44)))-90)*PI()/180),32)","v":61.191282750605666},{"$f":"MAX($Z3+6+(0.4+0.01*($Z3-44))*(MAX($N3:$Y3)-MIN($N3:$Y3))/2*SIN((0.986*((8*30-15)-15-(35-1*($Z3-44)))-90)*PI()/180),32)","v":63.48819876043131},{"$f":"MAX($Z3+6+(0.4+0.01*($Z3-44))*(MAX($N3:$Y3)-MIN($N3:$Y3))/2*SIN((0.986*((9*30-15)-15-(35-1*($Z3-44)))-90)*PI()/180),32)","v":62.555825532923372},{"$f":"MAX($Z3+6+(0.4+0.01*($Z3-44))*(MAX($N3:$Y3)-MIN($N3:$Y3))/2*SIN((0.986*((10*30-15)-15-(35-1*($Z3-44)))-90)*PI()/180),32)","v":58.637200518138158},{"$f":"MAX($Z3+6+(0.4+0.01*($Z3-44))*(MAX($N3:$Y3)-MIN($N3:$Y3))/2*SIN((0.986*((11*30-15)-15-(35-1*($Z3-44)))-90)*PI()/180),32)","v":52.753773714018834},{"$f":"MAX($Z3+6+(0.4+0.01*($Z3-44))*(MAX($N3:$Y3)-MIN($N3:$Y3))/2*SIN((0.986*((12*30-15)-15-(35-1*($Z3-44)))-90)*PI()/180),32)","v":46.439150983410599},{"$f":"IF(AND(OR(LEFT(AM$1,3)=\"Jan\",LEFT(AM$1,3)=\"Dec\"),I3<59),1,IF(N3<66,1,0))","v":1},{"$f":"IF(AND(OR(LEFT(AN$1,3)=\"Jan\",LEFT(AN$1,3)=\"Dec\"),J3<59),1,IF(O3<66,1,0))","v":1},{"$f":"IF(AND(OR(LEFT(AO$1,3)=\"Jan\",LEFT(AO$1,3)=\"Dec\"),K3<59),1,IF(P3<66,1,0))","v":1},{"$f":"IF(AND(OR(LEFT(AP$1,3)=\"Jan\",LEFT(AP$1,3)=\"Dec\"),L3<59),1,IF(Q3<66,1,0))","v":1},{"$f":"IF(AND(OR(LEFT(AQ$1,3)=\"Jan\",LEFT(AQ$1,3)=\"Dec\"),M3<59),1,IF(R3<66,1,0))","v":1},{"$f":"IF(AND(OR(LEFT(AR$1,3)=\"Jan\",LEFT(AR$1,3)=\"Dec\"),N3<59),1,IF(S3<66,1,0))","v":0},{"$f":"IF(AND(OR(LEFT(AS$1,3)=\"Jan\",LEFT(AS$1,3)=\"Dec\"),O3<59),1,IF(T3<66,1,0))","v":0},{"$f":"IF(AND(OR(LEFT(AT$1,3)=\"Jan\",LEFT(AT$1,3)=\"Dec\"),P3<59),1,IF(U3<66,1,0))","v":0},{"$f":"IF(AND(OR(LEFT(AU$1,3)=\"Jan\",LEFT(AU$1,3)=\"Dec\"),Q3<59),1,IF(V3<66,1,0))","v":1},{"$f":"IF(AND(OR(LEFT(AV$1,3)=\"Jan\",LEFT(AV$1,3)=\"Dec\"),R3<59),1,IF(W3<66,1,0))","v":1},{"$f":"IF(AND(OR(LEFT(AW$1,3)=\"Jan\",LEFT(AW$1,3)=\"Dec\"),S3<59),1,IF(X3<66,1,0))","v":1},{"$f":"IF(AND(OR(LEFT(AX$1,3)=\"Jan\",LEFT(AX$1,3)=\"Dec\"),T3<59),1,IF(Y3<66,1,0))","v":1},{"$f":"IF(OR(LEFT(AY$1,3)=\"Jul\", LEFT(AY$1,3)=\"Aug\"),1,IF(N3>66,1,0))","v":0},{"$f":"IF(OR(LEFT(AZ$1,3)=\"Jul\", LEFT(AZ$1,3)=\"Aug\"),1,IF(O3>66,1,0))","v":0},{"$f":"IF(OR(LEFT(BA$1,3)=\"Jul\", LEFT(BA$1,3)=\"Aug\"),1,IF(P3>66,1,0))","v":0},{"$f":"IF(OR(LEFT(BB$1,3)=\"Jul\", LEFT(BB$1,3)=\"Aug\"),1,IF(Q3>66,1,0))","v":0},{"$f":"IF(OR(LEFT(BC$1,3)=\"Jul\", LEFT(BC$1,3)=\"Aug\"),1,IF(R3>66,1,0))","v":0},{"$f":"IF(OR(LEFT(BD$1,3)=\"Jul\", LEFT(BD$1,3)=\"Aug\"),1,IF(S3>66,1,0))","v":1},{"$f":"IF(OR(LEFT(BE$1,3)=\"Jul\", LEFT(BE$1,3)=\"Aug\"),1,IF(T3>66,1,0))","v":1},{"$f":"IF(OR(LEFT(BF$1,3)=\"Jul\", LEFT(BF$1,3)=\"Aug\"),1,IF(U3>66,1,0))","v":1},{"$f":"IF(OR(LEFT(BG$1,3)=\"Jul\", LEFT(BG$1,3)=\"Aug\"),1,IF(V3>66,1,0))","v":0},{"$f":"IF(OR(LEFT(BH$1,3)=\"Jul\", LEFT(BH$1,3)=\"Aug\"),1,IF(W3>66,1,0))","v":0},{"$f":"IF(OR(LEFT(BI$1,3)=\"Jul\", LEFT(BI$1,3)=\"Aug\"),1,IF(X3>66,1,0))","v":0},{"$f":"IF(OR(LEFT(BJ$1,3)=\"Jul\", LEFT(BJ$1,3)=\"Aug\"),1,IF(Y3>66,1,0))","v":0},{"$f":"IF(AND(AY3=1,BJ3=0),1,AM3)","v":1},{"$f":"IF(AND(AY3=0,AZ3=1),1,AN3)","v":1},{"$f":"IF(AND(AZ3=0,BA3=1),1,AO3)","v":1},{"$f":"IF(AND(BA3=0,BB3=1),1,AP3)","v":1},{"$f":"IF(AND(BB3=0,BC3=1),1,AQ3)","v":1},{"$f":"IF(AND(BC3=0,BD3=1),1,AR3)","v":1},{"$f":"IF(AND(BD3=0,BE3=1),1,AS3)","v":0},{"$f":"IF(AND(BE3=0,BF3=1),1,AT3)","v":0},{"$f":"IF(AND(BF3=0,BG3=1),1,AU3)","v":1},{"$f":"IF(AND(BG3=0,BH3=1),1,AV3)","v":1},{"$f":"IF(AND(BH3=0,BI3=1),1,AW3)","v":1},{"$f":"IF(AND(BI3=0,BJ3=1),1,AX3)","v":1},{"$f":"IF(OR(AND(AX3=0,AM3=1),AND(AM3=1,AN3=0)),1,AY3)","v":0},{"$f":"IF(OR(AND(AM3=0,AN3=1),AND(AN3=1,AO3=0)),1,AZ3)","v":0},{"$f":"IF(OR(AND(AN3=0,AO3=1),AND(AO3=1,AP3=0)),1,BA3)","v":0},{"$f":"IF(OR(AND(AO3=0,AP3=1),AND(AP3=1,AQ3=0)),1,BB3)","v":0},{"$f":"IF(OR(AND(AP3=0,AQ3=1),AND(AQ3=1,AR3=0)),1,BC3)","v":1},{"$f":"IF(OR(AND(AQ3=0,AR3=1),AND(AR3=1,AS3=0)),1,BD3)","v":1},{"$f":"IF(OR(AND(AR3=0,AS3=1),AND(AS3=1,AT3=0)),1,BE3)","v":1},{"$f":"IF(OR(AND(AS3=0,AT3=1),AND(AT3=1,AU3=0)),1,BF3)","v":1},{"$f":"IF(OR(AND(AT3=0,AU3=1),AND(AU3=1,AV3=0)),1,BG3)","v":1},{"$f":"IF(OR(AND(AU3=0,AV3=1),AND(AV3=1,AW3=0)),1,BH3)","v":0},{"$f":"IF(OR(AND(AV3=0,AW3=1),AND(AW3=1,AX3=0)),1,BI3)","v":0},{"$f":"IF(OR(AND(AW3=0,AX3=1),AND(AX3=1,AM3=0)),1,BJ3)","v":0},{"$f":"IF(BK3=1,0.85,0.7)","v":0.85},{"$f":"IF(BL3=1,0.85,0.7)","v":0.85},{"$f":"IF(BM3=1,0.85,0.7)","v":0.85},{"$f":"IF(BN3=1,0.85,0.7)","v":0.85},{"$f":"IF(BO3=1,0.85,0.7)","v":0.85},{"$f":"IF(BP3=1,0.85,0.7)","v":0.85},{"$f":"IF(BQ3=1,0.85,0.7)","v":0.7},{"$f":"IF(BR3=1,0.85,0.7)","v":0.7},{"$f":"IF(BS3=1,0.85,0.7)","v":0.85},{"$f":"IF(BT3=1,0.85,0.7)","v":0.85},{"$f":"IF(BU3=1,0.85,0.7)","v":0.85},{"$f":"IF(BV3=1,0.85,0.7)","v":0.85},1,null,{"$f":"BW3*31+BX3*28+BY3*31+BZ3*30+CA3*31+CB3*30+CC3*31+CD3*31+CE3*30+CF3*31+CG3*30+CH3*31","v":153},{"$f":"365-CW3","v":212},"Cold","6A",null,null,"ABERDEEN REGIONAL ARPT","SD",{"$f":"IF(AND(C3=DC3,D3=DD3),\"\",FALSE)","v":""},0,0]
["Ambler, AK","Abilene Dyess Afb, TX","Abilene Dyess Afb","TX",1788,-99.85,32.43,-6,22.279999828338624,99.320002746582034,72.139998626708987,2415.6,3184.2000000000003,42.8,52.7,52.880000686645509,64.219999313354492,80.419999313354495,86.719999313354492,81.319999313354487,84.2,80.239998626708982,66.560001373291016,56.659999656677243,48.919999313354495,66.523013444665366,59.108243269808732,59.412507794877051,63.134227656570431,69.303279219499345,76.311604125824104,82.332374487155164,85.796183725931826,85.800136585150796,82.343202691141258,76.326485136340651,69.318334071831913,63.145532071456223,1,1,1,1,0,0,0,0,0,0,1,1,0,0,0,0,1,1,1,1,1,1,0,0,1,1,1,1,1,0,0,0,0,0,1,1,0,0,0,1,1,1,1,1,1,1,1,0,0.85,0.85,0.85,0.85,0.85,0.7,0.7,0.7,0.7,0.7,0.85,0.85,1,null,244,121,"Hot-Dry","3B",null,null,"ABILENE DYESS AFB","TX","",0,0]
["Anaktuvuk Pass, AK","Abilene Regional Ap  Ut, TX","Abilene Regional Ap  Ut","TX",1738,-99.71,32.47,-6,23.359999656677246,97.160001373291024,70.7,2926.8,2327.4,36.679999828338623,44.059999656677249,55.940000343322751,63.680000686645506,72.319999313354487,78.080000686645505,82.760001373291018,81.319999313354487,74.83999862670899,66.2,53.959999656677248,42.079999828338622,62.758301315307619,55.745756737419441,55.598073611272497,58.880806641430091,64.738260875134344,71.643600600268186,77.79684260296915,81.594049530903689,82.045420881575609,79.033299756589201,73.342841945363773,66.45735296900456,60.171641637796576,1,1,1,1,0,0,0,0,0,0,1,1,0,0,0,0,1,1,1,1,1,1,0,0,1,1,1,1,1,0,0,0,0,0,1,1,0,0,0,1,1,1,1,1,1,1,1,0,0.85,0.85,0.85,0.85,0.85,0.7,0.7,0.7,0.7,0.7,0.85,0.85,1,null,244,121,"Hot-Dry","3B",null,null,"ABILENE REGIONAL AP","TX",false,0,0]
["Anchorage Elmendorf, AK","Abington, VA","Abington","VA",2070,-82.03,36.68,-5,17.779999828338624,87.439998626708984,71.419999313354495,4815,982.80000000000007,39.559999656677249,38.47999982833862,42.8,50.180000686645506,57.380000686645509,72.319999313354487,72.139998626708987,77.539998626708979,62.960001373291014,53.6,39.02000017166138,39.920000171661378,53.925972527020598,51.069160923096376,50.210443544904614,51.884228516735014,55.654217991872791,60.537706116326881,65.261736453628316,68.59491769684837,69.668404789063928,68.202376776752175,64.578976453497702,59.742698951845973,54.954194531894792,1,1,1,1,1,0,0,0,1,1,1,1,0,0,0,0,0,1,1,1,0,0,0,0,1,1,1,1,1,1,0,0,1,1,1,1,0,0,0,0,1,1,1,1,1,0,0,0,0.85,0.85,0.85,0.85,0.85,0.85,0.7,0.7,0.85,0.85,0.85,0.85,1,null,153,212,"Mixed-Humid","4A",null,null,"ABINGTON","VA","",0,0]
["Anchorage Intl Ap, AK","Adak Nas, AK","Adak Nas","AK",16,-176.65,51.88,-10,23.359999656677246,57.2,52.7,8960.4,0,32.360000005364419,33.619999957084659,35.419999957084656,36.320000171661377,38.47999982833862,43.340000343322757,47.840000343322757,49.459999656677248,48.559999656677249,42.440000343322751,36.860000085830691,33.259999978542325,39.865260301411972,43.468304737249468,42.836591462310025,42.994347393482109,43.900451016213218,45.318712457758991,46.879440017310138,48.175806004929917,48.869892648340652,48.780775567738381,47.931684503517879,46.543948126457593,44.979301308903189,1,1,1,1,1,1,1,1,1,1,1,1,0,0,0,0,0,0,1,1,0,0,0,0,1,1,1,1,1,1,1,1,1,1,1,1,0,0,0,0,0,0,1,1,0,0,0,0,0.85,0.85,0.85,0.85,0.85,0.85,0.85,0.85,0.85,0.85,0.85,0.85,1,null,62,303,"Very Cold",7,null,null,"ADAK NAS","AK","",0,0]
["Anchorage Merrill Field, AK","Adirondack Rgnl, NY","Adirondack Rgnl","NY",1706,-74.2,44.38,-5,-16.780000686645508,84.380000686645502,68.180000686645513,8613,225,16.880000686645506,21.2,30.559999978542329,38.299999999999997,51.259999656677245,64.039998626708979,64.580000686645505,64.580000686645505,53.959999656677248,40.459999656677248,30.559999978542329,19.399999999999999,41.421150656889566,40.298320725530658,38.572007223139046,39.15235932618269,41.888099315506629,46.066114403864219,50.597340573313602,54.300643894478853,56.210701287066577,55.829626856823388,53.256753526526893,49.16274037889707,44.614755031515976,1,1,1,1,1,1,1,1,1,1,1,1,0,0,0,0,0,0,1,1,0,0,0,0,1,1,1,1,1,1,1,1,1,1,1,1,0,0,0,0,0,0,1,1,0,0,0,0,0.85,0.85,0.85,0.85,0.85,0.85,0.85,0.85,0.85,0.85,0.85,0.85,1,null,62,303,"Cold","6A",null,null,"ADIRONDACK RGNL","NY","",0,0]
["Aniak Airport, AK","Ainsworth Municipal, NE","Ainsworth Municipal","NE",2588,-100,42.58,-6,-0.4000000000000008,91.22000274658204,69.080000686645505,6075,810,26.23999991416931,31.81999999731779,41.359999656677246,47.480000686645511,56.3,66.560001373291016,71.599999999999994,73.580000686645505,64.039998626708979,50.180000686645506,37.76000008583069,31.639999994635581,49.983726170414116,46.428367474970173,45.100937629266603,46.610274325661059,50.562945694655774,55.928627031412667,61.308670807853716,65.300685704665341,66.864091520181873,65.59136243577602,61.814254900647065,56.517330200815373,51.081313387372589,1,1,1,1,1,0,0,0,1,1,1,1,0,0,0,0,0,1,1,1,0,0,0,0,1,1,1,1,1,1,0,0,1,1,1,1,0,0,0,0,1,1,1,1,1,0,0,0,0.85,0.85,0.85,0.85,0.85,0.85,0.7,0.7,0.85,0.85,0.85,0.85,1,null,153,212,"Cold","5A",null,null,"AINSWORTH MUNICIPAL","NE","",0,0]
["Annette Island Ap, AK","Aitkin Ndb Awos, MN","Aitkin Ndb Awos","MN",1204,-93.68,46.55,-6,-14.619999313354493,82.219999313354492,72.680000686645513,8884.8000000000011,234,10.940000343322753,12.380000686645507,24.979999828338624,43.340000343322757,48.919999313354495,61.880000686645509,65.480000686645511,64.219999313354492,56.840000343322757,47.840000343322757,28.039999914169311,21.379999828338622,40.674520677279119,38.770883350678268,36.775850450527948,37.361058488105954,40.373963970088738,45.029206652318578,50.113325790211,54.30106738182684,56.50083204626003,56.139217224326458,53.310483392016209,48.751983614828816,43.651961108296156,1,1,1,1,1,1,1,1,1,1,1,1,0,0,0,0,0,0,1,1,0,0,0,0,1,1,1,1,1,1,1,1,1,1,1,1,0,0,0,0,0,0,1,1,0,0,0,0,0.85,0.85,0.85,0.85,0.85,0.85,0.85,0.85,0.85,0.85,0.85,0.85,1,null,62,303,"Very Cold",7,null,null,"AITKIN NDBAWOS","MN",false,0,0,null,1,{"$f":"2+DI10","v":3}]
["Anvik, AK","Akron Akron Canton Reg Ap, OH","Akron Akron Canton Reg Ap","OH",1207,-81.430000000000007,40.92,-5,7.1599996566772459,85.819999313354487,71.780000686645508,6100.2,712.80000000000007,23.179999828338623,26.23999991416931,37.939999914169313,49.1,60.980000686645511,67.639998626708987,72.319999313354487,70.33999862670899,62.239998626708989,49.819999313354494,42.259999656677245,32,49.632602282354277,45.822279808031574,44.421336398509098,45.942782212447867,49.990028952255038,55.508099385239689,61.058623417004981,65.194771422506804,66.838392684140942,65.561051991092128,61.695707879419437,56.249921858586212,50.643221977025483,1,1,1,1,1,0,0,0,1,1,1,1,0,0,0,0,0,1,1,1,0,0,0,0,1,1,1,1,1,1,0,0,1,1,1,1,0,0,0,0,1,1,1,1,1,0,0,0,0.85,0.85,0.85,0.85,0.85,0.85,0.7,0.7,0.85,0.85,0.85,0.85,1,null,153,212,"Cold","5A",null,null,"AKRON AKRON CANTON REG AP","OH","",0,0,null,2,{"$f":"2+DI11","v":4}]
["Barrow W Post W Rogers Arpt  N, AK","Akron Washington Co Ap, CO","Akron Washington Co Ap","CO",4661,-103.23,40.17,-7,3.0199993133544916,91.22000274658204,62.960001373291014,6073.2,806.4,25.339999914169312,27.139999914169312,44.420000171661378,48.019999313354489,57.019999313354489,67.280000686645508,76.280000686645508,69.980000686645511,60.980000686645511,48.559999656677249,40.820000171661377,32.360000005364419,49.988164484427401,45.704741779449051,44.276672376618436,45.901383871244683,50.155370174691441,55.929764201052016,61.719381161249999,66.015068173911729,67.697088220646265,66.326996855558704,62.261929506706153,56.561508623151141,50.71163675433715,1,1,1,1,1,0,0,0,1,1,1,1,0,0,0,0,0,1,1,1,0,0,0,0,1,1,1,1,1,1,0,0,1,1,1,1,0,0,0,0,1,1,1,1,1,0,0,0,0.85,0.85,0.85,0.85,0.85,0.85,0.7,0.7,0.85,0.85,0.85,0.85,1,null,153,212,"Cold","5B",null,null,"AKRON WASHINGTON CO AP","CO","",0,0,null,3,{"$f":"2+DI12","v":5}]
["Bethel Airport, AK","Alamosa San Luis Valley Rgnl, CO","Alamosa San Luis Valley Rgnl","CO",7531,-105.87,37.43,-7,-9.9399986267089862,82.760001373291018,55.040000343322752,8413.2000000000007,50.4,12.380000686645507,23.359999656677246,34.519999957084657,43.340000343322757,51.080000686645505,61.7,64.039998626708979,61.7,55.4,44.420000171661378,26.779999828338624,18.140000343322754,41.494137014166952,39.757608945017509,37.890081397941444,38.525998950211623,41.499599892042689,46.035769313368782,50.952084750034466,54.967032820758646,57.034055438684433,56.614351304666719,53.817322769073719,49.372058423222192,44.437284922455525,1,1,1,1,1,1,1,1,1,1,1,1,0,0,0,0,0,0,1,1,0,0,0,0,1,1,1,1,1,1,1,1,1,1,1,1,0,0,0,0,0,0,1,1,0,0,0,0,0.85,0.85,0.85,0.85,0.85,0.85,0.85,0.85,0.85,0.85,0.85,0.85,1,null,62,303,"Cold","6B",null,null,"ALAMOSA SAN LUIS VALLEY RGNL","CO","",0,0,null,4,{"$f":"2+DI13","v":6}]
["Bettles Field, AK","Albany County Ap, NY","Albany County Ap","NY",276,-73.8,42.75,-5,2.8399986267089838,86.180000686645513,71.419999313354495,6483.6,563.4,19.940000343322755,25.160000085830688,36.679999828338623,48.559999656677249,60.259999656677245,65.3,71.960001373291021,68.900000000000006,61.160001373291017,49.640000343322754,40.279999828338624,28.939999914169313,48.190137187356818,44.274350888680132,42.697398523994671,44.116205600378386,48.160938188892978,53.777274409126186,59.501229674913205,63.840766837405951,65.664718660908747,64.497643994677162,60.643758835629477,55.107637740639504,49.332355987324881,1,1,1,1,1,1,0,0,1,1,1,1,0,0,0,0,0,0,1,1,0,0,0,0,1,1,1,1,1,1,1,0,1,1,1,1,0,0,0,0,0,1,1,1,1,0,0,0,0.85,0.85,0.85,0.85,0.85,0.85,0.85,0.7,0.85,0.85,0.85,0.85,1,null,122,243,"Cold","5A",null,null,"ALBANY COUNTY AP","NY","",0,0]
["Big Delta Allen Aaf, AK","Albany Dougherty County Ap, GA","Albany Dougherty County Ap","GA",190,-84.18,31.53,-5,29.660000085830688,94.460001373291021,76.099999999999994,1683,2404.8000000000002,51.980000686645511,54.859999656677246,57.380000686645509,64.760001373291018,73.039998626708979,79.16000137329101,81.139998626708987,78.439998626708984,77,70.16000137329101,58.819999313354494,48.919999313354495,66.35928763925213,62.549964838387289,62.758152137170001,65.469023362547148,69.975948153834068,75.104127110368438,79.516821359499701,82.063794143515025,82.08113775622212,79.564331317695732,75.169419211298987,70.042003005209864,65.518622749421013,1,1,1,1,0,0,0,0,0,0,1,1,0,0,0,0,1,1,1,1,1,1,0,0,1,1,1,1,1,0,0,0,0,0,1,1,0,0,0,1,1,1,1,1,1,1,1,0,0.85,0.85,0.85,0.85,0.85,0.7,0.7,0.7,0.7,0.7,0.85,0.85,1,null,244,121,"Hot-Humid","3A",null,null,"ALBANY DOUGHERTY COUNTY AP","GA","",0,0]
["Big River Lake, AK","Albert Lea AWOS, MN","Albert Lea AWOS","MN",1256,-93.37,43.68,-6,-6.8800006866455083,86,72.319999313354487,6987.6,999,20.840000343322753,19.399999999999999,33.799999999999997,47.480000686645511,54.140000343322754,71.419999313354495,74.66000137329101,74.3,63.5,47.3,42.079999828338622,25.520000171661376,48.013589216519712,43.54102659483884,41.854386283743743,43.337229596065811,47.603030571141147,53.539842446833475,59.600143718703222,64.204223468167996,66.151957357513197,64.935638532993195,60.872319240259593,55.021166270609129,48.907372814577833,1,1,1,1,1,0,0,0,1,1,1,1,0,0,0,0,0,1,1,1,0,0,0,0,1,1,1,1,1,1,0,0,1,1,1,1,0,0,0,0,1,1,1,1,1,0,0,0,0.85,0.85,0.85,0.85,0.85,0.85,0.7,0.7,0.85,0.85,0.85,0.85,1,null,153,212,"Cold","6A",null,null,"ALBERT LEA AWOS","MN","",0,0]
["Birchwood, AK","Albuquerque Intl Arpt  Isis, NM","Albuquerque Intl Arpt  Isis","NM",5310,-106.62,35.04,-7,21.2,92.83999862670899,60.080000686645505,4145.4000000000005,1303.2,36.679999828338623,39.740000343322755,47.840000343322757,57.019999313354489,64.039998626708979,73.760001373291018,78.080000686645505,75.380000686645502,68.900000000000006,56.659999656677243,44.6,35.779999828338624,56.628438409779172,52.312286278148761,51.593299510330496,53.750791753291544,58.222379405942235,63.842474237367561,69.146111921473562,72.75081756436731,73.716969090033075,71.792724214460407,67.479667017978457,61.902062325073544,56.51379875244146,1,1,1,1,1,0,0,0,0,1,1,1,0,0,0,0,0,1,1,1,1,0,0,0,1,1,1,1,1,1,0,0,0,1,1,1,0,0,0,0,1,1,1,1,1,1,0,0,0.85,0.85,0.85,0.85,0.85,0.85,0.7,0.7,0.7,0.85,0.85,0.85,1,null,184,181,"Mixed-Dry","4B",null,null,"ALBUQUERQUE INTL ARPT","NM",false,0,0]
["Chulitna, AK","Alexandria Esler Regional Ap, LA","Alexandria Esler Regional Ap","LA",112,-92.3,31.4,-6,28.220000171661376,94.820002746582034,77.360001373291013,2048.4,2376,49.459999656677248,55.219999313354492,56.840000343322757,64.400000000000006,72.319999313354487,77.900000000000006,79.880000686645502,83.119999313354498,75.2,66.739998626708982,52.880000686645509,48.740000343322755,65.281260131940456,61.039220075995736,61.157797403626631,63.915211298675466,68.592699336363395,73.971002177394467,78.648182304098356,81.405060638922151,81.523014359112906,78.97129700978104,74.415053041184549,69.041937657583034,64.252536185926687,1,1,1,1,0,0,0,0,0,0,1,1,0,0,0,0,1,1,1,1,1,1,0,0,1,1,1,1,1,0,0,0,0,0,1,1,0,0,0,1,1,1,1,1,1,1,1,0,0.85,0.85,0.85,0.85,0.85,0.7,0.7,0.7,0.7,0.7,0.85,0.85,1,null,244,121,"Hot-Humid","2A",null,null,"ALEXANDRIA ESLER REGIONAL AP","LA","",0,0]
["Cold Bay Arpt, AK","Alexandria Municipal Ap, MN","Alexandria Municipal Ap","MN",1420,-95.4,45.88,-6,-14.260001373291017,85.639998626708987,70.519999313354489,8663.4,576,12.380000686645507,12.559999656677245,26.060000085830687,48.740000343322755,57.019999313354489,66.919999313354495,67.819999313354487,70.33999862670899,62.780000686645508,44.420000171661378,33.619999957084659,2.6600013732910148,42.233369824918981,37.799704319895817,35.382818468486747,36.315626861122546,40.354978615250239,46.447954447861676,53.006326312586893,58.320553515315559,61.005400840936304,60.361021459276401,56.555382786352347,50.58048318892898,43.99377232306459,1,1,1,1,1,0,0,0,1,1,1,1,0,0,0,0,0,1,1,1,0,0,0,0,1,1,1,1,1,1,0,0,1,1,1,1,0,0,0,0,1,1,1,1,1,0,0,0,0.85,0.85,0.85,0.85,0.85,0.85,0.7,0.7,0.85,0.85,0.85,0.85,1,null,153,212,"Cold","6A",null,null,"ALEXANDRIA MUNICIPAL AP","MN","",0,0]
["Cordova, AK","Algona, IA","Algona","IA",1220,-94.27,43.08,-6,-11.380000686645509,89.779997253417974,77.180000686645513,6708.6,777.6,17.419999313354491,20.840000343322753,42.97999982833862,48.740000343322755,55.580000686645505,69.260001373291018,75.2,71.239998626708982,59.9,52.880000686645509,35.060000085830687,26.779999828338624,48.155616525362618,43.154326658837491,41.400405499956804,42.971326658599978,47.457605326138825,53.689823832232364,60.043458381872981,64.862336217224652,66.890342569347666,65.598846330037262,61.324495896629173,55.181466579325281,48.771033636628161,1,1,1,1,1,0,0,0,1,1,1,1,0,0,0,0,0,1,1,1,0,0,0,0,1,1,1,1,1,1,0,0,1,1,1,1,0,0,0,0,1,1,1,1,1,0,0,0,0.85,0.85,0.85,0.85,0.85,0.85,0.7,0.7,0.85,0.85,0.85,0.85,1,null,153,212,"Cold","6A",null,null,"ALGONA","IA","",0,0]
["Deadhorse, AK","Alice Intl Ap, TX","Alice Intl Ap","TX",174,-98.03,27.73,-6,37.76000008583069,98.420002746582028,76.460001373291021,907.2,3882.6,59.540000343322752,61.519999313354496,64.400000000000006,75.560001373291016,80.599999999999994,82.760001373291018,84.739998626708982,84.739998626708982,82.219999313354492,72.319999313354487,63.86000137329102,57.740000343322755,72.550794516785501,69.35337442878695,70.046130351264452,72.955758049326988,77.323818224754461,82.011708678976845,85.79745852252239,87.694253718499937,87.207665368579157,84.464530224720349,80.179888735162478,75.470598732482827,71.564209228235526,1,1,1,0,0,0,0,0,0,0,1,1,0,0,0,1,1,1,1,1,1,1,0,0,1,1,1,1,0,0,0,0,0,0,1,1,0,0,1,1,1,1,1,1,1,1,1,0,0.85,0.85,0.85,0.85,0.7,0.7,0.7,0.7,0.7,0.7,0.85,0.85,1,null,275,90,"Hot-Humid","2A",null,null,"ALICE INTL AP","TX","",0,0]
["Dillingham  Amos, AK","Allentown Lehigh Valley Intl, PA","Allentown Lehigh Valley Intl","PA",390,-75.45,40.65,-5,11.480000686645507,88.16000137329101,72.5,5468.4000000000005,842.4,24.979999828338624,29.660000085830688,41.720000171661376,53.780000686645508,61.880000686645509,68.539998626708979,73.760001373291018,70.519999313354489,63.5,53.780000686645508,43.52000017166138,33.440000021457671,51.707287812265633,47.331478534626974,46.084105935410363,47.866494811050686,52.214038033668267,57.993481464618782,63.698324109705773,67.841510819200991,69.343056128834661,67.811559114137111,63.646228073072642,57.932820731189068,52.16062475842061,1,1,1,1,1,0,0,0,1,1,1,1,0,0,0,0,0,1,1,1,0,0,0,0,1,1,1,1,1,1,0,0,1,1,1,1,0,0,0,0,1,1,1,1,1,0,0,0,0.85,0.85,0.85,0.85,0.85,0.85,0.7,0.7,0.85,0.85,0.85,0.85,1,null,153,212,"Cold","5A",null,null,"ALLENTOWN LEHIGH VALLEY INTL","PA","",0,0]
["Dutch Harbor, AK","Alliance Municipal, NE","Alliance Municipal","NE",3929,-102.8,42.05,-7,-3.9998626708985165E-2,93.379997253417969,65.119999313354498,6858,833.4,26.960000085830689,28.76000008583069,39.200000000000003,46.580000686645505,53.780000686645508,66.739998626708982,74.3,73.580000686645505,62.060001373291016,46.940000343322751,30.740000021457671,23.9,47.910520765814063,44.391357139934691,42.847014323621877,44.186544955261532,48.0607797329249,53.459839658048871,58.976376559117945,63.172420080461514,64.954206815253372,63.857286592905304,60.167588573424624,54.846889405556603,49.28211132186216,1,1,1,1,1,0,0,0,1,1,1,1,0,0,0,0,0,1,1,1,0,0,0,0,1,1,1,1,1,1,0,0,1,1,1,1,0,0,0,0,1,1,1,1,1,0,0,0,0.85,0.85,0.85,0.85,0.85,0.85,0.7,0.7,0.85,0.85,0.85,0.85,1,null,153,212,"Cold","5A",null,null,"ALLIANCE MUNICIPAL","NE","",0,0]
["Emmonak, AK","Alma Bacon County Ap, GA","Alma Bacon County Ap","GA",207,-82.5,31.53,-5,23.9,98.060001373291016,78.080000686645505,2107.8000000000002,2255.4,46.759999656677245,53.059999656677249,56.659999656677243,64.939998626708984,75.560001373291016,77.180000686645513,80.419999313354495,80.780000686645508,74.480000686645511,64.219999313354492,56.480000686645511,46.220000171661376,64.78712333235022,60.59573902787232,60.668379862674229,63.378627117404143,68.020013078942284,73.382688970490975,78.068790679581042,80.856813580724889,81.02001654000594,78.515858191053837,73.997085997771251,68.641587568724631,63.845356100173973,1,1,1,1,0,0,0,0,0,1,1,1,0,0,0,0,1,1,1,1,1,0,0,0,1,1,1,1,1,0,0,0,0,1,1,1,0,0,0,1,1,1,1,1,1,1,0,0,0.85,0.85,0.85,0.85,0.85,0.7,0.7,0.7,0.7,0.85,0.85,0.85,1,null,214,151,"Hot-Humid","2A",null,null,"ALMA BACON COUNTY AP","GA","",0,0]
["Fairbanks Eielson A, AK","Alpena County Regional Ap, MI","Alpena County Regional Ap","MI",689,-83.58,45.07,-5,-3.9998626708985165E-2,84.560001373291016,69.619999313354498,7887.6,316.8,19.579999828338622,18.140000343322754,30.740000021457671,44.420000171661378,52.519999313354489,61.160001373291017,67.460001373291021,64.760001373291018,59.359999656677246,45.5,34.160000085830688,24.8,43.690630431338533,41.654926803470659,39.94374738071599,40.773243229120538,43.927193472879694,48.583472377113146,53.528349090002521,57.472865293476417,59.388822052264658,58.776795711401704,55.796320368244885,51.224302851503374,46.252509983838486,1,1,1,1,1,1,0,1,1,1,1,1,0,0,0,0,0,0,1,1,0,0,0,0,1,1,1,1,1,1,1,1,1,1,1,1,0,0,0,0,0,1,1,1,0,0,0,0,0.85,0.85,0.85,0.85,0.85,0.85,0.85,0.85,0.85,0.85,0.85,0.85,1,null,92,273,"Cold","6A",null,null,"ALPENA COUNTY REGIONAL AP","MI","",0,0]
["Fairbanks Intl Arpt, AK","Altoona Blair Co Arpt, PA","Altoona Blair Co Arpt","PA",1479,-78.319999999999993,40.299999999999997,-5,9.5,85.639998626708987,70.7,5736.6,648,26.779999828338624,33.980000042915343,42.079999828338622,50.9,56.659999656677243,64.219999313354492,72.860001373291013,68.719999313354492,64.939998626708984,49.459999656677248,45.320000171661377,28.4,50.429040914822934,46.998955959383153,45.735024111725444,47.258652543582485,51.172684024365864,56.456865931558504,61.733794819342528,65.627957853181343,67.124281427435989,65.832725743432718,62.089954693682564,56.871579230150658,51.537849335006712,1,1,1,1,1,1,0,0,1,1,1,1,0,0,0,0,0,0,1,1,0,0,0,0,1,1,1,1,1,1,1,0,1,1,1,1,0,0,0,0,0,1,1,1,1,0,0,0,0.85,0.85,0.85,0.85,0.85,0.85,0.85,0.7,0.85,0.85,0.85,0.85,1,null,122,243,"Cold","5A",null,null,"ALTOONA BLAIR CO ARPT","PA","",0,0]
["Fort Yukon, AK","Alturas, CA","Alturas","CA",4398,-120.53,41.5,-8,4.8199993133544918,96.979997253417977,59.180000686645506,6278.4000000000005,473.40000000000003,32,34.880000042915341,40.1,45.679999828338623,52.159999656677243,63.139998626708987,72.319999313354487,67.280000686645508,60.440000343322751,46.040000343322752,35.419999957084656,31.279999989271165,48.475671132966262,46.57970608498934,45.349635087493489,46.498406021722602,49.726574040573901,54.192667402358779,58.732530047745996,62.162776816814308,63.58926102750322,62.640147587509574,59.562837541248562,55.159479175061399,50.577875704901238,1,1,1,1,1,1,0,0,1,1,1,1,0,0,0,0,0,0,1,1,0,0,0,0,1,1,1,1,1,1,1,0,1,1,1,1,0,0,0,0,0,1,1,1,1,0,0,0,0.85,0.85,0.85,0.85,0.85,0.85,0.85,0.7,0.85,0.85,0.85,0.85,1,null,122,243,"Cold","5B",null,null,"ALTURAS","CA","",0,0]
["Gambell, AK","Altus Afb, OK","Altus Afb","OK",1358,-99.27,34.65,-6,19.759999656677245,100.4,73.760001373291018,3150,2673,39.379999828338626,42.620000171661374,51.980000686645511,61.7,73.760001373291018,86.539998626708979,83.83999862670899,84.560001373291016,75.380000686645502,62.780000686645508,51.619999313354491,42.079999828338622,63.124219282489932,55.699805377012524,55.592533931825329,59.012504802872257,65.068249879268492,72.18124588499488,78.497380796572401,82.370256714713079,82.790348848529078,79.648153709525516,73.762732883376486,66.668212005498063,60.21388727258536,1,1,1,1,0,0,0,0,0,1,1,1,0,0,0,0,1,1,1,1,1,0,0,0,1,1,1,1,1,0,0,0,0,1,1,1,0,0,0,1,1,1,1,1,1,1,0,0,0.85,0.85,0.85,0.85,0.85,0.7,0.7,0.7,0.7,0.85,0.85,0.85,1,null,214,151,"Mixed-Humid","3A",null,null,"ALTUS AFB","OK","",0,0]
["Gulkana Intermediate Field, AK","Amarillo International Ap  Can, TX","Amarillo International Ap  Can","TX",3503,-101.9,34.99,-6,13.640000343322754,94.820002746582034,66.2,4181.4000000000005,1431,36.5,39.740000343322755,46.759999656677245,59,63.139998626708987,74.83999862670899,78.260001373291018,75.560001373291016,69.8,57.019999313354489,43.52000017166138,37.039999914169314,56.849862963140829,52.606839815477471,51.915346044008771,54.074102613518207,58.520396356717399,64.095232289980828,69.345443516481168,72.90248157182701,73.8391496712768,71.91129084021658,67.621431192166099,62.087788753127967,56.752792700848758,1,1,1,1,1,0,0,0,0,1,1,1,0,0,0,0,0,1,1,1,1,0,0,0,1,1,1,1,1,1,0,0,0,1,1,1,0,0,0,0,1,1,1,1,1,1,0,0,0.85,0.85,0.85,0.85,0.85,0.85,0.7,0.7,0.7,0.85,0.85,0.85,1,null,184,181,"Mixed-Dry","4B",null,null,"AMARILLO INTERNATIONAL AP","TX",false,0,0]
["Gustavus, AK","Ambler, AK","Ambler","AK",289,-157.85,67.099999999999994,-9,-38.200000000000003,73.039998626708979,57.380000686645509,13879.800000000001,9,-9.4,4.640000343322753,17.600000000000001,23,41,54.680000686645506,53.240000343322755,48.559999656677249,36.860000085830691,30.919999957084656,8.0599996566772454,6.0800006866455067,26.399780938200756,32,32,32,32,32,33.154477651865093,36.579261559954588,38.914599436237957,39.551749474615903,38.32462869880591,35.553105049526422,32,1,1,1,1,1,1,1,1,1,1,1,1,0,0,0,0,0,0,1,1,0,0,0,0,1,1,1,1,1,1,1,1,1,1,1,1,0,0,0,0,0,0,1,1,0,0,0,0,0.85,0.85,0.85,0.85,0.85,0.85,0.85,0.85,0.85,0.85,0.85,0.85,1,null,62,303,"Subarctic",8,null,null,"AMBLER","AK","",0,0]
["Hayes River, AK","Anaktuvuk Pass, AK","Anaktuvuk Pass","AK",2155,-151.72999999999999,68.13,-9,-35.139998626708987,66.380000686645502,52.519999313354489,16070.4,0,-7.6000000000000014,-4.9000000000000012,6.4400003433227528,15.799999999999999,35.960000085830686,45.5,49.819999313354494,41.540000343322752,35.23999991416931,20.659999656677247,7.1599996566772459,-2.7399986267089851,20.384328826616887,32,32,32,32,32,32,32,32,32,32,32,32,1,1,1,1,1,1,1,1,1,1,1,1,0,0,0,0,0,0,1,1,0,0,0,0,1,1,1,1,1,1,1,1,1,1,1,1,0,0,0,0,0,0,1,1,0,0,0,0,0.85,0.85,0.85,0.85,0.85,0.85,0.85,0.85,0.85,0.85,0.85,0.85,1,null,62,303,"Subarctic",8,null,null,"ANAKTUVUK PASS","AK","",0,0]
["Healy River Airport, AK","Anchorage Elmendorf, AK","Anchorage Elmendorf","AK",194,-149.80000000000001,61.25,-9,-9.4,71.239998626708982,57.559999656677249,8730,7.2,27.860000085830688,30.919999957084656,30.019999957084657,42.440000343322751,46.4,57.019999313354489,61.339998626708983,59.180000686645506,44.959999656677248,29.839999914169312,33.440000021457671,22.279999828338624,40.509808084670809,40.887276519270408,39.455414624378122,39.86238909640501,42.002115767550819,45.316841906795261,48.942533064468257,51.934096966730309,53.51173638106161,53.264215281957405,51.2560538583148,48.010710331910538,44.374133505159477,1,1,1,1,1,1,1,1,1,1,1,1,0,0,0,0,0,0,1,1,0,0,0,0,1,1,1,1,1,1,1,1,1,1,1,1,0,0,0,0,0,0,1,1,0,0,0,0,0.85,0.85,0.85,0.85,0.85,0.85,0.85,0.85,0.85,0.85,0.85,0.85,1,null,62,303,"Very Cold",7,null,null,"ANCHORAGE INTL AP","AK",false,0,0]
["Homer Arpt, AK","Anchorage Intl Ap, AK","Anchorage Intl Ap","AK",115,-150,61.18,-9,-4.3600013732910163,68.360001373291013,57.2,9880.2000000000007,0,17.600000000000001,17.959999656677248,25.879999828338622,37.939999914169313,49.280000686645508,56.659999656677243,58.819999313354494,56.659999656677243,51.259999656677245,33.980000042915343,22.1,18.859999656677246,37.356602580645315,38.172885136613587,36.619351743320699,36.821986604954603,38.727969822132685,41.840477497207019,45.348186539474305,48.336758531634999,50.027176128643923,49.978805933717013,48.204256383569231,45.166091165082932,41.656254861999813,1,1,1,1,1,1,1,1,1,1,1,1,0,0,0,0,0,0,1,1,0,0,0,0,1,1,1,1,1,1,1,1,1,1,1,1,0,0,0,0,0,0,1,1,0,0,0,0,0.85,0.85,0.85,0.85,0.85,0.85,0.85,0.85,0.85,0.85,0.85,0.85,1,null,62,303,"Very Cold",7,null,null,"ANCHORAGE MERRILL FIELD","AK",false,0,0]
["Hoonah, AK","Anchorage Merrill Field, AK","Anchorage Merrill Field","AK",138,-149.85,61.22,-9,-6.8800006866455083,70.33999862670899,58.1,8881.2000000000007,10.8,28.4,21.559999656677245,28.580000042915344,36.679999828338623,48.380000686645509,59.540000343322752,57.740000343322755,60.980000686645511,44.959999656677248,35.060000085830687,34.339999914169312,23.540000343322752,40.088657672633865,40.511611728925473,39.059060838854265,39.438882692874024,41.552070871502544,44.847790310764736,48.466960950242992,51.46619018964951,53.063682708211353,52.843027462860476,50.861741643697854,47.636277932026893,44.007403150195032,1,1,1,1,1,1,1,1,1,1,1,1,0,0,0,0,0,0,1,1,0,0,0,0,1,1,1,1,1,1,1,1,1,1,1,1,0,0,0,0,0,0,1,1,0,0,0,0,0.85,0.85,0.85,0.85,0.85,0.85,0.85,0.85,0.85,0.85,0.85,0.85,1,null,62,303,"Very Cold",7,null,null,"ANCHORAGE/ELMENDORF","AK",false,0,0]
["Hooper Bay, AK","Anderson County Ap, SC","Anderson County Ap","SC",761,-82.72,34.5,-5,25.7,92.660001373291024,74.3,3328.2000000000003,1587.6000000000001,37.76000008583069,43.7,48.019999313354489,58.280000686645508,66.739998626708982,74.119999313354498,79.7,78.080000686645505,72.5,58.640000343322754,56.480000686645511,40.820000171661377,59.637150675760559,54.61177902756225,54.164970541936661,56.708562599839567,61.579528733438451,67.508176556150488,72.949112649757296,76.484073174097006,77.191616193109851,74.887309715322161,70.171806734607003,64.274275770988368,58.731999153836632,1,1,1,1,0,0,0,0,0,1,1,1,0,0,0,0,1,1,1,1,1,0,0,0,1,1,1,1,1,0,0,0,0,1,1,1,0,0,0,1,1,1,1,1,1,1,0,0,0.85,0.85,0.85,0.85,0.85,0.7,0.7,0.7,0.7,0.85,0.85,0.85,1,null,214,151,"Mixed-Humid","3A",null,null,"ANDERSON COUNTY AP","SC","",0,0]
["Huslia, AK","Andrews Afb, MD","Andrews Afb","MD",282,-76.87,38.82,-5,18.320000171661377,91.039998626708993,74.3,4483.8,1215,34.160000085830688,39.379999828338626,41,52.159999656677243,63.319999313354494,75.019999313354489,77.180000686645513,72.680000686645513,66.919999313354495,57.380000686645509,42.97999982833862,42.259999656677245,55.458684857904096,51.285886804831598,50.458221277795552,52.497996105189962,56.873512544372893,62.444224806721934,67.758040893781271,71.429832754074241,72.502491255190122,70.69641142864522,66.482375813761053,60.958837733811741,55.565592509634442,1,1,1,1,1,0,0,0,0,1,1,1,0,0,0,0,0,1,1,1,1,0,0,0,1,1,1,1,1,1,0,0,0,1,1,1,0,0,0,0,1,1,1,1,1,1,0,0,0.85,0.85,0.85,0.85,0.85,0.85,0.7,0.7,0.7,0.85,0.85,0.85,1,null,184,181,"Mixed-Humid","4A",null,null,"ANDREWS AFB","MD","",0,0]
["Hydaburg Seaplane, AK","Aniak Airport, AK","Aniak Airport","AK",85,-159.53,61.58,-9,-31.720002746582033,69.619999313354498,53.780000686645508,11219.4,0,12.019999313354491,27.860000085830688,22.820000171661377,29.480000042915343,41.179999828338623,52.7,55.040000343322752,52.7,37.76000008583069,30.019999957084657,27.320000171661377,15.080000686645507,33.678191837611266,35.139609954155993,33.515039736289808,33.496990090681876,35.090165935613364,37.879281435519928,41.137310653780041,44.014998066904162,45.76223010415611,45.923563809365426,44.456945066041648,41.744670650911097,38.493736687691481,1,1,1,1,1,1,1,1,1,1,1,1,0,0,0,0,0,0,1,1,0,0,0,0,1,1,1,1,1,1,1,1,1,1,1,1,0,0,0,0,0,0,1,1,0,0,0,0,0.85,0.85,0.85,0.85,0.85,0.85,0.85,0.85,0.85,0.85,0.85,0.85,1,null,62,303,"Subarctic",8,null,null,"ANIAK AIRPORT","AK","",0,0]
["Iliamna Arpt, AK","Ann Arbor Municipal, MI","Ann Arbor Municipal","MI",840,-83.75,42.22,-5,1.2199993133544915,89.779997253417974,73.580000686645505,6100.2,568.80000000000007,24.259999656677245,23.9,42.079999828338622,49.280000686645508,52.7,68.539998626708979,68,70.519999313354489,60.980000686645511,50.359999656677246,45.679999828338623,33.080000042915344,49.245479310375373,46.05142927615087,44.698852346167868,46.095416262846769,49.877085119603798,55.058108651644119,60.287973233351991,64.203434066852481,65.783865946815794,64.617304948536983,61.007833173466594,55.896315063420474,50.6151465846606,1,1,1,1,1,0,0,0,1,1,1,1,0,0,0,0,0,1,1,1,0,0,0,0,1,1,1,1,1,1,0,0,1,1,1,1,0,0,0,0,1,1,1,1,1,0,0,0,0.85,0.85,0.85,0.85,0.85,0.85,0.7,0.7,0.85,0.85,0.85,0.85,1,null,153,212,"Cold","5A",null,null,"ANN ARBOR MUNICIPAL","MI","",0,0]
["Juneau IntL Arpt, AK","Annette Island Ap, AK","Annette Island Ap","AK",108,-131.57,55.05,-9,20.3,68.900000000000006,59,6627.6,14.4,35.779999828338624,40.820000171661377,38.299999999999997,43.7,49.459999656677248,52.340000343322757,57.740000343322755,57.559999656677249,53.780000686645508,46.759999656677245,41,38.120000171661374,46.309260313478234,48.379651259035938,47.668682880657052,48.167352523605942,49.745674260716164,51.992234208535734,54.321431896128722,56.126126052201158,56.935895333793972,56.539660898737637,55.040707358687058,52.829760053429688,50.483136469810191,1,1,1,1,1,1,1,1,1,1,1,1,0,0,0,0,0,0,1,1,0,0,0,0,1,1,1,1,1,1,1,1,1,1,1,1,0,0,0,0,0,0,1,1,0,0,0,0,0.85,0.85,0.85,0.85,0.85,0.85,0.85,0.85,0.85,0.85,0.85,0.85,1,null,62,303,"Very Cold",7,null,null,"ANNETTE ISLAND AP","AK","",0,0]
["Kake Seaplane Base, AK","Anniston Metropolitan Ap, AL","Anniston Metropolitan Ap","AL",610,-85.85,33.58,-6,24.440000343322755,92.3,75.380000686645502,2518.2000000000003,16.2,44.6,50.719999313354492,55.040000343322752,64.760001373291018,71.780000686645508,74.83999862670899,76.460001373291021,76.460001373291021,70.519999313354489,59.180000686645506,56.840000343322757,42.8,62.040767421461133,58.685575625382505,58.517456558076525,60.831735225974498,65.025159230174992,70.004647981363149,74.472221000297324,77.263336532208115,77.650447301310649,75.532646920080822,71.461972694177959,66.499508591572322,61.938797354494717,1,1,1,1,0,0,0,0,0,1,1,1,0,0,0,0,1,1,1,1,1,0,0,0,1,1,1,1,1,0,0,0,0,1,1,1,0,0,0,1,1,1,1,1,1,1,0,0,0.85,0.85,0.85,0.85,0.85,0.7,0.7,0.7,0.7,0.85,0.85,0.85,1,null,214,151,"Mixed-Humid","3A",null,null,"ANNISTON METROPOLITAN AP","AL","",0,0]
["Kenai Municipal Ap, AK","Antigo Lang Awos, WI","Antigo Lang Awos","WI",1522,-87.15,45.15,-5,-7.9600013732910169,82.039998626708979,70.519999313354489,8391.6,493.2,18.5,18.859999656677246,30.559999978542329,40.1,55.4,67.639998626708987,69.980000686645511,66.739998626708982,61.339998626708983,41.540000343322752,28.580000042915344,12.559999656677245,42.771396951577437,39.734304378937253,37.704012183722142,38.558604381810405,42.075318347105906,47.337468390351738,52.973394010589061,57.514004342660215,59.775719330587577,59.168988108684886,55.851964519952233,50.68928187967358,45.026672977385289,1,1,1,1,1,0,0,0,1,1,1,1,0,0,0,0,0,1,1,1,0,0,0,0,1,1,1,1,1,1,0,0,1,1,1,1,0,0,0,0,1,1,1,1,1,0,0,0,0.85,0.85,0.85,0.85,0.85,0.85,0.7,0.7,0.85,0.85,0.85,0.85,1,null,153,212,"Cold","6A",null,null,"ANTIGO\\LANGAWOS","WI",false,0,0]
["Ketchikan Intl Ap, AK","Anvik, AK","Anvik","AK",325,-160.18,62.65,-9,-22.18000068664551,70.519999313354489,55.759999656677245,11368.800000000001,28.8,12.559999656677245,17.959999656677248,25.160000085830688,31.81999999731779,42.440000343322751,51.080000686645505,54.5,53.780000686645508,42.079999828338622,33.799999999999997,20.479999828338624,13.1,33.321150752199841,34.976388571169835,33.394964413999467,33.358292051176889,34.875930699210031,37.552284456969552,40.689720473635575,43.470417702111575,45.16954455795387,45.344197441849722,43.948850388129273,41.347222109293739,38.217467108526961,1,1,1,1,1,1,1,1,1,1,1,1,0,0,0,0,0,0,1,1,0,0,0,0,1,1,1,1,1,1,1,1,1,1,1,1,0,0,0,0,0,0,1,1,0,0,0,0,0.85,0.85,0.85,0.85,0.85,0.85,0.85,0.85,0.85,0.85,0.85,0.85,1,null,62,303,"Subarctic",8,null,null,"ANVIK","AK","",0,0]
["King Salmon Arpt, AK","Appleton Outagamie, WI","Appleton Outagamie","WI",918,-88.52,44.25,-6,-3.9998626708985165E-2,85.460001373291021,73.039998626708979,6829.2,5.4,22.820000171661377,32.180000002682206,32.360000005364419,44.240000343322755,53.240000343322755,68.900000000000006,70.519999313354489,66.560001373291016,58.640000343322754,49.459999656677248,36.320000171661377,31.279999989271165,47.280767266480893,44.458323975011908,42.962821973705019,44.156851417310151,47.729170130800917,52.748598190408181,57.906744320667507,61.8590582432888,63.575308427339635,62.608127814131251,59.209626935200816,54.265677417125396,49.06499589035964,1,1,1,1,1,0,0,0,1,1,1,1,0,0,0,0,0,1,1,1,0,0,0,0,1,1,1,1,1,1,0,0,1,1,1,1,0,0,0,0,1,1,1,1,1,0,0,0,0.85,0.85,0.85,0.85,0.85,0.85,0.7,0.7,0.85,0.85,0.85,0.85,1,null,153,212,"Cold","6A",null,null,"APPLETON OUTAGAMIE","WI","",0,0]
["Kodiak Airport, AK","Arcata Airport, CA","Arcata Airport","CA",203,-124.1,40.98,-8,33.080000042915344,67.819999313354487,59.180000686645506,4770,1.8,46.940000343322751,46.220000171661376,48.019999313354489,49.640000343322754,50.719999313354492,54.140000343322754,56.480000686645511,56.119999313354491,56.480000686645511,52.340000343322757,50.719999313354492,47.840000343322757,51.331013739076383,55.173021881718,54.904885931462843,55.269157582023389,56.170883814084974,57.37501578923888,58.567677951925816,59.437984529961156,59.759076701949652,59.44725684508235,58.583805610341166,57.393794868247689,56.187419257349227,1,1,1,1,1,1,1,1,1,1,1,1,0,0,0,0,0,0,1,1,0,0,0,0,1,1,1,1,1,1,1,1,1,1,1,1,0,0,0,0,0,0,1,1,0,0,0,0,0.85,0.85,0.85,0.85,0.85,0.85,0.85,0.85,0.85,0.85,0.85,0.85,1,null,62,303,"Marine","4C",null,null,"ARCATA AIRPORT","CA","",0,0]
["Kotzebue Ralph Wein Memorial, AK","Asheville Regional Arpt, NC","Asheville Regional Arpt","NC",2139,-82.53,35.43,-5,18.5,85.819999313354487,70.880000686645502,4194,768.6,34.519999957084657,40.279999828338624,47.119999313354491,56.840000343322757,62.239998626708989,69.980000686645511,72.5,71.960001373291021,65.480000686645511,54.5,45.679999828338623,38.299999999999997,55.020767175138815,52.145221021035042,51.383883057309021,53.134547447774914,56.940876540502899,61.810692000166569,66.474601381076724,69.716884830079991,70.692391201093301,69.146839725503796,65.483102213093076,60.656188306375107,55.924307500130823,1,1,1,1,1,0,0,0,1,1,1,1,0,0,0,0,0,1,1,1,0,0,0,0,1,1,1,1,1,1,0,0,1,1,1,1,0,0,0,0,1,1,1,1,1,0,0,0,0.85,0.85,0.85,0.85,0.85,0.85,0.7,0.7,0.85,0.85,0.85,0.85,1,null,153,212,"Mixed-Humid","4A",null,null,"ASHEVILLE REGIONAL ARPT","NC","",0,0]
["Lake Hood Seaplane, AK","Aspen Pitkin Co Sar, CO","Aspen Pitkin Co Sar","CO",8016,-106.87,39.22,-7,1.0399986267089836,82.039998626708979,53.959999656677248,8181,77.400000000000006,23.540000343322752,22.820000171661377,32.360000005364419,43.7,50.9,59.180000686645506,64.039998626708979,62.239998626708989,50.359999656677246,42.8,30.559999978542329,22.640000343322754,42.211177947317083,41.834373774711473,40.355382486469274,40.924125346569618,43.392350763934559,47.116677747022891,51.126303074076546,54.376056113402321,56.018838655089709,55.626434113602599,53.301128779816651,49.649049323023043,45.62216653388306,1,1,1,1,1,1,1,1,1,1,1,1,0,0,0,0,0,0,1,1,0,0,0,0,1,1,1,1,1,1,1,1,1,1,1,1,0,0,0,0,0,0,1,1,0,0,0,0,0.85,0.85,0.85,0.85,0.85,0.85,0.85,0.85,0.85,0.85,0.85,0.85,1,null,62,303,"Very Cold",7,null,null,"ASPEN PITKIN CO SAR","CO","",0,0]
["Mcgrath Arpt, AK","Astoria Regional Airport, OR","Astoria Regional Airport","OR",10,-123.88,46.15,-8,30.2,72.319999313354487,62.060001373291016,4752,37.800000000000004,43.340000343322757,44.959999656677248,47.840000343322757,49.819999313354494,52.7,56.3,60.259999656677245,62.239998626708989,57.740000343322755,52.7,46.040000343322752,43.52000017166138,51.497205380217672,53.502131943925683,53.012863882652034,53.69250853851316,55.363906058317674,57.5913809215131,59.794307478580848,61.398458974295373,61.985688600575834,61.40292590584977,59.80207696714249,57.600427730156952,55.371871996955178,1,1,1,1,1,1,1,1,1,1,1,1,0,0,0,0,0,0,1,1,0,0,0,0,1,1,1,1,1,1,1,1,1,1,1,1,0,0,0,0,0,0,1,1,0,0,0,0,0.85,0.85,0.85,0.85,0.85,0.85,0.85,0.85,0.85,0.85,0.85,0.85,1,null,62,303,"Marine","4C",null,null,"ASTORIA REGIONAL AIRPORT","OR","",0,0]
["Mekoryuk, AK","Athens Ben Epps Ap, GA","Athens Ben Epps Ap","GA",800,-83.33,33.950000000000003,-5,26.060000085830687,92.660001373291024,74.66000137329101,2624.4,1693.8,38.660000085830688,48.919999313354495,56.3,63.5,69.080000686645505,76.819999313354487,79.16000137329101,77,70.7,61.160001373291017,54.5,45.679999828338623,61.845479627243463,56.638496404402012,56.416808729252828,59.174180244814579,64.19185957317481,70.161911272617374,75.528149366401038,78.891781199148838,79.376024298519511,76.854653238250037,71.984902240703832,66.036146948525797,60.559022101716096,1,1,1,1,0,0,0,0,0,1,1,1,0,0,0,0,1,1,1,1,1,0,0,0,1,1,1,1,1,0,0,0,0,1,1,1,0,0,0,1,1,1,1,1,1,1,0,0,0.85,0.85,0.85,0.85,0.85,0.7,0.7,0.7,0.7,0.85,0.85,0.85,1,null,214,151,"Mixed-Humid","3A",null,null,"ATHENS BEN EPPS AP","GA","",0,0]
["Middleton Island Aut, AK","Atlanta Hartsfield Intl Ap, GA","Atlanta Hartsfield Intl Ap","GA",1010,-84.43,33.630000000000003,-5,25.7,91.4,73.939998626708984,2714.4,1830.6000000000001,39.200000000000003,46.220000171661376,56.840000343322757,62.960001373291014,69.439998626708984,76.639998626708987,78.980000686645511,79.7,72.5,60.8,53.419999313354495,45.859999656677246,61.959397158688063,56.723671270799223,56.513286598687955,59.286507033943721,64.320449933496576,70.302940505169786,75.674550388486381,79.035086688345871,79.508573830757925,76.971590095395086,72.085439388982493,66.1237721910082,60.640588928696687,1,1,1,1,0,0,0,0,0,1,1,1,0,0,0,0,1,1,1,1,1,0,0,0,1,1,1,1,1,0,0,0,0,1,1,1,0,0,0,1,1,1,1,1,1,1,0,0,0.85,0.85,0.85,0.85,0.85,0.7,0.7,0.7,0.7,0.85,0.85,0.85,1,null,214,151,"Mixed-Humid","3A",null,null,"ATLANTA HARTSFIELD INTL AP","GA","",0,0]
["Minchumina, AK","Atlantic City Intl Ap, NJ","Atlantic City Intl Ap","NJ",59,-74.569999999999993,39.450000000000003,-5,14.9,89.419999313354495,73.939998626708984,4872.6000000000004,977.4,30.380000042915345,34.700000000000003,42.259999656677245,51.8,62.060001373291016,70.519999313354489,75.019999313354489,73.580000686645505,65.480000686645511,54.140000343322754,47.840000343322757,35.779999828338624,53.727726161316653,49.661743895787055,48.665212261075027,50.552295352960527,54.831095882712873,60.386278553940031,65.76979939543034,69.578360737281912,70.819202374034305,69.168879811119552,65.057575056801909,59.556963052418332,54.100863083908258,1,1,1,1,1,0,0,0,1,1,1,1,0,0,0,0,0,1,1,1,0,0,0,0,1,1,1,1,1,1,0,0,1,1,1,1,0,0,0,0,1,1,1,1,1,0,0,0,0.85,0.85,0.85,0.85,0.85,0.85,0.7,0.7,0.85,0.85,0.85,0.85,1,null,153,212,"Mixed-Humid","4A",null,null,"ATLANTIC CITY INTL AP","NJ","",0,0]
["Nenana Municipal Ap, AK","Atlantic, IA","Atlantic","IA",1181,-95.05,41.4,-6,0.13999862670898358,90.679997253417966,76.819999313354487,6462,936,24.979999828338624,19.399999999999999,40.279999828338624,52.340000343322757,63.680000686645506,70.16000137329101,69.980000686645511,75.739998626708982,62.6,51.8,34.339999914169312,23.9,49.280986406247912,44.157494022266896,42.525481971734287,44.218388720331063,48.794932035552783,55.062165375619593,61.386437789453836,66.119230212401618,68.026867364882662,66.612094225524402,62.243693215414602,56.060355376935675,49.67386300580759,1,1,1,1,1,0,0,0,1,1,1,1,0,0,0,0,0,1,1,1,0,0,0,0,1,1,1,1,1,1,0,0,1,1,1,1,0,0,0,0,1,1,1,1,1,0,0,0,0.85,0.85,0.85,0.85,0.85,0.85,0.7,0.7,0.85,0.85,0.85,0.85,1,null,153,212,"Cold","5A",null,null,"ATLANTIC","IA","",0,0]
["Nome Municipal Arpt, AK","Auburn Lewiston, ME","Auburn Lewiston","ME",289,-70.28,44.05,-5,-0.76000137329101647,83.66000137329101,69.080000686645505,7412.4000000000005,343.8,24.620000171661378,21.2,35.6,42.8,52.340000343322757,60.980000686645511,70.880000686645502,60.8,57.740000343322755,44.779999828338624,37.4,29.480000042915343,45.026575518242304,42.52822754513231,40.859389323164422,41.840784864025537,45.21659829622714,50.106871825806174,55.236880295881598,59.269407942904735,61.153314292546902,60.397530122898232,57.199062224764262,52.391640545675919,47.228393630898154,1,1,1,1,1,1,0,1,1,1,1,1,0,0,0,0,0,0,1,1,0,0,0,0,1,1,1,1,1,1,1,1,1,1,1,1,0,0,0,0,0,1,1,1,0,0,0,0,0.85,0.85,0.85,0.85,0.85,0.85,0.85,0.85,0.85,0.85,0.85,0.85,1,null,92,273,"Cold","6A",null,null,"AUBURN LEWISTON","ME","",0,0]
["Northway Airport, AK","Auburn Opelika Apt, AL","Auburn Opelika Apt","AL",774,-85.43,32.619999999999997,-6,27.679999828338623,90.679997253417966,73.580000686645505,2579.4,1427.4,41.9,48.2,50.719999313354492,62.780000686645508,67.639998626708987,74.83999862670899,74.480000686645511,75.019999313354489,71.060001373291016,62.6,56.3,48.559999656677249,61.226082044105006,58.189299210144469,57.958423108868928,60.143305128009963,64.174422099227343,69.00100126258036,73.364920379304664,76.128656681596837,76.571799711798803,74.578837410047626,70.669266112773457,65.862175826928222,61.410608715021134,1,1,1,1,0,0,0,0,0,1,1,1,0,0,0,0,1,1,1,1,1,0,0,0,1,1,1,1,1,0,0,0,0,1,1,1,0,0,0,1,1,1,1,1,1,1,0,0,0.85,0.85,0.85,0.85,0.85,0.7,0.7,0.7,0.7,0.85,0.85,0.85,1,null,214,151,"Mixed-Humid","3A",null,null,"AUBURN-OPELIKA APT","AL",false,0,0]
["Palmer Municipal, AK","Augusta Airport, ME","Augusta Airport","ME",351,-69.8,44.32,-5,0.86000137329101489,83.66000137329101,69.080000686645505,7345.8,3.6,10.399999999999999,16.880000686645506,38.299999999999997,44.240000343322755,54.319999313354494,61.519999313354496,66.919999313354495,68.539998626708979,65.480000686645511,49.459999656677248,39.740000343322755,26.420000171661378,45.334794381807932,41.279512671106183,39.342664115642535,40.531749118376275,44.536814348990298,50.313877835201602,56.357058952086049,61.091109413287739,63.282026012168551,62.358712574183407,58.56184497563391,52.88113526758282,46.797347977820124,1,1,1,1,1,1,0,0,1,1,1,1,0,0,0,0,0,0,1,1,0,0,0,0,1,1,1,1,1,1,1,0,1,1,1,1,0,0,0,0,0,1,1,1,1,0,0,0,0.85,0.85,0.85,0.85,0.85,0.85,0.85,0.7,0.85,0.85,0.85,0.85,1,null,122,243,"Cold","6A",null,null,"AUGUSTA AIRPORT","ME","",0,0]
["Petersburg, AK","Augusta Bush Field, GA","Augusta Bush Field","GA",131,-81.97,33.369999999999997,-5,25.879999828338622,94.639998626708987,75.919999313354495,2473.2000000000003,2025,44.240000343322755,48.019999313354489,56.119999313354491,63.139998626708987,71.599999999999994,78.619999313354498,80.419999313354495,79.33999862670899,74.3,60.080000686645505,55.759999656677245,45.679999828338623,63.180931096272928,58.869355778820292,58.792314693805295,61.423226567518242,66.076303676496622,71.538649766196457,76.386420151036219,79.355968773804435,79.673237023847093,77.255524042538852,72.733043976542533,67.284650948587498,62.3305525636883,1,1,1,1,0,0,0,0,0,1,1,1,0,0,0,0,1,1,1,1,1,0,0,0,1,1,1,1,1,0,0,0,0,1,1,1,0,0,0,1,1,1,1,1,1,1,0,0,0.85,0.85,0.85,0.85,0.85,0.7,0.7,0.7,0.7,0.85,0.85,0.85,1,null,214,151,"Mixed-Humid","3A",null,null,"AUGUSTA BUSH FIELD","GA","",0,0]
["Point Hope AWOS, AK","Aurora Buckley Field Angb, CO","Aurora Buckley Field Angb","CO",5661,-104.75,39.72,-7,6.6199993133544917,90.320002746582034,58.819999313354494,6064.2,820.80000000000007,33.440000021457671,31.639999994635581,40.640000343322754,42.97999982833862,56.659999656677243,71.960001373291021,72.860001373291013,71.060001373291016,65.3,44.779999828338624,37.4,30.2,50.010849633935379,47.39285539018249,46.198219972790262,47.561397693775902,51.127055272959922,55.965749113881451,60.816199100375087,64.414060695764377,65.821495830485631,64.67163484744178,61.264206731757355,56.487410131842203,51.58639069412807,1,1,1,1,1,0,0,0,1,1,1,1,0,0,0,0,0,1,1,1,0,0,0,0,1,1,1,1,1,1,0,0,1,1,1,1,0,0,0,0,1,1,1,1,1,0,0,0,0.85,0.85,0.85,0.85,0.85,0.85,0.7,0.7,0.85,0.85,0.85,0.85,1,null,153,212,"Cold","5B",null,null,"BROOMFIELD JEFFCO [BOULDER   SURFRAD]","CO",false,0,0]
["Port Heiden, AK","Aurora Municipal, IL","Aurora Municipal","IL",705,-88.47,41.77,-6,1.3999999999999992,88.519999313354489,73.400000000000006,6532.2,799.2,19.759999656677245,25.7,43.159999656677243,51.440000343322751,57.2,67.460001373291021,74.3,71.599999999999994,65.83999862670899,50.359999656677246,42.079999828338622,14.180000686645508,48.689205464402292,43.042098855473057,41.25582259439112,42.971164593073908,47.740994525344391,54.32198271405202,60.998693171712333,66.030738426313519,68.106438336079108,66.684729732024834,62.136202870990225,55.646501374224613,48.907265946187302,1,1,1,1,1,0,0,0,1,1,1,1,0,0,0,0,0,1,1,1,0,0,0,0,1,1,1,1,1,1,0,0,1,1,1,1,0,0,0,0,1,1,1,1,1,0,0,0,0.85,0.85,0.85,0.85,0.85,0.85,0.7,0.7,0.85,0.85,0.85,0.85,1,null,153,212,"Cold","5A",null,null,"AURORA MUNICIPAL","IL","",0,0]
["Saint Mary S AWOS, AK","Aurora State, OR","Aurora State","OR",197,-122.77,45.25,-8,29.660000085830688,88.16000137329101,67.099999999999994,4190.4000000000005,343.8,41.540000343322752,44.059999656677249,48.559999656677249,51.8,55.4,63.5,68.900000000000006,67.819999313354487,60.8,52.340000343322757,48.019999313354489,42.8,53.85052043601258,53.659755070283914,53.054713597669334,54.221103904022343,56.854888381373321,60.269530517853362,63.574951219360784,65.909541641972794,66.664754814908122,65.64373278645391,63.112620682752485,59.731191879251824,56.380867902979574,1,1,1,1,1,1,0,0,1,1,1,1,0,0,0,0,0,0,1,1,0,0,0,0,1,1,1,1,1,1,1,0,1,1,1,1,0,0,0,0,0,1,1,1,1,0,0,0,0.85,0.85,0.85,0.85,0.85,0.85,0.85,0.7,0.85,0.85,0.85,0.85,1,null,122,243,"Marine","4C",null,null,"AURORA STATE","OR","",0,0]
["Sand Point, AK","Austin Mueller Municipal Ap  U, TX","Austin Mueller Municipal Ap  U","TX",699,-97.74,30.29,-6,29.660000085830688,97.879997253417969,75.2,1249.2,2892.6,51.619999313354491,56.3,62.239998626708989,70.880000686645502,74.3,80.419999313354495,84.019999313354489,81.139998626708987,76.280000686645508,71.060001373291016,63.319999313354494,54.140000343322754,68.869917604106746,64.520271502288523,64.969396744588153,67.999245320566047,72.820040507513681,78.175167749250576,82.668730605209177,85.129412669084175,84.915799240668093,82.083571951960167,77.370994491705787,72.006472797937207,67.388352119916888,1,1,1,0,0,0,0,0,0,0,1,1,0,0,0,1,1,1,1,1,1,1,0,0,1,1,1,1,0,0,0,0,0,0,1,1,0,0,1,1,1,1,1,1,1,1,1,0,0.85,0.85,0.85,0.85,0.7,0.7,0.7,0.7,0.7,0.7,0.85,0.85,1,null,275,90,"Hot-Humid","2A",null,null,"AUSTIN BERGSTROM","TX",false,0,0]
["Savoonga, AK","Austin Muni, MN","Austin Muni","MN",1230,-92.93,43.67,-6,-7.4199993133544933,85.819999313354487,73.580000686645505,7650,601.20000000000005,21.740000343322755,16.880000686645506,34.160000085830688,52.340000343322757,53.959999656677248,65.83999862670899,69.980000686645511,70.519999313354489,65.119999313354498,44.779999828338624,33.259999978542325,10.759999656677246,45.074903982959384,40.834581685379973,38.829710697657305,40.016738043889184,44.086246753635137,49.977456668672367,56.154733138353549,61.007873856144364,63.27183290479033,62.356474469596861,58.500400832797609,52.708757011717793,46.491224220254779,1,1,1,1,1,1,0,0,1,1,1,1,0,0,0,0,0,0,1,1,0,0,0,0,1,1,1,1,1,1,1,0,1,1,1,1,0,0,0,0,0,1,1,1,1,0,0,0,0.85,0.85,0.85,0.85,0.85,0.85,0.85,0.7,0.85,0.85,0.85,0.85,1,null,122,243,"Cold","6A",null,null,"AUSTIN MUNI","MN","",0,0]
["Selawik, AK","Baker Municipal Ap, OR","Baker Municipal Ap","OR",3369,-117.82,44.83,-8,6.6199993133544917,89.960001373291021,62.239998626708989,6948,282.60000000000002,30.559999978542329,27.5,34.519999957084657,44.959999656677248,50,60.080000686645505,68.180000686645513,67.099999999999994,59,45.5,33.259999978542325,31.459999978542328,46.125808296660857,44.892396006222299,43.567897765057943,44.474150785349195,47.37492625157536,51.514092336161518,55.812711612680133,59.150282722978389,60.656816323629357,59.939611215237825,57.185617961771321,53.112707345066582,48.782546282820192,1,1,1,1,1,1,0,0,1,1,1,1,0,0,0,0,0,0,1,1,0,0,0,0,1,1,1,1,1,1,1,0,1,1,1,1,0,0,0,0,0,1,1,1,1,0,0,0,0.85,0.85,0.85,0.85,0.85,0.85,0.85,0.7,0.85,0.85,0.85,0.85,1,null,122,243,"Cold","5B",null,null,"BAKER MUNICIPAL AP","OR","",0,0]
["Seward, AK","Bakersfield Meadows Field, CA","Bakersfield Meadows Field","CA",489,-119.05,35.43,-8,34.880000042915341,100.57999725341797,70.16000137329101,1999.8,2332.8000000000002,47.840000343322757,51.619999313354491,56.480000686645511,64.219999313354492,70.33999862670899,79.16000137329101,81.319999313354487,81.319999313354487,77,69.260001373291018,56.119999313354491,48.2,65.309369781180607,61.329710873209166,61.447771161586481,64.136409101995881,68.69478978210482,73.934701030870272,78.490279231824914,81.174042723304808,81.286427193208397,78.79813789755822,74.357785786964243,69.12281706695012,64.457807007697468,1,1,1,1,0,0,0,0,0,0,1,1,0,0,0,0,1,1,1,1,1,1,0,0,1,1,1,1,1,0,0,0,0,0,1,1,0,0,0,1,1,1,1,1,1,1,1,0,0.85,0.85,0.85,0.85,0.85,0.7,0.7,0.7,0.7,0.7,0.85,0.85,1,null,244,121,"Hot-Dry","3B",null,null,"BAKERSFIELD MEADOWS FIELD","CA","",0,0]
["Shemya Afb, AK","Baltimore Blt Washngtn IntL, MD","Baltimore Blt Washngtn IntL","MD",148,-76.680000000000007,39.17,-5,17.240000343322752,91.22000274658204,74.3,4460.4000000000005,1314,31.1,35.960000085830686,46.4,55.759999656677245,64.939998626708984,73.219999313354492,77.539998626708979,75.739998626708982,68.719999313354492,54.859999656677246,48.019999313354489,35.779999828338624,55.768876127739475,50.696033376050764,49.829604779757439,52.075331250056422,56.847829574771815,62.903074519141136,68.662673174265336,72.625297392584315,73.758028105705606,71.765601597345452,67.167374541129831,61.161945680085218,55.314722593302996,1,1,1,1,1,0,0,0,0,1,1,1,0,0,0,0,0,1,1,1,1,0,0,0,1,1,1,1,1,1,0,0,0,1,1,1,0,0,0,0,1,1,1,1,1,1,0,0,0.85,0.85,0.85,0.85,0.85,0.85,0.7,0.7,0.7,0.85,0.85,0.85,1,null,184,181,"Mixed-Humid","4A",null,null,"BALTIMORE BLT WASHNGTN INT'L","MD",false,0,0]
["Shishmaref AWOS, AK","Bangor International Ap, ME","Bangor International Ap","ME",184,-68.819999999999993,44.8,-5,-2.2000000000000011,84.2,69.080000686645505,7396.2,478.8,20.659999656677247,18.140000343322754,31.279999989271165,43.340000343322757,52.519999313354489,65.83999862670899,72.680000686645513,67.099999999999994,58.280000686645508,48.019999313354489,38.120000171661374,27.5,45.446246499182429,41.976298456257503,40.164984455824914,41.294305256503925,45.069885988237225,50.50756334983825,56.189922939861042,60.635770163354209,62.686226428934688,61.80680871249141,58.226750794052535,52.879249940421666,47.158214656580313,1,1,1,1,1,1,0,0,1,1,1,1,0,0,0,0,0,0,1,1,0,0,0,0,1,1,1,1,1,1,1,0,1,1,1,1,0,0,0,0,0,1,1,1,1,0,0,0,0.85,0.85,0.85,0.85,0.85,0.85,0.85,0.7,0.85,0.85,0.85,0.85,1,null,122,243,"Cold","6A",null,null,"BANGOR INTERNATIONAL AP","ME","",0,0]
["Sitka Japonski Ap, AK","Bar Harbor AWOS, ME","Bar Harbor AWOS","ME",85,-68.37,44.45,-5,0.86000137329101489,78.8,65.480000686645511,7677,75.600000000000009,25.339999914169312,24.440000343322755,30.019999957084657,38.120000171661374,49.640000343322754,55.219999313354492,62.239998626708989,64.219999313354492,55.940000343322751,45.679999828338623,36.860000085830691,33.440000021457671,43.55205464431684,43.10406102618736,41.719699722734141,42.376962429834357,44.904523494157431,48.643535173392515,52.619366453432868,55.795655641721339,57.3444540132325,56.862043404726592,54.47417157548319,50.803274116013341,46.806227019370077,1,1,1,1,1,1,1,1,1,1,1,1,0,0,0,0,0,0,1,1,0,0,0,0,1,1,1,1,1,1,1,1,1,1,1,1,0,0,0,0,0,0,1,1,0,0,0,0,0.85,0.85,0.85,0.85,0.85,0.85,0.85,0.85,0.85,0.85,0.85,0.85,1,null,62,303,"Cold","6A",null,null,"BAR HARBOR AWOS","ME","",0,0]
["Skagway Airport, AK","Barbers Point Nas, HI","Barbers Point Nas","HI",49,-158.07,21.32,-10,61.7,89.960001373291021,73.039998626708979,10.8,4444.2,70.33999862670899,71.060001373291016,72.860001373291013,73.400000000000006,78.619999313354498,80.599999999999994,81.139998626708987,81.139998626708987,80.960001373291021,78.619999313354498,76.819999313354487,72.860001373291013,76.564547873719093,78.649503350107764,79.078715271221284,80.41656317848232,82.314316398002944,84.277296307852737,85.793821944093295,86.468587529271019,86.125705015156925,84.854552013034336,82.986474141967221,81.008414687000624,79.435985327890492,0,0,0,0,0,0,0,0,0,0,0,0,1,1,1,1,1,1,1,1,1,1,1,1,0,0,0,0,0,0,0,0,0,0,0,0,1,1,1,1,1,1,1,1,1,1,1,1,0.7,0.7,0.7,0.7,0.7,0.7,0.7,0.7,0.7,0.7,0.7,0.7,1,null,365,0,"Hot-Humid","1A",null,null,"BARBERS POINT NAS","HI","",0,0]
["Sleetmute, AK","Barksdale Afb, LA","Barksdale Afb","LA",177,-93.67,32.5,-6,26.779999828338624,95,76.280000686645508,2466,2280.6,43.879999828338626,51.080000686645505,51.980000686645511,61.880000686645509,74.119999313354498,79.519999313354489,81.319999313354487,77.539998626708979,74.66000137329101,62.780000686645508,60.8,46.4,63.875780856250081,{"$f":"MAX($Z67+6+(0.4+0.01*($Z67-44))*(MAX($N67:$Y67)-MIN($N67:$Y67))/2*SIN((0.986*((1*30-15)-15-(35-1*($Z67-44)))-90)*PI()/180),32)","v":59.044544860569317},{"$f":"MAX($Z67+6+(0.4+0.01*($Z67-44))*(MAX($N67:$Y67)-MIN($N67:$Y67))/2*SIN((0.986*((2*30-15)-15-(35-1*($Z67-44)))-90)*PI()/180),32)","v":59.032311628504175},{"$f":"MAX($Z67+6+(0.4+0.01*($Z67-44))*(MAX($N67:$Y67)-MIN($N67:$Y67))/2*SIN((0.986*((3*30-15)-15-(35-1*($Z67-44)))-90)*PI()/180),32)","v":61.846595753569964},{"$f":"MAX($Z67+6+(0.4+0.01*($Z67-44))*(MAX($N67:$Y67)-MIN($N67:$Y67))/2*SIN((0.986*((4*30-15)-15-(35-1*($Z67-44)))-90)*PI()/180),32)","v":66.753810709137142},{"$f":"MAX($Z67+6+(0.4+0.01*($Z67-44))*(MAX($N67:$Y67)-MIN($N67:$Y67))/2*SIN((0.986*((5*30-15)-15-(35-1*($Z67-44)))-90)*PI()/180),32)","v":72.474815294565587},{"$f":"MAX($Z67+6+(0.4+0.01*($Z67-44))*(MAX($N67:$Y67)-MIN($N67:$Y67))/2*SIN((0.986*((6*30-15)-15-(35-1*($Z67-44)))-90)*PI()/180),32)","v":77.518341501314026},{"$f":"MAX($Z67+6+(0.4+0.01*($Z67-44))*(MAX($N67:$Y67)-MIN($N67:$Y67))/2*SIN((0.986*((7*30-15)-15-(35-1*($Z67-44)))-90)*PI()/180),32)","v":80.569716500501983},{"$f":"MAX($Z67+6+(0.4+0.01*($Z67-44))*(MAX($N67:$Y67)-MIN($N67:$Y67))/2*SIN((0.986*((8*30-15)-15-(35-1*($Z67-44)))-90)*PI()/180),32)","v":80.833552375478988},{"$f":"MAX($Z67+6+(0.4+0.01*($Z67-44))*(MAX($N67:$Y67)-MIN($N67:$Y67))/2*SIN((0.986*((9*30-15)-15-(35-1*($Z67-44)))-90)*PI()/180),32)","v":78.241076239598385},{"$f":"MAX($Z67+6+(0.4+0.01*($Z67-44))*(MAX($N67:$Y67)-MIN($N67:$Y67))/2*SIN((0.986*((10*30-15)-15-(35-1*($Z67-44)))-90)*PI()/180),32)","v":73.468056948944039},{"$f":"MAX($Z67+6+(0.4+0.01*($Z67-44))*(MAX($N67:$Y67)-MIN($N67:$Y67))/2*SIN((0.986*((11*30-15)-15-(35-1*($Z67-44)))-90)*PI()/180),32)","v":67.75865553607872},{"$f":"MAX($Z67+6+(0.4+0.01*($Z67-44))*(MAX($N67:$Y67)-MIN($N67:$Y67))/2*SIN((0.986*((12*30-15)-15-(35-1*($Z67-44)))-90)*PI()/180),32)","v":62.601115463804838},{"$f":"IF(AND(OR(LEFT(AM$1,3)=\"Jan\",LEFT(AM$1,3)=\"Dec\"),I67<59),1,IF(N67<66,1,0))","v":1},{"$f":"IF(AND(OR(LEFT(AN$1,3)=\"Jan\",LEFT(AN$1,3)=\"Dec\"),J67<59),1,IF(O67<66,1,0))","v":1},{"$f":"IF(AND(OR(LEFT(AO$1,3)=\"Jan\",LEFT(AO$1,3)=\"Dec\"),K67<59),1,IF(P67<66,1,0))","v":1},{"$f":"IF(AND(OR(LEFT(AP$1,3)=\"Jan\",LEFT(AP$1,3)=\"Dec\"),L67<59),1,IF(Q67<66,1,0))","v":1},{"$f":"IF(AND(OR(LEFT(AQ$1,3)=\"Jan\",LEFT(AQ$1,3)=\"Dec\"),M67<59),1,IF(R67<66,1,0))","v":0},{"$f":"IF(AND(OR(LEFT(AR$1,3)=\"Jan\",LEFT(AR$1,3)=\"Dec\"),N67<59),1,IF(S67<66,1,0))","v":0},{"$f":"IF(AND(OR(LEFT(AS$1,3)=\"Jan\",LEFT(AS$1,3)=\"Dec\"),O67<59),1,IF(T67<66,1,0))","v":0},{"$f":"IF(AND(OR(LEFT(AT$1,3)=\"Jan\",LEFT(AT$1,3)=\"Dec\"),P67<59),1,IF(U67<66,1,0))","v":0},{"$f":"IF(AND(OR(LEFT(AU$1,3)=\"Jan\",LEFT(AU$1,3)=\"Dec\"),Q67<59),1,IF(V67<66,1,0))","v":0},{"$f":"IF(AND(OR(LEFT(AV$1,3)=\"Jan\",LEFT(AV$1,3)=\"Dec\"),R67<59),1,IF(W67<66,1,0))","v":1},{"$f":"IF(AND(OR(LEFT(AW$1,3)=\"Jan\",LEFT(AW$1,3)=\"Dec\"),S67<59),1,IF(X67<66,1,0))","v":1},{"$f":"IF(AND(OR(LEFT(AX$1,3)=\"Jan\",LEFT(AX$1,3)=\"Dec\"),T67<59),1,IF(Y67<66,1,0))","v":1},{"$f":"IF(OR(LEFT(AY$1,3)=\"Jul\", LEFT(AY$1,3)=\"Aug\"),1,IF(N67>66,1,0))","v":0},{"$f":"IF(OR(LEFT(AZ$1,3)=\"Jul\", LEFT(AZ$1,3)=\"Aug\"),1,IF(O67>66,1,0))","v":0},{"$f":"IF(OR(LEFT(BA$1,3)=\"Jul\", LEFT(BA$1,3)=\"Aug\"),1,IF(P67>66,1,0))","v":0},{"$f":"IF(OR(LEFT(BB$1,3)=\"Jul\", LEFT(BB$1,3)=\"Aug\"),1,IF(Q67>66,1,0))","v":0},{"$f":"IF(OR(LEFT(BC$1,3)=\"Jul\", LEFT(BC$1,3)=\"Aug\"),1,IF(R67>66,1,0))","v":1},{"$f":"IF(OR(LEFT(BD$1,3)=\"Jul\", LEFT(BD$1,3)=\"Aug\"),1,IF(S67>66,1,0))","v":1},{"$f":"IF(OR(LEFT(BE$1,3)=\"Jul\", LEFT(BE$1,3)=\"Aug\"),1,IF(T67>66,1,0))","v":1},{"$f":"IF(OR(LEFT(BF$1,3)=\"Jul\", LEFT(BF$1,3)=\"Aug\"),1,IF(U67>66,1,0))","v":1},{"$f":"IF(OR(LEFT(BG$1,3)=\"Jul\", LEFT(BG$1,3)=\"Aug\"),1,IF(V67>66,1,0))","v":1},{"$f":"IF(OR(LEFT(BH$1,3)=\"Jul\", LEFT(BH$1,3)=\"Aug\"),1,IF(W67>66,1,0))","v":0},{"$f":"IF(OR(LEFT(BI$1,3)=\"Jul\", LEFT(BI$1,3)=\"Aug\"),1,IF(X67>66,1,0))","v":0},{"$f":"IF(OR(LEFT(BJ$1,3)=\"Jul\", LEFT(BJ$1,3)=\"Aug\"),1,IF(Y67>66,1,0))","v":0},{"$f":"IF(AND(AY67=1,BJ67=0),1,AM67)","v":1},{"$f":"IF(AND(AY67=0,AZ67=1),1,AN67)","v":1},{"$f":"IF(AND(AZ67=0,BA67=1),1,AO67)","v":1},{"$f":"IF(AND(BA67=0,BB67=1),1,AP67)","v":1},{"$f":"IF(AND(BB67=0,BC67=1),1,AQ67)","v":1},{"$f":"IF(AND(BC67=0,BD67=1),1,AR67)","v":0},{"$f":"IF(AND(BD67=0,BE67=1),1,AS67)","v":0},{"$f":"IF(AND(BE67=0,BF67=1),1,AT67)","v":0},{"$f":"IF(AND(BF67=0,BG67=1),1,AU67)","v":0},{"$f":"IF(AND(BG67=0,BH67=1),1,AV67)","v":1},{"$f":"IF(AND(BH67=0,BI67=1),1,AW67)","v":1},{"$f":"IF(AND(BI67=0,BJ67=1),1,AX67)","v":1},{"$f":"IF(OR(AND(AX67=0,AM67=1),AND(AM67=1,AN67=0)),1,AY67)","v":0},{"$f":"IF(OR(AND(AM67=0,AN67=1),AND(AN67=1,AO67=0)),1,AZ67)","v":0},{"$f":"IF(OR(AND(AN67=0,AO67=1),AND(AO67=1,AP67=0)),1,BA67)","v":0},{"$f":"IF(OR(AND(AO67=0,AP67=1),AND(AP67=1,AQ67=0)),1,BB67)","v":1},{"$f":"IF(OR(AND(AP67=0,AQ67=1),AND(AQ67=1,AR67=0)),1,BC67)","v":1},{"$f":"IF(OR(AND(AQ67=0,AR67=1),AND(AR67=1,AS67=0)),1,BD67)","v":1},{"$f":"IF(OR(AND(AR67=0,AS67=1),AND(AS67=1,AT67=0)),1,BE67)","v":1},{"$f":"IF(OR(AND(AS67=0,AT67=1),AND(AT67=1,AU67=0)),1,BF67)","v":1},{"$f":"IF(OR(AND(AT67=0,AU67=1),AND(AU67=1,AV67=0)),1,BG67)","v":1},{"$f":"IF(OR(AND(AU67=0,AV67=1),AND(AV67=1,AW67=0)),1,BH67)","v":1},{"$f":"IF(OR(AND(AV67=0,AW67=1),AND(AW67=1,AX67=0)),1,BI67)","v":0},{"$f":"IF(OR(AND(AW67=0,AX67=1),AND(AX67=1,AM67=0)),1,BJ67)","v":0},{"$f":"IF(BK67=1,0.85,0.7)","v":0.85},{"$f":"IF(BL67=1,0.85,0.7)","v":0.85},{"$f":"IF(BM67=1,0.85,0.7)","v":0.85},{"$f":"IF(BN67=1,0.85,0.7)","v":0.85},{"$f":"IF(BO67=1,0.85,0.7)","v":0.85},{"$f":"IF(BP67=1,0.85,0.7)","v":0.7},{"$f":"IF(BQ67=1,0.85,0.7)","v":0.7},{"$f":"IF(BR67=1,0.85,0.7)","v":0.7},{"$f":"IF(BS67=1,0.85,0.7)","v":0.7},{"$f":"IF(BT67=1,0.85,0.7)","v":0.85},{"$f":"IF(BU67=1,0.85,0.7)","v":0.85},{"$f":"IF(BV67=1,0.85,0.7)","v":0.85},1,null,{"$f":"BW67*31+BX67*28+BY67*31+BZ67*30+CA67*31+CB67*30+CC67*31+CD67*31+CE67*30+CF67*31+CG67*30+CH67*31","v":214},{"$f":"365-CW67","v":151},"Hot-humid","3A",null,null,"BARKSDALE AFB","LA",{"$f":"IF(AND(C67=DC67,D67=DD67),\"\",FALSE)","v":""},0,0]
["Soldotna, AK","Barnstable Muni Boa, MA","Barnstable Muni Boa","MA",56,-70.28,41.67,-5,14,81.319999313354487,71.419999313354495,5423.4000000000005,471.6,35.779999828338624,27.679999828338623,39.379999828338626,48.2,54.140000343322754,62.6,70.33999862670899,69.260001373291018,62.239998626708989,57.2,44.059999656677249,37.220000171661376,50.824547805524851,47.988095295800505,46.841794903712675,48.297652894361065,51.97617744703242,56.918504449293678,61.836340204440887,65.447775036751906,66.811432803289478,65.571855092603286,62.052156937454455,57.169801902172921,52.19745106607337,1,1,1,1,1,1,0,0,1,1,1,1,0,0,0,0,0,0,1,1,0,0,0,0,1,1,1,1,1,1,1,0,1,1,1,1,0,0,0,0,0,1,1,1,1,0,0,0,0.85,0.85,0.85,0.85,0.85,0.85,0.85,0.7,0.85,0.85,0.85,0.85,1,null,122,243,"Cold","5A",null,null,"BARNSTABLE MUNI BOA","MA","",0,0]
["St Paul Island Arpt, AK","Barrow W Post W Rogers Arpt  N, AK","Barrow W Post W Rogers Arpt  N","AK",33,-156.62,71.319999999999993,-9,-35.679997253417973,53.419999313354495,49.640000343322754,19589.400000000001,0,-10.839998626708985,-14.8,-10.839998626708985,-0.93999862670898515,20.479999828338624,33.259999978542325,38.47999982833862,39.559999656677249,31.81999999731779,14.359999656677246,-4.7199993133544931,-8.8600013732910163,10.741753621142204,32,32,32,32,32,32,32,32,32,32,32,32,1,1,1,1,1,1,1,1,1,1,1,1,0,0,0,0,0,0,1,1,0,0,0,0,1,1,1,1,1,1,1,1,1,1,1,1,0,0,0,0,0,0,1,1,0,0,0,0,0.85,0.85,0.85,0.85,0.85,0.85,0.85,0.85,0.85,0.85,0.85,0.85,1,null,62,303,"Subarctic",8,null,null,"BARROW W POST-W ROGERS ARPT","AK",false,0,0]
["Talkeetna State Arpt, AK","Bartlesville Philli, OK","Bartlesville Philli","OK",715,-96.02,36.770000000000003,-6,6.6199993133544917,96.620002746582031,73.580000686645505,4150.8,1735.2,34.700000000000003,39.740000343322755,46.040000343322752,64.580000686645505,69.8,76.099999999999994,80.060001373291016,76.819999313354487,66.919999313354495,58.280000686645508,44.779999828338624,34.880000042915341,57.813972764407119,52.411194802240807,51.749092138825354,54.231886535906149,59.212399372864262,65.392383226720483,71.160930069533222,75.014379270725627,75.948269912557194,73.719169007544082,68.908126058062734,62.769213549311516,56.902633630201827,1,1,1,1,0,0,0,0,0,1,1,1,0,0,0,0,1,1,1,1,1,0,0,0,1,1,1,1,1,0,0,0,0,1,1,1,0,0,0,1,1,1,1,1,1,1,0,0,0.85,0.85,0.85,0.85,0.85,0.7,0.7,0.7,0.7,0.85,0.85,0.85,1,null,214,151,"Mixed-Humid","3A",null,null,"BARTLESVILLE PHILLI","OK","",0,0]
["Tanana Ralph M Calhoun Mem Ap, AK","Batesville AWOS, AR","Batesville AWOS","AR",462,-91.65,35.729999999999997,-6,19.759999656677245,94.460001373291021,75.380000686645502,3605.4,1746,40.640000343322754,43.52000017166138,45.859999656677246,57.919999313354495,67.280000686645508,77.900000000000006,77.539998626708979,74.3,75.739998626708982,59.359999656677246,48.019999313354489,42.259999656677245,59.261369533800099,55.554433638040926,55.126277789670183,57.3399897908984,61.618531494270869,66.846635070480104,71.661514754872286,74.808097958168673,75.466179278115092,73.464219677327407,69.32406077688222,64.12489879596049,59.221975426400853,1,1,1,1,0,0,0,0,0,1,1,1,0,0,0,0,1,1,1,1,1,0,0,0,1,1,1,1,1,0,0,0,0,1,1,1,0,0,0,1,1,1,1,1,1,1,0,0,0.85,0.85,0.85,0.85,0.85,0.7,0.7,0.7,0.7,0.85,0.85,0.85,1,null,214,151,"Mixed-Humid","3A",null,null,"BATESVILLE AWOS","AR","",0,0]
["Togiac Village Awos, AK","Baton Rouge Ryan Arpt, LA","Baton Rouge Ryan Arpt","LA",66,-91.15,30.53,-6,31.1,92.83999862670899,77.180000686645513,1708.2,2595.6,50.540000343322752,51.8,62.6,67.639998626708987,75.739998626708982,79.16000137329101,80.780000686645508,80.239998626708982,76.460001373291021,67.099999999999994,59.359999656677246,49.459999656677248,66.819890320660321,63.197612643268556,63.441251571807683,66.129577219433216,70.561836077739329,75.582691572132006,79.883380344272524,82.34286159008235,82.320033621087873,79.82084689919715,75.496752957104206,70.474893517120236,66.064293631473603,1,1,1,0,0,0,0,0,0,0,1,1,0,0,0,1,1,1,1,1,1,1,0,0,1,1,1,1,0,0,0,0,0,0,1,1,0,0,1,1,1,1,1,1,1,1,1,0,0.85,0.85,0.85,0.85,0.7,0.7,0.7,0.7,0.7,0.7,0.85,0.85,1,null,275,90,"Hot-Humid","2A",null,null,"BATON ROUGE RYAN ARPT","LA","",0,0]
["Unalakleet Field, AK","Battle Creek Kellogg Ap, MI","Battle Creek Kellogg Ap","MI",928,-85.25,42.3,-5,6.0800006866455067,87.980000686645511,73.580000686645505,6015.6,694.80000000000007,23.359999656677246,31.1,39.379999828338626,51.440000343322751,56.119999313354491,69.980000686645511,68.719999313354492,71.060001373291016,66.019999313354489,52.519999313354489,41.9,25.520000171661376,49.830356105125112,46.248293167414701,44.900931722567719,46.402493170562323,50.361572380216352,55.746174344276085,61.152719581581323,65.171908758644335,66.756078278883621,65.492289944057518,61.709969659206216,56.395037493896133,50.932912422599273,1,1,1,1,1,0,0,0,0,1,1,1,0,0,0,0,0,1,1,1,1,0,0,0,1,1,1,1,1,1,0,0,0,1,1,1,0,0,0,0,1,1,1,1,1,1,0,0,0.85,0.85,0.85,0.85,0.85,0.85,0.7,0.7,0.7,0.85,0.85,0.85,1,null,184,181,"Cold","5A",null,null,"BATTLE CREEK KELLOGG AP","MI","",0,0]
["Valdez Pioneer Fiel, AK","Baudette International Ap, MN","Baudette International Ap","MN",1082,-94.6,48.72,-6,-19.119999313354494,82.219999313354492,68.719999313354492,8508.6,160.20000000000002,14.180000686645508,17.419999313354491,25.160000085830688,45.679999828338623,54.680000686645506,64.580000686645505,62.6,66.2,57.380000686645509,41.720000171661376,28.580000042915344,18.679999828338623,41.518301543405613,39.720398904204913,37.840563742227303,38.48338007658073,41.481287923616385,46.052836403846079,51.006380956203365,55.050703856684073,57.131590016375455,56.706624390327562,53.886580817888309,49.406547114400901,44.434313104088503,1,1,1,1,1,1,1,0,1,1,1,1,0,0,0,0,0,0,1,1,0,0,0,0,1,1,1,1,1,1,1,0,1,1,1,1,0,0,0,0,0,0,1,1,1,0,0,0,0.85,0.85,0.85,0.85,0.85,0.85,0.85,0.7,0.85,0.85,0.85,0.85,1,null,92,273,"Very Cold",7,null,null,"BAUDETTE INTERNATIONAL AP","MN","",0,0]
["Valdez Wso, AK","Beale Afb, CA","Beale Afb","CA",125,-121.43,39.130000000000003,-8,34.519999957084657,98.060001373291016,69.260001373291018,2615.4,1854,46.940000343322751,50.180000686645506,57.380000686645509,58.819999313354494,66.739998626708982,75.380000686645502,82.939998626708984,77.539998626708979,74.480000686645511,64.400000000000006,48.740000343322755,43.340000343322757,62.315945109537203,57.242048427685745,57.071226380110666,59.831513555721571,64.803398564882514,70.690882960888445,75.959303207039554,79.235364377362998,79.665110642183137,77.136522014984195,72.308714088175847,66.440129396652864,61.060504977888343,1,1,1,1,0,0,0,0,0,1,1,1,0,0,0,0,1,1,1,1,1,0,0,0,1,1,1,1,1,0,0,0,0,1,1,1,0,0,0,1,1,1,1,1,1,1,0,0,0.85,0.85,0.85,0.85,0.85,0.7,0.7,0.7,0.7,0.85,0.85,0.85,1,null,214,151,"Hot-Dry","3B",null,null,"BEALE AFB MARYSVILE","CA",false,0,0]
["Whittier, AK","Beatrice Municipal, NE","Beatrice Municipal","NE",1322,-96.75,40.299999999999997,-6,2.8399986267089838,93.379997253417969,73.580000686645505,5506.2,1175.4000000000001,27.320000171661377,26.23999991416931,44.959999656677248,56.840000343322757,59.719999313354492,68.900000000000006,80.780000686645508,74.119999313354498,63.139998626708987,54.319999313354494,42.620000171661374,29.839999914169312,52.555013482995228,46.661707820171827,45.338832192718954,47.460957886095237,52.474920135375299,59.073752412787179,65.537367394139892,70.180924227221922,71.794008264113543,69.956144292221495,65.146399878160551,58.618509023860724,52.074067078338423,1,1,1,1,1,0,0,0,1,1,1,1,0,0,0,0,0,1,1,1,0,0,0,0,1,1,1,1,1,1,0,0,1,1,1,1,0,0,0,0,1,1,1,1,1,0,0,0,0.85,0.85,0.85,0.85,0.85,0.85,0.7,0.7,0.85,0.85,0.85,0.85,1,null,153,212,"Cold","5A",null,null,"BEATRICE MUNICIPAL","NE","",0,0]
["Wrangell, AK","Beaufort Mcas, SC","Beaufort Mcas","SC",33,-80.72,32.479999999999997,-5,31.1,92.660001373291024,77.719999313354492,2050.2000000000003,2170.8000000000002,46.940000343322751,51.980000686645511,55.940000343322751,65.3,71.960001373291021,78.260001373291018,81.319999313354487,78.619999313354498,73.580000686645505,65.66000137329101,59.540000343322752,47.3,64.755562068991466,60.623897370346086,60.693226508566759,63.385458475896904,67.998821521501455,73.330771473467053,77.991453408977918,80.76598875826042,80.931152125640111,78.443891134164957,73.952548691115041,68.62786241795348,63.857793847679098,1,1,1,1,0,0,0,0,0,1,1,1,0,0,0,0,1,1,1,1,1,0,0,0,1,1,1,1,1,0,0,0,0,1,1,1,0,0,0,1,1,1,1,1,1,1,0,0,0.85,0.85,0.85,0.85,0.85,0.7,0.7,0.7,0.7,0.85,0.85,0.85,1,null,214,151,"Hot-Humid","3A",null,null,"BEAUFORT MCAS","SC","",0,0]
["Yakutat State Arpt, AK","Beckley Raleigh Co Mem Ap, WV","Beckley Raleigh Co Mem Ap","WV",2503,-81.12,37.799999999999997,-5,11.480000686645507,82.4,69.080000686645505,5212.8,628.20000000000005,33.799999999999997,35.779999828338624,44.779999828338624,55.219999313354492,57.740000343322755,68.539998626708979,71.419999313354495,69.8,60.980000686645511,53.240000343322755,45.320000171661377,24.620000171661378,51.838465641492036,47.845031651055052,46.657617079302035,48.384662987375727,52.57598824475366,58.139059332822924,63.623776042957793,67.60046244261865,69.032533939141459,67.546699028067763,63.530263476378025,58.030173105765556,52.480111230288749,1,1,1,1,1,0,0,0,1,1,1,1,0,0,0,0,0,1,1,1,0,0,0,0,1,1,1,1,1,1,0,0,1,1,1,1,0,0,0,0,1,1,1,1,1,0,0,0,0.85,0.85,0.85,0.85,0.85,0.85,0.7,0.7,0.85,0.85,0.85,0.85,1,null,153,212,"Cold","5A",null,null,"BECKLEY RALEIGH CO MEM AP","WV","",0,0]
["Anniston Metropolitan Ap, AL","Belleville Scott Afb, IL","Belleville Scott Afb","IL",443,-89.85,38.549999999999997,-6,10.399999999999999,92.660001373291024,76.639998626708987,5142.6000000000004,1310.4000000000001,31.639999994635581,36.139999914169309,38.47999982833862,50.9,61.880000686645509,77.180000686645513,78.439998626708984,74.480000686645511,65.3,57.740000343322755,41.720000171661376,31.639999994635581,53.885534324205082,49.28568153015253,48.253551912958251,50.253477765530398,54.764147594605738,60.609785797709634,66.266636693191515,70.260154920432981,71.549368411524796,69.798223802632606,65.463183922019439,59.674243719553843,53.94037966927737,1,1,1,1,1,0,0,0,1,1,1,1,0,0,0,0,0,1,1,1,0,0,0,0,1,1,1,1,1,1,0,0,1,1,1,1,0,0,0,0,1,1,1,1,1,0,0,0,0.85,0.85,0.85,0.85,0.85,0.85,0.7,0.7,0.85,0.85,0.85,0.85,1,null,153,212,"Mixed-Humid","4A",null,null,"SCOTT AFB BELLEVILL","IL",false,1,0]
["Auburn Opelika Apt, AL","Bellevue Offutt Afb, NE","Bellevue Offutt Afb","NE",1046,-95.92,41.12,-6,1.580000686645507,91.22000274658204,75.560001373291016,6150.6,1206,20.120000171661378,37.039999914169314,41.179999828338623,47.119999313354491,60.440000343322751,75.019999313354489,76.819999313354487,73.760001373291018,65.66000137329101,46.940000343322751,33.799999999999997,31.81999999731779,50.872876822152364,45.110955443945713,43.591317794497606,45.533723180627788,50.431853705068349,57.008936164147649,63.550552658997944,68.351530040874849,70.160419569891189,68.505706314477408,63.818716784560245,57.321187029807625,50.70679831076022,1,1,1,1,1,0,0,0,1,1,1,1,0,0,0,0,0,1,1,1,0,0,0,0,1,1,1,1,1,1,0,0,1,1,1,1,0,0,0,0,1,1,1,1,1,0,0,0,0.85,0.85,0.85,0.85,0.85,0.85,0.7,0.7,0.85,0.85,0.85,0.85,1,null,153,212,"Cold","5A",null,null,"OFFUTT AFB BELLEVUE","NE",false,1,0]
["Birmingham Municipal Ap, AL","Bellingham Intl Ap, WA","Bellingham Intl Ap","WA",148,-122.53,48.8,-8,23,76.099999999999994,63.680000686645506,5580,27,39.740000343322755,39.740000343322755,38.299999999999997,50,53.059999656677249,58.1,61.339998626708983,62.419999313354495,55.940000343322751,48.559999656677249,41,41.359999656677246,49.183835437722401,50.436384020376991,49.734692307924533,50.453403726091388,52.405175068054149,55.081247055823397,57.784060286269444,59.809084839263861,60.628466858495671,60.028621793592976,58.165908504614919,55.52587191561431,52.796678247709508,1,1,1,1,1,1,1,1,1,1,1,1,0,0,0,0,0,0,1,1,0,0,0,0,1,1,1,1,1,1,1,1,1,1,1,1,0,0,0,0,0,0,1,1,0,0,0,0,0.85,0.85,0.85,0.85,0.85,0.85,0.85,0.85,0.85,0.85,0.85,0.85,1,null,62,303,"Marine","4C",null,null,"BELLINGHAM INTL AP","WA","",1,0]
["Cairns Field Fort Rucker, AL","Belmar Asc, NJ","Belmar Asc","NJ",85,-74.069999999999993,40.18,-5,15.619999313354493,88.16000137329101,72.5,5124.6000000000004,961.2,30.559999978542329,33.799999999999997,36.679999828338623,51.080000686645505,60.980000686645511,68.539998626708979,76.460001373291021,73.580000686645505,64.580000686645505,53.6,46.940000343322751,38.120000171661374,53.013644095283667,48.871175615205154,47.791833949413018,49.637630031471062,53.927428668012219,59.543027736623991,65.020634801071552,68.93242716752664,70.25873587312762,68.653838114723783,64.53607522526616,58.978805558538838,53.430617093292156,1,1,1,1,1,0,0,0,1,1,1,1,0,0,0,0,0,1,1,1,0,0,0,0,1,1,1,1,1,1,0,0,1,1,1,1,0,0,0,0,1,1,1,1,1,0,0,0,0.85,0.85,0.85,0.85,0.85,0.85,0.7,0.7,0.85,0.85,0.85,0.85,1,null,153,212,"Mixed-Humid","4A",null,null,"BELMAR FARMINGDALE","NJ",false,1,0]
["Dothan Municipal Ap, AL","Bemidji Municipal, MN","Bemidji Municipal","MN",1378,-94.93,47.5,-6,-16.780000686645508,83.66000137329101,68.180000686645513,8825.4,412.2,9.5,17.959999656677248,15.440000343322753,44.6,58.819999313354494,64.760001373291018,68,66.2,59.9,41.9,33.080000042915344,14.9,41.34421923898671,38.635353161783421,36.515697731415862,37.218663304564259,40.561011071560102,45.671506579797715,51.218020419935293,55.754768285175402,58.099176931042358,57.640140115560101,54.497312858655526,49.48992151727488,43.923219810785419,1,1,1,1,1,1,0,0,1,1,1,1,0,0,0,0,0,0,1,1,0,0,0,0,1,1,1,1,1,1,1,0,1,1,1,1,0,0,0,0,0,1,1,1,1,0,0,0,0.85,0.85,0.85,0.85,0.85,0.85,0.85,0.7,0.85,0.85,0.85,0.85,1,null,122,243,"Very Cold",7,null,null,"BEMIDJI MUNICIPAL","MN","",1,0]
["Gadsen Muni AWOS, AL","Benson Muni, MN","Benson Muni","MN",1040,-95.65,45.32,-6,-10.480000686645509,88.33999862670899,71.419999313354495,8380.8000000000011,750.6,16.159999656677247,20.840000343322753,31.279999989271165,39.02000017166138,53.6,63.680000686645506,74.119999313354498,73.760001373291018,59.719999313354492,44.779999828338624,30.019999957084657,13.280000686645508,43.48794531438449,39.649890741165322,37.529713853875457,38.526634278692242,42.380789343878412,48.087534137365765,54.15931768513255,59.013436036436552,61.384588438782295,60.654697477933766,57.014020480796312,51.41155601120461,45.307672769748585,1,1,1,1,1,1,0,0,1,1,1,1,0,0,0,0,0,0,1,1,0,0,0,0,1,1,1,1,1,1,1,0,1,1,1,1,0,0,0,0,0,1,1,1,1,0,0,0,0.85,0.85,0.85,0.85,0.85,0.85,0.85,0.7,0.85,0.85,0.85,0.85,1,null,122,243,"Cold","6A",null,null,"BENSON MUNI","MN","",1,0]
["Huntsville Intl Jones Field, AL","Benton Harbor Ross, MI","Benton Harbor Ross","MI",643,-86.43,42.13,-5,10.399999999999999,86,73.400000000000006,6233.4000000000005,869.4,27.320000171661377,32.360000005364419,40.459999656677248,49.1,54.319999313354494,69.260001373291018,75.019999313354489,72.860001373291013,61.339998626708983,53.419999313354495,39.379999828338626,20.479999828338624,49.695232775537939,44.785412644084545,43.23503476135938,44.932599508493581,49.435610473881994,55.570288455896623,61.73753510027602,66.329762529015042,68.14993589444606,66.723598959148859,62.422548425826179,56.367919397183591,50.137944234194435,1,1,1,1,1,0,0,0,1,1,1,1,0,0,0,0,0,1,1,1,0,0,0,0,1,1,1,1,1,1,0,0,1,1,1,1,0,0,0,0,1,1,1,1,1,0,0,0,0.85,0.85,0.85,0.85,0.85,0.85,0.7,0.7,0.85,0.85,0.85,0.85,1,null,153,212,"Cold","5A",null,null,"BENTON HARBOR ROSS","MI","",1,0]
["Maxwell Afb, AL","Bentonville AWOS, AR","Bentonville AWOS","AR",1296,-94.22,36.35,-6,15.980000686645507,91.22000274658204,74.83999862670899,4273.2,1575,36.139999914169309,43.340000343322757,41.9,55.940000343322751,68.719999313354492,70.519999313354489,79.33999862670899,80.239998626708982,71.060001373291016,55.4,44.6,36.320000171661377,57.032821744500772,52.164746784665113,51.450636656304965,53.755601558058018,58.478816867698001,64.389103727816092,69.945854788045011,73.700617252410197,74.674654421933795,72.614068498012344,68.055982956306266,62.188533035485641,56.54115997755266,1,1,1,1,0,0,0,0,0,1,1,1,0,0,0,0,1,1,1,1,1,0,0,0,1,1,1,1,1,0,0,0,0,1,1,1,0,0,0,1,1,1,1,1,1,1,0,0,0.85,0.85,0.85,0.85,0.85,0.7,0.7,0.7,0.7,0.85,0.85,0.85,1,null,214,151,"Mixed-Humid","4A",null,null,"BENTONVILLE AWOS","AR","",1,0]
["Mobile Downtown Ap, AL","Berlin Municipal, NH","Berlin Municipal","NH",1158,-71.180000000000007,44.58,-5,-10.660001373291017,82.039998626708979,66.919999313354495,8470.8000000000011,140.4,13.819999313354492,19.040000343322752,24.8,40.640000343322754,47.840000343322757,60.259999656677245,63.5,63.139998626708987,58.280000686645508,44.959999656677248,34.519999957084657,26.779999828338624,41.573040985603853,40.109760929390063,38.316024225589423,38.935271595232948,41.806086668532217,46.180147256032356,50.917287059287425,54.782697587044879,56.768800017465409,56.357886145294984,53.657067003689285,49.370352722790656,44.615141440182036,1,1,1,1,1,1,1,1,1,1,1,1,0,0,0,0,0,0,1,1,0,0,0,0,1,1,1,1,1,1,1,1,1,1,1,1,0,0,0,0,0,0,1,1,0,0,0,0,0.85,0.85,0.85,0.85,0.85,0.85,0.85,0.85,0.85,0.85,0.85,0.85,1,null,62,303,"Cold","6A",null,null,"BERLIN MUNICIPAL","NH","",0,0]
["Mobile Regional Ap, AL","Bethel Airport, AK","Bethel Airport","AK",125,-161.83000000000001,60.78,-9,-22.18000068664551,68.539998626708979,57.2,11820.6,0,14.719999313354492,12.559999656677245,13.640000343322754,30.559999978542329,43.159999656677243,52.159999656677243,55.940000343322751,52.880000686645509,44.959999656677248,31.639999994635581,18.320000171661377,12.2,32.003452013069634,33.775226470748599,32.13920993693737,32.031798470975907,33.480990526727858,36.1090318621359,39.230883003783035,42.032785342416595,43.784379854849696,44.029086438528147,42.703118551373556,40.152110156956439,37.041020905510941,1,1,1,1,1,1,1,1,1,1,1,1,0,0,0,0,0,0,1,1,0,0,0,0,1,1,1,1,1,1,1,1,1,1,1,1,0,0,0,0,0,0,1,1,0,0,0,0,0.85,0.85,0.85,0.85,0.85,0.85,0.85,0.85,0.85,0.85,0.85,0.85,1,null,62,303,"Subarctic",8,null,null,"BETHEL AIRPORT","AK","",0,0]
["Montgomery Dannelly Field, AL","Bettles Field, AK","Bettles Field","AK",643,-151.52000000000001,66.92,-9,-44.320002746582034,75.919999313354495,58.640000343322754,14605.2,19.8,-5.4399986267089853,-5.6199993133544934,4.4599996566772457,26.960000085830689,46.4,56.659999656677243,60.980000686645511,53.419999313354495,38.47999982833862,19.759999656677245,3.380000686645507,-8.1399986267089854,24.442959152901008,32,32,32,32,32,32,34.36162449365483,36.752862535698853,37.499327022462104,36.406440482103797,33.7590806332597,32,1,1,1,1,1,1,1,1,1,1,1,1,0,0,0,0,0,0,1,1,0,0,0,0,1,1,1,1,1,1,1,1,1,1,1,1,0,0,0,0,0,0,1,1,0,0,0,0,0.85,0.85,0.85,0.85,0.85,0.85,0.85,0.85,0.85,0.85,0.85,0.85,1,null,62,303,"Subarctic",8,null,null,"BETTLES FIELD","AK","",1,0]
["Muscle Shoals Regional Ap, AL","Beverly Muni, MA","Beverly Muni","MA",112,-70.92,42.58,-5,-5.9800006866455089,91.579997253417972,73.580000686645505,6413.4000000000005,532.80000000000007,17.959999656677248,24.079999828338622,41,45.859999656677246,54.859999656677246,63.680000686645506,68.539998626708979,72.319999313354487,62.780000686645508,48.919999313354495,45.5,32.540000021457672,48.299123069390859,43.900341048622749,42.259497288062761,43.756967523655362,48.002413061778483,53.889193098624226,59.882827699562363,64.420983641153313,66.320720642121415,65.086842977330974,61.040979874739996,55.237747900676524,49.189848899691953,1,1,1,1,1,1,0,0,1,1,1,1,0,0,0,0,0,0,1,1,0,0,0,0,1,1,1,1,1,1,1,0,1,1,1,1,0,0,0,0,0,1,1,1,1,0,0,0,0.85,0.85,0.85,0.85,0.85,0.85,0.85,0.7,0.85,0.85,0.85,0.85,1,null,122,243,"Cold","5A",null,null,"BEVERLY MUNI","MA","",1,0]
["Troy Af, AL","Big Delta Allen Aaf, AK","Big Delta Allen Aaf","AK",1266,-145.72,64,-9,-32.97999725341797,74.83999862670899,57.019999313354489,12375,153,5.8999999999999995,7.6999999999999993,12.740000343322754,33.259999978542325,51.619999313354491,64.939998626708984,61.160001373291017,52.880000686645509,45.679999828338623,24.979999828338624,1.580000686645507,7.1599996566772459,30.928876742075566,32,32,32,32,34.140436260204083,38.483814511306761,42.421874270542972,44.928099574329913,45.349204175134517,43.575420669338712,40.069113062559445,35.74425446633952,1,1,1,1,1,1,1,1,1,1,1,1,0,0,0,0,0,0,1,1,0,0,0,0,1,1,1,1,1,1,1,1,1,1,1,1,0,0,0,0,0,0,1,1,0,0,0,0,0.85,0.85,0.85,0.85,0.85,0.85,0.85,0.85,0.85,0.85,0.85,0.85,1,null,62,303,"Subarctic",8,null,null,"BIG DELTA ALLEN AAF","AK","",1,0]
["Tuscaloosa Municipal Ap, AL","Big River Lake, AK","Big River Lake","AK",39,-152.30000000000001,60.82,-9,-10.3,72.5,61.519999313354496,9774,1.8,25.879999828338622,19.579999828338622,25.879999828338622,35.060000085830687,45.320000171661377,53.780000686645508,57.019999313354489,56.659999656677243,46.040000343322752,30.919999957084656,26.6,27.860000085830688,37.666794500677554,38.892624921948858,37.483856000465394,37.686765281028677,39.448461332733224,42.309730931144308,45.524740061936868,48.255447050379416,49.790051038465904,49.728533847738291,48.086930881968335,45.293151252051437,42.075436671972746,1,1,1,1,1,1,1,1,1,1,1,1,0,0,0,0,0,0,1,1,0,0,0,0,1,1,1,1,1,1,1,1,1,1,1,1,0,0,0,0,0,0,1,1,0,0,0,0,0.85,0.85,0.85,0.85,0.85,0.85,0.85,0.85,0.85,0.85,0.85,0.85,1,null,62,303,"Very Cold",7,null,null,"BIG RIVER LAKE","AK","",1,0]
["Batesville AWOS, AR","Billings Logan IntL Arpt, MT","Billings Logan IntL Arpt","MT",3565,-108.55,45.8,-7,-5.4399986267089853,91.4,62.060001373291016,6611.4000000000005,615.6,23.9,27.860000085830688,35.419999957084656,46.940000343322751,55.940000343322751,65.480000686645511,72.139998626708987,70.519999313354489,60.8,49.819999313354494,36.860000085830691,28.4,47.952931397385797,44.828989685069452,43.353205651521712,44.640403480351658,48.355055221155773,53.52887965317737,58.813239707162076,62.830685500585346,64.53400787667772,63.479209609118328,59.94124012127989,54.842325681927647,49.511576916328764,1,1,1,1,1,1,0,0,1,1,1,1,0,0,0,0,0,0,1,1,0,0,0,0,1,1,1,1,1,1,1,0,1,1,1,1,0,0,0,0,0,1,1,1,1,0,0,0,0.85,0.85,0.85,0.85,0.85,0.85,0.85,0.7,0.85,0.85,0.85,0.85,1,null,122,243,"Cold","6B",null,null,"BILLINGS LOGAN INT'L ARPT","MT",false,0,0]
["Bentonville AWOS, AR","Binghamton Edwin A Link Field, NY","Binghamton Edwin A Link Field","NY",1601,-75.98,42.2,-5,3.5599996566772454,82.580000686645505,68.360001373291013,6816.6,430.2,23.179999828338623,23.9,33.799999999999997,46.220000171661376,57.559999656677249,66.739998626708982,68.360001373291013,66.919999313354495,57.559999656677249,49.459999656677248,39.740000343322755,28.039999914169311,46.914849194435227,44.661002115367843,43.226625093115942,44.317632982925595,47.649637765377399,52.354101046177313,57.204731973211189,60.937138844862389,62.578412291904073,61.70072909757539,58.532870911985569,53.900588789380926,49.011358450646725,1,1,1,1,1,0,0,0,1,1,1,1,0,0,0,0,0,1,1,1,0,0,0,0,1,1,1,1,1,1,0,0,1,1,1,1,0,0,0,0,1,1,1,1,1,0,0,0,0.85,0.85,0.85,0.85,0.85,0.85,0.7,0.7,0.85,0.85,0.85,0.85,1,null,153,212,"Cold","6A",null,null,"BINGHAMTON EDWIN A LINK FIELD","NY","",0,0]
["El Dorado Goodwin Field, AR","Birchwood, AK","Birchwood","AK",98,-149.52000000000001,61.42,-9,-7.7800006866455087,73.580000686645505,53.780000686645508,9232.2000000000007,1.8,15.440000343322753,30.2,30.919999957084656,41,47.659999656677243,55.940000343322751,59.540000343322752,53.059999656677249,46.220000171661376,31.639999994635581,33.799999999999997,23.9,39.12701373685713,39.134493720930841,37.49303432255752,37.841489301705195,40.089028498205252,43.649796184862524,47.595623391058744,50.897969448461012,52.696026966514225,52.52110454423272,50.418798406620304,46.937107045963884,42.983586969906547,1,1,1,1,1,1,1,1,1,1,1,1,0,0,0,0,0,0,1,1,0,0,0,0,1,1,1,1,1,1,1,1,1,1,1,1,0,0,0,0,0,0,1,1,0,0,0,0,0.85,0.85,0.85,0.85,0.85,0.85,0.85,0.85,0.85,0.85,0.85,0.85,1,null,62,303,"Very Cold",7,null,null,"BIRCHWOOD","AK","",0,0]
["Fayetteville Drake Field, AR","Birmingham Municipal Ap, AL","Birmingham Municipal Ap","AL",620,-86.75,33.57,-6,23.9,92.660001373291024,74.83999862670899,2601,1926,41.9,48.019999313354489,54.680000686645506,64.219999313354492,70.16000137329101,76.639998626708987,80.239998626708982,78.980000686645511,73.400000000000006,60.8,55.580000686645505,45.5,62.574849266156761,57.791642770143248,57.651055329542956,60.357923119281239,65.206659335867514,70.933366163161665,76.04528921540593,79.20992697191403,79.602367832908101,77.120316040273309,72.41075664333583,66.701308875414611,61.4802282824717,1,1,1,1,0,0,0,0,0,1,1,1,0,0,0,0,1,1,1,1,1,0,0,0,1,1,1,1,1,0,0,0,0,1,1,1,0,0,0,1,1,1,1,1,1,1,0,0,0.85,0.85,0.85,0.85,0.85,0.7,0.7,0.7,0.7,0.85,0.85,0.85,1,null,214,151,"Mixed-Humid","3A",null,null,"BIRMINGHAM MUNICIPAL AP","AL","",0,0]
["Flippin AWOS, AR","Bishop Airport, CA","Bishop Airport","CA",4100,-118.35,37.369999999999997,-8,18.5,98.600000000000009,62.6,3850.2000000000003,1450.8,39.379999828338626,42.259999656677245,46.4,57.559999656677249,66.019999313354489,73.400000000000006,80.239998626708982,78.260001373291018,69.080000686645505,55.580000686645505,45.679999828338623,38.839999914169312,57.811506815217946,53.404855564414106,52.80034327157157,55.066060443547052,59.611412983706643,65.251584706454807,70.516377934580035,74.033443180251965,74.88600318757014,72.851825052279693,68.461148652978025,62.858471455514554,57.504217611277227,1,1,1,1,0,0,0,0,0,1,1,1,0,0,0,0,1,1,1,1,1,0,0,0,1,1,1,1,1,0,0,0,0,1,1,1,0,0,0,1,1,1,1,1,1,1,0,0,0.85,0.85,0.85,0.85,0.85,0.7,0.7,0.7,0.7,0.85,0.85,0.85,1,null,214,151,"Mixed-Dry","4B",null,null,"BISHOP AIRPORT","CA","",1,0]
["Fort Smith Regional Ap, AR","Bismarck Municipal Arpt  Isis, ND","Bismarck Municipal Arpt  Isis","ND",1647,-100.77,46.77,-7,-13.9,90.320002746582034,68.539998626708979,8220.6,523.80000000000007,8.9599996566772457,19.579999828338622,32.180000002682206,46.040000343322752,57.019999313354489,65.83999862670899,72.860001373291013,68.180000686645513,57.019999313354489,43.879999828338626,31.1,15.440000343322753,43.294136934325302,39.036065521262799,36.800134155821063,37.820957153007363,41.832441267246516,47.788931345320655,54.137776456089114,59.224052282765385,61.721942649243211,60.980333937844414,57.192537887731262,51.345901911069774,44.964441774564463,1,1,1,1,1,1,0,0,1,1,1,1,0,0,0,0,0,0,1,1,0,0,0,0,1,1,1,1,1,1,1,0,1,1,1,1,0,0,0,0,0,1,1,1,1,0,0,0,0.85,0.85,0.85,0.85,0.85,0.85,0.85,0.7,0.85,0.85,0.85,0.85,1,null,122,243,"Cold","6A",null,null,"BISMARCK MUNICIPAL ARPT","ND",false,0,0]
["Harrison Faa Ap, AR","Blanding, UT","Blanding","UT",6038,-109.48,37.619999999999997,-7,15.440000343322753,96.439998626708984,57.380000686645509,5572.8,1141.2,35.23999991416931,31.81999999731779,42.079999828338622,45.320000171661377,61.519999313354496,69.8,79.33999862670899,73.580000686645505,66.019999313354489,50.540000343322752,37.939999914169313,32,52.237424498600504,47.970406334541806,46.793995401317829,48.60049061088101,52.919001147924831,58.623840690706984,64.227954898162821,68.270545040104864,69.697847697836096,68.137814438219124,63.997091971213337,58.355023418308548,52.682300894727653,1,1,1,1,1,0,0,0,0,1,1,1,0,0,0,0,0,1,1,1,1,0,0,0,1,1,1,1,1,1,0,0,0,1,1,1,0,0,0,0,1,1,1,1,1,1,0,0,0.85,0.85,0.85,0.85,0.85,0.85,0.7,0.7,0.7,0.85,0.85,0.85,1,null,184,181,"Cold","5B",null,null,"BLANDING","UT","",1,0]
["Jonesboro Muni, AR","Block Island State Arpt, RI","Block Island State Arpt","RI",112,-71.58,41.17,-5,16.159999656677247,79.33999862670899,69.260001373291018,5065.2,460.8,37.220000171661376,35.960000085830686,37.039999914169314,44.959999656677248,53.059999656677249,63.86000137329102,71.239998626708982,68.719999313354492,66.2,55.219999313354492,46.220000171661376,40.640000343322754,51.784712208133854,50.263182195902786,49.365166387593575,50.661834946536757,53.815191230576431,58.003264329586379,62.134368450149594,65.131667640999723,66.213869678262995,65.098881923688552,62.077343117987603,57.936863914188571,53.756724023477602,1,1,1,1,1,1,0,0,0,1,1,1,0,0,0,0,0,0,1,1,1,0,0,0,1,1,1,1,1,1,1,0,0,1,1,1,0,0,0,0,0,1,1,1,1,1,0,0,0.85,0.85,0.85,0.85,0.85,0.85,0.85,0.7,0.7,0.85,0.85,0.85,1,null,153,212,"Cold","5A",null,null,"BLOCK ISLAND STATE ARPT","RI","",0,0]
["Little Rock Adams Field, AR","Blue Canyon Ap, CA","Blue Canyon Ap","CA",5278,-120.72,39.299999999999997,-8,23.720000171661376,81.139998626708987,57.919999313354495,5052.6000000000004,484.2,37.4,37.4,36.5,47.3,52.340000343322757,64.039998626708979,69.080000686645505,68.539998626708979,63.86000137329102,58.640000343322754,46.040000343322752,40.640000343322754,51.895178139569012,50.926535168114505,50.102735169037771,51.310155515411132,54.234063487041603,58.112297412337945,61.933935853277788,64.70280985699911,65.69716974479195,64.657820288353392,61.855683940364095,58.021180722155712,54.153832989037532,1,1,1,1,1,1,0,0,1,1,1,1,0,0,0,0,0,0,1,1,0,0,0,0,1,1,1,1,1,1,1,0,1,1,1,1,0,0,0,0,0,1,1,1,1,0,0,0,0.85,0.85,0.85,0.85,0.85,0.85,0.85,0.7,0.85,0.85,0.85,0.85,1,null,122,243,"Hot-Dry","3B",null,null,"BLUE CANYON AP","CA","",1,0]
["Little Rock Afb, AR","Bluefield Mercer Co  Nrel, WV","Bluefield Mercer Co  Nrel","WV",2634,-81.239999999999995,37.270000000000003,-5,12.019999313354491,82.219999313354492,68.180000686645513,4397.4000000000005,561.6,31.459999978542328,39.920000171661378,47.3,50.180000686645506,60.259999656677245,66.919999313354495,71.239998626708982,69.080000686645505,62.060001373291016,58.280000686645508,49.280000686645508,39.920000171661378,53.903287837309378,50.888936737723846,50.012839253445989,51.714839608978409,55.551285183032164,60.522147315314264,65.331694187741149,68.72624329065394,69.820953088793289,68.330470603285519,64.64331306300862,59.720594901653385,54.845498469360258,1,1,1,1,1,0,0,0,1,1,1,1,0,0,0,0,0,1,1,1,0,0,0,0,1,1,1,1,1,1,0,0,1,1,1,1,0,0,0,0,1,1,1,1,1,0,0,0,0.85,0.85,0.85,0.85,0.85,0.85,0.7,0.7,0.85,0.85,0.85,0.85,1,null,153,212,"Mixed-Humid","4A",null,null,"BLUEFIELD MERCER CO","WV",false,1,0]
["Memorial Fld, AR","Blythe Riverside Co Arpt, CA","Blythe Riverside Co Arpt","CA",390,-114.72,33.619999999999997,-8,39.02000017166138,110.3,72.139998626708987,777.6,48.6,55.940000343322751,60.980000686645511,66.019999313354489,77.719999313354492,82.760001373291018,92.3,95.539998626708993,97.7,86,72.319999313354487,63.86000137329102,55.940000343322751,75.662082242573774,66.723718750732047,68.246623369060075,73.266474081248603,80.474769440924618,87.992556179394597,93.860207330675891,96.548229198945691,95.355947460568586,90.594148724270354,83.504069212206872,75.933847410630079,69.85677829277023,1,1,0,0,0,0,0,0,0,0,1,1,0,0,1,1,1,1,1,1,1,1,0,0,1,1,1,0,0,0,0,0,0,0,1,1,0,1,1,1,1,1,1,1,1,1,1,0,0.85,0.85,0.85,0.7,0.7,0.7,0.7,0.7,0.7,0.7,0.85,0.85,1,null,303,62,"Hot-Dry","3B",null,null,"BLYTHE RIVERSIDE CO ARPT","CA","",0,0]
["Pine Bluff Faa Ap, AR","Boise Air Terminal  Uo, ID","Boise Air Terminal  Uo","ID",2299,-116.21,43.62,-7,10.580000686645507,95,63.139998626708987,5306.4000000000005,837,28.939999914169313,36.860000085830691,42.97999982833862,52.880000686645509,58.280000686645508,67.639998626708987,76.099999999999994,70.16000137329101,63.319999313354494,53.059999656677249,39.200000000000003,35.419999957084656,52.154575356457329,47.990043157761043,46.816454122415934,48.59832111246083,52.87117303753903,58.521225196737575,64.075704424822007,68.086750113876192,69.508821392963085,67.971233468406894,63.874782327690369,58.287271088864209,52.665170662483057,1,1,1,1,1,0,0,0,1,1,1,1,0,0,0,0,0,1,1,1,0,0,0,0,1,1,1,1,1,1,0,0,1,1,1,1,0,0,0,0,1,1,1,1,1,0,0,0,0.85,0.85,0.85,0.85,0.85,0.85,0.7,0.7,0.85,0.85,0.85,0.85,1,null,153,212,"Cold","5B",null,null,"BOISE AIR TERMINAL","ID",false,1,0]
["Rogers AWOS, AR","Boone Muni, IA","Boone Muni","IA",1161,-93.85,42.05,-6,0.31999931335449139,89.779997253417974,76.639998626708987,6521.4000000000005,948.6,25.339999914169312,32,29.660000085830688,51.619999313354491,57.740000343322755,71.599999999999994,76.639998626708987,71.780000686645508,60.259999656677245,53.780000686645508,35.060000085830687,23,49.118739677585971,44.582845898173304,43.017919268918419,44.607257958469916,48.9365763449456,54.877370874094751,60.881081901479746,65.382749627825191,67.208944987459589,65.883642017371869,61.752301360252396,55.891820624266032,49.829824425989493,1,1,1,1,1,0,0,0,1,1,1,1,0,0,0,0,0,1,1,1,0,0,0,0,1,1,1,1,1,1,0,0,1,1,1,1,0,0,0,0,1,1,1,1,1,0,0,0,0.85,0.85,0.85,0.85,0.85,0.85,0.7,0.7,0.85,0.85,0.85,0.85,1,null,153,212,"Cold","5A",null,null,"BOONE MUNI","IA","",0,0]
["Siloam Spring Awos, AR","Boston Logan IntL Arpt, MA","Boston Logan IntL Arpt","MA",20,-71.02,42.37,-5,12.380000686645507,87.619999313354498,71.960001373291021,5616,754.2,26.6,31.1,38.839999914169312,47.480000686645511,58.819999313354494,66.019999313354489,74.119999313354498,71.060001373291016,64.580000686645505,53.959999656677248,43.340000343322757,35.960000085830686,51.105643891112443,47.178297756572881,45.920690237414092,47.578613253445027,51.719903621170189,57.26507018702565,62.768679832017746,66.796131888987375,68.297608914370542,66.881727783039736,62.917559731265058,57.43842625142041,51.87254792103009,1,1,1,1,1,0,0,0,1,1,1,1,0,0,0,0,0,1,1,1,0,0,0,0,1,1,1,1,1,1,0,0,1,1,1,1,0,0,0,0,1,1,1,1,1,0,0,0,0.85,0.85,0.85,0.85,0.85,0.85,0.7,0.7,0.85,0.85,0.85,0.85,1,null,153,212,"Cold","5A",null,null,"BOSTON LOGAN INT'L ARPT","MA",false,0,0]
["Springdale Muni, AR","Bowling Green Warren Co Ap, KY","Bowling Green Warren Co Ap","KY",528,-86.43,36.979999999999997,-6,15.080000686645507,90.860001373291013,75.380000686645502,4152.6000000000004,1492.2,29.119999957084655,42.97999982833862,41.720000171661376,55.4,66.019999313354489,73.939998626708984,75.560001373291016,77.180000686645513,74.3,61.7,50,36.860000085830691,57.111232885530548,51.243391287683494,50.47273641487314,52.996500412265753,58.156825301560467,64.60859287734894,70.670050496254007,74.761185820018653,75.815581380199887,73.558392725309048,68.577990862573515,62.17259428783121,56.011868328437899,1,1,1,1,0,0,0,0,0,1,1,1,0,0,0,0,1,1,1,1,1,0,0,0,1,1,1,1,1,0,0,0,0,1,1,1,0,0,0,1,1,1,1,1,1,1,0,0,0.85,0.85,0.85,0.85,0.85,0.7,0.7,0.7,0.7,0.85,0.85,0.85,1,null,214,151,"Mixed-Humid","4A",null,null,"BOWLING GREEN WARREN CO AP","KY","",0,0]
["Stuttgart AWOS, AR","Bozeman Gallatin Field, MT","Bozeman Gallatin Field","MT",4425,-111.15,45.8,-7,-9.5800006866455085,87.980000686645511,60.440000343322751,8112.6,349.2,20.840000343322753,19.579999828338622,34.160000085830688,43.159999656677243,50.180000686645506,59,68.360001373291013,69.8,56.119999313354491,41.359999656677246,29.3,23.9,43.129424741954018,41.117330106312302,39.354124186473214,40.139000998361652,43.267370305641094,47.923774438738846,52.894449903003206,56.883713538246084,58.851702301527936,58.2854295940745,55.332503123610074,50.762648680635571,45.767069249300988,1,1,1,1,1,1,0,0,1,1,1,1,0,0,0,0,0,0,1,1,0,0,0,0,1,1,1,1,1,1,1,0,1,1,1,1,0,0,0,0,0,1,1,1,1,0,0,0,0.85,0.85,0.85,0.85,0.85,0.85,0.85,0.7,0.85,0.85,0.85,0.85,1,null,122,243,"Cold","6B",null,null,"BOZEMAN GALLATIN FIELD","MT","",1,0]
["Texarkana Webb Field, AR","Bradford Regional Ap, PA","Bradford Regional Ap","PA",2116,-78.63,41.8,-5,2.2999999999999994,80.960001373291021,67.460001373291021,7860.6,228.6,19.759999656677245,21.740000343322755,34.700000000000003,42.440000343322751,53.240000343322755,62.060001373291016,66.919999313354495,64.039998626708979,56.3,42.620000171661374,34.519999957084657,22.1,43.487945209006739,41.861997494666802,40.218546742547289,40.991307546464704,43.978847894273514,48.402419354926991,53.108949857906133,56.871609697778915,58.709603602939197,58.143830137663493,55.321766874508938,50.979028092328065,46.247615578326709,1,1,1,1,1,1,0,1,1,1,1,1,0,0,0,0,0,0,1,1,0,0,0,0,1,1,1,1,1,1,1,1,1,1,1,1,0,0,0,0,0,1,1,1,0,0,0,0,0.85,0.85,0.85,0.85,0.85,0.85,0.85,0.85,0.85,0.85,0.85,0.85,1,null,92,273,"Cold","6A",null,null,"BRADFORD REGIONAL AP","PA","",0,0]
["Walnut Ridge AWOS, AR","Brainerd Wieland, MN","Brainerd Wieland","MN",1227,-94.13,46.4,-6,-11.739998626708985,84.2,70.16000137329101,8420.4,363.6,12.740000343322754,13.1,35.060000085830687,46.4,54.5,64.580000686645505,67.819999313354487,63.680000686645506,62.060001373291016,44.779999828338624,28.039999914169311,13.280000686645508,42.320164626003944,39.800348705836576,37.836441801543295,38.605278810504757,41.906450518198213,46.879455646417441,52.228003772163319,56.557913402838615,58.740526867280636,58.206912330890958,55.096164645828459,50.219148134277596,44.847132307073522,1,1,1,1,1,1,0,1,1,1,1,1,0,0,0,0,0,0,1,1,0,0,0,0,1,1,1,1,1,1,1,1,1,1,1,1,0,0,0,0,0,1,1,1,0,0,0,0,0.85,0.85,0.85,0.85,0.85,0.85,0.85,0.85,0.85,0.85,0.85,0.85,1,null,92,273,"Very Cold",7,null,null,"BRAINERD WIELAND","MN","",0,0]
["Casa Granda AWOS, AZ","Bremerton National, WA","Bremerton National","WA",449,-122.75,47.48,-8,26.960000085830689,81.680000686645513,63.5,5353.2,133.20000000000002,39.02000017166138,41,46.4,48.380000686645509,51.8,58.640000343322754,62.780000686645508,63.680000686645506,55.759999656677245,48.740000343322755,42.620000171661374,41.359999656677246,50.074465955185566,51.082895781582209,50.394455308771228,51.186597142561759,53.252837306701139,56.054578460681661,58.861503596580199,60.941944421699098,61.753601974407538,61.084905205570564,59.110160232914666,56.3441147653038,53.507781179921658,1,1,1,1,1,1,1,1,1,1,1,1,0,0,0,0,0,0,1,1,0,0,0,0,1,1,1,1,1,1,1,1,1,1,1,1,0,0,0,0,0,0,1,1,0,0,0,0,0.85,0.85,0.85,0.85,0.85,0.85,0.85,0.85,0.85,0.85,0.85,0.85,1,null,62,303,"Marine","4C",null,null,"BREMERTON NATIONAL","WA","",0,0]
["Davis Monthan Afb, AZ","Brewster Field Arpt, NE","Brewster Field Arpt","NE",2309,-99.33,40.450000000000003,-6,4.640000343322753,91.579997253417972,71.239998626708982,6478.2,889.2,24.440000343322755,26.6,40.820000171661377,50.540000343322752,57.919999313354495,69.619999313354498,72.5,72.5,65.119999313354498,45.140000343322754,35.23999991416931,27.320000171661377,49.096547882654896,45.663349014197763,44.259862461436249,45.681124962092717,49.556662543052944,54.876256609997697,60.253272991951818,64.286109506628307,65.923545168584823,64.738757138885063,61.040578675606461,55.792996985857798,50.363875104753731,1,1,1,1,1,0,0,0,1,1,1,1,0,0,0,0,0,1,1,1,0,0,0,0,1,1,1,1,1,1,0,0,1,1,1,1,0,0,0,0,1,1,1,1,1,0,0,0,0.85,0.85,0.85,0.85,0.85,0.85,0.7,0.7,0.85,0.85,0.85,0.85,1,null,153,212,"Cold","5A",null,null,"BREWSTER FIELD ARPT","NE","",0,0]
["Deer Valley Phoenix, AZ","Bridgeport Sikorsky Memorial, CT","Bridgeport Sikorsky Memorial","CT",10,-73.150000000000006,41.18,-5,15.440000343322753,84.380000686645502,71.599999999999994,5337,808.2,26.779999828338624,31.459999978542328,38.120000171661374,48.740000343322755,57.919999313354495,68.360001373291013,73.219999313354492,72.680000686645513,66.739998626708982,55.4,46.759999656677245,36.320000171661377,51.979506803930626,48.021553663937226,46.853307102694657,48.585275953506695,52.765995844961267,58.305697710507033,63.760372889499628,67.708176237445684,69.120051974211918,67.62797293134652,63.620872505006425,58.14326317260393,52.62296821914471,1,1,1,1,1,0,0,0,0,1,1,1,0,0,0,0,0,1,1,1,1,0,0,0,1,1,1,1,1,1,0,0,0,1,1,1,0,0,0,0,1,1,1,1,1,1,0,0,0.85,0.85,0.85,0.85,0.85,0.85,0.7,0.7,0.7,0.85,0.85,0.85,1,null,184,181,"Cold","5A",null,null,"BRIDGEPORT SIKORSKY MEMORIAL","CT","",0,0]
["Douglas Bisbee Douglas Intl A, AZ","Bristol Tri City Airport, TN","Bristol Tri City Airport","TN",1499,-82.4,36.47,-5,16.880000686645506,87.439998626708984,71.599999999999994,4284,968.4,34.519999957084657,35.419999957084656,48.2,55.580000686645505,63.86000137329102,71.419999313354495,73.580000686645505,73.219999313354492,67.460001373291021,55.219999313354492,48.559999656677249,35.6,55.322082327816588,52.119523493819713,51.358141551327151,53.19401432120182,57.148593274320113,62.191056464645392,67.007008154909443,70.341096320982885,71.324239502524804,69.700166278571245,65.892216362671661,60.892990582689798,56.005614178579187,1,1,1,1,1,0,0,0,0,1,1,1,0,0,0,0,0,1,1,1,1,0,0,0,1,1,1,1,1,1,0,0,0,1,1,1,0,0,0,0,1,1,1,1,1,1,0,0,0.85,0.85,0.85,0.85,0.85,0.85,0.7,0.7,0.7,0.85,0.85,0.85,1,null,184,181,"Mixed-Humid","4A",null,null,"BRISTOL TRI CITY AIRPORT","TN","",0,0]
["Flagstaff Pulliam Arpt, AZ","Broken Bow Muni, NE","Broken Bow Muni","NE",2545,-99.65,41.43,-6,-16.780000686645508,94.100000000000009,73.039998626708979,6732,793.80000000000007,22.1,29.119999957084655,29.119999957084655,49.1,57.559999656677249,66.2,71.060001373291016,75.2,63.86000137329102,48.559999656677249,34.519999957084657,30.2,48.146739886754183,44.039459305639632,42.427044009581913,43.869548049889502,47.990960518796101,53.716971743392513,59.555008657483711,63.983296972539705,65.847535097252546,64.661780635636703,60.735118761141742,55.091094403045922,49.200909487335039,1,1,1,1,1,0,0,0,1,1,1,1,0,0,0,0,0,1,1,1,0,0,0,0,1,1,1,1,1,1,0,0,1,1,1,1,0,0,0,0,1,1,1,1,1,0,0,0,0.85,0.85,0.85,0.85,0.85,0.85,0.7,0.7,0.85,0.85,0.85,0.85,1,null,153,212,"Cold","5A",null,null,"BROKEN BOW MUNI","NE","",0,0]
["Grand Canyon Natl P, AZ","Brookings AWOS, SD","Brookings AWOS","SD",1647,-96.82,44.3,-6,-9.5800006866455085,85.639998626708987,71.060001373291016,7675.2,522,19.040000343322752,28.4,31.279999989271165,48.740000343322755,58.459999656677248,64.580000686645505,73.580000686645505,63.139998626708987,60.619999313354491,48.2,25.339999914169312,15.080000686645507,44.782958924362106,40.862957509638115,38.885341890033523,40.009023498255061,43.941097406662053,49.656607955935073,55.665719242722439,60.40206380691501,62.63104044857689,61.771632056489118,58.04785667193358,52.430373734010381,46.383466738521669,1,1,1,1,1,1,0,1,1,1,1,1,0,0,0,0,0,0,1,1,0,0,0,0,1,1,1,1,1,1,1,1,1,1,1,1,0,0,0,0,0,1,1,1,0,0,0,0,0.85,0.85,0.85,0.85,0.85,0.85,0.85,0.85,0.85,0.85,0.85,0.85,1,null,92,273,"Cold","6A",null,null,"BROOKINGS AWOS","SD","",0,0]
["Kingman  Amos, AZ","Broomfield Jeffco  Boulder   S, CO","Broomfield Jeffco  Boulder   S","CO",5540,-105.24,40.130000000000003,-7,-2.2000000000000011,93.2,60.259999656677245,5749.2,689.4,31.639999994635581,33.080000042915344,40.820000171661377,49.640000343322754,57.019999313354489,66.2,73.400000000000006,71.060001373291016,62.239998626708989,50.9,40.279999828338624,29.119999957084655,50.547397233598851,47.452684482541535,46.245457148089983,47.723589254628592,51.501782889882804,56.595193659097269,61.676145553440364,65.420210161812747,66.851439346260037,65.596761163946709,61.983226818268776,56.952759722677072,51.816628647482069,1,1,1,1,1,0,0,0,1,1,1,1,0,0,0,0,0,1,1,1,0,0,0,0,1,1,1,1,1,1,0,0,1,1,1,1,0,0,0,0,1,1,1,1,1,0,0,0,0.85,0.85,0.85,0.85,0.85,0.85,0.7,0.7,0.85,0.85,0.85,0.85,1,null,153,212,"Cold","5B",null,null,"BUCKLEY ANGB DENVER","CO",false,0,0]
["Luke Afb, AZ","Brownsville S Padre Isl Intl, TX","Brownsville S Padre Isl Intl","TX",20,-97.43,25.9,-6,40.820000171661377,94.460001373291021,77.719999313354492,748.80000000000007,3828.6,59,59.9,67.819999313354487,74.66000137329101,79.519999313354489,82.939998626708984,83.66000137329101,84.2,80.780000686645508,75.739998626708982,65.66000137329101,59.359999656677246,72.840273996118,70.21508588715281,70.886203022051617,73.630671332284891,77.733102859253435,82.124135605069398,85.659179216672982,87.416770100028629,86.938765106094323,84.349763602818982,80.324628729752163,75.912573920764743,72.263669253642021,1,1,0,0,0,0,0,0,0,0,1,1,0,0,1,1,1,1,1,1,1,1,0,0,1,1,1,0,0,0,0,0,0,0,1,1,0,1,1,1,1,1,1,1,1,1,1,0,0.85,0.85,0.85,0.7,0.7,0.7,0.7,0.7,0.7,0.7,0.85,0.85,1,null,303,62,"Hot-Humid","2A",null,null,"BROWNSVILLE S PADRE ISL INTL","TX","",0,0]
["Page Muni  Amos, AZ","Brunswick Golden Is, GA","Brunswick Golden Is","GA",26,-81.47,31.25,-5,21.020000171661376,93.379997253417969,80.599999999999994,2044.8,2514.6,46.580000686645505,54.140000343322754,54.5,64.219999313354492,78.080000686645505,79.519999313354489,82.039998626708979,79.519999313354489,75.560001373291016,65.83999862670899,56.480000686645511,51.259999656677245,65.703397138935244,61.048541119767322,61.212248208328361,64.110634939150927,68.988192145354574,74.573509375710529,79.410687621782628,82.238841830558982,82.32077002434643,79.635116356882591,74.881937843767716,69.300223713143296,64.344933769975043,1,1,1,1,0,0,0,0,0,1,1,1,0,0,0,0,1,1,1,1,1,0,0,0,1,1,1,1,1,0,0,0,0,1,1,1,0,0,0,1,1,1,1,1,1,1,0,0,0.85,0.85,0.85,0.85,0.85,0.7,0.7,0.7,0.7,0.85,0.85,0.85,1,null,214,151,"Hot-Humid","2A",null,null,"BRUNSWICK GOLDEN IS","GA","",0,0]
["Phoenix Sky Harbor Intl Ap, AZ","Brunswick Malcolm Mckinnon Ap, GA","Brunswick Malcolm Mckinnon Ap","GA",13,-81.38,31.15,-5,33.799999999999997,90.320002746582034,77.539998626708979,1128.6000000000001,2559.6,53.240000343322755,56.659999656677243,60.619999313354491,69.260001373291018,75.919999313354495,75.560001373291016,81.5,79.16000137329101,77.900000000000006,71.780000686645508,62.6,54.859999656677246,68.316602997453245,65.381824834565379,65.726177824480303,68.309757518189727,72.459114054360043,77.092653708318679,81.002572964253829,83.169691114426428,83.029115416692363,80.617489093003115,76.563439708914885,71.923717711182363,67.907738138794826,1,1,1,0,0,0,0,0,0,0,1,1,0,0,0,1,1,1,1,1,1,1,0,0,1,1,1,1,0,0,0,0,0,0,1,1,0,0,1,1,1,1,1,1,1,1,1,0,0.85,0.85,0.85,0.85,0.7,0.7,0.7,0.7,0.7,0.7,0.85,0.85,1,null,275,90,"Hot-Humid","2A",null,null,"BRUNSWICK MALCOLM MCKINNON AP","GA","",0,0]
["Prescott Love Field, AZ","Bryce Cnyn Faa Ap, UT","Bryce Cnyn Faa Ap","UT",7583,-112.15,37.700000000000003,-7,-7.7800006866455087,84.380000686645502,54.140000343322754,8564.4,59.4,18.859999656677246,20.659999656677247,27.679999828338623,41.359999656677246,51.980000686645511,57.019999313354489,63.139998626708987,62.6,56.119999313354491,40.279999828338624,29.839999914169312,22.279999828338624,41.0961640778633,40.569230712511619,38.958929788973883,39.469724381411339,41.968468007722237,45.803824634903769,49.97604945344635,53.397587768466195,55.176562890651887,54.849257539569258,52.500988898906137,48.743869377766515,44.557250078299838,1,1,1,1,1,1,1,1,1,1,1,1,0,0,0,0,0,0,1,1,0,0,0,0,1,1,1,1,1,1,1,1,1,1,1,1,0,0,0,0,0,0,1,1,0,0,0,0,0.85,0.85,0.85,0.85,0.85,0.85,0.85,0.85,0.85,0.85,0.85,0.85,1,null,62,303,"Cold","5B",null,null,"BRYCE CNYN FAA AP","UT","",0,0]
["Safford  Amos, AZ","Buffalo Niagara Intl Ap, NY","Buffalo Niagara Intl Ap","NY",705,-78.73,42.93,-5,6.6199993133544917,84.019999313354489,69.980000686645511,6409.8,529.20000000000005,25.879999828338622,24.440000343322755,36.860000085830691,45.5,56.659999656677243,65.480000686645511,71.599999999999994,69.260001373291018,61.7,49.459999656677248,42.8,28.039999914169311,48.272000126512083,45.258521026028703,43.83348180756353,45.129403251368863,48.808483462362879,53.911713487207749,59.108857776772467,63.045200581564174,64.694673488635104,63.627315965610279,60.121351199343451,55.090662934714544,49.846577593151899,1,1,1,1,1,1,0,0,1,1,1,1,0,0,0,0,0,0,1,1,0,0,0,0,1,1,1,1,1,1,1,0,1,1,1,1,0,0,0,0,0,1,1,1,1,0,0,0,0.85,0.85,0.85,0.85,0.85,0.85,0.85,0.7,0.85,0.85,0.85,0.85,1,null,122,243,"Cold","5A",null,null,"BUFFALO NIAGARA INTL AP","NY","",0,0]
["Scottsdale Muni, AZ","Burbank Glendale Passadena Ap, CA","Burbank Glendale Passadena Ap","CA",741,-118.35,34.200000000000003,-8,41.540000343322752,94.639998626708987,68.180000686645513,1454.4,1342.8,55.219999313354492,54.319999313354494,58.1,63.5,66.560001373291016,68.180000686645513,73.039998626708979,74.3,78.439998626708984,62.6,59.719999313354492,54.680000686645506,64.097698464589584,63.086949264937779,63.093170672530469,64.925230192164051,68.105573277154235,71.805194491827848,75.059730553691537,77.020836484301654,77.177319801287496,75.488390716595802,72.394294623336478,68.701555349681669,65.372742294144274,1,1,1,1,0,0,0,0,0,1,1,1,0,0,0,0,1,1,1,1,1,0,0,0,1,1,1,1,1,0,0,0,0,1,1,1,0,0,0,1,1,1,1,1,1,1,0,0,0.85,0.85,0.85,0.85,0.85,0.7,0.7,0.7,0.7,0.85,0.85,0.85,1,null,214,151,"Hot-Dry","3B",null,null,"BURBANK-GLENDALE-PASSADENA AP","CA",false,0,0]
["Show Low Municipal, AZ","Burke Lakefront, OH","Burke Lakefront","OH",597,-81.680000000000007,41.52,-5,6.6199993133544917,88.16000137329101,77.180000686645513,5909.4000000000005,846,22.640000343322754,32.720000010728839,34.519999957084657,48.740000343322755,58.459999656677248,71.239998626708982,73.039998626708979,70.16000137329101,66.2,53.240000343322755,50,24.620000171661378,50.516821874069841,46.174818576135635,44.798576476683039,46.476875623687114,50.772241481108502,56.565020744618799,62.345236229753432,66.606185694495124,68.237186997640109,66.813094515032731,62.70511989819407,56.98407003680822,51.141224741292476,1,1,1,1,1,0,0,0,0,1,1,1,0,0,0,0,0,1,1,1,1,0,0,0,1,1,1,1,1,1,0,0,0,1,1,1,0,0,0,0,1,1,1,1,1,1,0,0,0.85,0.85,0.85,0.85,0.85,0.85,0.7,0.7,0.7,0.85,0.85,0.85,1,null,184,181,"Cold","5A",null,null,"BURKE LAKEFRONT","OH","",0,0]
["Tucson International Ap, AZ","Burley Municipal Arpt, ID","Burley Municipal Arpt","ID",4156,-113.77,42.53,-7,6.2599996566772456,90.679997253417966,62.780000686645508,6120,676.80000000000007,29.839999914169312,30.919999957084656,41,47.659999656677243,55.219999313354492,64.219999313354492,73.039998626708979,72.680000686645513,61.339998626708983,48.559999656677249,34.880000042915341,33.080000042915344,49.492547598473017,46.906049599819433,45.666510603283044,46.988279573356579,50.526817058913977,55.359748733831417,60.227296479310148,63.860658964309792,65.31274426530446,64.205043971278045,60.826297234046763,56.057226458733247,51.140963436528281,1,1,1,1,1,1,0,0,1,1,1,1,0,0,0,0,0,0,1,1,0,0,0,0,1,1,1,1,1,1,1,0,1,1,1,1,0,0,0,0,0,1,1,1,1,0,0,0,0.85,0.85,0.85,0.85,0.85,0.85,0.85,0.7,0.85,0.85,0.85,0.85,1,null,122,243,"Cold","5B",null,null,"BURLEY MUNICIPAL ARPT","ID","",0,0]
["Winslow Municipal Ap, AZ","Burlington International Ap, VT","Burlington International Ap","VT",331,-73.150000000000006,44.47,-5,-3.4600013732910164,85.280000686645508,69.619999313354498,7124.4000000000005,466.2,19.040000343322752,21.920000171661378,31.1,46.040000343322752,56.840000343322757,66.739998626708982,69.980000686645511,67.639998626708987,59.180000686645506,47.659999656677243,37.039999914169314,29.3,46.17019172955866,43.098485334619198,41.442177132902899,42.582291259514172,46.221639397661257,51.411569371083665,56.799245952966999,60.98028821563404,62.864843061509035,61.961672228145403,58.506201111543206,53.399151508666598,47.971754600522026,1,1,1,1,1,0,0,0,1,1,1,1,0,0,0,0,0,1,1,1,0,0,0,0,1,1,1,1,1,1,0,0,1,1,1,1,0,0,0,0,1,1,1,1,1,0,0,0,0.85,0.85,0.85,0.85,0.85,0.85,0.7,0.7,0.85,0.85,0.85,0.85,1,null,153,212,"Cold","6A",null,null,"BURLINGTON INTERNATIONAL AP","VT","",0,0]
["Yuma Intl Arpt, AZ","Burlington Municipal Ap, IA","Burlington Municipal Ap","IA",692,-91.12,40.78,-6,1.2199993133544915,90.320002746582034,75.560001373291016,5526,1533.6000000000001,21.379999828338622,24.440000343322755,45.320000171661377,57.740000343322755,62.960001373291014,75.739998626708982,81.860001373291013,75.019999313354489,70.16000137329101,52.7,44.959999656677248,27.320000171661377,53.440219393952255,45.912616972314119,44.53312195408899,47.039391608889503,52.77812812840741,60.253441402223658,67.516775827453472,72.674831354789077,74.383081322988687,72.196244052912206,66.684352379187516,59.284165807392775,51.924657007793314,1,1,1,1,1,0,0,0,0,1,1,1,0,0,0,0,0,1,1,1,1,0,0,0,1,1,1,1,1,1,0,0,0,1,1,1,0,0,0,0,1,1,1,1,1,1,0,0,0.85,0.85,0.85,0.85,0.85,0.85,0.7,0.7,0.7,0.85,0.85,0.85,1,null,184,181,"Cold","5A",null,null,"BURLINGTON MUNICIPAL AP","IA","",0,0]
["Yuma Mcas, AZ","Burns Municipal Arpt  Uo, OR","Burns Municipal Arpt  Uo","OR",4169,-119.02,43.52,-8,6.0800006866455067,90.320002746582034,60.080000686645505,7106.4000000000005,322.2,28.4,32,36.5,42.259999656677245,50.719999313354492,61.7,69.8,64.400000000000006,55.759999656677245,43.7,35.419999957084656,28.039999914169311,45.804273847031268,44.46150273504243,43.088737969235694,43.987811940449795,46.924367162938488,51.132945264274305,55.516515506192334,58.932432752274416,60.490285531451065,59.783995509591861,56.997668065153114,52.857602385133433,48.442970389373308,1,1,1,1,1,1,0,1,1,1,1,1,0,0,0,0,0,0,1,1,0,0,0,0,1,1,1,1,1,1,1,1,1,1,1,1,0,0,0,0,0,1,1,1,0,0,0,0,0.85,0.85,0.85,0.85,0.85,0.85,0.85,0.85,0.85,0.85,0.85,0.85,1,null,92,273,"Cold","5B",null,null,"BURNS MUNICIPAL ARPT","OR",false,0,0]
["Alturas, CA","Butler Co  AWOS, PA","Butler Co  AWOS","PA",1246,-79.95,40.78,-5,8.7800006866455078,84.380000686645502,70.7,6255,500.40000000000003,28.580000042915344,31.279999989271165,33.440000021457671,47.119999313354491,55.940000343322751,68.360001373291013,70.880000686645502,66.2,59.719999313354492,52.880000686645509,36.139999914169309,32,48.639890554343182,46.458108288848166,45.198734850863943,46.400344139605004,49.749718176601327,54.373791003693533,59.067226779380768,62.606609140695511,64.069343531627851,63.074145691762006,59.880429274521944,55.320685680721049,50.583482345859288,1,1,1,1,1,0,0,0,1,1,1,1,0,0,0,0,0,1,1,1,0,0,0,0,1,1,1,1,1,1,0,0,1,1,1,1,0,0,0,0,1,1,1,1,1,0,0,0,0.85,0.85,0.85,0.85,0.85,0.85,0.7,0.7,0.85,0.85,0.85,0.85,1,null,153,212,"Cold","5A",null,null,"BUTLER CO. AWOS","PA",false,0,0]
["Arcata Airport, CA","Butte Bert Mooney Arpt, MT","Butte Bert Mooney Arpt","MT",5540,-112.5,45.95,-7,-11.560001373291017,84.380000686645502,56.840000343322757,8818.2000000000007,144,20.659999656677247,22.1,32.360000005364419,40.640000343322754,46.220000171661376,56.659999656677243,63.139998626708987,65.480000686645511,51.259999656677245,40.459999656677248,26.420000171661378,21.2,40.666630021276539,40.173642813789904,38.533988673342364,39.014232828030671,41.489192238148888,45.313730593170689,49.490923032939556,52.931919975545696,54.739772540530808,54.443236096980186,52.119607438670222,48.374576183590932,44.184342441057339,1,1,1,1,1,1,1,1,1,1,1,1,0,0,0,0,0,0,1,1,0,0,0,0,1,1,1,1,1,1,1,1,1,1,1,1,0,0,0,0,0,0,1,1,0,0,0,0,0.85,0.85,0.85,0.85,0.85,0.85,0.85,0.85,0.85,0.85,0.85,0.85,1,null,62,303,"Cold","6B",null,null,"BUTTE BERT MOONEY ARPT","MT","",1,0]
["Bakersfield Meadows Field, CA","Cadillac Wexford Co Ap, MI","Cadillac Wexford Co Ap","MI",1299,-85.42,44.28,-5,-1.8399986267089852,83.83999862670899,69.439998626708984,7486.2,451.8,20.3,31.279999989271165,25.160000085830688,41.9,53.419999313354495,66.739998626708982,67.819999313354487,64.580000686645505,60.619999313354491,41.359999656677246,40.820000171661377,27.320000171661377,45.142465531793363,{"$f":"MAX($Z131+6+(0.4+0.01*($Z131-44))*(MAX($N131:$Y131)-MIN($N131:$Y131))/2*SIN((0.986*((1*30-15)-15-(35-1*($Z131-44)))-90)*PI()/180),32)","v":42.979905649241651},{"$f":"MAX($Z131+6+(0.4+0.01*($Z131-44))*(MAX($N131:$Y131)-MIN($N131:$Y131))/2*SIN((0.986*((2*30-15)-15-(35-1*($Z131-44)))-90)*PI()/180),32)","v":41.388547420339769},{"$f":"MAX($Z131+6+(0.4+0.01*($Z131-44))*(MAX($N131:$Y131)-MIN($N131:$Y131))/2*SIN((0.986*((3*30-15)-15-(35-1*($Z131-44)))-90)*PI()/180),32)","v":42.339698259616284},{"$f":"MAX($Z131+6+(0.4+0.01*($Z131-44))*(MAX($N131:$Y131)-MIN($N131:$Y131))/2*SIN((0.986*((4*30-15)-15-(35-1*($Z131-44)))-90)*PI()/180),32)","v":45.585426043135655},{"$f":"MAX($Z131+6+(0.4+0.01*($Z131-44))*(MAX($N131:$Y131)-MIN($N131:$Y131))/2*SIN((0.986*((5*30-15)-15-(35-1*($Z131-44)))-90)*PI()/180),32)","v":50.279681805944371},{"$f":"MAX($Z131+6+(0.4+0.01*($Z131-44))*(MAX($N131:$Y131)-MIN($N131:$Y131))/2*SIN((0.986*((6*30-15)-15-(35-1*($Z131-44)))-90)*PI()/180),32)","v":55.198835442795307},{"$f":"MAX($Z131+6+(0.4+0.01*($Z131-44))*(MAX($N131:$Y131)-MIN($N131:$Y131))/2*SIN((0.986*((7*30-15)-15-(35-1*($Z131-44)))-90)*PI()/180),32)","v":59.06063375179108},{"$f":"MAX($Z131+6+(0.4+0.01*($Z131-44))*(MAX($N131:$Y131)-MIN($N131:$Y131))/2*SIN((0.986*((8*30-15)-15-(35-1*($Z131-44)))-90)*PI()/180),32)","v":60.858439491578579},{"$f":"MAX($Z131+6+(0.4+0.01*($Z131-44))*(MAX($N131:$Y131)-MIN($N131:$Y131))/2*SIN((0.986*((9*30-15)-15-(35-1*($Z131-44)))-90)*PI()/180),32)","v":60.123626891057128},{"$f":"MAX($Z131+6+(0.4+0.01*($Z131-44))*(MAX($N131:$Y131)-MIN($N131:$Y131))/2*SIN((0.986*((10*30-15)-15-(35-1*($Z131-44)))-90)*PI()/180),32)","v":57.047736178357574},{"$f":"MAX($Z131+6+(0.4+0.01*($Z131-44))*(MAX($N131:$Y131)-MIN($N131:$Y131))/2*SIN((0.986*((11*30-15)-15-(35-1*($Z131-44)))-90)*PI()/180),32)","v":52.432545668655749},{"$f":"MAX($Z131+6+(0.4+0.01*($Z131-44))*(MAX($N131:$Y131)-MIN($N131:$Y131))/2*SIN((0.986*((12*30-15)-15-(35-1*($Z131-44)))-90)*PI()/180),32)","v":47.481075890544069},{"$f":"IF(AND(OR(LEFT(AM$1,3)=\"Jan\",LEFT(AM$1,3)=\"Dec\"),I131<59),1,IF(N131<66,1,0))","v":1},{"$f":"IF(AND(OR(LEFT(AN$1,3)=\"Jan\",LEFT(AN$1,3)=\"Dec\"),J131<59),1,IF(O131<66,1,0))","v":1},{"$f":"IF(AND(OR(LEFT(AO$1,3)=\"Jan\",LEFT(AO$1,3)=\"Dec\"),K131<59),1,IF(P131<66,1,0))","v":1},{"$f":"IF(AND(OR(LEFT(AP$1,3)=\"Jan\",LEFT(AP$1,3)=\"Dec\"),L131<59),1,IF(Q131<66,1,0))","v":1},{"$f":"IF(AND(OR(LEFT(AQ$1,3)=\"Jan\",LEFT(AQ$1,3)=\"Dec\"),M131<59),1,IF(R131<66,1,0))","v":1},{"$f":"IF(AND(OR(LEFT(AR$1,3)=\"Jan\",LEFT(AR$1,3)=\"Dec\"),N131<59),1,IF(S131<66,1,0))","v":0},{"$f":"IF(AND(OR(LEFT(AS$1,3)=\"Jan\",LEFT(AS$1,3)=\"Dec\"),O131<59),1,IF(T131<66,1,0))","v":0},{"$f":"IF(AND(OR(LEFT(AT$1,3)=\"Jan\",LEFT(AT$1,3)=\"Dec\"),P131<59),1,IF(U131<66,1,0))","v":1},{"$f":"IF(AND(OR(LEFT(AU$1,3)=\"Jan\",LEFT(AU$1,3)=\"Dec\"),Q131<59),1,IF(V131<66,1,0))","v":1},{"$f":"IF(AND(OR(LEFT(AV$1,3)=\"Jan\",LEFT(AV$1,3)=\"Dec\"),R131<59),1,IF(W131<66,1,0))","v":1},{"$f":"IF(AND(OR(LEFT(AW$1,3)=\"Jan\",LEFT(AW$1,3)=\"Dec\"),S131<59),1,IF(X131<66,1,0))","v":1},{"$f":"IF(AND(OR(LEFT(AX$1,3)=\"Jan\",LEFT(AX$1,3)=\"Dec\"),T131<59),1,IF(Y131<66,1,0))","v":1},{"$f":"IF(OR(LEFT(AY$1,3)=\"Jul\", LEFT(AY$1,3)=\"Aug\"),1,IF(N131>66,1,0))","v":0},{"$f":"IF(OR(LEFT(AZ$1,3)=\"Jul\", LEFT(AZ$1,3)=\"Aug\"),1,IF(O131>66,1,0))","v":0},{"$f":"IF(OR(LEFT(BA$1,3)=\"Jul\", LEFT(BA$1,3)=\"Aug\"),1,IF(P131>66,1,0))","v":0},{"$f":"IF(OR(LEFT(BB$1,3)=\"Jul\", LEFT(BB$1,3)=\"Aug\"),1,IF(Q131>66,1,0))","v":0},{"$f":"IF(OR(LEFT(BC$1,3)=\"Jul\", LEFT(BC$1,3)=\"Aug\"),1,IF(R131>66,1,0))","v":0},{"$f":"IF(OR(LEFT(BD$1,3)=\"Jul\", LEFT(BD$1,3)=\"Aug\"),1,IF(S131>66,1,0))","v":1},{"$f":"IF(OR(LEFT(BE$1,3)=\"Jul\", LEFT(BE$1,3)=\"Aug\"),1,IF(T131>66,1,0))","v":1},{"$f":"IF(OR(LEFT(BF$1,3)=\"Jul\", LEFT(BF$1,3)=\"Aug\"),1,IF(U131>66,1,0))","v":1},{"$f":"IF(OR(LEFT(BG$1,3)=\"Jul\", LEFT(BG$1,3)=\"Aug\"),1,IF(V131>66,1,0))","v":0},{"$f":"IF(OR(LEFT(BH$1,3)=\"Jul\", LEFT(BH$1,3)=\"Aug\"),1,IF(W131>66,1,0))","v":0},{"$f":"IF(OR(LEFT(BI$1,3)=\"Jul\", LEFT(BI$1,3)=\"Aug\"),1,IF(X131>66,1,0))","v":0},{"$f":"IF(OR(LEFT(BJ$1,3)=\"Jul\", LEFT(BJ$1,3)=\"Aug\"),1,IF(Y131>66,1,0))","v":0},{"$f":"IF(AND(AY131=1,BJ131=0),1,AM131)","v":1},{"$f":"IF(AND(AY131=0,AZ131=1),1,AN131)","v":1},{"$f":"IF(AND(AZ131=0,BA131=1),1,AO131)","v":1},{"$f":"IF(AND(BA131=0,BB131=1),1,AP131)","v":1},{"$f":"IF(AND(BB131=0,BC131=1),1,AQ131)","v":1},{"$f":"IF(AND(BC131=0,BD131=1),1,AR131)","v":1},{"$f":"IF(AND(BD131=0,BE131=1),1,AS131)","v":0},{"$f":"IF(AND(BE131=0,BF131=1),1,AT131)","v":1},{"$f":"IF(AND(BF131=0,BG131=1),1,AU131)","v":1},{"$f":"IF(AND(BG131=0,BH131=1),1,AV131)","v":1},{"$f":"IF(AND(BH131=0,BI131=1),1,AW131)","v":1},{"$f":"IF(AND(BI131=0,BJ131=1),1,AX131)","v":1},{"$f":"IF(OR(AND(AX131=0,AM131=1),AND(AM131=1,AN131=0)),1,AY131)","v":0},{"$f":"IF(OR(AND(AM131=0,AN131=1),AND(AN131=1,AO131=0)),1,AZ131)","v":0},{"$f":"IF(OR(AND(AN131=0,AO131=1),AND(AO131=1,AP131=0)),1,BA131)","v":0},{"$f":"IF(OR(AND(AO131=0,AP131=1),AND(AP131=1,AQ131=0)),1,BB131)","v":0},{"$f":"IF(OR(AND(AP131=0,AQ131=1),AND(AQ131=1,AR131=0)),1,BC131)","v":1},{"$f":"IF(OR(AND(AQ131=0,AR131=1),AND(AR131=1,AS131=0)),1,BD131)","v":1},{"$f":"IF(OR(AND(AR131=0,AS131=1),AND(AS131=1,AT131=0)),1,BE131)","v":1},{"$f":"IF(OR(AND(AS131=0,AT131=1),AND(AT131=1,AU131=0)),1,BF131)","v":1},{"$f":"IF(OR(AND(AT131=0,AU131=1),AND(AU131=1,AV131=0)),1,BG131)","v":0},{"$f":"IF(OR(AND(AU131=0,AV131=1),AND(AV131=1,AW131=0)),1,BH131)","v":0},{"$f":"IF(OR(AND(AV131=0,AW131=1),AND(AW131=1,AX131=0)),1,BI131)","v":0},{"$f":"IF(OR(AND(AW131=0,AX131=1),AND(AX131=1,AM131=0)),1,BJ131)","v":0},{"$f":"IF(BK131=1,0.85,0.7)","v":0.85},{"$f":"IF(BL131=1,0.85,0.7)","v":0.85},{"$f":"IF(BM131=1,0.85,0.7)","v":0.85},{"$f":"IF(BN131=1,0.85,0.7)","v":0.85},{"$f":"IF(BO131=1,0.85,0.7)","v":0.85},{"$f":"IF(BP131=1,0.85,0.7)","v":0.85},{"$f":"IF(BQ131=1,0.85,0.7)","v":0.7},{"$f":"IF(BR131=1,0.85,0.7)","v":0.85},{"$f":"IF(BS131=1,0.85,0.7)","v":0.85},{"$f":"IF(BT131=1,0.85,0.7)","v":0.85},{"$f":"IF(BU131=1,0.85,0.7)","v":0.85},{"$f":"IF(BV131=1,0.85,0.7)","v":0.85},1,null,{"$f":"BW131*31+BX131*28+BY131*31+BZ131*30+CA131*31+CB131*30+CC131*31+CD131*31+CE131*30+CF131*31+CG131*30+CH131*31","v":123},{"$f":"365-CW131","v":242},"Cold","6A",null,null,"CADILLAC WEXFORD CO AP","MI",{"$f":"IF(AND(C131=DC131,D131=DD131),\"\",FALSE)","v":""},0,0]
["Beale Afb, CA","Cahokia St  Louis, IL","Cahokia St  Louis","IL",413,-90.15,38.57,-6,14.180000686645508,91.4,76.460001373291021,4503.6000000000004,1492.2,33.799999999999997,35.23999991416931,46.220000171661376,58.459999656677248,63.86000137329102,70.519999313354489,77.719999313354492,78.8,73.039998626708979,54.5,48.740000343322755,31.81999999731779,56.158465650200029,50.840852734441178,49.999291016409259,52.327205545227919,57.217789524711776,63.396236874427913,69.252040079917109,73.258793795009638,74.372075917922842,72.301692307122593,67.587320356341166,61.457833765220627,55.510977671984143,1,1,1,1,1,0,0,0,0,1,1,1,0,0,0,0,0,1,1,1,1,0,0,0,1,1,1,1,1,1,0,0,0,1,1,1,0,0,0,0,1,1,1,1,1,1,0,0,0.85,0.85,0.85,0.85,0.85,0.85,0.7,0.7,0.7,0.85,0.85,0.85,1,null,184,181,"Mixed-Humid","4A",null,null,"CAHOKIA ST. LOUIS","IL",false,0,0]
["Bishop Airport, CA","Cairns Field Fort Rucker, AL","Cairns Field Fort Rucker","AL",298,-85.72,31.27,-6,30.380000042915345,93.379997253417969,76.099999999999994,2316.6,2050.2000000000003,45.5,51.8,54.859999656677246,62.6,74.119999313354498,77.360001373291013,79.519999313354489,77.719999313354492,74.3,62.239998626708989,54.680000686645506,48.559999656677249,63.662246394745289,59.865164360926606,59.835048350451977,62.366542951928366,66.799775085968278,71.979154478659041,76.554596074643342,79.333440512238582,79.591339165496507,77.261066776106901,72.950044752948685,67.782007421218395,63.104083353297547,1,1,1,1,0,0,0,0,0,1,1,1,0,0,0,0,1,1,1,1,1,0,0,0,1,1,1,1,1,0,0,0,0,1,1,1,0,0,0,1,1,1,1,1,1,1,0,0,0.85,0.85,0.85,0.85,0.85,0.7,0.7,0.7,0.7,0.85,0.85,0.85,1,null,214,151,"Hot-Humid","3A",null,null,"CAIRNS AAF OZARK","AL",false,0,0]
["Blue Canyon Ap, CA","Caldwell AWOS, ID","Caldwell AWOS","ID",2427,-116.63,43.63,-7,16.340000343322753,93.020002746582037,64.939998626708984,5693.4000000000005,727.2,33.799999999999997,33.799999999999997,42.8,48.740000343322755,59,68.900000000000006,74.480000686645511,67.280000686645508,62.239998626708989,49.459999656677248,39.920000171661378,27.860000085830688,50.782137010522085,47.137881306148643,45.882348744958065,47.468013966008357,51.481548893592034,56.876763798388986,62.247312772685483,66.193279463666258,67.686086844139766,66.336611665527528,62.496615429176792,57.167052330225651,51.737155121469137,1,1,1,1,1,0,0,0,1,1,1,1,0,0,0,0,0,1,1,1,0,0,0,0,1,1,1,1,1,1,0,0,1,1,1,1,0,0,0,0,1,1,1,1,1,0,0,0,0.85,0.85,0.85,0.85,0.85,0.85,0.7,0.7,0.85,0.85,0.85,0.85,1,null,153,212,"Cold","5B",null,null,"CALDWELL AWOS","ID","",0,0]
["Blythe Riverside Co Arpt, CA","Caldwell Essex Co, NJ","Caldwell Essex Co","NJ",174,-74.28,40.880000000000003,-5,8.4199993133544915,89.779997253417974,73.580000686645505,4870.8,7.2,30.019999957084657,35.23999991416931,41.720000171661376,49.280000686645508,58.640000343322754,71.239998626708982,70.519999313354489,70.33999862670899,67.280000686645508,53.419999313354495,48.559999656677249,39.920000171661378,53.094520334544249,49.965075925780098,49.001248240903927,50.668387469266285,54.53192807960135,59.584778672862242,64.509835875130861,68.023307629207025,69.209353378152088,67.758812019985314,64.049789513231786,59.049099732043842,54.060249530850292,1,1,1,1,1,0,0,0,0,1,1,1,0,0,0,0,0,1,1,1,1,0,0,0,1,1,1,1,1,1,0,0,0,1,1,1,0,0,0,0,1,1,1,1,1,1,0,0,0.85,0.85,0.85,0.85,0.85,0.85,0.7,0.7,0.7,0.85,0.85,0.85,1,null,184,181,"Mixed-Humid","4A",null,null,"CALDWELL ESSEX CO.","NJ",false,0,0]
["Burbank Glendale Passadena Ap, CA","Camarillo AWOS, CA","Camarillo AWOS","CA",75,-119.08,34.22,-8,39.379999828338626,81.680000686645513,63.86000137329102,1899,307.8,51.259999656677245,53.780000686645508,54.319999313354494,59.719999313354492,63.319999313354494,64.939998626708984,64.400000000000006,69.439998626708984,62.960001373291014,60.259999656677245,60.440000343322751,55.759999656677245,60.079999703707763,61.250153965734718,61.074715627998422,62.203981718358193,64.343591627844532,66.935823061163049,69.304970947723689,70.833480381220355,71.12292182276876,70.097847900201685,68.025459928303547,65.445957768414956,63.031728409842415,1,1,1,1,1,1,1,0,1,1,1,1,0,0,0,0,0,0,1,1,0,0,0,0,1,1,1,1,1,1,1,0,1,1,1,1,0,0,0,0,0,0,1,1,1,0,0,0,0.85,0.85,0.85,0.85,0.85,0.85,0.85,0.7,0.85,0.85,0.85,0.85,1,null,92,273,"Marine","3C",null,null,"CAMARILLO AWOS","CA","",0,0]
["Camarillo AWOS, CA","Cambridge Muni, MN","Cambridge Muni","MN",941,-93.27,45.57,-6,-11.200000000000001,87.619999313354498,72.680000686645513,8492.4,493.2,3.7400003433227531,14.719999313354492,30.919999957084656,51.980000686645511,57.380000686645509,60.619999313354491,73.039998626708979,67.819999313354487,59,43.879999828338626,23.540000343322752,21.2,42.475999869843051,37.691971329315159,35.228001304726163,36.217326263972573,40.402063410467704,46.691396518226114,53.445913991153596,58.904946759666558,61.645513806410641,60.953244097235427,57.008588400036572,50.839782011273314,44.054819380360847,1,1,1,1,1,1,0,0,1,1,1,1,0,0,0,0,0,0,1,1,0,0,0,0,1,1,1,1,1,1,1,0,1,1,1,1,0,0,0,0,0,1,1,1,1,0,0,0,0.85,0.85,0.85,0.85,0.85,0.85,0.85,0.7,0.85,0.85,0.85,0.85,1,null,122,243,"Cold","6A",null,null,"CAMBRIDGE MUNI","MN","",0,0]
["Camp Pendleton Mcas, CA","Camp Mabry, TX","Camp Mabry","TX",649,-97.77,30.32,-6,31.279999989271165,97.520002746582037,74.480000686645511,1666.8,2914.2000000000003,50,53.419999313354495,60.259999656677245,69.439998626708984,74.480000686645511,80.960001373291021,84.019999313354489,84.560001373291016,78.439998626708984,67.639998626708987,59.359999656677246,50.359999656677246,67.815561391752055,62.991859318252196,63.3612727318813,66.455757590170592,71.468688727351804,77.093368390911451,81.863637147605345,84.536050933934476,84.414003913349134,81.529309522566379,76.633907809029949,71.003860669797049,66.106726653361434,1,1,1,0,0,0,0,0,0,0,1,1,0,0,0,1,1,1,1,1,1,1,0,0,1,1,1,1,0,0,0,0,0,0,1,1,0,0,1,1,1,1,1,1,1,1,1,0,0.85,0.85,0.85,0.85,0.7,0.7,0.7,0.7,0.7,0.7,0.85,0.85,1,null,275,90,"Hot-Humid","2A",null,null,"CAMP MABRY","TX","",1,0]
["Carlsbad Palomar, CA","Camp Pendleton Mcas, CA","Camp Pendleton Mcas","CA",75,-117.35,33.299999999999997,-8,35.6,87.8,66.2,1967.4,415.8,52.7,53.419999313354495,55.580000686645505,57.2,63.5,64.580000686645505,68.360001373291013,67.460001373291021,68.900000000000006,61.880000686645509,53.780000686645508,54.140000343322754,60.169260713237605,61.85635684328394,61.70333701874678,62.714429027146011,64.626076155092875,66.939978119314063,69.052980714526669,70.414297251932894,70.669079597534932,69.750914806636843,67.899136681333928,65.5964397267511,63.443057389734577,1,1,1,1,1,1,0,0,0,1,1,1,0,0,0,0,0,0,1,1,1,0,0,0,1,1,1,1,1,1,1,0,0,1,1,1,0,0,0,0,0,1,1,1,1,1,0,0,0.85,0.85,0.85,0.85,0.85,0.85,0.85,0.7,0.7,0.85,0.85,0.85,1,null,153,212,"Hot-Dry","3B",null,null,"CAMP PENDLETON MCAS","CA","",1,0]
["China Lake Naf, CA","Cape Girardeau Municipal Ap, MO","Cape Girardeau Municipal Ap","MO",338,-89.57,37.229999999999997,-6,13.819999313354492,92.479997253417977,77,4289.4000000000005,1326.6000000000001,31.459999978542328,38.660000085830688,48.919999313354495,52.340000343322757,62.419999313354495,75.019999313354489,76.460001373291021,77.180000686645513,67.099999999999994,58.1,50.719999313354492,36.320000171661377,56.313808212182295,51.254723662000266,50.449470105936108,52.736839112249598,57.520592700021759,63.553771776725497,69.263735241914119,73.162093125185663,74.232678368751976,72.196426430659471,67.584117758164197,61.598021684580189,55.79850640001996,1,1,1,1,1,0,0,0,0,1,1,1,0,0,0,0,0,1,1,1,1,0,0,0,1,1,1,1,1,1,0,0,0,1,1,1,0,0,0,0,1,1,1,1,1,1,0,0,0.85,0.85,0.85,0.85,0.85,0.85,0.7,0.7,0.7,0.85,0.85,0.85,1,null,184,181,"Mixed-Humid","4A",null,null,"CAPE GIRARDEAU MUNICIPAL AP","MO","",1,0]
["Chino Airport, CA","Cape Hatteras Nws Bldg, NC","Cape Hatteras Nws Bldg","NC",10,-75.55,35.270000000000003,-5,32.180000002682206,85.1,77.539998626708979,2403,1861.2,42.8,48.740000343322755,55.040000343322752,61.519999313354496,68.539998626708979,75.739998626708982,79.7,78.260001373291018,75.919999313354495,62.780000686645508,58.1,47.119999313354491,62.916602569475565,58.460197451839797,58.356732635407752,61.005860649812043,65.717045453799756,71.262244126656014,76.196015180202622,79.232295157619262,79.579630892301495,77.147483972398703,72.569830973102114,67.039907692446434,61.999173852231891,1,1,1,1,0,0,0,0,0,1,1,1,0,0,0,0,1,1,1,1,1,0,0,0,1,1,1,1,1,0,0,0,0,1,1,1,0,0,0,1,1,1,1,1,1,1,0,0,0.85,0.85,0.85,0.85,0.85,0.7,0.7,0.7,0.7,0.85,0.85,0.85,1,null,214,151,"Mixed-Humid","3A",null,null,"CAPE HATTERAS","NC",false,1,0]
["Concord Concord Buchanan Fiel, CA","Cape May Co, NJ","Cape May Co","NJ",23,-74.92,39,-5,19.220000171661376,86.719999313354492,73.580000686645505,4055.4,1087.2,40.1,38.660000085830688,42.079999828338622,49.819999313354494,60.619999313354491,70.33999862670899,78.260001373291018,72.860001373291013,68.719999313354492,57.919999313354495,52.159999656677243,42.620000171661374,56.279287540488049,52.709215415183337,52.009099911722771,53.986067082081988,58.124789967320552,63.346446667750776,68.28993189624002,71.666650046569202,72.596407496053189,70.836848637487961,66.846629602981352,61.665862475014144,56.644994043529124,1,1,1,1,1,0,0,0,0,1,1,1,0,0,0,0,0,1,1,1,1,0,0,0,1,1,1,1,1,1,0,0,0,1,1,1,0,0,0,0,1,1,1,1,1,1,0,0,0.85,0.85,0.85,0.85,0.85,0.85,0.7,0.7,0.7,0.85,0.85,0.85,1,null,184,181,"Mixed-Humid","4A",null,null,"CAPE MAY CO","NJ","",0,0]
["Crescent City Faa Ai, CA","Caribou Municipal Arpt, ME","Caribou Municipal Arpt","ME",623,-68.03,46.87,-5,-10.119999313354493,81.139998626708987,66.560001373291016,9471.6,205.20000000000002,12.559999656677245,13.819999313354492,19.940000343322755,37.039999914169314,48.919999313354495,60.980000686645511,64.039998626708979,66.380000686645502,53.240000343322755,43.159999656677243,28.939999914169313,17.240000343322752,38.99287661356469,37.721274441542015,35.715582343704327,36.128159964738025,38.85146258970709,43.175619422049529,47.973472346141421,51.994387060166588,54.190250179742982,53.988676143478045,51.442208330274156,47.214622817899759,42.407904919220044,1,1,1,1,1,1,1,0,1,1,1,1,0,0,0,0,0,0,1,1,0,0,0,0,1,1,1,1,1,1,1,0,1,1,1,1,0,0,0,0,0,0,1,1,1,0,0,0,0.85,0.85,0.85,0.85,0.85,0.85,0.85,0.7,0.85,0.85,0.85,0.85,1,null,92,273,"Very Cold",7,null,null,"CARIBOU MUNICIPAL ARPT","ME","",0,0]
["Daggett Barstow Daggett Ap, CA","Carlsbad Cavern City Air Term, NM","Carlsbad Cavern City Air Term","NM",3231,-104.27,32.33,-7,24.259999656677245,99.679997253417966,65.66000137329101,2770.2000000000003,2399.4,39.920000171661378,47.119999313354491,53.419999313354495,61.519999313354496,76.280000686645508,79.880000686645502,82.760001373291018,82.580000686645505,72.5,63.5,56.480000686645511,43.52000017166138,63.375726235272133,57.114416320248203,57.044658784793882,60.189184007808208,65.728323031311987,72.218213908112773,77.967166568926658,81.476627908670309,81.831802746703204,78.940109288082169,73.555311995141849,67.081041264525282,61.204915533699669,1,1,1,1,0,0,0,0,0,1,1,1,0,0,0,0,1,1,1,1,1,0,0,0,1,1,1,1,1,0,0,0,0,1,1,1,0,0,0,1,1,1,1,1,1,1,0,0,0.85,0.85,0.85,0.85,0.85,0.7,0.7,0.7,0.7,0.85,0.85,0.85,1,null,214,151,"Hot-Dry","3B",null,null,"CARLSBAD CAVERN CITY AIR TERM","NM","",1,0]
["Edwards Afb, CA","Carlsbad Palomar, CA","Carlsbad Palomar","CA",328,-117.28,33.130000000000003,-8,44.959999656677248,79.33999862670899,64.219999313354492,1728,230.4,55.940000343322751,56.480000686645511,57.380000686645509,56.840000343322757,59.9,62.960001373291014,66.560001373291016,67.099999999999994,65.66000137329101,61.339998626708983,57.019999313354489,56.119999313354491,60.302411238265364,63.321972309085361,63.219976422127552,63.921464671754443,65.243583335439638,66.841701809028251,68.299245884628263,69.236284237500413,69.408563380770474,68.771176100843121,67.490267214666744,65.899725362826644,64.414149789996827,1,1,1,1,1,1,0,0,1,1,1,1,0,0,0,0,0,0,1,1,0,0,0,0,1,1,1,1,1,1,1,0,1,1,1,1,0,0,0,0,0,1,1,1,1,0,0,0,0.85,0.85,0.85,0.85,0.85,0.85,0.85,0.7,0.85,0.85,0.85,0.85,1,null,122,243,"Hot-Dry","3B",null,null,"CARLSBAD PALOMAR","CA","",1,0]
["Fresno Yosemite Intl Ap, CA","Carroll, IA","Carroll","IA",1230,-94.78,42.05,-6,-0.21999931335449299,90.679997253417966,76.639998626708987,6670.8,948.6,20.3,20.659999656677247,45.140000343322754,50,57.740000343322755,71.419999313354495,73.039998626708979,73.039998626708979,66.560001373291016,52.159999656677243,32,20.479999828338624,48.703506660722709,44.481419826761289,42.915345708533792,44.422037403553432,48.608752502691509,54.384159196125019,60.242808727499309,64.657553811939522,66.477623109905181,65.228587510764669,61.236027391655185,55.540665074836454,49.627084516377295,1,1,1,1,1,0,0,0,0,1,1,1,0,0,0,0,0,1,1,1,1,0,0,0,1,1,1,1,1,1,0,0,0,1,1,1,0,0,0,0,1,1,1,1,1,1,0,0,0.85,0.85,0.85,0.85,0.85,0.85,0.7,0.7,0.7,0.85,0.85,0.85,1,null,184,181,"Cold","5A",null,null,"CARROLL","IA","",0,0]
["Fullerton Municipal, CA","Casa Granda AWOS, AZ","Casa Granda AWOS","AZ",1463,-111.77,32.950000000000003,-7,34.519999957084657,106.52000274658204,68.719999313354492,1474.2,4073.4,56.119999313354491,52.340000343322757,60.440000343322751,71.780000686645508,80.419999313354495,88.519999313354489,92.83999862670899,90.860001373291013,86.9,69.619999313354498,56.480000686645511,50.719999313354492,71.527506727976345,63.423636227627057,64.361567253766566,68.731403297127684,75.394079251796498,82.612865955244175,88.506075408346632,91.537551750046021,90.91709395541389,86.806433910165126,80.277078502282635,73.031004839243565,66.957013686694296,1,1,1,0,0,0,0,0,0,0,1,1,0,0,0,1,1,1,1,1,1,1,0,0,1,1,1,1,0,0,0,0,0,0,1,1,0,0,1,1,1,1,1,1,1,1,1,0,0.85,0.85,0.85,0.85,0.7,0.7,0.7,0.7,0.7,0.7,0.85,0.85,1,null,275,90,"Hot-Dry","2B",null,null,"CASA GRANDA AWOS","AZ","",1,0]
["Hayward Air Term, CA","Casper Natrona Co Intl Ap, WY","Casper Natrona Co Intl Ap","WY",5337,-106.47,42.9,-7,-2.2000000000000011,91.039998626708993,59.180000686645506,7255.8,511.2,21.2,24.620000171661378,34.880000042915341,44.959999656677248,49.459999656677248,63.5,71.780000686645508,68.719999313354492,60.440000343322751,47.840000343322757,33.980000042915343,28.4,45.935452075135217,43.001007399368277,41.344720970048407,42.449071811376008,46.026193857997434,51.143655123341446,56.467510466130882,60.610014948173422,62.491360938298243,61.621146611760018,58.226206743179638,53.191484726909586,47.829358443905484,1,1,1,1,1,1,0,0,1,1,1,1,0,0,0,0,0,0,1,1,0,0,0,0,1,1,1,1,1,1,1,0,1,1,1,1,0,0,0,0,0,1,1,1,1,0,0,0,0.85,0.85,0.85,0.85,0.85,0.85,0.85,0.7,0.85,0.85,0.85,0.85,1,null,122,243,"Cold","6B",null,null,"CASPER NATRONA CO INTL AP","WY","",0,0]
["Imperial, CA","Cedar City Municipal Ap, UT","Cedar City Municipal Ap","UT",5586,-113.1,37.700000000000003,-7,8.7800006866455078,91.039998626708993,58.819999313354494,5628.6,905.4,30.380000042915345,34.160000085830688,40.1,50,58.819999313354494,69.260001373291018,75.380000686645502,73.580000686645505,62.780000686645508,51.440000343322751,38.120000171661374,32,51.435561924960517,47.940992612217741,46.771933798859166,48.382513988052608,52.352910633692787,57.648178664429203,62.888024865499972,66.70660257612181,68.108540669957335,66.728402378328369,62.925942015522828,57.692329472793936,52.391786511814573,1,1,1,1,1,0,0,0,1,1,1,1,0,0,0,0,0,1,1,1,0,0,0,0,1,1,1,1,1,1,0,0,1,1,1,1,0,0,0,0,1,1,1,1,1,0,0,0,0.85,0.85,0.85,0.85,0.85,0.85,0.7,0.7,0.85,0.85,0.85,0.85,1,null,153,212,"Cold","5B",null,null,"CEDAR CITY MUNICIPAL AP","UT","",1,0]
["Jack Northrop Fld H, CA","Cedar Rapids Municipal Ap, IA","Cedar Rapids Municipal Ap","IA",840,-91.72,41.88,-6,-3.8199993133544932,88.519999313354489,74.66000137329101,6699.6,792,17.959999656677248,26.420000171661378,39.740000343322755,50.180000686645506,59.359999656677246,73.219999313354492,70.880000686645502,71.060001373291016,65.3,51.980000686645511,40.279999828338624,11.299999999999999,48.218739929199216,42.404820700803853,40.529855486344488,42.223108954009938,47.043208493627418,53.733720880213276,60.550660956287125,65.717088238793821,67.88629383949359,66.492840890093845,61.899954375615614,55.304840944581258,48.426618546564292,1,1,1,1,1,0,0,0,1,1,1,1,0,0,0,0,0,1,1,1,0,0,0,0,1,1,1,1,1,1,0,0,1,1,1,1,0,0,0,0,1,1,1,1,1,0,0,0,0.85,0.85,0.85,0.85,0.85,0.85,0.7,0.7,0.85,0.85,0.85,0.85,1,null,153,212,"Cold","5A",null,null,"CEDAR RAPIDS MUNICIPAL AP","IA","",0,0]
["Lancaster Gen Wm Fox Field, CA","Central Illinois Rg, IL","Central Illinois Rg","IL",892,-88.92,40.47,-6,-14.080000686645509,92.120002746582031,75.019999313354489,5947.2,9,30.740000021457671,28.580000042915344,35.960000085830686,46.759999656677245,61.519999313354496,73.760001373291018,75.2,69.439998626708984,63.139998626708987,54.319999313354494,37.939999914169313,28.939999914169313,50.651944942049788,47.045924606107249,45.781770509507531,47.351094893208582,51.344829172577917,56.721944962389728,62.08081416816696,66.024564948749571,67.525197888139516,66.191549885231225,62.371256844120573,57.060137018470861,51.642615637671703,1,1,1,1,1,0,0,0,1,1,1,1,0,0,0,0,0,1,1,1,0,0,0,0,1,1,1,1,1,1,0,0,1,1,1,1,0,0,0,0,1,1,1,1,1,0,0,0,0.85,0.85,0.85,0.85,0.85,0.85,0.7,0.7,0.85,0.85,0.85,0.85,1,null,153,212,"Cold","5A",null,null,"CENTRAL ILLINOIS RG","IL","",0,0]
["Lemoore Reeves Nas, CA","Chadron Municipal Ap, NE","Chadron Municipal Ap","NE",3316,-103.08,42.83,-7,-13.180000686645508,98.779997253417974,67.460001373291021,6492.6,874.80000000000007,28.039999914169311,29.480000042915343,37.220000171661376,46.4,55.940000343322751,67.099999999999994,76.460001373291021,74.66000137329101,58.1,49.640000343322754,37.4,25.879999828338622,48.982137273892967,45.090543733225644,43.606154947329955,45.087091264047132,49.147323810505384,54.728490403392854,60.375773961892769,64.617122999208206,66.346964527595759,65.114388695016331,61.240685386800301,55.735595065809122,50.034104360218961,1,1,1,1,1,0,0,0,1,1,1,1,0,0,0,0,0,1,1,1,0,0,0,0,1,1,1,1,1,1,0,0,1,1,1,1,0,0,0,0,1,1,1,1,1,0,0,0,0.85,0.85,0.85,0.85,0.85,0.85,0.7,0.7,0.85,0.85,0.85,0.85,1,null,153,212,"Cold","5A",null,null,"CHADRON MUNICIPAL AP","NE","",0,0]
["Livermore Municipal, CA","Chan Gurney Muni, SD","Chan Gurney Muni","SD",1338,-97.38,42.92,-6,-3.2800006866455087,89.960001373291021,73.039998626708979,6931.8,1074.6000000000001,20.479999828338624,26.23999991416931,28.4,47.840000343322757,59,70.33999862670899,79.16000137329101,71.419999313354495,66.560001373291016,42.97999982833862,40.820000171661377,25.520000171661376,48.321315147974722,43.088013521149676,41.318327857625661,42.938071213430788,47.525032521873783,53.883549630695519,60.3561770677669,65.255724745407193,67.30505005712422,65.969964779359941,61.598479464050548,55.330089125259299,48.798746303611246,1,1,1,1,1,0,0,0,0,1,1,1,0,0,0,0,0,1,1,1,1,0,0,0,1,1,1,1,1,1,0,0,0,1,1,1,0,0,0,0,1,1,1,1,1,1,0,0,0.85,0.85,0.85,0.85,0.85,0.85,0.7,0.7,0.7,0.85,0.85,0.85,1,null,184,181,"Cold","5A",null,null,"CHAN GURNEY MUNI","SD","",0,0]
["Lompoc AWOS, CA","Chanute Martin Johnson Ap, KS","Chanute Martin Johnson Ap","KS",977,-95.48,37.67,-6,11.659999656677245,94.820002746582034,75.739998626708982,4363.2,1868.4,35.419999957084656,38.839999914169312,49.1,62.239998626708989,67.819999313354487,73.580000686645505,79.880000686645502,80.419999313354495,75.739998626708982,60.440000343322751,43.52000017166138,22.820000171661377,57.569369683004403,49.178751288583321,48.30884645167491,51.416832166794116,57.692564061785461,65.500175906263507,72.804493354024501,77.701533499370427,78.914807362743886,76.12805641454041,70.067690234541288,62.31343666063308,54.886561383519698,1,1,1,1,0,0,0,0,0,1,1,1,0,0,0,0,1,1,1,1,1,0,0,0,1,1,1,1,1,0,0,0,0,1,1,1,0,0,0,1,1,1,1,1,1,1,0,0,0.85,0.85,0.85,0.85,0.85,0.7,0.7,0.7,0.7,0.85,0.85,0.85,1,null,214,151,"Mixed-Humid","4A",null,null,"CHANUTE MARTIN JOHNSON AP","KS","",0,0]
["Long Beach Daugherty Fld, CA","Chariton, IA","Chariton","IA",1050,-93.37,41.03,-6,3.0199993133544916,90.5,77.900000000000006,5886,1281.6000000000001,24.8,23,42.620000171661374,52.340000343322757,62.419999313354495,72.5,78.080000686645505,76.639998626708987,67.460001373291021,52.880000686645509,36.679999828338623,29.660000085830688,51.763013789163878,46.027766600813223,44.623946462353246,46.64502670178296,51.564181608905749,58.099157650708285,64.546512614865563,69.225644073222497,70.91686430355989,69.179330690347641,64.465958146073021,58.005359859670762,51.481590335324896,1,1,1,1,1,0,0,0,0,1,1,1,0,0,0,0,0,1,1,1,1,0,0,0,1,1,1,1,1,1,0,0,0,1,1,1,0,0,0,0,1,1,1,1,1,1,0,0,0.85,0.85,0.85,0.85,0.85,0.85,0.7,0.7,0.7,0.85,0.85,0.85,1,null,184,181,"Cold","5A",null,null,"CHARITON","IA","",0,0]
["Los Angeles Intl Arpt, CA","Charles City, IA","Charles City","IA",1125,-92.62,43.07,-6,-3.2800006866455087,87.8,76.280000686645508,6597,779.4,23.720000171661376,20.120000171661378,38.47999982833862,51.080000686645505,55.040000343322752,69.260001373291018,68.360001373291013,72.319999313354487,68.539998626708979,49.1,34.160000085830688,29.480000042915343,48.454959071890947,44.41859714919309,42.852725325710885,44.31115452400465,48.413722698464852,54.091032231929141,59.863204904511839,64.225634957230824,66.041187769762857,64.836611523005701,60.925897578758459,55.328433792515327,49.503285359688547,1,1,1,1,1,0,0,0,0,1,1,1,0,0,0,0,0,1,1,1,1,0,0,0,1,1,1,1,1,1,0,0,0,1,1,1,0,0,0,0,1,1,1,1,1,1,0,0,0.85,0.85,0.85,0.85,0.85,0.85,0.7,0.7,0.7,0.85,0.85,0.85,1,null,184,181,"Cold","6A",null,null,"CHARLES CITY","IA","",0,0]
["March Afb, CA","Charleston Intl Arpt, SC","Charleston Intl Arpt","SC",39,-80.03,32.9,-5,30.380000042915345,92.120002746582031,77.539998626708979,1960.2,2280.6,47.119999313354491,48.919999313354495,60.080000686645505,64.939998626708984,71.599999999999994,78.080000686645505,81.319999313354487,80.419999313354495,75.919999313354495,65.3,59,49.459999656677248,65.266465442082648,61.081132259732193,61.197698793639432,63.938844518854239,68.590047559765068,73.938900166550027,78.591141478936834,81.33409310564312,81.452762435003834,78.916216477571353,74.385645026506893,69.042011348749867,64.278215910295245,1,1,1,1,0,0,0,0,0,1,1,1,0,0,0,0,1,1,1,1,1,0,0,0,1,1,1,1,1,0,0,0,0,1,1,1,0,0,0,1,1,1,1,1,1,1,0,0,0.85,0.85,0.85,0.85,0.85,0.7,0.7,0.7,0.7,0.85,0.85,0.85,1,null,214,151,"Hot-Humid","3A",null,null,"CHARLESTON INTL ARPT","SC","",1,0]
["Merced Macready Fld, CA","Charleston Yeager Arpt, WV","Charleston Yeager Arpt","WV",1017,-81.58,38.380000000000003,-5,14.719999313354492,88.880000686645502,73.039998626708979,4539.6000000000004,1067.4000000000001,30.2,34.519999957084657,49.459999656677248,54.859999656677246,63.86000137329102,71.780000686645508,75.739998626708982,72.680000686645513,66.380000686645502,54.319999313354494,46.940000343322751,36.320000171661377,54.863945300481092,50.266987711477682,49.341145323297205,51.41889832089241,55.958648366297197,61.77703965051095,67.357418821179564,71.245174051222136,72.426902027806477,70.594567142856505,66.225795721269733,60.459375358888273,54.798412386394503,1,1,1,1,1,0,0,0,0,1,1,1,0,0,0,0,0,1,1,1,1,0,0,0,1,1,1,1,1,1,0,0,0,1,1,1,0,0,0,0,1,1,1,1,1,1,0,0,0.85,0.85,0.85,0.85,0.85,0.85,0.7,0.7,0.7,0.85,0.85,0.85,1,null,184,181,"Mixed-Humid","4A",null,null,"CHARLESTON YEAGER ARPT","WV","",0,0]
["Modesto City County Ap, CA","Charlotte Douglas Intl Arpt, NC","Charlotte Douglas Intl Arpt","NC",728,-80.95,35.22,-5,24.620000171661378,91.579997253417972,74.119999313354498,3018.6,1695.6000000000001,39.02000017166138,46.759999656677245,50.9,61.7,68,75.2,79.33999862670899,78.980000686645511,72.680000686645513,59.180000686645506,52.880000686645509,43.879999828338626,60.770904196125187,55.884438537725885,55.559897439395712,58.157678019050806,63.000628735593544,68.826359852627419,74.116304777263522,77.491557844376544,78.072307327799251,75.707171925057082,71.012660626714606,65.212470147293757,59.818509518896462,1,1,1,1,0,0,0,0,0,1,1,1,0,0,0,0,1,1,1,1,1,0,0,0,1,1,1,1,1,0,0,0,0,1,1,1,0,0,0,1,1,1,1,1,1,1,0,0,0.85,0.85,0.85,0.85,0.85,0.7,0.7,0.7,0.7,0.85,0.85,0.85,1,null,214,151,"Mixed-Humid","3A",null,null,"CHARLOTTE DOUGLAS INTL ARPT","NC","",0,0]
["Montague Siskiyou County Ap, CA","Charlottesville Faa, VA","Charlottesville Faa","VA",623,-78.45,38.130000000000003,-5,15.619999313354493,91.579997253417972,75.380000686645502,3558.6,1162.8,34.339999914169312,43.340000343322757,48.559999656677249,59,67.280000686645508,73.219999313354492,74.480000686645511,72.139998626708987,68.360001373291013,57.740000343322755,51.980000686645511,43.159999656677243,57.86032886988496,53.758011737020091,53.175976689302537,55.378982688304838,59.792782271036955,65.26685055754929,70.3742872910166,73.783760378878114,74.606538119212019,72.628150814611487,68.364295603891904,62.926412055725066,57.731968317262748,1,1,1,1,0,0,0,0,0,1,1,1,0,0,0,0,1,1,1,1,1,0,0,0,1,1,1,1,1,0,0,0,0,1,1,1,0,0,0,1,1,1,1,1,1,1,0,0,0.85,0.85,0.85,0.85,0.85,0.7,0.7,0.7,0.7,0.85,0.85,0.85,1,null,214,151,"Mixed-Humid","4A",null,null,"CHARLOTTESVILLE FAA","VA","",0,0]
["Monterey Naf, CA","Chattanooga Lovell Field Ap, TN","Chattanooga Lovell Field Ap","TN",669,-85.2,35.03,-5,22.279999828338624,92.120002746582031,74.66000137329101,3142.8,1675.8,41.540000343322752,42.97999982833862,53.959999656677248,60.440000343322751,67.460001373291021,76.280000686645508,80.239998626708982,77.180000686645513,71.599999999999994,59.359999656677246,51.440000343322751,41,60.381315197356763,55.882280472045963,55.530800814010036,58.007674941481525,62.667267443349303,68.294983727507514,73.423872818757204,76.717010736890785,77.315990334755256,75.064678349612237,70.549913944157112,64.94854003529727,59.720641052161831,1,1,1,1,0,0,0,0,0,1,1,1,0,0,0,0,1,1,1,1,1,0,0,0,1,1,1,1,1,0,0,0,0,1,1,1,0,0,0,1,1,1,1,1,1,1,0,0,0.85,0.85,0.85,0.85,0.85,0.7,0.7,0.7,0.7,0.85,0.85,0.85,1,null,214,151,"Mixed-Humid","4A",null,null,"CHATTANOOGA LOVELL FIELD AP","TN","",0,0]
["Mountain View Moffett Fld Nas, CA","Cherry Point Mcas, NC","Cherry Point Mcas","NC",36,-76.88,34.9,-5,27.320000171661377,90.860001373291013,77.539998626708979,3240,1733.4,42.440000343322751,45.320000171661377,48.740000343322755,58.459999656677248,66.380000686645502,75.919999313354495,82.039998626708979,77.360001373291013,71.960001373291021,62.6,50.180000686645506,40.820000171661377,60.263945434518057,55.265500941920706,54.885120561194363,57.470806236699033,62.348559150492015,68.246917837145446,73.628384208524309,77.090196124021659,77.729978959726623,75.3809634601608,70.655456714710596,64.785234878840853,59.300461736927829,1,1,1,1,0,0,0,0,0,1,1,1,0,0,0,0,1,1,1,1,1,0,0,0,1,1,1,1,1,0,0,0,0,1,1,1,0,0,0,1,1,1,1,1,1,1,0,0,0.85,0.85,0.85,0.85,0.85,0.7,0.7,0.7,0.7,0.85,0.85,0.85,1,null,214,151,"Mixed-Humid","3A",null,null,"CHERRY POINT MCAS","NC","",0,0]
["Napa Co  Airport, CA","Cheyenne Municipal Arpt, WY","Cheyenne Municipal Arpt","WY",6124,-104.8,41.15,-7,1.7600013732910149,86.360001373291013,57.919999313354495,7196.4000000000005,313.2,26.23999991416931,26.960000085830689,34.339999914169312,42.97999982833862,49.280000686645508,61.519999313354496,69.080000686645505,65.66000137329101,58.459999656677248,45.679999828338623,33.259999978542325,31.639999994635581,45.536986411083234,44.074685166873095,42.655558515942346,43.551512912826858,46.529004036903494,50.811902942154546,55.283806027456343,58.779042839512421,60.38652604003066,59.687240360730016,56.863465390238723,52.651261590304834,48.148604793406534,1,1,1,1,1,1,0,1,1,1,1,1,0,0,0,0,0,0,1,1,0,0,0,0,1,1,1,1,1,1,1,1,1,1,1,1,0,0,0,0,0,1,1,1,0,0,0,0,0.85,0.85,0.85,0.85,0.85,0.85,0.85,0.85,0.85,0.85,0.85,0.85,1,null,92,273,"Cold","6B",null,null,"CHEYENNE MUNICIPAL ARPT","WY","",0,0]
["Needles Airport, CA","Chicago Midway Ap, IL","Chicago Midway Ap","IL",610,-87.75,41.78,-6,4.2800006866455069,89.6,73.400000000000006,5590.8,1243.8,21.740000343322755,28.76000008583069,40.820000171661377,52.159999656677243,57.019999313354489,70.519999313354489,77.360001373291013,75.560001373291016,70.16000137329101,56.3,47.480000686645511,30.559999978542329,52.479561951944277,46.377297442381497,45.021558900459226,47.173856248011319,52.273160013492223,58.990258087779623,65.57423534419587,70.308876648695303,71.96002478222907,70.097282538828651,65.206202389963252,58.561719750261261,51.895821414337966,1,1,1,1,1,0,0,0,0,1,1,1,0,0,0,0,0,1,1,1,1,0,0,0,1,1,1,1,1,1,0,0,0,1,1,1,0,0,0,0,1,1,1,1,1,1,0,0,0.85,0.85,0.85,0.85,0.85,0.85,0.7,0.7,0.7,0.85,0.85,0.85,1,null,184,181,"Cold","5A",null,null,"CHICAGO MIDWAY AP","IL","",0,0]
["Oakland Metropolitan Arpt, CA","Chicago Ohare Intl Ap, IL","Chicago Ohare Intl Ap","IL",659,-87.92,41.98,-6,2.1199993133544917,88.880000686645502,73.400000000000006,6174,910.80000000000007,23.720000171661376,27.5,38.839999914169312,50,59.540000343322752,69.980000686645511,75.380000686645502,71.239998626708982,64.580000686645505,51.8,40.459999656677248,25.339999914169312,49.978794576043953,45.553065018583226,44.104156560653024,45.750555495145463,50.063102568009498,55.917665926341058,61.788163409238685,66.144359380680484,67.850744229698194,66.462522449208848,62.341555439442182,56.562036757517831,50.630487012958234,1,1,1,1,1,0,0,0,1,1,1,1,0,0,0,0,0,1,1,1,0,0,0,0,1,1,1,1,1,1,0,0,1,1,1,1,0,0,0,0,1,1,1,1,1,0,0,0,0.85,0.85,0.85,0.85,0.85,0.85,0.7,0.7,0.85,0.85,0.85,0.85,1,null,153,212,"Cold","5A",null,null,"CHICAGO OHARE INTL AP","IL","",0,0]
["Oxnard Airport, CA","Chicago Waukegan, IL","Chicago Waukegan","IL",728,-87.87,42.42,-6,-0.58000068664550863,90.139998626708987,78.980000686645511,6744.6,732.6,24.979999828338624,26.6,32.540000021457672,47.840000343322757,52.519999313354489,68.180000686645513,72.319999313354487,71.419999313354495,63.5,48.019999313354489,42.620000171661374,23.540000343322752,47.930246457237089,44.711063455449604,43.217475126680974,44.516335734025184,48.269077244130145,53.49748975088977,58.838706962141543,62.900458301123933,64.623985687848361,63.560025148604097,59.985914394073383,54.833300471138585,49.445291602996768,1,1,1,1,1,0,0,0,1,1,1,1,0,0,0,0,0,1,1,1,0,0,0,0,1,1,1,1,1,1,0,0,1,1,1,1,0,0,0,0,1,1,1,1,1,0,0,0,0.85,0.85,0.85,0.85,0.85,0.85,0.7,0.7,0.85,0.85,0.85,0.85,1,null,153,212,"Cold","5A",null,null,"CHICAGO WAUKEGAN","IL","",0,0]
["Palm Springs Intl, CA","Chicopee Falls Westo, MA","Chicopee Falls Westo","MA",246,-72.53,42.2,-5,4.8199993133544918,94.100000000000009,73.219999313354492,6028.2,556.20000000000005,31.279999989271165,30.019999957084657,35.6,45.140000343322754,55.580000686645505,65.66000137329101,71.960001373291021,68.360001373291013,59.9,51.980000686645511,41.359999656677246,34.700000000000003,49.412657992823483,47.097612009349071,45.889863412537053,47.164377973783274,50.588933831835014,55.27086772828784,59.989761442245999,63.515562606812935,64.929216814203656,63.862233310190994,60.592737787809376,55.97297463941868,51.207156322352056,1,1,1,1,1,1,0,0,1,1,1,1,0,0,0,0,0,0,1,1,0,0,0,0,1,1,1,1,1,1,1,0,1,1,1,1,0,0,0,0,0,1,1,1,1,0,0,0,0.85,0.85,0.85,0.85,0.85,0.85,0.85,0.7,0.85,0.85,0.85,0.85,1,null,122,243,"Cold","5A",null,null,"CHICOPEE FALLS WESTO","MA","",1,0]
["Palm Springs Thermal Ap, CA","Childress Municipal Ap, TX","Childress Municipal Ap","TX",1952,-100.28,34.43,-6,20.840000343322753,98.779997253417974,71.419999313354495,3301.2000000000003,2077.2000000000003,41.540000343322752,46.580000686645505,48.019999313354489,54.5,67.280000686645508,82.4,83.66000137329101,78.980000686645511,73.580000686645505,62.6,49.459999656677248,43.159999656677243,61.054466009270655,55.607235637253922,55.296406266623997,58.050496365100344,63.151609906701992,69.270063036271267,74.810986657369142,78.330053639938768,78.909964944509625,76.399557752841602,71.453208385988844,65.360259031972575,59.708930835108866,1,1,1,1,0,0,0,0,0,1,1,1,0,0,0,0,1,1,1,1,1,0,0,0,1,1,1,1,1,0,0,0,0,1,1,1,0,0,0,1,1,1,1,1,1,1,0,0,0.85,0.85,0.85,0.85,0.85,0.7,0.7,0.7,0.7,0.85,0.85,0.85,1,null,214,151,"Hot-Dry","3B",null,null,"CHILDRESS MUNICIPAL AP","TX","",1,0]
["Palmdale Airport, CA","China Lake Naf, CA","China Lake Naf","CA",2221,-117.68,35.68,-8,19.220000171661376,109.22000274658204,53.780000686645508,2680.2000000000003,2782.8,43.879999828338626,47.119999313354491,55.219999313354492,64.400000000000006,74.480000686645511,83.66000137329101,87.080000686645505,84.019999313354489,79.16000137329101,63.5,49.459999656677248,43.159999656677243,64.688493251800537,57.763453121764741,57.844069672618048,61.272783167944183,67.155846597112017,73.959748816557237,79.910947861474426,83.458171990052577,83.676782568799297,80.509795381473253,74.782734443200837,67.988446444223342,61.897967254621634,1,1,1,1,0,0,0,0,0,1,1,1,0,0,0,0,1,1,1,1,1,0,0,0,1,1,1,1,1,0,0,0,0,1,1,1,0,0,0,1,1,1,1,1,1,1,0,0,0.85,0.85,0.85,0.85,0.85,0.7,0.7,0.7,0.7,0.85,0.85,0.85,1,null,214,151,"Hot-Dry","3B",null,null,"CHINA LAKE NAF","CA","",1,0]
["Paso Robles Municipal Arpt, CA","Chino Airport, CA","Chino Airport","CA",649,-117.63,33.97,-8,33.619999957084659,100.57999725341797,64.580000686645505,1697.4,1130.4000000000001,52.7,54.140000343322754,56.3,61.339998626708983,65.119999313354498,68.719999313354492,73.400000000000006,74.66000137329101,73.219999313354492,63.5,57.380000686645509,53.059999656677249,62.840164269747802,62.627728817277507,62.561896388752601,64.132591234445769,66.93038753768684,70.22599657668988,73.160367068566188,74.968610124590086,75.179379326339998,73.737734433328058,71.019462403338139,67.733122730827077,64.735350495462228,1,1,1,1,1,0,0,0,0,1,1,1,0,0,0,0,0,1,1,1,1,0,0,0,1,1,1,1,1,1,0,0,0,1,1,1,0,0,0,0,1,1,1,1,1,1,0,0,0.85,0.85,0.85,0.85,0.85,0.85,0.7,0.7,0.7,0.85,0.85,0.85,1,null,184,181,"Hot-Dry","3B",null,null,"CHINO AIRPORT","CA","",0,0]
["Point Mugu Nf, CA","Chippewa Co Intl, MI","Chippewa Co Intl","MI",820,-84.47,46.25,-5,-5.4399986267089853,80.599999999999994,67.280000686645508,8913.6,126,10.940000343322753,20.479999828338624,21.740000343322755,42.8,47.480000686645511,60.259999656677245,64.219999313354492,60.080000686645505,55.4,40.279999828338624,33.440000021457671,25.879999828338622,40.327835664291904,38.715293235067783,36.757672889246152,37.294662951412761,40.186288686596534,44.67880328562039,49.601163586503148,53.670280520951358,55.825476053011002,55.504965254682247,52.7922942047704,48.394562415961239,43.458106450106158,1,1,1,1,1,1,1,1,1,1,1,1,0,0,0,0,0,0,1,1,0,0,0,0,1,1,1,1,1,1,1,1,1,1,1,1,0,0,0,0,0,0,1,1,0,0,0,0,0.85,0.85,0.85,0.85,0.85,0.85,0.85,0.85,0.85,0.85,0.85,0.85,1,null,62,303,"Very Cold",7,null,null,"CHIPPEWA CO INTL","MI","",0,0]
["Porterville AWOS, CA","Chulitna, AK","Chulitna","AK",1250,-149.83000000000001,62.88,-9,-0.21999931335449299,72.5,57.380000686645509,10490.4,1.8,22.820000171661377,23.359999656677246,26.6,32.720000010728839,39.559999656677249,55.940000343322751,54.859999656677246,50.180000686645506,34.700000000000003,35.6,32,19.040000343322752,35.680383608145256,37.385694474683724,35.988231355481915,36.074515439658242,37.622055450994154,40.227461237221505,43.211593629641605,45.796592533297989,47.30863814791369,47.353592482710866,45.919737497557371,43.380829590707648,40.398674233837227,1,1,1,1,1,1,1,1,1,1,1,1,0,0,0,0,0,0,1,1,0,0,0,0,1,1,1,1,1,1,1,1,1,1,1,1,0,0,0,0,0,0,1,1,0,0,0,0,0.85,0.85,0.85,0.85,0.85,0.85,0.85,0.85,0.85,0.85,0.85,0.85,1,null,62,303,"Very Cold",7,null,null,"CHULITNA","AK","",0,0]
["Red Bluff Municipal Arpt, CA","Cincinnati Municipal Ap Lunki, OH","Cincinnati Municipal Ap Lunki","OH",489,-84.42,39.1,-5,12.380000686645507,90.139998626708987,74.3,4782.6000000000004,1040.4000000000001,31.639999994635581,32,42.8,56.480000686645511,63.319999313354494,68,77.360001373291013,73.939998626708984,65.119999313354498,53.6,48.019999313354489,36.320000171661377,54.172547844574879,49.734126703207302,48.748512195179593,50.7407486288851,55.191528876585721,60.940688478118517,66.489620386112676,70.391909987120414,71.630365360536018,69.882164028103688,65.603001607719932,59.908307728146774,54.282492106984066,1,1,1,1,1,0,0,0,1,1,1,1,0,0,0,0,0,1,1,1,0,0,0,0,1,1,1,1,1,1,0,0,1,1,1,1,0,0,0,0,1,1,1,1,1,0,0,0,0.85,0.85,0.85,0.85,0.85,0.85,0.7,0.7,0.85,0.85,0.85,0.85,1,null,153,212,"Mixed-Humid","4A",null,null,"CINCINNATI MUNICIPAL AP LUNKI","OH","",0,0]
["Redding Municipal Arpt, CA","Cincinnati Northern Ky Ap, KY","Cincinnati Northern Ky Ap","KY",869,-84.67,39.049999999999997,-5,10.219999313354492,88.880000686645502,73.760001373291018,5095.8,1040.4000000000001,27.679999828338623,31.459999978542328,44.6,53.419999313354495,65.480000686645511,71.599999999999994,75.2,72.680000686645513,64.939998626708984,51.980000686645511,45.320000171661377,33.619999957084659,53.281424657416672,48.700397183807148,47.603926008545471,49.55137481181346,54.035111051944831,59.886379781482354,65.579957635291493,69.63172580508629,70.985528477772206,69.28847612398296,64.982931592102105,59.191201414814039,53.422989316092611,1,1,1,1,1,0,0,0,1,1,1,1,0,0,0,0,0,1,1,1,0,0,0,0,1,1,1,1,1,1,0,0,1,1,1,1,0,0,0,0,1,1,1,1,1,0,0,0,0.85,0.85,0.85,0.85,0.85,0.85,0.7,0.7,0.85,0.85,0.85,0.85,1,null,153,212,"Mixed-Humid","4A",null,null,"CINCINNATI NORTHERN KY AP","KY","",0,0]
["Riverside Muni, CA","Clarinda, IA","Clarinda","IA",994,-95.03,40.72,-6,-2.3800006866455088,95.179997253417966,80.060001373291016,5907.6,1405.8,22.640000343322754,33.619999957084659,39.02000017166138,52.340000343322757,65.119999313354498,71.960001373291021,76.639998626708987,75.919999313354495,72.860001373291013,53.419999313354495,36.679999828338623,23.9,52.090465742137333,46.473575987817547,45.124399310648748,47.155027661979446,52.036146469105176,58.4954168946309,64.849130561773023,69.441094089499501,71.074341420008466,69.323141467499525,64.643971486402279,58.256529240481846,51.825799984601929,1,1,1,1,1,0,0,0,0,1,1,1,0,0,0,0,0,1,1,1,1,0,0,0,1,1,1,1,1,1,0,0,0,1,1,1,0,0,0,0,1,1,1,1,1,1,0,0,0.85,0.85,0.85,0.85,0.85,0.85,0.7,0.7,0.7,0.85,0.85,0.85,1,null,184,181,"Cold","5A",null,null,"CLARINDA","IA","",1,0]
["Sacramento Executive Arpt, CA","Clayton Municipal Airpark, NM","Clayton Municipal Airpark","NM",4959,-103.15,36.450000000000003,-7,11.659999656677245,91.939998626708984,62.6,4716,1234.8,36.679999828338623,34.519999957084657,41.540000343322752,56.3,66.739998626708982,69.260001373291018,76.099999999999994,76.099999999999994,66.739998626708982,54.140000343322754,42.440000343322751,36.139999914169309,54.847671177615858,51.176478591124209,50.329921816587927,52.224978496427454,56.36767290333519,61.678147899297379,66.772146339719598,70.321839030213638,71.401943868582038,69.730914883784664,65.744331532045109,60.481358199103362,55.31386998906477,1,1,1,1,0,0,0,0,0,1,1,1,0,0,0,0,1,1,1,1,1,0,0,0,1,1,1,1,1,0,0,0,0,1,1,1,0,0,0,1,1,1,1,1,1,1,0,0,0.85,0.85,0.85,0.85,0.85,0.7,0.7,0.7,0.7,0.85,0.85,0.85,1,null,214,151,"Mixed-Dry","4B",null,null,"CLAYTON MUNICIPAL AIRPARK","NM","",0,0]
["Sacramento Metropolitan Ap, CA","Cleveland Hopkins Intl Ap, OH","Cleveland Hopkins Intl Ap","OH",771,-81.849999999999994,41.4,-5,8.4199993133544915,86.719999313354492,72.5,5909.4000000000005,880.2,26.060000085830687,25.7,37.579999828338622,49.1,61.160001373291017,69.980000686645511,75.2,70.880000686645502,63.86000137329102,52.880000686645509,42.440000343322751,30.919999957084656,50.619397680138889,46.430101752378562,45.085576974392538,46.747520304916563,50.982720603527589,56.687207645980443,62.374018975853495,66.560799583600001,68.156200583568662,66.744356119244031,62.693285207434101,57.058961910194576,51.310059422501226,1,1,1,1,1,0,0,0,1,1,1,1,0,0,0,0,0,1,1,1,0,0,0,0,1,1,1,1,1,1,0,0,1,1,1,1,0,0,0,0,1,1,1,1,1,0,0,0,0.85,0.85,0.85,0.85,0.85,0.85,0.7,0.7,0.85,0.85,0.85,0.85,1,null,153,212,"Cold","5A",null,null,"CLEVELAND HOPKINS INTL AP","OH","",0,0]
["Salinas Municipal Ap, CA","Clinton Muni AWOS, IA","Clinton Muni AWOS","IA",708,-90.33,41.83,-6,0.13999862670898358,88.16000137329101,73.939998626708984,6712.2,1080,20.479999828338624,32.9,34.880000042915341,50,57.380000686645509,70.16000137329101,74.3,76.280000686645508,66.560001373291016,49.459999656677248,33.980000042915343,20.479999828338624,48.967835907674818,44.060396728495505,42.421811418337342,44.053540731414728,48.530249276564177,54.685013983325547,60.913500583086332,65.592158059734984,67.501422241688843,66.143613997269995,61.87266696984463,55.801869319397127,49.513668007340272,1,1,1,1,1,0,0,0,0,1,1,1,0,0,0,0,0,1,1,1,1,0,0,0,1,1,1,1,1,1,0,0,0,1,1,1,0,0,0,0,1,1,1,1,1,1,0,0,0.85,0.85,0.85,0.85,0.85,0.85,0.7,0.7,0.7,0.85,0.85,0.85,1,null,184,181,"Cold","5A",null,null,"CLINTON MUNI AWOS","IA","",0,0]
["San Diego Lindbergh Field, CA","Clinton Sherman, OK","Clinton Sherman","OK",1922,-99.2,35.33,-6,19.399999999999999,99.5,71.599999999999994,4136.4000000000005,2061,37.4,38.660000085830688,44.420000171661378,57.740000343322755,72.860001373291013,74.119999313354498,81.5,77.719999313354492,77,59.9,48.919999313354495,33.259999978542325,58.725315061497362,52.320889502042519,51.710001601302494,54.491755726013935,59.941044795442153,66.637427637554183,72.835388870170249,76.919334384535233,77.824720846824462,75.315545323214536,70.045863081499661,63.38929800624431,57.080986365086709,1,1,1,1,0,0,0,0,0,1,1,1,0,0,0,0,1,1,1,1,1,0,0,0,1,1,1,1,1,0,0,0,0,1,1,1,0,0,0,1,1,1,1,1,1,1,0,0,0.85,0.85,0.85,0.85,0.85,0.7,0.7,0.7,0.7,0.85,0.85,0.85,1,null,214,151,"Mixed-Humid","3A",null,null,"CLINTON SHERMAN","OK","",1,0]
["San Diego Miramar Nas, CA","Cloquet AWOS, MN","Cloquet AWOS","MN",1279,-92.5,46.7,-6,-11.739998626708985,81.5,69.260001373291018,9079.2000000000007,273.60000000000002,14.719999313354492,17.779999828338624,34.700000000000003,41.9,45.679999828338623,60.619999313354491,66.2,66.560001373291016,55.580000686645505,43.159999656677243,20.479999828338624,14.180000686645508,40.264219223701794,38.799797138303084,36.873741863552141,37.395459224360714,40.228955550726141,44.635636359681151,49.466832389364761,53.463217943655508,55.583073541661925,55.273826153800016,52.616085877362494,48.302633672420214,43.457837328501967,1,1,1,1,1,1,0,0,1,1,1,1,0,0,0,0,0,0,1,1,0,0,0,0,1,1,1,1,1,1,1,0,1,1,1,1,0,0,0,0,0,1,1,1,1,0,0,0,0.85,0.85,0.85,0.85,0.85,0.85,0.85,0.7,0.85,0.85,0.85,0.85,1,null,122,243,"Very Cold",7,null,null,"CLOQUET AWOS","MN","",1,0]
["San Diego Montgomer, CA","Clovis Cannon Afb, NM","Clovis Cannon Afb","NM",4294,-103.32,34.380000000000003,-7,17.419999313354491,94.820002746582034,63.86000137329102,4501.8,1620,33.980000042915343,37.939999914169313,45.5,50.180000686645506,67.280000686645508,79.519999313354489,79.33999862670899,71.419999313354495,73.400000000000006,57.740000343322755,41.9,38.660000085830688,56.503671149750282,51.433341563350588,50.648120299015829,52.953231063493888,57.747811213191405,63.782079545373087,69.483111028365968,73.36484395057343,74.415444806507068,72.361058292818498,67.737191913355133,61.749127695861922,55.957746857491301,1,1,1,1,0,0,0,0,0,1,1,1,0,0,0,0,1,1,1,1,1,0,0,0,1,1,1,1,1,0,0,0,0,1,1,1,0,0,0,1,1,1,1,1,1,1,0,0,0.85,0.85,0.85,0.85,0.85,0.7,0.7,0.7,0.7,0.85,0.85,0.85,1,null,214,151,"Mixed-Dry","4B",null,null,"CANNON AFB CLOVIS","NM",false,1,0]
["San Diego North Island Nas, CA","Clovis Muni  AWOS, NM","Clovis Muni  AWOS","NM",4212,-103.08,34.43,-7,17.959999656677248,93.379997253417969,63.5,4487.4000000000005,1481.4,38.299999999999997,39.02000017166138,44.420000171661378,55.940000343322751,70.16000137329101,69.080000686645505,78.260001373291018,77.360001373291013,71.960001373291021,52.7,42.620000171661374,32.720000010728839,56.142685521710412,51.176526774103444,50.359375700428558,52.613725917971706,57.351946301941823,63.338946691070738,69.01412317146324,72.898153536388165,73.978605416508117,71.973842379002349,67.406436803930319,61.466953340285031,55.703609883076389,1,1,1,1,0,0,0,0,0,1,1,1,0,0,0,0,1,1,1,1,1,0,0,0,1,1,1,1,1,0,0,0,0,1,1,1,0,0,0,1,1,1,1,1,1,1,0,0,0.85,0.85,0.85,0.85,0.85,0.7,0.7,0.7,0.7,0.85,0.85,0.85,1,null,214,151,"Mixed-Dry","4B",null,null,"CLOVIS MUNI AWOS","NM",false,1,0]
["San Francisco Intl Ap, CA","Cody Muni AWOS, WY","Cody Muni AWOS","WY",5094,-109.02,44.52,-7,-5.4399986267089853,87.8,58.280000686645508,6888.6,516.6,26.779999828338624,28.220000171661376,39.02000017166138,46.220000171661376,51.8,60.440000343322751,71.960001373291021,70.519999313354489,57.019999313354489,44.420000171661378,35.960000085830686,29.660000085830688,46.954301456164011,44.689412892274461,43.256936715040943,44.352228098495353,47.68978246458915,52.399614834530347,57.254034820379943,60.987663043949809,62.627271771813909,61.745471721919145,58.572117666220684,53.934393242202603,49.041192790481965,1,1,1,1,1,1,0,0,1,1,1,1,0,0,0,0,0,0,1,1,0,0,0,0,1,1,1,1,1,1,1,0,1,1,1,1,0,0,0,0,0,1,1,1,1,0,0,0,0.85,0.85,0.85,0.85,0.85,0.85,0.85,0.7,0.85,0.85,0.85,0.85,1,null,122,243,"Cold","6B",null,null,"CODY MUNI AWOS","WY","",0,0]
["San Jose Intl Ap, CA","Coeur D Alene Awos, ID","Coeur D Alene Awos","ID",2319,-116.82,47.77,-8,11.659999656677245,88.519999313354489,62.239998626708989,6733.8,414,27.5,29.480000042915343,41.9,46.759999656677245,50.719999313354492,61.519999313354496,69.980000686645511,69.439998626708984,54.5,44.779999828338624,36.320000171661377,30.740000021457671,47.0830135019838,45.278156403394462,43.937160237599244,44.980171667030937,48.135313689315517,52.580149914134147,57.156065282488257,60.670276936625982,62.20675145325545,61.364983071828185,58.364391693006603,53.98712770019339,49.374192408795324,1,1,1,1,1,1,0,0,1,1,1,1,0,0,0,0,0,0,1,1,0,0,0,0,1,1,1,1,1,1,1,0,1,1,1,1,0,0,0,0,0,1,1,1,1,0,0,0,0.85,0.85,0.85,0.85,0.85,0.85,0.85,0.7,0.85,0.85,0.85,0.85,1,null,122,243,"Cold","5B",null,null,"COEUR D`ALENEAWOS","ID",false,0,0]
["San Luis Co Rgnl, CA","Cold Bay Arpt, AK","Cold Bay Arpt","AK",95,-162.72,55.2,-9,12.740000343322754,57.380000686645509,53.419999313354495,9298.8000000000011,0,31.1,29.480000042915343,31.459999978542328,34.160000085830688,39.920000171661378,45.320000171661377,50.359999656677246,50.540000343322752,47.659999656677243,40.820000171661377,34.700000000000003,31.1,38.945041119464456,42.105446848170715,41.320278430062977,41.479960266231629,42.542868825307721,44.231940611451364,46.106893034220093,47.678990850727779,48.538442538341016,48.461218770132,47.467449111338695,45.816174937979582,43.937826310246002,1,1,1,1,1,1,1,1,1,1,1,1,0,0,0,0,0,0,1,1,0,0,0,0,1,1,1,1,1,1,1,1,1,1,1,1,0,0,0,0,0,0,1,1,0,0,0,0,0.85,0.85,0.85,0.85,0.85,0.85,0.85,0.85,0.85,0.85,0.85,0.85,1,null,62,303,"Very Cold",7,null,null,"COLD BAY ARPT","AK","",0,0]
["Sandberg, CA","College Station Easterwood Fl, TX","College Station Easterwood Fl","TX",315,-96.37,30.58,-6,30.380000042915345,97.160001373291024,75.919999313354495,1573.2,2660.4,50.540000343322752,60.440000343322751,60.259999656677245,62.419999313354495,75.919999313354495,79.519999313354489,83.480000686645511,83.480000686645511,75.919999313354495,68.539998626708979,55.219999313354492,52.340000343322757,67.386520319376913,63.154561379895092,63.465013278482324,66.361658882330318,71.089442876136161,76.415995504557614,80.952868740335958,83.517456659232664,83.4412598986912,80.74414031857431,76.129143701310298,70.799240034439691,66.143750845034049,1,1,1,1,0,0,0,0,0,0,1,1,0,0,0,0,1,1,1,1,1,1,0,0,1,1,1,1,1,0,0,0,0,0,1,1,0,0,0,1,1,1,1,1,1,1,1,0,0.85,0.85,0.85,0.85,0.85,0.7,0.7,0.7,0.7,0.7,0.85,0.85,1,null,244,121,"Hot-Humid","2A",null,null,"COLLEGE STATION EASTERWOOD FL","TX","",0,0]
["Santa Ana John Wayne Ap, CA","Colorado Springs Muni Ap, CO","Colorado Springs Muni Ap","CO",6140,-104.72,38.82,-7,5.7199993133544913,87.619999313354498,58.459999656677248,6028.2,561.6,27.679999828338623,31.81999999731779,40.459999656677248,48.2,57.559999656677249,66.739998626708982,71.239998626708982,67.280000686645508,60.440000343322751,49.819999313354494,38.120000171661374,32.540000021457672,49.424492892222865,46.7850327213608,45.531302589816114,46.85638496927119,50.414876717383493,55.279202121989762,60.181399804855843,63.843636394789648,65.311293487850762,64.201803645452387,60.804372492771662,56.004592815753703,51.053601154056999,1,1,1,1,1,0,0,0,1,1,1,1,0,0,0,0,0,1,1,1,0,0,0,0,1,1,1,1,1,1,0,0,1,1,1,1,0,0,0,0,1,1,1,1,1,0,0,0,0.85,0.85,0.85,0.85,0.85,0.85,0.7,0.7,0.85,0.85,0.85,0.85,1,null,153,212,"Cold","5B",null,null,"COLORADO SPRINGS MUNI AP","CO","",1,0]
["Santa Barbara Municipal Ap, CA","Columbia Metro Arpt, SC","Columbia Metro Arpt","SC",213,-81.12,33.950000000000003,-5,25.879999828338622,94.460001373291021,75.019999313354489,2500.2000000000003,2030.4,42.440000343322751,49.640000343322754,56.480000686645511,63.680000686645506,71.060001373291016,78.260001373291018,80.960001373291021,77,73.939998626708984,62.780000686645508,56.3,44.059999656677249,63.105479884735523,58.144966460094189,58.055501497214479,60.846383686363581,65.790126576143365,71.598067396948707,76.756276870759407,79.920188207812544,80.265079160755661,77.701048587773656,72.896450570621468,67.103677623566455,61.832705284591803,1,1,1,1,0,0,0,0,0,1,1,1,0,0,0,0,1,1,1,1,1,0,0,0,1,1,1,1,1,0,0,0,0,1,1,1,0,0,0,1,1,1,1,1,1,1,0,0,0.85,0.85,0.85,0.85,0.85,0.7,0.7,0.7,0.7,0.85,0.85,0.85,1,null,214,151,"Mixed-Humid","3A",null,null,"COLUMBIA METRO ARPT","SC","",0,0]
["Santa Maria Public Arpt, CA","Columbia Regional Airport, MO","Columbia Regional Airport","MO",892,-92.22,38.82,-6,7.1599996566772459,91.579997253417972,75.919999313354495,5144.4000000000005,1254.6000000000001,27.320000171661377,27.860000085830688,46.040000343322752,55.759999656677245,64.760001373291018,72.139998626708987,78.080000686645505,74.66000137329101,69.080000686645505,55.040000343322752,41.179999828338623,31.1,53.731178354498461,48.284071576025958,47.151216843883113,49.297522942557215,54.163522111850703,60.480816680970179,66.602706468018496,70.933426558824237,72.344108023302098,70.467034998476535,65.791495494839239,59.536240936258025,53.331799819817725,1,1,1,1,1,0,0,0,0,1,1,1,0,0,0,0,0,1,1,1,1,0,0,0,1,1,1,1,1,1,0,0,0,1,1,1,0,0,0,0,1,1,1,1,1,1,0,0,0.85,0.85,0.85,0.85,0.85,0.85,0.7,0.7,0.7,0.85,0.85,0.85,1,null,184,181,"Mixed-Humid","4A",null,null,"COLUMBIA REGIONAL AIRPORT","MO","",0,0]
["Santa Monica Muni, CA","Columbus Afb, MS","Columbus Afb","MS",223,-88.45,33.65,-6,24.979999828338624,94.460001373291021,76.280000686645508,3292.2000000000003,2062.8000000000002,39.920000171661378,48.380000686645509,50.719999313354492,61.339998626708983,68.719999313354492,78.439998626708984,81.860001373291013,79.880000686645502,74.480000686645511,62.419999313354495,48.740000343322755,37.039999914169314,61.04657526133812,54.867760374577898,54.536166617162472,57.465603664084384,62.892468605072033,69.402165462736789,75.297841433663166,79.042697720912315,79.66057982323052,76.990427248797104,71.728256414434853,65.245733240627516,59.232627291333962,1,1,1,1,0,0,0,0,0,1,1,1,0,0,0,0,1,1,1,1,1,0,0,0,1,1,1,1,1,0,0,0,0,1,1,1,0,0,0,1,1,1,1,1,1,1,0,0,0.85,0.85,0.85,0.85,0.85,0.7,0.7,0.7,0.7,0.85,0.85,0.85,1,null,214,151,"Mixed-Humid","3A",null,null,"COLUMBUS AFB","MS","",0,0]
["Santa Rosa AWOS, CA","Columbus Metropolitan Arpt, GA","Columbus Metropolitan Arpt","GA",394,-84.95,32.520000000000003,-6,28.939999914169313,94.100000000000009,74.83999862670899,2030.4,2388.6,44.959999656677248,50,59.180000686645506,65.3,71.419999313354495,79.880000686645502,82.219999313354492,81.319999313354487,77.180000686645513,63.86000137329102,59,49.280000686645508,65.370520689977354,60.250245775791612,60.387907744458857,63.388357024564058,68.46948027292477,74.306804412376309,79.378740950082715,82.36321146658284,82.482267729668109,79.704875889652797,74.755005930540719,68.922917736979471,63.728834971820369,1,1,1,1,0,0,0,0,0,1,1,1,0,0,0,0,1,1,1,1,1,0,0,0,1,1,1,1,1,0,0,0,0,1,1,1,0,0,0,1,1,1,1,1,1,1,0,0,0.85,0.85,0.85,0.85,0.85,0.7,0.7,0.7,0.7,0.85,0.85,0.85,1,null,214,151,"Mixed-Humid","3A",null,null,"COLUMBUS METROPOLITAN ARPT","GA","",0,0]
["South Lake Tahoe, CA","Columbus Muni, NE","Columbus Muni","NE",1479,-97.33,41.45,-6,-0.21999931335449299,90.679997253417966,73.580000686645505,6478.2,1018.8000000000001,19.940000343322755,25.160000085830688,30.740000021457671,52.340000343322757,63.86000137329102,68.360001373291013,78.080000686645505,70.33999862670899,64.580000686645505,53.419999313354495,38.839999914169312,26.420000171661378,49.465424900152911,43.919319879584229,42.249049741063821,44.023831458266244,48.781040826388534,55.280637912814157,61.828402575143301,66.717559050032079,68.673673358118805,67.186854160366735,62.644663793247311,56.231094173222594,49.617941057851596,1,1,1,1,1,0,0,0,1,1,1,1,0,0,0,0,0,1,1,1,0,0,0,0,1,1,1,1,1,1,0,0,1,1,1,1,0,0,0,0,1,1,1,1,1,0,0,0,0.85,0.85,0.85,0.85,0.85,0.85,0.7,0.7,0.85,0.85,0.85,0.85,1,null,153,212,"Cold","5A",null,null,"COLUMBUS MUNI","NE","",0,0]
["Stockton Metropolitan Arpt, CA","Columbus Port Columbus Intl A, OH","Columbus Port Columbus Intl A","OH",810,-82.88,39.979999999999997,-5,9.1400003433227539,88.7,72.860001373291013,5374.8,815.4,27.5,28.76000008583069,41.540000343322752,53.059999656677249,63.139998626708987,69.8,73.400000000000006,71.419999313354495,64.400000000000006,51.259999656677245,44.059999656677249,32.720000010728839,51.877424433639604,48.064872593799926,46.903023775557514,48.601821609477575,52.718448260881793,58.179841553944662,63.562405164211135,67.463090938849192,68.865125019312103,67.40304561652799,63.45796625815818,58.05823267447493,52.611368636478609,1,1,1,1,1,0,0,0,1,1,1,1,0,0,0,0,0,1,1,1,0,0,0,0,1,1,1,1,1,1,0,0,1,1,1,1,0,0,0,0,1,1,1,1,1,0,0,0,0.85,0.85,0.85,0.85,0.85,0.85,0.7,0.7,0.85,0.85,0.85,0.85,1,null,153,212,"Cold","5A",null,null,"COLUMBUS PORT COLUMBUS INTL A","OH","",0,0]
["Travis Field Afb, CA","Concord Concord Buchanan Fiel, CA","Concord Concord Buchanan Fiel","CA",23,-122.05,38,-8,33.799999999999997,96.079997253417972,59.180000686645506,2579.4,612,47.480000686645511,49.1,50.9,57.2,64.039998626708979,67.639998626708987,68.180000686645513,69.260001373291018,68.539998626708979,61.880000686645509,55.219999313354492,48.2,59.016273865373165,59.375806750361988,59.113785402921302,60.390338633319246,62.872713169771835,65.913839834803127,68.72100209799224,70.562469855758962,70.958236159164287,69.805138422282241,67.403749340005177,64.38002798315452,61.522153920349979,1,1,1,1,1,0,0,0,0,1,1,1,0,0,0,0,0,1,1,1,1,0,0,0,1,1,1,1,1,1,0,0,0,1,1,1,0,0,0,0,1,1,1,1,1,1,0,0,0.85,0.85,0.85,0.85,0.85,0.85,0.7,0.7,0.7,0.85,0.85,0.85,1,null,184,181,"Hot-Dry","3B",null,null,"CONCORD CONCORD-BUCHANAN FIEL","CA",false,0,0]
["Truckee Tahoe, CA","Concord Municipal Arpt, NH","Concord Municipal Arpt","NH",348,-71.5,43.2,-5,0.31999931335449139,86.9,69.8,7075.8,473.40000000000003,21.559999656677245,22.640000343322754,34.880000042915341,45.859999656677246,57.740000343322755,65.119999313354498,71.239998626708982,67.280000686645508,60.259999656677245,47.659999656677243,36.5,23.359999656677246,46.305314868966192,{"$f":"MAX($Z195+6+(0.4+0.01*($Z195-44))*(MAX($N195:$Y195)-MIN($N195:$Y195))/2*SIN((0.986*((1*30-15)-15-(35-1*($Z195-44)))-90)*PI()/180),32)","v":43.416589611063571},{"$f":"MAX($Z195+6+(0.4+0.01*($Z195-44))*(MAX($N195:$Y195)-MIN($N195:$Y195))/2*SIN((0.986*((2*30-15)-15-(35-1*($Z195-44)))-90)*PI()/180),32)","v":41.80797187803519},{"$f":"MAX($Z195+6+(0.4+0.01*($Z195-44))*(MAX($N195:$Y195)-MIN($N195:$Y195))/2*SIN((0.986*((3*30-15)-15-(35-1*($Z195-44)))-90)*PI()/180),32)","v":42.935648364545159},{"$f":"MAX($Z195+6+(0.4+0.01*($Z195-44))*(MAX($N195:$Y195)-MIN($N195:$Y195))/2*SIN((0.986*((4*30-15)-15-(35-1*($Z195-44)))-90)*PI()/180),32)","v":46.50567281636399},{"$f":"MAX($Z195+6+(0.4+0.01*($Z195-44))*(MAX($N195:$Y195)-MIN($N195:$Y195))/2*SIN((0.986*((5*30-15)-15-(35-1*($Z195-44)))-90)*PI()/180),32)","v":51.587463344382975},{"$f":"MAX($Z195+6+(0.4+0.01*($Z195-44))*(MAX($N195:$Y195)-MIN($N195:$Y195))/2*SIN((0.986*((6*30-15)-15-(35-1*($Z195-44)))-90)*PI()/180),32)","v":56.856372934711423},{"$f":"MAX($Z195+6+(0.4+0.01*($Z195-44))*(MAX($N195:$Y195)-MIN($N195:$Y195))/2*SIN((0.986*((7*30-15)-15-(35-1*($Z195-44)))-90)*PI()/180),32)","v":60.938979106275653},{"$f":"MAX($Z195+6+(0.4+0.01*($Z195-44))*(MAX($N195:$Y195)-MIN($N195:$Y195))/2*SIN((0.986*((8*30-15)-15-(35-1*($Z195-44)))-90)*PI()/180),32)","v":62.771087645591919},{"$f":"MAX($Z195+6+(0.4+0.01*($Z195-44))*(MAX($N195:$Y195)-MIN($N195:$Y195))/2*SIN((0.986*((9*30-15)-15-(35-1*($Z195-44)))-90)*PI()/180),32)","v":61.875131228240221},{"$f":"MAX($Z195+6+(0.4+0.01*($Z195-44))*(MAX($N195:$Y195)-MIN($N195:$Y195))/2*SIN((0.986*((10*30-15)-15-(35-1*($Z195-44)))-90)*PI()/180),32)","v":58.484654701509612},{"$f":"MAX($Z195+6+(0.4+0.01*($Z195-44))*(MAX($N195:$Y195)-MIN($N195:$Y195))/2*SIN((0.986*((11*30-15)-15-(35-1*($Z195-44)))-90)*PI()/180),32)","v":53.483438020917262},{"$f":"MAX($Z195+6+(0.4+0.01*($Z195-44))*(MAX($N195:$Y195)-MIN($N195:$Y195))/2*SIN((0.986*((12*30-15)-15-(35-1*($Z195-44)))-90)*PI()/180),32)","v":48.175125385341531},{"$f":"IF(AND(OR(LEFT(AM$1,3)=\"Jan\",LEFT(AM$1,3)=\"Dec\"),I195<59),1,IF(N195<66,1,0))","v":1},{"$f":"IF(AND(OR(LEFT(AN$1,3)=\"Jan\",LEFT(AN$1,3)=\"Dec\"),J195<59),1,IF(O195<66,1,0))","v":1},{"$f":"IF(AND(OR(LEFT(AO$1,3)=\"Jan\",LEFT(AO$1,3)=\"Dec\"),K195<59),1,IF(P195<66,1,0))","v":1},{"$f":"IF(AND(OR(LEFT(AP$1,3)=\"Jan\",LEFT(AP$1,3)=\"Dec\"),L195<59),1,IF(Q195<66,1,0))","v":1},{"$f":"IF(AND(OR(LEFT(AQ$1,3)=\"Jan\",LEFT(AQ$1,3)=\"Dec\"),M195<59),1,IF(R195<66,1,0))","v":1},{"$f":"IF(AND(OR(LEFT(AR$1,3)=\"Jan\",LEFT(AR$1,3)=\"Dec\"),N195<59),1,IF(S195<66,1,0))","v":1},{"$f":"IF(AND(OR(LEFT(AS$1,3)=\"Jan\",LEFT(AS$1,3)=\"Dec\"),O195<59),1,IF(T195<66,1,0))","v":0},{"$f":"IF(AND(OR(LEFT(AT$1,3)=\"Jan\",LEFT(AT$1,3)=\"Dec\"),P195<59),1,IF(U195<66,1,0))","v":0},{"$f":"IF(AND(OR(LEFT(AU$1,3)=\"Jan\",LEFT(AU$1,3)=\"Dec\"),Q195<59),1,IF(V195<66,1,0))","v":1},{"$f":"IF(AND(OR(LEFT(AV$1,3)=\"Jan\",LEFT(AV$1,3)=\"Dec\"),R195<59),1,IF(W195<66,1,0))","v":1},{"$f":"IF(AND(OR(LEFT(AW$1,3)=\"Jan\",LEFT(AW$1,3)=\"Dec\"),S195<59),1,IF(X195<66,1,0))","v":1},{"$f":"IF(AND(OR(LEFT(AX$1,3)=\"Jan\",LEFT(AX$1,3)=\"Dec\"),T195<59),1,IF(Y195<66,1,0))","v":1},{"$f":"IF(OR(LEFT(AY$1,3)=\"Jul\", LEFT(AY$1,3)=\"Aug\"),1,IF(N195>66,1,0))","v":0},{"$f":"IF(OR(LEFT(AZ$1,3)=\"Jul\", LEFT(AZ$1,3)=\"Aug\"),1,IF(O195>66,1,0))","v":0},{"$f":"IF(OR(LEFT(BA$1,3)=\"Jul\", LEFT(BA$1,3)=\"Aug\"),1,IF(P195>66,1,0))","v":0},{"$f":"IF(OR(LEFT(BB$1,3)=\"Jul\", LEFT(BB$1,3)=\"Aug\"),1,IF(Q195>66,1,0))","v":0},{"$f":"IF(OR(LEFT(BC$1,3)=\"Jul\", LEFT(BC$1,3)=\"Aug\"),1,IF(R195>66,1,0))","v":0},{"$f":"IF(OR(LEFT(BD$1,3)=\"Jul\", LEFT(BD$1,3)=\"Aug\"),1,IF(S195>66,1,0))","v":0},{"$f":"IF(OR(LEFT(BE$1,3)=\"Jul\", LEFT(BE$1,3)=\"Aug\"),1,IF(T195>66,1,0))","v":1},{"$f":"IF(OR(LEFT(BF$1,3)=\"Jul\", LEFT(BF$1,3)=\"Aug\"),1,IF(U195>66,1,0))","v":1},{"$f":"IF(OR(LEFT(BG$1,3)=\"Jul\", LEFT(BG$1,3)=\"Aug\"),1,IF(V195>66,1,0))","v":0},{"$f":"IF(OR(LEFT(BH$1,3)=\"Jul\", LEFT(BH$1,3)=\"Aug\"),1,IF(W195>66,1,0))","v":0},{"$f":"IF(OR(LEFT(BI$1,3)=\"Jul\", LEFT(BI$1,3)=\"Aug\"),1,IF(X195>66,1,0))","v":0},{"$f":"IF(OR(LEFT(BJ$1,3)=\"Jul\", LEFT(BJ$1,3)=\"Aug\"),1,IF(Y195>66,1,0))","v":0},{"$f":"IF(AND(AY195=1,BJ195=0),1,AM195)","v":1},{"$f":"IF(AND(AY195=0,AZ195=1),1,AN195)","v":1},{"$f":"IF(AND(AZ195=0,BA195=1),1,AO195)","v":1},{"$f":"IF(AND(BA195=0,BB195=1),1,AP195)","v":1},{"$f":"IF(AND(BB195=0,BC195=1),1,AQ195)","v":1},{"$f":"IF(AND(BC195=0,BD195=1),1,AR195)","v":1},{"$f":"IF(AND(BD195=0,BE195=1),1,AS195)","v":1},{"$f":"IF(AND(BE195=0,BF195=1),1,AT195)","v":0},{"$f":"IF(AND(BF195=0,BG195=1),1,AU195)","v":1},{"$f":"IF(AND(BG195=0,BH195=1),1,AV195)","v":1},{"$f":"IF(AND(BH195=0,BI195=1),1,AW195)","v":1},{"$f":"IF(AND(BI195=0,BJ195=1),1,AX195)","v":1},{"$f":"IF(OR(AND(AX195=0,AM195=1),AND(AM195=1,AN195=0)),1,AY195)","v":0},{"$f":"IF(OR(AND(AM195=0,AN195=1),AND(AN195=1,AO195=0)),1,AZ195)","v":0},{"$f":"IF(OR(AND(AN195=0,AO195=1),AND(AO195=1,AP195=0)),1,BA195)","v":0},{"$f":"IF(OR(AND(AO195=0,AP195=1),AND(AP195=1,AQ195=0)),1,BB195)","v":0},{"$f":"IF(OR(AND(AP195=0,AQ195=1),AND(AQ195=1,AR195=0)),1,BC195)","v":0},{"$f":"IF(OR(AND(AQ195=0,AR195=1),AND(AR195=1,AS195=0)),1,BD195)","v":1},{"$f":"IF(OR(AND(AR195=0,AS195=1),AND(AS195=1,AT195=0)),1,BE195)","v":1},{"$f":"IF(OR(AND(AS195=0,AT195=1),AND(AT195=1,AU195=0)),1,BF195)","v":1},{"$f":"IF(OR(AND(AT195=0,AU195=1),AND(AU195=1,AV195=0)),1,BG195)","v":1},{"$f":"IF(OR(AND(AU195=0,AV195=1),AND(AV195=1,AW195=0)),1,BH195)","v":0},{"$f":"IF(OR(AND(AV195=0,AW195=1),AND(AW195=1,AX195=0)),1,BI195)","v":0},{"$f":"IF(OR(AND(AW195=0,AX195=1),AND(AX195=1,AM195=0)),1,BJ195)","v":0},{"$f":"IF(BK195=1,0.85,0.7)","v":0.85},{"$f":"IF(BL195=1,0.85,0.7)","v":0.85},{"$f":"IF(BM195=1,0.85,0.7)","v":0.85},{"$f":"IF(BN195=1,0.85,0.7)","v":0.85},{"$f":"IF(BO195=1,0.85,0.7)","v":0.85},{"$f":"IF(BP195=1,0.85,0.7)","v":0.85},{"$f":"IF(BQ195=1,0.85,0.7)","v":0.85},{"$f":"IF(BR195=1,0.85,0.7)","v":0.7},{"$f":"IF(BS195=1,0.85,0.7)","v":0.85},{"$f":"IF(BT195=1,0.85,0.7)","v":0.85},{"$f":"IF(BU195=1,0.85,0.7)","v":0.85},{"$f":"IF(BV195=1,0.85,0.7)","v":0.85},1,null,{"$f":"BW195*31+BX195*28+BY195*31+BZ195*30+CA195*31+CB195*30+CC195*31+CD195*31+CE195*30+CF195*31+CG195*30+CH195*31","v":122},{"$f":"365-CW195","v":243},"Cold","6A",null,null,"CONCORD MUNICIPAL ARPT","NH",{"$f":"IF(AND(C195=DC195,D195=DD195),\"\",FALSE)","v":""},0,0]
["Twentynine Palms, CA","Concordia Blosser Muni Ap, KS","Concordia Blosser Muni Ap","KS",1469,-97.65,39.549999999999997,-6,4.8199993133544918,95.9,73.400000000000006,4806,1695.6000000000001,26.23999991416931,35.060000085830687,46.4,55.219999313354492,66.560001373291016,75.560001373291016,82.939998626708984,76.460001373291021,70.33999862670899,55.4,43.52000017166138,35.419999957084656,55.870958974067477,48.315098011103629,47.268222130680684,50.027774643473016,55.874435661029828,63.284182889351356,70.325551525714388,75.163100324275604,76.53584764180647,74.085965735316051,68.452054077554067,61.10267856332284,53.953567177711747,1,1,1,1,0,0,0,0,0,1,1,1,0,0,0,0,1,1,1,1,1,0,0,0,1,1,1,1,1,0,0,0,0,1,1,1,0,0,0,1,1,1,1,1,1,1,0,0,0.85,0.85,0.85,0.85,0.85,0.7,0.7,0.7,0.7,0.85,0.85,0.85,1,null,214,151,"Cold","5A",null,null,"CONCORDIA BLOSSER MUNI AP","KS","",1,0]
["Ukiah Municipal Ap, CA","Cordova, AK","Cordova","AK",39,-145.5,60.5,-9,1.580000686645507,67.280000686645508,57.559999656677249,8971.2000000000007,0,28.76000008583069,31.1,33.799999999999997,41.720000171661376,44.959999656677248,52.519999313354489,52.159999656677243,53.059999656677249,49.280000686645508,34.519999957084657,28.580000042915344,26.960000085830689,39.820876653423049,42.16912092340462,41.204452523831023,41.443126214884849,42.82292802092001,44.984191337803971,47.363549575915052,49.340786343469233,50.40050440686263,50.266471922122051,48.97362652189824,46.858968283110244,44.47371546356802,1,1,1,1,1,1,1,1,1,1,1,1,0,0,0,0,0,0,1,1,0,0,0,0,1,1,1,1,1,1,1,1,1,1,1,1,0,0,0,0,0,0,1,1,0,0,0,0,0.85,0.85,0.85,0.85,0.85,0.85,0.85,0.85,0.85,0.85,0.85,0.85,1,null,62,303,"Very Cold",7,null,null,"CORDOVA","AK","",0,0]
["Van Nuys Airport, CA","Corpus Christi Intl Arpt  Ut, TX","Corpus Christi Intl Arpt  Ut","TX",20,-97.63,27.88,-6,37.039999914169314,94.279997253417974,77.719999313354492,910.80000000000007,109.8,54.5,58.1,65.3,71.780000686645508,76.280000686645508,82.219999313354492,83.3,83.119999313354498,80.060001373291016,72.680000686645513,68,57.019999313354489,71.087123400544471,67.516006517649345,68.116060663292586,71.054560559662065,75.565540925114917,80.473145211084216,84.498130731960742,86.59132298482362,86.207099151895108,83.445613096296526,79.026688714207921,74.102186743506692,69.955754511728628,1,1,1,0,0,0,0,0,0,0,0,1,0,0,0,1,1,1,1,1,1,1,1,0,1,1,1,1,0,0,0,0,0,0,0,1,0,0,1,1,1,1,1,1,1,1,1,1,0.85,0.85,0.85,0.85,0.7,0.7,0.7,0.7,0.7,0.7,0.7,0.85,1,null,306,59,"Hot-Humid","2A",null,null,"CORPUS CHRISTI INTL ARPT","TX",false,0,0]
["Visalia Muni AWOS, CA","Corpus Christi Nas, TX","Corpus Christi Nas","TX",20,-97.28,27.68,-6,39.920000171661378,92.120002746582031,79.16000137329101,536.4,3760.2000000000003,59.359999656677246,62.419999313354495,68.180000686645513,71.419999313354495,76.460001373291021,83.480000686645511,84.560001373291016,83.66000137329101,83.119999313354498,75.019999313354489,71.060001373291016,59.540000343322752,73.233808572847551,70.553261119445125,71.258013279235584,74.041779393031959,78.178927924138847,82.591047352534531,86.128050756389158,87.867963691615643,87.357251038777278,84.729037921156575,80.668408589851495,76.233828656258879,72.581239719015016,1,1,0,0,0,0,0,0,0,0,0,1,0,0,1,1,1,1,1,1,1,1,1,0,1,1,1,0,0,0,0,0,0,0,0,1,0,1,1,1,1,1,1,1,1,1,1,1,0.85,0.85,0.85,0.7,0.7,0.7,0.7,0.7,0.7,0.7,0.7,0.85,1,null,334,31,"Hot-Humid","2A",null,null,"CORPUS CHRISTI NAS","TX","",0,0]
["Yuba Co, CA","Cortez Montezuma Co, CO","Cortez Montezuma Co","CO",5914,-108.63,37.299999999999997,-7,8.9599996566772457,90.860001373291013,59.180000686645506,5830.2,628.20000000000005,30.019999957084657,33.080000042915344,40.459999656677248,50.719999313354492,59.9,68.719999313354492,73.219999313354492,68.719999313354492,62.960001373291014,48.919999313354495,35.6,28.580000042915344,50.166191580001623,47.104613203940303,45.863972806515214,47.308764494396343,51.062381049223603,56.146384470999216,61.235550920973097,65.003310737530612,66.467539261549717,65.246562763800256,61.658647584238025,56.639039105862466,51.496175633070344,1,1,1,1,1,0,0,0,1,1,1,1,0,0,0,0,0,1,1,1,0,0,0,0,1,1,1,1,1,1,0,0,1,1,1,1,0,0,0,0,1,1,1,1,1,0,0,0,0.85,0.85,0.85,0.85,0.85,0.85,0.7,0.7,0.85,0.85,0.85,0.85,1,null,153,212,"Cold","5B",null,null,"CORTEZ MONTEZUMA CO","CO","",0,0]
["Akron Washington Co Ap, CO","Corvallis Muni, OR","Corvallis Muni","OR",253,-123.28,44.48,-8,27.679999828338623,89.779997253417974,65.66000137329101,4123.8,405,41.9,44.959999656677248,50.180000686645506,52.7,54.319999313354494,62.780000686645508,69.260001373291018,68.180000686645513,64.580000686645505,52.519999313354489,44.959999656677248,43.340000343322757,54.192274176715173,53.942238341898204,53.35336298214186,54.547155216062713,57.212434700994095,60.654455265988503,63.976001207637644,66.311260389678296,67.051511518878243,66.003796730796296,63.441219030719658,60.031753786691006,56.664130656016241,1,1,1,1,1,1,0,0,1,1,1,1,0,0,0,0,0,0,1,1,0,0,0,0,1,1,1,1,1,1,1,0,1,1,1,1,0,0,0,0,0,1,1,1,1,0,0,0,0.85,0.85,0.85,0.85,0.85,0.85,0.85,0.7,0.85,0.85,0.85,0.85,1,null,122,243,"Marine","4C",null,null,"CORVALLIS MUNI","OR","",1,0]
["Alamosa San Luis Valley Rgnl, CO","Cotulla Faa Ap, TX","Cotulla Faa Ap","TX",462,-99.22,28.45,-6,34.519999957084657,100.4,73.760001373291018,889.2,3816,59.180000686645506,65.83999862670899,70.519999313354489,73.039998626708979,82.039998626708979,84.019999313354489,82.760001373291018,85.819999313354487,81.680000686645513,72.680000686645513,59.540000343322752,51.440000343322751,72.409753263813172,66.725662819123258,67.591539484645509,71.277350285428525,76.82233183618446,82.781099244956508,87.600407959262867,90.024030894924238,89.420213384600487,85.946349767467012,80.507956129188429,74.522633579764886,69.55054867831609,1,1,0,0,0,0,0,0,0,0,1,1,0,0,1,1,1,1,1,1,1,1,0,0,1,1,1,0,0,0,0,0,0,0,1,1,0,1,1,1,1,1,1,1,1,1,1,0,0.85,0.85,0.85,0.7,0.7,0.7,0.7,0.7,0.7,0.7,0.85,0.85,1,null,303,62,"Hot-Humid","2B",null,null,"COTULLA FAA AP","TX","",0,0]
["Aspen Pitkin Co Sar, CO","Council Bluffs, IA","Council Bluffs","IA",1253,-95.77,41.27,-6,-2.3800006866455088,91.579997253417972,80.780000686645508,5747.4000000000005,993.6,26.060000085830687,21.379999828338622,46.040000343322752,51.440000343322751,63.139998626708987,70.880000686645502,71.060001373291016,74.83999862670899,67.460001373291021,53.959999656677248,35.419999957084656,32.720000010728839,51.389205551849656,46.125299808340557,44.732776589993172,46.639346622027837,51.348033044461161,57.631444178231668,63.851712081025475,68.387428066749422,70.056287866225432,68.423277454812109,63.914066161696525,57.704049399478691,51.411963736485809,1,1,1,1,1,0,0,0,0,1,1,1,0,0,0,0,0,1,1,1,1,0,0,0,1,1,1,1,1,1,0,0,0,1,1,1,0,0,0,0,1,1,1,1,1,1,0,0,0.85,0.85,0.85,0.85,0.85,0.85,0.7,0.7,0.7,0.85,0.85,0.85,1,null,184,181,"Cold","5A",null,null,"COUNCIL BLUFFS","IA","",0,0]
["Aurora Buckley Field Angb, CO","Cox Fld, TX","Cox Fld","TX",561,-95.45,33.630000000000003,-6,25.160000085830688,96.979997253417977,75.380000686645502,2982.6,2098.8000000000002,42.620000171661374,50.540000343322752,49.819999313354494,61.519999313354496,70.33999862670899,77.180000686645513,81.5,80.060001373291016,72.139998626708987,66.019999313354489,46.940000343322751,44.240000343322755,61.975671101661575,57.185433723250007,56.985018245875281,59.649485806448588,64.484301874618481,70.22919713544556,75.386676107679463,78.612362418050651,79.065431220430114,76.627783149476102,71.934828740176599,66.209858879932128,60.94517518727146,1,1,1,1,0,0,0,0,0,0,1,1,0,0,0,0,1,1,1,1,1,1,0,0,1,1,1,1,1,0,0,0,0,0,1,1,0,0,0,1,1,1,1,1,1,1,1,0,0.85,0.85,0.85,0.85,0.85,0.7,0.7,0.7,0.7,0.7,0.85,0.85,1,null,244,121,"Hot-Humid","3A",null,null,"COX FLD","TX","",0,0]
["Broomfield Jeffco  Boulder   S, CO","Craig Moffat, CO","Craig Moffat","CO",6281,-107.53,40.5,-7,-9.0399986267089858,87.439998626708984,57.380000686645509,8404.2000000000007,117,8.7800006866455078,24.979999828338624,25.520000171661376,44.779999828338624,52.340000343322757,60.440000343322751,65.480000686645511,64.219999313354492,59.9,39.559999656677249,32.180000002682206,21.559999656677245,41.69780826407753,39.137890413296603,37.094751489166725,37.815462711468271,41.112159593612219,46.125507289630967,51.548699464530664,55.968097504002522,58.231717204072893,57.74951120648295,54.64717393552386,49.733377409335617,44.288978416365779,1,1,1,1,1,1,1,1,1,1,1,1,0,0,0,0,0,0,1,1,0,0,0,0,1,1,1,1,1,1,1,1,1,1,1,1,0,0,0,0,0,0,1,1,0,0,0,0,0.85,0.85,0.85,0.85,0.85,0.85,0.85,0.85,0.85,0.85,0.85,0.85,1,null,62,303,"Cold","6B",null,null,"CRAIG MOFFAT","CO","",0,0]
["Colorado Springs Muni Ap, CO","Crane Lake AWOS, MN","Crane Lake AWOS","MN",1148,-92.57,46.27,-6,-18.219999313354492,82.219999313354492,67.099999999999994,9820.8000000000011,207,-3.9998626708985165E-2,20.120000171661378,17.959999656677248,41.179999828338623,47.480000686645511,59,67.280000686645508,59.359999656677246,56.3,43.7,33.619999957084659,10.040000343322752,38.042575542110285,35.314242165942034,32.786961053344754,33.193629311513895,36.428242592010115,41.647649096372575,47.491330085750256,52.436040056411919,55.192864154217389,55.043193694128348,52.026042588058601,46.927877767511191,41.077614458059848,1,1,1,1,1,1,0,1,1,1,1,1,0,0,0,0,0,0,1,1,0,0,0,0,1,1,1,1,1,1,1,1,1,1,1,1,0,0,0,0,0,1,1,1,0,0,0,0,0.85,0.85,0.85,0.85,0.85,0.85,0.85,0.85,0.85,0.85,0.85,0.85,1,null,92,273,"Very Cold",7,null,null,"CRANE LAKE AWOS","MN","",0,0]
["Cortez Montezuma Co, CO","Crescent City Faa Ai, CA","Crescent City Faa Ai","CA",56,-124.23,41.78,-8,36.679999828338623,65.66000137329101,58.640000343322754,4698,0,47.840000343322757,48.019999313354489,49.280000686645508,49.640000343322754,51.980000686645511,53.240000343322755,55.759999656677245,56.3,56.480000686645511,52.519999313354489,50,46.940000343322751,51.519397407949789,55.501499648367172,55.254852136769493,55.598493247803937,56.442847630209549,57.567821302317405,58.68017254012355,59.489949851642344,59.786072301580312,59.491351009976036,58.682609623278751,57.57065904701313,56.445346334559879,1,1,1,1,1,1,1,1,1,1,1,1,0,0,0,0,0,0,1,1,0,0,0,0,1,1,1,1,1,1,1,1,1,1,1,1,0,0,0,0,0,0,1,1,0,0,0,0,0.85,0.85,0.85,0.85,0.85,0.85,0.85,0.85,0.85,0.85,0.85,0.85,1,null,62,303,"Marine","4C",null,null,"CRESCENT CITY FAA AI","CA","",0,0]
["Craig Moffat, CO","Creston, IA","Creston","IA",1292,-94.37,41.02,-6,0.68000068664550706,90.5,76.639998626708987,5999.4000000000005,1024.2,22.279999828338624,28.039999914169311,45.320000171661377,57.2,60.619999313354491,71.060001373291016,73.760001373291018,75.380000686645502,61.519999313354496,51.980000686645511,37.039999914169314,23.720000171661376,50.77967146520745,45.795726314554358,44.365492820752209,46.171206298911088,50.742179704061861,56.886918377319596,63.003701490210346,67.498095261878078,69.19856669503308,67.661861705565485,63.288546130320732,57.218592068819419,51.034226588015393,1,1,1,1,1,0,0,0,1,1,1,1,0,0,0,0,0,1,1,1,0,0,0,0,1,1,1,1,1,1,0,0,1,1,1,1,0,0,0,0,1,1,1,1,1,0,0,0,0.85,0.85,0.85,0.85,0.85,0.85,0.7,0.7,0.85,0.85,0.85,0.85,1,null,153,212,"Cold","5A",null,null,"CRESTON","IA","",0,0]
["Denver Centennial  Golden   Nr, CO","Crestview Bob Sikes Ap, FL","Crestview Bob Sikes Ap","FL",190,-86.52,30.78,-6,27.5,93.020002746582037,75.739998626708982,1598.4,2314.8000000000002,51.080000686645505,55.4,55.580000686645505,64.760001373291018,72.319999313354487,76.639998626708987,80.060001373291016,78.8,76.639998626708987,70.33999862670899,61.160001373291017,52.880000686645509,66.356328883758962,63.533935956259754,63.720944652317719,66.158899323600011,70.212309515018177,74.824591395237221,78.79348261476278,81.084430514760456,81.10026422052006,78.836856432630555,74.884199271175149,70.272613737577885,66.204180667855098,1,1,1,1,0,0,0,0,0,0,1,1,0,0,0,0,1,1,1,1,1,1,0,0,1,1,1,1,1,0,0,0,0,0,1,1,0,0,0,1,1,1,1,1,1,1,1,0,0.85,0.85,0.85,0.85,0.85,0.7,0.7,0.7,0.7,0.7,0.85,0.85,1,null,244,121,"Hot-Humid","2A",null,null,"CRESTVIEW BOB SIKES AP","FL","",0,0]
["Denver Intl Ap, CO","Crookston Muni Fld, MN","Crookston Muni Fld","MN",895,-96.62,47.85,-6,-18.760001373291018,83.83999862670899,70.16000137329101,8764.2000000000007,414,13.280000686645508,16.519999313354493,25.520000171661376,47.480000686645511,54.680000686645506,61.160001373291017,68.900000000000006,68.180000686645513,59.180000686645506,35.060000085830687,27.679999828338623,19.220000171661376,41.527671603242013,39.187027787641384,37.177393968238377,37.86571951700553,41.072581772238891,45.962062667868622,51.259643659267425,55.584428622832974,57.809095710858223,57.353751163691818,54.337087554624567,49.545444741553247,44.22783826515581,1,1,1,1,1,1,0,0,1,1,1,1,0,0,0,0,0,0,1,1,0,0,0,0,1,1,1,1,1,1,1,0,1,1,1,1,0,0,0,0,0,1,1,1,1,0,0,0,0.85,0.85,0.85,0.85,0.85,0.85,0.85,0.7,0.85,0.85,0.85,0.85,1,null,122,243,"Very Cold",7,null,null,"CROOKSTON MUNI FLD","MN","",0,0]
["Durango La Plata Co, CO","Crossville Memorial Ap, TN","Crossville Memorial Ap","TN",1866,-85.08,35.950000000000003,-6,15.440000343322753,86.180000686645513,72.139998626708987,3787.2000000000003,973.80000000000007,37.579999828338622,41.179999828338623,50.540000343322752,57.919999313354495,64.039998626708979,71.060001373291016,74.3,70.7,68.900000000000006,54.680000686645506,51.980000686645511,36.5,56.677753480623849,53.447256392993737,52.808434957282522,54.742203485482413,58.744495410443058,63.77205166473793,68.514362233697994,71.73527078630579,72.595197872620844,70.869990245717588,67.009349859802683,62.019612125734028,57.20142907808269,1,1,1,1,1,0,0,0,0,1,1,1,0,0,0,0,0,1,1,1,1,0,0,0,1,1,1,1,1,1,0,0,0,1,1,1,0,0,0,0,1,1,1,1,1,1,0,0,0.85,0.85,0.85,0.85,0.85,0.85,0.7,0.7,0.7,0.85,0.85,0.85,1,null,184,181,"Mixed-Humid","4A",null,null,"CROSSVILLE MEMORIAL AP","TN","",1,0]
["Eagle County Ap, CO","Cut Bank Muni Ap, MT","Cut Bank Muni Ap","MT",3838,-112.37,48.6,-7,-13.000000000000002,85.1,59,7871.4000000000005,149.4,23.9,26.060000085830687,29.660000085830688,41.720000171661376,50.719999313354492,58.640000343322754,64.219999313354492,62.780000686645508,53.6,43.52000017166138,34.160000085830688,28.4,43.212273992120402,42.759487385051386,41.346258206490695,41.983427261426904,44.504906616618541,48.253433820961845,52.251897492091942,55.458036455938412,57.036121183477697,56.574799571454882,54.19432220722495,50.515197200041044,46.496445180058217,1,1,1,1,1,1,1,1,1,1,1,1,0,0,0,0,0,0,1,1,0,0,0,0,1,1,1,1,1,1,1,1,1,1,1,1,0,0,0,0,0,0,1,1,0,0,0,0,0.85,0.85,0.85,0.85,0.85,0.85,0.85,0.85,0.85,0.85,0.85,0.85,1,null,62,303,"Cold","6B",null,null,"CUT BANK MUNI AP","MT","",0,0]
["Fort Collins AWOS, CO","Daggett Barstow Daggett Ap, CA","Daggett Barstow Daggett Ap","CA",1922,-116.8,34.85,-8,32,106.33999862670899,68.719999313354492,1980,3090.6,45.140000343322754,52.519999313354489,59.9,66.380000686645502,73.400000000000006,84.019999313354489,90.679997253417966,87.080000686645505,77.360001373291013,68.719999313354492,56.3,46.759999656677245,67.436821744735923,59.27729715338107,59.713214533958059,63.726401621213078,70.270759355768064,77.640400042505803,83.914313266827421,87.457106862884075,87.345297083761693,83.608028871429383,77.219478778478006,69.844920837172381,63.406647220291688,1,1,1,0,0,0,0,0,0,0,1,1,0,0,0,1,1,1,1,1,1,1,0,0,1,1,1,1,0,0,0,0,0,0,1,1,0,0,1,1,1,1,1,1,1,1,1,0,0.85,0.85,0.85,0.85,0.7,0.7,0.7,0.7,0.7,0.7,0.85,0.85,1,null,275,90,"Hot-Dry","3B",null,null,"DAGGETT BARSTOW-DAGGETT AP","CA",false,0,0]
["Grand Junction Walker Field, CO","Dalhart Municipal Ap, TX","Dalhart Municipal Ap","TX",3988,-102.55,36.020000000000003,-6,13.280000686645508,95,65.3,5081.4000000000005,1114.2,36.139999914169309,36.139999914169309,42.259999656677245,46.940000343322751,64.760001373291018,68.180000686645513,74.480000686645511,77.539998626708979,67.280000686645508,50.540000343322752,45.320000171661377,31.459999978542328,53.523561841657717,49.1924856622772,48.147888825833228,50.068536465391503,54.453782175625108,60.160544083479671,65.701266753809861,69.631675437473177,70.927248541641546,69.250274971327585,65.037883730578628,59.388099511209845,53.773625635809999,1,1,1,1,1,0,0,0,0,1,1,1,0,0,0,0,0,1,1,1,1,0,0,0,1,1,1,1,1,1,0,0,0,1,1,1,0,0,0,0,1,1,1,1,1,1,0,0,0.85,0.85,0.85,0.85,0.85,0.85,0.7,0.7,0.7,0.85,0.85,0.85,1,null,184,181,"Mixed-Dry","4B",null,null,"DALHART MUNICIPAL AP","TX","",1,0]
["Greeley Weld AWOS, CO","Dallas Addison Arpt, TX","Dallas Addison Arpt","TX",643,-96.83,32.97,-6,17.419999313354491,104.17999725341797,74.480000686645511,2667.6,2950.2000000000003,44.420000171661378,53.959999656677248,53.240000343322755,60.440000343322751,71.239998626708982,83.83999862670899,88.16000137329101,82.760001373291018,80.960001373291021,69.260001373291018,53.240000343322755,39.920000171661378,65.162411280592835,56.826338920001177,56.97699572382426,60.825299696389877,67.368131103089468,74.900000109682779,81.457608989986454,85.331615933537577,85.512201330245418,81.952292813552901,75.579835398186745,68.055908312003481,61.341739097242879,1,1,1,1,0,0,0,0,0,0,1,1,0,0,0,0,1,1,1,1,1,1,0,0,1,1,1,1,1,0,0,0,0,0,1,1,0,0,0,1,1,1,1,1,1,1,1,0,0.85,0.85,0.85,0.85,0.85,0.7,0.7,0.7,0.7,0.7,0.85,0.85,1,null,244,121,"Hot-Humid","3A",null,null,"DALLAS ADDISON ARPT","TX","",0,0]
["Gunnison Co  AWOS, CO","Dallas Fort Worth Intl Ap, TX","Dallas Fort Worth Intl Ap","TX",561,-97.02,32.9,-6,25.879999828338622,98.420002746582028,74.66000137329101,2277,2759.4,44.240000343322755,48.740000343322755,59,67.099999999999994,73.219999313354492,80.239998626708982,85.460001373291021,84.2,79.16000137329101,65.119999313354498,55.759999656677245,45.679999828338623,65.745315081191393,59.349226863703429,59.544340014425728,62.919825339017677,68.595810569820969,75.092762686846626,80.717150999729171,84.002892020268234,84.093506716658482,80.965374971871057,75.433892531154186,68.94092553540537,63.178965891716771,1,1,1,0,0,0,0,0,0,1,1,1,0,0,0,1,1,1,1,1,1,0,0,0,1,1,1,1,0,0,0,0,0,1,1,1,0,0,1,1,1,1,1,1,1,1,0,0,0.85,0.85,0.85,0.85,0.7,0.7,0.7,0.7,0.7,0.85,0.85,0.85,1,null,245,120,"Hot-Humid","3A",null,null,"DALLAS FORT WORTH INTL AP","TX","",0,0]
["Hayden Yampa AWOS, CO","Dallas Love Field, TX","Dallas Love Field","TX",440,-96.85,32.85,-6,27.320000171661377,98.779997253417974,75.560001373291016,2264.4,3432.6,48.380000686645509,46.4,54.859999656677246,66.019999313354489,79.519999313354489,79.7,87.260001373291018,89.960001373291021,83.480000686645511,69.439998626708984,56.659999656677243,47.659999656677243,67.573917838318707,59.99433318389724,60.428846991853362,64.289826087614216,70.570846770380825,77.634664205731454,83.639985522420204,87.021431174449361,86.897575242962674,83.300702685179829,77.16839376277089,70.099129298102767,63.935622014554227,1,1,1,0,0,0,0,0,0,0,1,1,0,0,0,1,1,1,1,1,1,1,0,0,1,1,1,1,0,0,0,0,0,0,1,1,0,0,1,1,1,1,1,1,1,1,1,0,0.85,0.85,0.85,0.85,0.7,0.7,0.7,0.7,0.7,0.7,0.85,0.85,1,null,275,90,"Hot-Humid","3A",null,null,"DALLAS LOVE FIELD","TX","",0,0]
["La Junta Municipal Ap, CO","Dallas Redbird Arpt, TX","Dallas Redbird Arpt","TX",659,-96.87,32.68,-6,28.220000171661376,98.960001373291021,74.83999862670899,1899,3029.4,49.640000343322754,55.4,62.060001373291016,67.819999313354487,74.3,79.519999313354489,84.919999313354495,87.619999313354498,80.060001373291016,66.380000686645502,55.4,45.679999828338623,67.46246582632196,60.415839378060411,60.820452376225624,64.520400999482845,70.551236621245877,77.340928998712045,83.119640181368055,86.381060046819712,86.275049247135527,82.829241130929077,76.941838685200025,70.147484085045605,64.217230561169856,1,1,1,0,0,0,0,0,0,0,1,1,0,0,0,1,1,1,1,1,1,1,0,0,1,1,1,1,0,0,0,0,0,0,1,1,0,0,1,1,1,1,1,1,1,1,1,0,0.85,0.85,0.85,0.85,0.7,0.7,0.7,0.7,0.7,0.7,0.85,0.85,1,null,275,90,"Hot-Humid","3A",null,null,"DALLAS REDBIRD ARPT","TX","",0,0]
["Lamar Municipal, CO","Danbury Municipal, CT","Danbury Municipal","CT",456,-73.48,41.37,-5,-0.58000068664550863,89.779997253417974,73.580000686645505,5860.8,561.6,25.339999914169312,23.179999828338623,39.740000343322755,50,53.419999313354495,68.360001373291013,72.860001373291013,67.819999313354487,60.440000343322751,52.7,45.679999828338623,37.220000171661376,49.878191931084409,45.883455965306226,44.483350089872403,46.053485340178625,50.184581766715944,55.799805423784441,61.435461731953318,65.622530026405769,67.269586431517212,65.947300313387842,62.000345925753962,56.457557754160597,50.763748952484832,1,1,1,1,1,0,0,0,1,1,1,1,0,0,0,0,0,1,1,1,0,0,0,0,1,1,1,1,1,1,0,0,1,1,1,1,0,0,0,0,1,1,1,1,1,0,0,0,0.85,0.85,0.85,0.85,0.85,0.85,0.7,0.7,0.85,0.85,0.85,0.85,1,null,153,212,"Cold","5A",null,null,"DANBURY MUNICIPAL","CT","",1,0]
["Leadville Lake Co, CO","Danville Faa Ap, VA","Danville Faa Ap","VA",577,-79.33,36.57,-5,22.1,91.039998626708993,74.3,3553.2000000000003,1681.2,36.320000171661377,44.779999828338624,49.280000686645508,61.519999313354496,66.560001373291016,72.139998626708987,78.260001373291018,78.619999313354498,75.019999313354489,59,45.140000343322754,43.7,59.266794557702049,54.245397921978949,53.759834861395319,56.273738173270623,61.131820218941854,67.067747047894329,72.534227856760225,76.106340181689419,76.852957897271907,74.579463590213834,69.878478587257689,63.975387073795744,58.408920822205715,1,1,1,1,0,0,0,0,0,1,1,1,0,0,0,0,1,1,1,1,1,0,0,0,1,1,1,1,1,0,0,0,0,1,1,1,0,0,0,1,1,1,1,1,1,1,0,0,0.85,0.85,0.85,0.85,0.85,0.7,0.7,0.7,0.7,0.85,0.85,0.85,1,null,214,151,"Mixed-Humid","4A",null,null,"DANVILLE FAA AP","VA","",0,0]
["Limon, CO","Dare Co Rgnl, NC","Dare Co Rgnl","NC",13,-75.7,35.92,-5,22.1,90.679997253417966,79.519999313354489,2941.2000000000003,1681.2,40.820000171661377,40.820000171661377,45.679999828338623,56.119999313354491,64.400000000000006,75.560001373291016,81.319999313354487,76.280000686645508,71.780000686645508,66.919999313354495,58.640000343322754,51.8,60.958301465805263,55.975718253378773,55.66761530066136,58.302603691629287,63.193833095776519,69.066329192785332,74.389335377066189,77.775328056677949,78.341696059953151,75.940806838842988,71.198489167652667,65.350901228705411,59.922306932345684,1,1,1,1,1,0,0,0,0,0,1,1,0,0,0,0,0,1,1,1,1,1,0,0,1,1,1,1,1,1,0,0,0,0,1,1,0,0,0,0,1,1,1,1,1,1,1,0,0.85,0.85,0.85,0.85,0.85,0.85,0.7,0.7,0.7,0.7,0.85,0.85,1,null,214,151,"Mixed-Humid","3A",null,null,"DARE CO RGNL","NC","",0,0]
["Montrose Co  Arpt, CO","Davis Monthan Afb, AZ","Davis Monthan Afb","AZ",2654,-110.88,32.17,-7,35.779999828338624,102.37999725341797,65.119999313354498,1155.6000000000001,3591,58.640000343322754,54.859999656677246,59.719999313354492,73.939998626708984,79.33999862670899,88.16000137329101,86.719999313354492,85.639998626708987,82.039998626708979,69.619999313354498,59.719999313354492,53.419999313354495,71.06295827107887,65.522615085897343,66.243714781120644,69.785017021590619,75.223426805209286,81.141338813444847,85.996158083566115,88.522401157786391,88.061563848225973,84.733770501339691,79.406461735841248,73.468282677770915,68.46711120872402,1,1,1,0,0,0,0,0,0,0,1,1,0,0,0,1,1,1,1,1,1,1,0,0,1,1,1,1,0,0,0,0,0,0,1,1,0,0,1,1,1,1,1,1,1,1,1,0,0.85,0.85,0.85,0.85,0.7,0.7,0.7,0.7,0.7,0.7,0.85,0.85,1,null,275,90,"Hot-Dry","2B",null,null,"DAVIS-MONTHAN AFB","AZ",false,0,0]
["Pueblo Memorial Ap, CO","Davison Aaf, VA","Davison Aaf","VA",89,-77.180000000000007,38.72,-5,17.959999656677248,93.2,75.2,4401,1344.6000000000001,34.880000042915341,36.679999828338623,41.179999828338623,53.6,64.939998626708984,75.019999313354489,79.16000137329101,72.860001373291013,69.080000686645505,57.380000686645509,44.6,41.540000343322752,56.016931686858612,51.389477521375333,50.584245133474198,52.759118678745509,57.347183851798462,63.152490761052285,68.661796698122487,72.439016169537297,73.499558711358432,71.566977566604933,67.145029792633736,61.386364221008336,55.792065776695594,1,1,1,1,1,0,0,0,0,1,1,1,0,0,0,0,0,1,1,1,1,0,0,0,1,1,1,1,1,1,0,0,0,1,1,1,0,0,0,0,1,1,1,1,1,1,0,0,0.85,0.85,0.85,0.85,0.85,0.85,0.7,0.7,0.7,0.85,0.85,0.85,1,null,184,181,"Mixed-Humid","4A",null,null,"FORT BELVOIR DAVISO","VA",false,0,0]
["Rifle Garfield Rgnl, CO","Dayton International Airport, OH","Dayton International Airport","OH",1000,-84.22,39.9,-5,6.7999999999999989,87.8,72.860001373291013,5754.6,968.4,24.620000171661378,26.960000085830689,42.440000343322751,51.8,63.319999313354494,70.33999862670899,75.019999313354489,72.680000686645513,63.680000686645506,51.259999656677245,41,30.919999957084656,51.3083286698877,46.714882436141131,45.396034963415687,47.182310419284931,51.608088578838519,57.519722161482875,63.376252772870636,67.651085457274959,69.229919198340099,67.701206650892999,63.463430298599221,57.621231853794498,51.697470372120449,1,1,1,1,1,0,0,0,1,1,1,1,0,0,0,0,0,1,1,1,0,0,0,0,1,1,1,1,1,1,0,0,1,1,1,1,0,0,0,0,1,1,1,1,1,0,0,0,0.85,0.85,0.85,0.85,0.85,0.85,0.7,0.7,0.85,0.85,0.85,0.85,1,null,153,212,"Cold","5A",null,null,"DAYTON INTERNATIONAL AIRPORT","OH","",0,0]
["Trinidad Las Animas County Ap, CO","Dayton Wright Patterson Afb, OH","Dayton Wright Patterson Afb","OH",820,-84.05,39.83,-5,8.6,89.239998626708982,73.580000686645505,5589,909,31.279999989271165,31.639999994635581,38.299999999999997,48.2,56.840000343322757,72.860001373291013,76.280000686645508,70.33999862670899,63.5,53.959999656677248,38.120000171661374,36.679999828338623,51.617534299337699,48.071263609274865,46.914456658080397,48.547571833498765,52.544912497990531,57.864510206471621,63.11972983874432,66.9407174122708,68.331473632810514,66.929476459277666,63.100178060384025,57.841744075075809,52.52486635654423,1,1,1,1,1,0,0,0,1,1,1,1,0,0,0,0,0,1,1,1,0,0,0,0,1,1,1,1,1,1,0,0,1,1,1,1,0,0,0,0,1,1,1,1,1,0,0,0,0.85,0.85,0.85,0.85,0.85,0.85,0.7,0.7,0.85,0.85,0.85,0.85,1,null,153,212,"Cold","5A",null,null,"WRIGHT PATERSON AFB","OH",false,0,0]
["Bridgeport Sikorsky Memorial, CT","Daytona Beach Intl Ap, FL","Daytona Beach Intl Ap","FL",30,-81.069999999999993,29.18,-5,38.839999914169312,90.860001373291013,76.819999313354487,720,2872.8,56.3,60.440000343322751,65.66000137329101,69.439998626708984,74.83999862670899,79.33999862670899,79.880000686645502,80.419999313354495,78.439998626708984,72.139998626708987,66.560001373291016,59.540000343322752,70.295616151470028,68.389896297687272,68.831280101577548,71.218358125772724,74.928901697280466,78.995700452979989,82.358680625932351,84.141229608964309,83.878698539737258,81.639520187171456,78.007370895646119,73.929026351112185,70.467569908294294,1,1,1,0,0,0,0,0,0,0,0,1,0,0,0,1,1,1,1,1,1,1,1,0,1,1,1,1,0,0,0,0,0,0,0,1,0,0,1,1,1,1,1,1,1,1,1,1,0.85,0.85,0.85,0.85,0.7,0.7,0.7,0.7,0.7,0.7,0.7,0.85,1,null,306,59,"Hot-Humid","2A",null,null,"DAYTONA BEACH INTL AP","FL","",1,0]
["Danbury Municipal, CT","Deadhorse, AK","Deadhorse","AK",75,-148.47999999999999,70.2,-9,-42.160001373291017,62.6,55.040000343322752,18070.2,0,-11.739998626708985,-23.619999313354494,-17.860001373291016,9.6800006866455064,29.119999957084655,41.9,42.8,40.1,34.880000042915341,23.720000171661376,10.399999999999999,-3.100000000000001,14.900493274257608,32,32,32,32,32,32,32,32,32,32,32,32,1,1,1,1,1,1,1,1,1,1,1,1,0,0,0,0,0,0,1,1,0,0,0,0,1,1,1,1,1,1,1,1,1,1,1,1,0,0,0,0,0,0,1,1,0,0,0,0,0.85,0.85,0.85,0.85,0.85,0.85,0.85,0.85,0.85,0.85,0.85,0.85,1,null,62,303,"Subarctic",8,null,null,"DEADHORSE","AK","",1,0]
["Groton New London Ap, CT","Decatur, IL","Decatur","IL",699,-88.87,39.83,-6,4.640000343322753,90.5,75.739998626708982,5349.6,1220.4000000000001,28.580000042915344,35.419999957084656,43.879999828338626,54.140000343322754,62.960001373291014,71.599999999999994,73.760001373291018,78.980000686645511,65.3,53.959999656677248,40.1,27.5,53.10734274217527,47.701323062138755,46.498675286042506,48.582670987834334,53.410084572496316,59.722576296491113,65.874697913517423,70.26280411703344,71.743067402329189,69.929634332544609,65.295204183168565,59.047812591366359,52.815938450759887,1,1,1,1,1,0,0,0,1,1,1,1,0,0,0,0,0,1,1,1,0,0,0,0,1,1,1,1,1,1,0,0,1,1,1,1,0,0,0,0,1,1,1,1,1,0,0,0,0.85,0.85,0.85,0.85,0.85,0.85,0.7,0.7,0.85,0.85,0.85,0.85,1,null,153,212,"Cold","5A",null,null,"DECATUR","IL","",1,0]
["Hartford Bradley Intl Ap, CT","Decorah, IA","Decorah","IA",1158,-91.73,43.28,-6,-0.58000068664550863,90.139998626708987,77.180000686645513,5936.4000000000005,1038.6000000000001,21.020000171661376,28.76000008583069,44.779999828338624,51.619999313354491,60.259999656677245,69.980000686645511,75.019999313354489,74.83999862670899,67.280000686645508,54.140000343322754,35.23999991416931,27.320000171661377,50.979890306551162,45.74163441406516,44.302682104315217,46.168239474170022,50.852020246067617,57.133124782566355,63.374286391476979,67.94865012022521,69.663837569833973,68.072758699724062,63.590152736657174,57.384480003955623,51.073344731709639,1,1,1,1,1,0,0,0,0,1,1,1,0,0,0,0,0,1,1,1,1,0,0,0,1,1,1,1,1,1,0,0,0,1,1,1,0,0,0,0,1,1,1,1,1,1,0,0,0.85,0.85,0.85,0.85,0.85,0.85,0.7,0.7,0.7,0.85,0.85,0.85,1,null,184,181,"Cold","6A",null,null,"DECORAH","IA","",1,0]
["Hartford Brainard Fd, CT","Deer Valley Phoenix, AZ","Deer Valley Phoenix","AZ",1476,-112.08,33.68,-7,39.02000017166138,107.77999725341797,69.980000686645511,1240.2,4377.6000000000004,55.219999313354492,54.319999313354494,56.3,73.939998626708984,81.860001373291013,90.139998626708987,92.120002746582031,91.939998626708984,88.7,74.66000137329101,60.980000686645511,54.5,72.981808288783242,66.014103764678111,67.038871657595834,71.176750029657057,77.349137116548135,83.947105104706651,89.250791960254617,91.877709972005022,91.143112478163175,87.238483635988985,81.181625125347026,74.551350456051111,69.075942896278704,1,1,1,0,0,0,0,0,0,0,1,1,0,0,0,1,1,1,1,1,1,1,0,0,1,1,1,1,0,0,0,0,0,0,1,1,0,0,1,1,1,1,1,1,1,1,1,0,0.85,0.85,0.85,0.85,0.7,0.7,0.7,0.7,0.7,0.7,0.85,0.85,1,null,275,90,"Hot-Dry","2B",null,null,"DEER VALLEY PHOENIX","AZ","",1,0]
["New Haven Tweed Airport, CT","Dekalb Peachtree, GA","Dekalb Peachtree","GA",1027,-84.3,33.869999999999997,-5,26.779999828338624,91.22000274658204,73.580000686645505,3249,1731.6000000000001,38.299999999999997,47.659999656677243,49.459999656677248,61.160001373291017,70.519999313354489,73.580000686645505,76.099999999999994,80.960001373291021,74.119999313354498,58.640000343322754,49.459999656677248,42.259999656677245,60.239780909394568,54.863580855497432,54.467539539394423,57.140114352112874,62.184657483093183,68.28623102648254,73.854365810101996,77.437641695046764,78.102022601953109,75.674327409016186,70.787372280190397,64.715017380062335,59.040115591171954,1,1,1,1,0,0,0,0,0,1,1,1,0,0,0,0,1,1,1,1,1,0,0,0,1,1,1,1,1,0,0,0,0,1,1,1,0,0,0,1,1,1,1,1,1,1,0,0,0.85,0.85,0.85,0.85,0.85,0.7,0.7,0.7,0.7,0.85,0.85,0.85,1,null,214,151,"Mixed-Humid","3A",null,null,"DEKALB PEACHTREE","GA","",1,0]
["Oxford AWOS, CT","Del Rio  Ut, TX","Del Rio  Ut","TX",1010,-100.91,29.38,-6,34.160000085830688,99.320002746582034,72.319999313354487,1290.6000000000001,3207.6,53.959999656677248,57.380000686645509,61.160001373291017,65.119999313354498,76.460001373291021,84.380000686645502,86.180000686645513,82.939998626708984,80.419999313354495,71.419999313354495,61.7,53.780000686645508,69.638739868059545,65.142947857355168,65.668930627194612,68.793697815076527,73.70273069935952,79.116414208268552,83.623588307818281,86.049388611305758,85.761492886912691,82.834945591809586,78.032596377923994,72.606251574296749,67.970371576497953,1,1,1,1,0,0,0,0,0,0,1,1,0,0,0,0,1,1,1,1,1,1,0,0,1,1,1,1,1,0,0,0,0,0,1,1,0,0,0,1,1,1,1,1,1,1,1,0,0.85,0.85,0.85,0.85,0.85,0.7,0.7,0.7,0.7,0.7,0.85,0.85,1,null,244,121,"Hot-Humid","2B",null,null,"DEL RIO INTERNATIONAL AP","TX",false,1,0]
["Dover Afb, DE","Del Rio Laughlin Afb, TX","Del Rio Laughlin Afb","TX",1073,-100.78,29.37,-6,33.619999957084659,101.66000137329102,72.860001373291013,950.4,4077,54.859999656677246,57.740000343322755,68.719999313354492,75.380000686645502,81.319999313354487,86.180000686645513,88.33999862670899,89.960001373291021,80.060001373291016,73.400000000000006,62.960001373291014,55.4,72.948274191764938,66.913412398527711,67.860997110019085,71.698651452979249,77.426031682872022,83.550207881174899,88.474819145388238,90.916189658938066,90.237938574809192,86.616862490245396,80.9968506891598,74.842845854508838,69.758984182529375,1,1,0,0,0,0,0,0,0,0,1,1,0,0,1,1,1,1,1,1,1,1,0,0,1,1,1,0,0,0,0,0,0,0,1,1,0,1,1,1,1,1,1,1,1,1,1,0,0.85,0.85,0.85,0.7,0.7,0.7,0.7,0.7,0.7,0.7,0.85,0.85,1,null,303,62,"Hot-Humid","2B",null,null,"LAUGHLIN AFB","TX",false,0,0]
["Wilmington New Castle Cnty Ap, DE","Delaware Co Johnson, IN","Delaware Co Johnson","IN",961,-85.4,40.229999999999997,-5,1.2199993133544915,91.579997253417972,75.380000686645502,5445,1083.6000000000001,26.23999991416931,33.259999978542325,33.440000021457671,53.059999656677249,65.480000686645511,69.260001373291018,73.219999313354492,73.219999313354492,68.539998626708979,54.859999656677246,44.959999656677248,32.9,52.454903958562305,48.239931997519065,47.092958612187367,48.907651374266095,53.210982650057474,58.881222826184135,64.440336419692557,68.439254803901122,69.835598276768181,68.265388393786679,64.137924558622487,58.529093826054208,52.900924361223694,1,1,1,1,1,0,0,0,0,1,1,1,0,0,0,0,0,1,1,1,1,0,0,0,1,1,1,1,1,1,0,0,0,1,1,1,0,0,0,0,1,1,1,1,1,1,0,0,0.85,0.85,0.85,0.85,0.85,0.85,0.7,0.7,0.7,0.85,0.85,0.85,1,null,184,181,"Cold","5A",null,null,"DELAWARE CO JOHNSON","IN","",0,0]
["Crestview Bob Sikes Ap, FL","Delta, UT","Delta","UT",4638,-112.58,39.33,-7,8.7800006866455078,96.439998626708984,57.380000686645509,5934.6,918,35.23999991416931,34.519999957084657,44.420000171661378,43.7,52.7,70.7,76.460001373291021,71.780000686645508,63.680000686645506,49.1,33.440000021457671,30.740000021457671,50.646027636234074,47.227155328286045,45.987023146203796,47.525324744679246,51.441078106124564,56.713581773293143,61.968476413596512,65.835992758661931,67.308003072917145,66.000805183585939,62.255140365051723,57.04737387470756,51.73499030237253,1,1,1,1,1,0,0,0,1,1,1,1,0,0,0,0,0,1,1,1,0,0,0,0,1,1,1,1,1,1,0,0,1,1,1,1,0,0,0,0,1,1,1,1,1,0,0,0,0.85,0.85,0.85,0.85,0.85,0.85,0.7,0.7,0.85,0.85,0.85,0.85,1,null,153,212,"Cold","5B",null,null,"DELTA","UT","",1,0]
["Daytona Beach Intl Ap, FL","Deming Muni, NM","Deming Muni","NM",4421,-107.72,32.25,-7,19.220000171661376,98.779997253417974,64.580000686645505,2795.4,2145.6,43.7,45.679999828338623,55.940000343322751,65.3,71.960001373291021,80.599999999999994,80.599999999999994,77.719999313354492,76.099999999999994,62.239998626708989,49.280000686645508,41.540000343322752,62.636000043268076,57.635467836243684,57.498241636760071,60.264243803985252,65.212473247648333,71.053097708734583,76.263668414714473,79.485969813749151,79.880059389012587,77.343211619608169,72.536694970638649,66.713402077321589,61.39126397195998,1,1,1,1,0,0,0,0,0,1,1,1,0,0,0,0,1,1,1,1,1,0,0,0,1,1,1,1,1,0,0,0,0,1,1,1,0,0,0,1,1,1,1,1,1,1,0,0,0.85,0.85,0.85,0.85,0.85,0.7,0.7,0.7,0.7,0.85,0.85,0.85,1,null,214,151,"Hot-Dry","3B",null,null,"DEMING MUNI","NM","",0,0]
["Fort Lauderdale Hollywood Int, FL","Denison, IA","Denison","IA",1273,-95.38,41.98,-6,-5.9800006866455089,91.579997253417972,78.980000686645511,6384.6,1137.6000000000001,25.879999828338622,22.1,38.660000085830688,51.980000686645511,57.740000343322755,69.8,76.639998626708987,72.319999313354487,70.7,55.580000686645505,34.160000085830688,22.459999656677248,49.988164323127435,44.977998463564838,43.449005477814957,45.188537479382731,49.743158645059935,55.925636779176045,62.124413681201709,66.723682625580324,68.52457328507974,67.057655756736324,62.705304700196152,56.602027490106472,50.338737385625947,1,1,1,1,1,0,0,0,0,1,1,1,0,0,0,0,0,1,1,1,1,0,0,0,1,1,1,1,1,1,0,0,0,1,1,1,0,0,0,0,1,1,1,1,1,1,0,0,0.85,0.85,0.85,0.85,0.85,0.85,0.7,0.7,0.7,0.85,0.85,0.85,1,null,184,181,"Cold","5A",null,null,"DENISON","IA","",0,0]
["Fort Lauderdale, FL","Denver Centennial  Golden   Nr, CO","Denver Centennial  Golden   Nr","CO",5999,-105.18,39.74,-7,4.0999999999999996,89.6,59.9,6008.4000000000005,595.80000000000007,33.980000042915343,29.660000085830688,37.76000008583069,47.119999313354491,55.580000686645505,65.83999862670899,69.439998626708984,70.7,62.6,48.919999313354495,36.679999828338623,35.23999991416931,49.583287381407331,47.402751447913175,46.230068049619405,47.495445407629063,50.869043413521581,55.471481758342129,60.10306396179142,63.556496747698155,64.93158964140558,63.86990348934593,60.648183148132389,56.106219672915572,51.427945837286586,1,1,1,1,1,1,0,0,1,1,1,1,0,0,0,0,0,0,1,1,0,0,0,0,1,1,1,1,1,1,1,0,1,1,1,1,0,0,0,0,0,1,1,1,1,0,0,0,0.85,0.85,0.85,0.85,0.85,0.85,0.85,0.7,0.85,0.85,0.85,0.85,1,null,122,243,"Cold","5B",null,null,"DENVER CENTENNIAL","CO",false,0,0]
["Fort Myers Page Field, FL","Denver Intl Ap, CO","Denver Intl Ap","CO",5412,-104.65,39.83,-7,6.7999999999999989,91.760001373291018,60.080000686645505,5632.2,952.2,33.440000021457671,31.81999999731779,42.97999982833862,42.440000343322751,59.9,73.580000686645505,72.139998626708987,72.680000686645513,66.560001373291016,50,37.220000171661376,34.519999957084657,51.562794657259772,48.718290388117268,47.641339778292384,49.150569276918105,52.85257495724705,57.782371989067066,62.654932805562403,66.200149341478465,67.493906273288161,66.198965919317473,62.65287443846379,57.779975222135477,52.850464544718484,1,1,1,1,1,0,0,0,0,1,1,1,0,0,0,0,0,1,1,1,1,0,0,0,1,1,1,1,1,1,0,0,0,1,1,1,0,0,0,0,1,1,1,1,1,1,0,0,0.85,0.85,0.85,0.85,0.85,0.85,0.7,0.7,0.7,0.85,0.85,0.85,1,null,184,181,"Cold","5B",null,null,"DENVER INTL AP","CO","",0,0]
["Gainesville Regional Ap, FL","Des Moines Intl Ap, IA","Des Moines Intl Ap","IA",958,-93.67,41.53,-6,-1.6600013732910164,90.139998626708987,75.019999313354489,6300,1213.2,21.2,22.640000343322754,39.559999656677249,51.440000343322751,64.039998626708979,73.219999313354492,77,73.760001373291018,66.739998626708982,49.640000343322754,39.559999656677249,25.339999914169312,50.491671082614218,45.050430522022552,43.524768316260278,45.379129142568473,50.130145275004566,56.539391143274273,62.936198042344543,67.653139676194471,69.46067251769017,67.887635276771562,63.344064351521709,57.014311522154401,50.548324408087979,1,1,1,1,1,0,0,0,0,1,1,1,0,0,0,0,0,1,1,1,1,0,0,0,1,1,1,1,1,1,0,0,0,1,1,1,0,0,0,0,1,1,1,1,1,1,0,0,0.85,0.85,0.85,0.85,0.85,0.85,0.7,0.7,0.7,0.85,0.85,0.85,1,null,184,181,"Cold","5A",null,null,"DES MOINES INTL AP","IA","",0,0]
["Homestead Afb, FL","Detroit City Airport, MI","Detroit City Airport","MI",623,-83,42.4,-5,8.7800006866455078,88.33999862670899,72.319999313354487,6073.2,966.6,24.259999656677245,25.339999914169312,36.5,46.940000343322751,59.540000343322752,71.239998626708982,75.739998626708982,74.119999313354498,62.6,52.880000686645509,44.240000343322755,30.019999957084657,50.424602556424595,45.890868113666322,44.478500978242188,46.180069314169131,50.552033112725994,56.454772635817413,62.349647862780095,66.700068722929188,68.37203097705202,66.929711897893228,62.749074180245366,56.919865470790697,50.961558850473985,1,1,1,1,1,0,0,0,1,1,1,1,0,0,0,0,0,1,1,1,0,0,0,0,1,1,1,1,1,1,0,0,1,1,1,1,0,0,0,0,1,1,1,1,1,0,0,0,0.85,0.85,0.85,0.85,0.85,0.85,0.7,0.7,0.85,0.85,0.85,0.85,1,null,153,212,"Cold","5A",null,null,"DETROIT CITY AIRPORT","MI","",0,0]
["Jacksonville Craig, FL","Detroit Lakes Awos, MN","Detroit Lakes Awos","MN",1397,-95.88,46.83,-6,-15.880000686645509,83.66000137329101,69.439998626708984,8436.6,525.6,11.299999999999999,17.240000343322752,25.160000085830688,43.879999828338626,56.659999656677243,62.060001373291016,71.239998626708982,68.719999313354492,62.960001373291014,37.939999914169313,33.259999978542325,21.020000171661376,42.741808265855866,39.318756275705184,37.198158855258207,38.086591546705705,41.752470677859684,47.24022836027742,53.119395985130964,57.85747791028669,60.219420065900096,59.589545830480169,56.13204163014489,50.748159216464202,44.841290508703409,1,1,1,1,1,1,0,0,1,1,1,1,0,0,0,0,0,0,1,1,0,0,0,0,1,1,1,1,1,1,1,0,1,1,1,1,0,0,0,0,0,1,1,1,1,0,0,0,0.85,0.85,0.85,0.85,0.85,0.85,0.85,0.7,0.85,0.85,0.85,0.85,1,null,122,243,"Very Cold",7,null,null,"DETROIT LAKESAWOS","MN",false,0,0]
["Jacksonville Intl Arpt, FL","Detroit Metropolitan Arpt, MI","Detroit Metropolitan Arpt","MI",636,-83.35,42.22,-5,6.6199993133544917,87.439998626708984,72.5,6420.6,743.4,24.079999828338622,24.259999656677245,36.5,44.959999656677248,60.440000343322751,68.539998626708979,73.039998626708979,71.239998626708982,63.139998626708987,50.9,38.47999982833862,28.939999914169313,48.855396739881336,45.319445469647739,43.874829886023782,45.29246826851513,49.20283132625665,54.586622667729223,60.040474113042073,64.142755236579575,65.824143245425958,64.646358444101878,60.916408591285666,55.606562596381004,50.100913645163445,1,1,1,1,1,0,0,0,1,1,1,1,0,0,0,0,0,1,1,1,0,0,0,0,1,1,1,1,1,1,0,0,1,1,1,1,0,0,0,0,1,1,1,1,1,0,0,0,0.85,0.85,0.85,0.85,0.85,0.85,0.7,0.7,0.85,0.85,0.85,0.85,1,null,153,212,"Cold","5A",null,null,"DETROIT METROPOLITAN ARPT","MI","",0,0]
["Jacksonville Nas, FL","Detroit Willow Run Ap, MI","Detroit Willow Run Ap","MI",715,-83.53,42.23,-5,6.0800006866455067,87.8,72.680000686645513,6309,885.6,23.179999828338623,30.380000042915345,30.2,49.640000343322754,60.8,72.319999313354487,75.560001373291016,68,66.560001373291016,53.240000343322755,38.660000085830688,25.160000085830688,49.551726260903763,45.121151279060015,43.622266529691281,45.232979297802281,49.533432478549777,55.402646678382382,61.310720768785096,65.717624191916769,67.474629658100696,66.123746616302199,62.017103549103886,56.225160257256285,50.25767601632738,1,1,1,1,1,0,0,0,0,1,1,1,0,0,0,0,0,1,1,1,1,0,0,0,1,1,1,1,1,1,0,0,0,1,1,1,0,0,0,0,1,1,1,1,1,1,0,0,0.85,0.85,0.85,0.85,0.85,0.85,0.7,0.7,0.7,0.85,0.85,0.85,1,null,184,181,"Cold","5A",null,null,"DETROIT WILLOW RUN AP","MI","",0,0]
["Key West Intl Arpt, FL","Devils Lake Awos, ND","Devils Lake Awos","ND",1453,-98.92,48.12,-6,-17.5,82.4,66.919999313354495,8983.8000000000011,1.8,5.3599996566772452,14.540000343322754,15.980000686645507,46.220000171661376,48.559999656677249,67.639998626708987,64.400000000000006,66.019999313354489,61.7,46.759999656677245,34.339999914169312,15.440000343322753,40.663671095077305,37.642372013167538,35.363887852860493,36.030866329568042,39.469449224886915,44.783316916985825,50.587327902739297,55.368577276193989,57.880758706875781,57.469033390989765,54.240723877000796,49.037338789485624,43.215220638096504,1,1,1,1,1,0,1,0,1,1,1,1,0,0,0,0,0,1,1,1,0,0,0,0,1,1,1,1,1,1,1,0,1,1,1,1,0,0,0,0,1,1,1,1,1,0,0,0,0.85,0.85,0.85,0.85,0.85,0.85,0.85,0.7,0.85,0.85,0.85,0.85,1,null,153,212,"Very Cold",7,null,null,"DEVILS LAKEAWOS","ND",false,0,0]
["Key West Nas, FL","Dickinson Municipal Ap, ND","Dickinson Municipal Ap","ND",2585,-102.8,46.8,-7,-12.639998626708985,89.779997253417974,65.66000137329101,8809.2000000000007,478.8,10.219999313354492,22.1,27.139999914169312,47.659999656677243,55.580000686645505,59.540000343322752,68.719999313354492,72.139998626708987,59,44.6,21.379999828338622,9.8599996566772461,41.595232651201016,38.23088207682423,35.982998993318503,36.7620235626773,40.364891025765232,45.852458456460191,51.794306837977643,56.641601823019798,59.130821274658587,58.613111782791457,55.223422304618339,49.845327639321113,43.880711040357006,1,1,1,1,1,1,0,0,1,1,1,1,0,0,0,0,0,0,1,1,0,0,0,0,1,1,1,1,1,1,1,0,1,1,1,1,0,0,0,0,0,1,1,1,1,0,0,0,0.85,0.85,0.85,0.85,0.85,0.85,0.85,0.7,0.85,0.85,0.85,0.85,1,null,122,243,"Cold","6A",null,null,"DICKINSON MUNICIPAL AP","ND","",0,0]
["Lakeland Linder Rgn, FL","Dillant Hopkins, NH","Dillant Hopkins","NH",502,-72.27,42.9,-5,-0.21999931335449299,84.560001373291016,69.080000686645505,6949.8,513,20.479999828338624,27.5,33.440000021457671,44.420000171661378,52.880000686645509,68.180000686645513,68.539998626708979,68.900000000000006,62.239998626708989,45.859999656677246,43.340000343322757,24.979999828338624,46.80241082998171,43.990364416527086,42.447356527910806,43.603553119346437,47.157573731747469,52.183008123376091,57.369899375766117,61.366204351568342,63.130224573916081,62.202140987479908,58.823872881265409,53.876017897844761,48.648310687399892,1,1,1,1,1,0,0,0,1,1,1,1,0,0,0,0,0,1,1,1,0,0,0,0,1,1,1,1,1,1,0,0,1,1,1,1,0,0,0,0,1,1,1,1,1,0,0,0,0.85,0.85,0.85,0.85,0.85,0.85,0.7,0.7,0.85,0.85,0.85,0.85,1,null,153,212,"Cold","5A",null,null,"DILLANT HOPKINS","NH","",0,0]
["Macdill Afb, FL","Dillingham  Amos, AK","Dillingham  Amos","AK",95,-158.52000000000001,59.05,-9,-13.539998626708986,66.2,56.3,10252.800000000001,1.8,25.520000171661376,31.459999978542328,29.3,32.360000005364419,38.839999914169312,51.980000686645511,53.240000343322755,52.7,42.259999656677245,28.220000171661376,28.580000042915344,21.379999828338622,36.332821984797306,38.509370090963607,37.304095935451102,37.409636719714861,38.798481611903817,41.108606788121271,43.737842521079578,46.000837999234044,47.307708577387771,47.31779829985976,46.028477125000357,43.775826486077406,41.14703448652331,1,1,1,1,1,1,1,1,1,1,1,1,0,0,0,0,0,0,1,1,0,0,0,0,1,1,1,1,1,1,1,1,1,1,1,1,0,0,0,0,0,0,1,1,0,0,0,0,0.85,0.85,0.85,0.85,0.85,0.85,0.85,0.85,0.85,0.85,0.85,0.85,1,null,62,303,"Subarctic",8,null,null,"DILLINGHAM MUNI","AK",false,0,0]
["Marathon Airport, FL","Dinwiddie Co, VA","Dinwiddie Co","VA",197,-77.52,37.18,-5,19.220000171661376,94.639998626708987,76.819999313354487,3447,1470.6000000000001,38.120000171661374,42.97999982833862,46.580000686645505,58.1,72.139998626708987,75.560001373291016,77.180000686645513,73.760001373291018,67.819999313354487,56.3,54.5,43.879999828338626,58.985205639355804,54.877306932350798,54.404745788151565,56.690144553990493,61.137778822490617,66.588304181448621,71.620957200913793,74.923899315831918,75.636167764070876,73.57209879820816,69.269723802461442,63.850523121077757,58.727094924070137,1,1,1,1,0,0,0,0,0,1,1,1,0,0,0,0,1,1,1,1,1,0,0,0,1,1,1,1,1,0,0,0,0,1,1,1,0,0,0,1,1,1,1,1,1,1,0,0,0.85,0.85,0.85,0.85,0.85,0.7,0.7,0.7,0.7,0.85,0.85,0.85,1,null,214,151,"Mixed-Humid","4A",null,null,"DINWIDDIE CO","VA","",0,0]
["Mayport Ns, FL","Dodge City Regional Ap, KS","Dodge City Regional Ap","KS",2575,-99.97,37.770000000000003,-6,8.0599996566772454,97.160001373291024,69.980000686645511,4995,1468.8,24.979999828338624,34.880000042915341,42.97999982833862,56.480000686645511,64.039998626708979,74.3,80.780000686645508,75.919999313354495,69.260001373291018,56.480000686645511,41.540000343322752,34.160000085830688,54.749534367208611,47.805600086913444,46.659665030194077,49.186471547626553,54.727368581174971,61.838035931236981,68.664968574318138,73.428621310782759,74.887274644760538,72.66070810622189,67.329310575865904,60.28279297930272,53.35793871819974,1,1,1,1,1,0,0,0,0,1,1,1,0,0,0,0,0,1,1,1,1,0,0,0,1,1,1,1,1,1,0,0,0,1,1,1,0,0,0,0,1,1,1,1,1,1,0,0,0.85,0.85,0.85,0.85,0.85,0.85,0.7,0.7,0.7,0.85,0.85,0.85,1,null,184,181,"Mixed-Humid","4A",null,null,"DODGE CITY REGIONAL AP","KS","",0,0]
["Miami Intl Ap, FL","Douglas Bisbee Douglas Intl A, AZ","Douglas Bisbee Douglas Intl A","AZ",4097,-109.6,31.47,-7,25.520000171661376,97.160001373291024,62.419999313354495,2264.4,2017.8,46.220000171661376,47.3,59.9,66.560001373291016,73.219999313354492,79.33999862670899,79.33999862670899,76.819999313354487,73.400000000000006,62.419999313354495,53.780000686645508,45.320000171661377,63.718465547431009,59.909592685227295,59.884465793459427,62.422722484087728,66.86272703498031,72.047123837405778,76.624519970838804,79.401746593290454,79.65487678726096,77.317928266837541,73.000062677335364,67.826798224981076,63.146626011699219,1,1,1,0,0,0,0,0,0,1,1,1,0,0,0,1,1,1,1,1,1,0,0,0,1,1,1,1,0,0,0,0,0,1,1,1,0,0,1,1,1,1,1,1,1,1,0,0,0.85,0.85,0.85,0.85,0.7,0.7,0.7,0.7,0.7,0.85,0.85,0.85,1,null,245,120,"Hot-Dry","3B",null,null,"DOUGLAS BISBEE-DOUGLAS INTL A","AZ",false,0,0]
["Miami Opa Locka, FL","Draughon Miller Cen, TX","Draughon Miller Cen","TX",699,-97.4,31.15,-6,28.220000171661376,97.520002746582037,74.119999313354498,2165.4,2721.6,46.220000171661376,55.040000343322752,53.959999656677248,66.019999313354489,74.480000686645511,79.880000686645502,82.939998626708984,82.039998626708979,77.900000000000006,66.739998626708982,54.680000686645506,50.540000343322752,65.91791761398315,60.836659172628693,61.028188851574122,64.05829414824143,69.137131421718209,74.940823469421233,79.956548521514975,82.876880548508495,82.94059000388711,80.131070036313972,75.18066532135029,69.379775135997221,64.240490901490716,1,1,1,0,0,0,0,0,0,0,1,1,0,0,0,1,1,1,1,1,1,1,0,0,1,1,1,1,0,0,0,0,0,0,1,1,0,0,1,1,1,1,1,1,1,1,1,0,0.85,0.85,0.85,0.85,0.7,0.7,0.7,0.7,0.7,0.7,0.85,0.85,1,null,275,90,"Hot-Humid","2A",null,null,"DRAUGHON MILLER CEN","TX","",0,0]
["Ocala Muni AWOS, FL","Duluth International Arpt, MN","Duluth International Arpt","MN",1420,-92.22,46.83,-6,-13.719999313354494,81.139998626708987,67.460001373291021,9370.8000000000011,185.4,8.6,17.240000343322752,27.320000171661377,39.200000000000003,54.319999313354494,61.160001373291017,64.039998626708979,63.5,55.219999313354492,42.8,23.9,12.019999313354491,39.226630001068116,37.661217559541733,35.59959518854658,36.047407798532355,38.887926131705058,43.380725310810689,48.354687993684259,52.513274155949617,54.772484228659678,54.543420290881485,51.885791387979062,47.492349448795025,42.508312819767397,1,1,1,1,1,1,1,1,1,1,1,1,0,0,0,0,0,0,1,1,0,0,0,0,1,1,1,1,1,1,1,1,1,1,1,1,0,0,0,0,0,0,1,1,0,0,0,0,0.85,0.85,0.85,0.85,0.85,0.85,0.85,0.85,0.85,0.85,0.85,0.85,1,null,62,303,"Very Cold",7,null,null,"DULUTH INTERNATIONAL ARPT","MN","",0,0]
["Panama City Bay Co, FL","Eagle County Ap, CO","Eagle County Ap","CO",6494,-106.92,39.65,-7,-2.2000000000000011,85.280000686645508,56.840000343322757,7873.2,135,16.880000686645506,25.339999914169312,34.339999914169312,44.240000343322755,52.159999656677243,62.419999313354495,66.919999313354495,63.680000686645506,54.859999656677246,44.420000171661378,32.720000010728839,19.759999656677245,43.231999945150662,41.217677886063001,39.464470855823862,40.25732080489729,43.389559175869735,48.04471976809284,53.009363235007427,56.98937874949052,58.947313933796465,58.372802809441403,55.415600554472903,50.846547508514703,45.856637759234573,1,1,1,1,1,1,0,1,1,1,1,1,0,0,0,0,0,0,1,1,0,0,0,0,1,1,1,1,1,1,1,1,1,1,1,1,0,0,0,0,0,1,1,1,0,0,0,0,0.85,0.85,0.85,0.85,0.85,0.85,0.85,0.85,0.85,0.85,0.85,0.85,1,null,92,273,"Cold","6B",null,null,"EAGLE COUNTY AP","CO","",1,0]
["Sarasota Bradenton, FL","El Dorado Goodwin Field, AR","El Dorado Goodwin Field","AR",253,-92.82,33.22,-6,25.339999914169312,95.539998626708993,77.180000686645513,2631.6,2525.4,42.440000343322751,43.879999828338626,60.259999656677245,64.219999313354492,74.83999862670899,78.8,79.880000686645502,86.719999313354492,78.619999313354498,59.9,55.580000686645505,42.8,64.102136800060535,57.230448588403917,57.242389721197803,60.60642210479844,66.445658857112079,73.238012933285972,79.212952570020633,82.81301767439426,83.09979579826927,79.998533804272981,74.317623423034505,67.537881490902606,61.426552221473173,1,1,1,1,0,0,0,0,0,1,1,1,0,0,0,0,1,1,1,1,1,0,0,0,1,1,1,1,1,0,0,0,0,1,1,1,0,0,0,1,1,1,1,1,1,1,0,0,0.85,0.85,0.85,0.85,0.85,0.7,0.7,0.7,0.7,0.85,0.85,0.85,1,null,214,151,"Hot-Humid","3A",null,null,"EL DORADO GOODWIN FIELD","AR","",0,0]
["Southwest Florida I, FL","El Paso International Ap  Ut, TX","El Paso International Ap  Ut","TX",3890,-106.5,31.77,-7,26.420000171661378,98.239998626708982,64.400000000000006,2358,2347.2000000000003,46.580000686645505,50.540000343322752,54.5,66.560001373291016,74.83999862670899,82.219999313354492,81.5,79.33999862670899,74.119999313354498,64.939998626708984,52.159999656677243,44.240000343322755,64.359068228839192,59.258778330818792,59.294939101746728,62.215135633042259,67.258173697232465,73.109507707317178,78.243897281781244,81.322984654702211,81.544158252155512,78.849765767576628,73.942142123916113,68.100535052663659,62.847649458831157,1,1,1,0,0,0,0,0,0,1,1,1,0,0,0,1,1,1,1,1,1,0,0,0,1,1,1,1,0,0,0,0,0,1,1,1,0,0,1,1,1,1,1,1,1,1,0,0,0.85,0.85,0.85,0.85,0.7,0.7,0.7,0.7,0.7,0.85,0.85,0.85,1,null,245,120,"Hot-Dry","3B",null,null,"EL PASO INTERNATIONAL AP","TX",false,0,0]
["St Petersburg Albert Whitted, FL","Elkins Elkins Randolph Co Arp, WV","Elkins Elkins Randolph Co Arp","WV",1948,-79.849999999999994,38.880000000000003,-5,6.7999999999999989,84.2,69.619999313354498,5875.2,403.2,25.339999914169312,32.720000010728839,42.259999656677245,48.559999656677249,59,64.939998626708984,68.900000000000006,68,60.440000343322751,46.940000343322751,42.259999656677245,32.540000021457672,49.409698484401183,46.774279102789137,45.519711952047928,46.84312220027045,50.399542571888247,55.261937290942242,60.162848242140228,63.824777460728562,65.29318666384475,64.185312363825759,60.789939069831306,55.992123155227347,51.042489274736688,1,1,1,1,1,1,0,0,1,1,1,1,0,0,0,0,0,0,1,1,0,0,0,0,1,1,1,1,1,1,1,0,1,1,1,1,0,0,0,0,0,1,1,1,1,0,0,0,0.85,0.85,0.85,0.85,0.85,0.85,0.85,0.7,0.85,0.85,0.85,0.85,1,null,122,243,"Cold","5A",null,null,"ELKINS ELKINS RANDOLPH CO ARP","WV","",0,0]
["Tampa International Ap, FL","Elmira Corning Regional Ap, NY","Elmira Corning Regional Ap","NY",954,-76.900000000000006,42.17,-5,3.380000686645507,86.539998626708979,70.33999862670899,6247.8,322.2,26.779999828338624,31.81999999731779,38.47999982833862,49.280000686645508,51.980000686645511,64.939998626708984,67.460001373291021,66.560001373291016,60.440000343322751,48.740000343322755,40.820000171661377,30.019999957084657,48.180767396917084,46.428930777471692,45.195292005329435,46.303855864371755,49.465658101253076,53.856526238082928,58.331912829670408,61.725239393123232,63.151983066932182,62.240241125733412,59.227673156868995,54.899551426501112,50.384067562024967,1,1,1,1,1,1,0,0,1,1,1,1,0,0,0,0,0,0,1,1,0,0,0,0,1,1,1,1,1,1,1,0,1,1,1,1,0,0,0,0,0,1,1,1,1,0,0,0,0.85,0.85,0.85,0.85,0.85,0.85,0.85,0.7,0.85,0.85,0.85,0.85,1,null,122,243,"Cold","5A",null,null,"ELMIRA CORNING REGIONAL AP","NY","",0,0]
["Vero Beach Municipal Arpt, FL","Emporia Municipal Ap, KS","Emporia Municipal Ap","KS",1207,-96.18,38.33,-6,-0.21999931335449299,96.979997253417977,75.2,5621.4000000000005,1521,26.960000085830689,31.279999989271165,39.02000017166138,57.380000686645509,66.739998626708982,74.480000686645511,79.16000137329101,76.280000686645508,70.7,50.719999313354492,42.620000171661374,21.2,53.133479600083341,46.282143209525444,44.930605202017084,47.281265279284391,52.721387667419343,59.832920631130904,66.762133511387361,71.702820188547108,73.367114541922064,71.321192600752738,66.09835544761637,59.060016072834813,52.040826098537806,1,1,1,1,0,0,0,0,0,1,1,1,0,0,0,0,1,1,1,1,1,0,0,0,1,1,1,1,1,0,0,0,0,1,1,1,0,0,0,1,1,1,1,1,1,1,0,0,0.85,0.85,0.85,0.85,0.85,0.7,0.7,0.7,0.7,0.85,0.85,0.85,1,null,214,151,"Mixed-Humid","4A",null,null,"EMPORIA MUNICIPAL AP","KS","",0,0]
["Albany Dougherty County Ap, GA","Erie International Ap, PA","Erie International Ap","PA",728,-80.180000000000007,42.08,-5,9.6800006866455064,84.019999313354489,71.599999999999994,6249.6,653.4,26.420000171661378,24.8,34.160000085830688,47.659999656677243,59.9,64.039998626708979,72.139998626708987,69.980000686645511,62.960001373291014,48.919999313354495,44.779999828338624,31.459999978542328,49.068438217248001,45.784893695944653,44.400746599236413,45.7972977168669,49.610514478521551,54.846423171826025,60.140203508075153,64.111950063001217,65.726365890595631,64.562628626494927,60.924084322321036,55.759175622621896,50.414215573626429,1,1,1,1,1,1,0,0,1,1,1,1,0,0,0,0,0,0,1,1,0,0,0,0,1,1,1,1,1,1,1,0,1,1,1,1,0,0,0,0,0,1,1,1,1,0,0,0,0.85,0.85,0.85,0.85,0.85,0.85,0.85,0.7,0.85,0.85,0.85,0.85,1,null,122,243,"Cold","5A",null,null,"ERIE INTERNATIONAL AP","PA","",0,0]
["Atlanta Hartsfield Intl Ap, GA","Eugene Mahlon Sweet Arpt  Uo, OR","Eugene Mahlon Sweet Arpt  Uo","OR",358,-123.07,44.05,-8,26.23999991416931,87.619999313354498,65.480000686645511,4710.6000000000004,268.2,41.9,40.640000343322754,45.859999656677246,49.819999313354494,56.119999313354491,60.440000343322751,66.380000686645502,67.460001373291021,61.519999313354496,52.880000686645509,42.97999982833862,39.740000343322755,52.222630239512824,52.236129221294135,51.549248925555119,52.601888309218168,55.119660695267577,58.446269911232633,61.714584000372255,64.072666529107522,64.905846947171824,63.996943938897829,61.582877080011471,58.292910099177874,54.98462358987716,1,1,1,1,1,1,0,0,1,1,1,1,0,0,0,0,0,0,1,1,0,0,0,0,1,1,1,1,1,1,1,0,1,1,1,1,0,0,0,0,0,1,1,1,1,0,0,0,0.85,0.85,0.85,0.85,0.85,0.85,0.85,0.7,0.85,0.85,0.85,0.85,1,null,122,243,"Marine","4C",null,null,"EUGENE MAHLON SWEET ARPT","OR",false,0,0]
["Brunswick Golden Is, GA","Evansville Regional Ap, IN","Evansville Regional Ap","IN",380,-87.53,38.049999999999997,-6,12.019999313354491,91.579997253417972,75.739998626708982,4311,1452.6000000000001,33.259999978542325,35.960000085830686,46.580000686645505,58.819999313354494,65.66000137329101,75.2,78.980000686645511,75.919999313354495,68,56.659999656677243,48.380000686645509,34.339999914169312,56.581589184362592,51.444934098460209,50.663600524409262,52.988874356339799,57.814637136404698,63.882979428724525,69.612094298820693,73.508599667470008,74.556811363368695,72.483496854549585,67.829097518480069,61.806854268571605,55.986557613490504,1,1,1,1,1,0,0,0,0,1,1,1,0,0,0,0,0,1,1,1,1,0,0,0,1,1,1,1,1,1,0,0,0,1,1,1,0,0,0,0,1,1,1,1,1,1,0,0,0.85,0.85,0.85,0.85,0.85,0.85,0.7,0.7,0.7,0.85,0.85,0.85,1,null,184,181,"Mixed-Humid","4A",null,null,"EVANSVILLE REGIONAL AP","IN","",0,0]
["Fort Benning Lawson, GA","Fairbanks Intl Arpt, AK","Fairbanks Intl Arpt","AK",436,-147.85,64.819999999999993,-9,-38.02000274658203,78.080000686645505,59.9,12817.800000000001,48.6,0.31999931335449139,4.2800006866455069,13.459999656677246,33.259999978542325,51.080000686645505,60.8,62.419999313354495,57.559999656677249,44.059999656677249,26.420000171661378,0.13999862670898358,-2.7399986267089851,29.402082116179269,32,32,32,32,32.492465992106148,36.696227410064708,40.562649913789372,43.083890894309945,43.602750036554148,41.983978709234613,38.649534604838443,34.468591964515568,1,1,1,1,1,1,1,1,1,1,1,1,0,0,0,0,0,0,1,1,0,0,0,0,1,1,1,1,1,1,1,1,1,1,1,1,0,0,0,0,0,0,1,1,0,0,0,0,0.85,0.85,0.85,0.85,0.85,0.85,0.85,0.85,0.85,0.85,0.85,0.85,1,null,62,303,"Subarctic",8,null,null,"FAIRBANKS/EIELSON A","AK",false,1,0]
["Macon Middle Ga Regional Ap, GA","Fallon Naas, NV","Fallon Naas","NV",3933,-118.72,39.42,-8,15.080000686645507,96.8,62.239998626708989,5049,1233,31.1,36.139999914169309,47.659999656677243,50,62.060001373291016,72.680000686645513,78.980000686645511,75.2,65.83999862670899,54.319999313354494,38.660000085830688,33.440000021457671,53.953095923743838,49.08812710589433,48.037741171839841,50.093276075044031,54.718924966235008,60.708941178516703,66.501934677213896,70.587872434159095,71.9016918067977,70.100925529082105,65.654971081947195,59.722735006270625,53.850546053702658,1,1,1,1,1,0,0,0,1,1,1,1,0,0,0,0,0,1,1,1,0,0,0,0,1,1,1,1,1,1,0,0,1,1,1,1,0,0,0,0,1,1,1,1,1,0,0,0,0.85,0.85,0.85,0.85,0.85,0.85,0.7,0.7,0.85,0.85,0.85,0.85,1,null,153,212,"Cold","5B",null,null,"FALLON NAAS","NV","",0,0]
["Marietta Dobbins Afb, GA","Falls City Brenner, NE","Falls City Brenner","NE",984,-95.6,40.08,-6,-6.8800006866455083,93.379997253417969,75.560001373291016,5652,1114.2,21.2,25.520000171661376,46.220000171661376,55.219999313354492,61.7,69.980000686645511,74.83999862670899,73.219999313354492,69.8,54.859999656677246,36.860000085830691,32.360000005364419,51.963725858543015,46.467254211750081,45.116582455727375,47.114716608121221,51.940812209930804,58.336873070160003,64.635667359308641,69.195317278551911,70.827279810106887,69.10615877081986,64.480590882859076,58.156301698380368,51.781814653564524,1,1,1,1,1,0,0,0,0,1,1,1,0,0,0,0,0,1,1,1,1,0,0,0,1,1,1,1,1,1,0,0,0,1,1,1,0,0,0,0,1,1,1,1,1,1,0,0,0.85,0.85,0.85,0.85,0.85,0.85,0.7,0.7,0.7,0.85,0.85,0.85,1,null,184,181,"Cold","5A",null,null,"FALLS CITY BRENNER","NE","",0,0]
["Savannah Intl Ap, GA","Farmington Four Corners Regl, NM","Farmington Four Corners Regl","NM",5494,-108.23,36.75,-7,12.380000686645507,92.3,59.719999313354492,5189.4000000000005,1126.8,32.720000010728839,35.23999991416931,40.640000343322754,55.940000343322751,64.219999313354492,73.039998626708979,77.719999313354492,74.66000137329101,63.139998626708987,51.8,37.939999914169313,31.279999989271165,53.295232694704239,48.950621423276857,47.880134962377745,49.785169637390396,54.169148802799782,59.88932072997801,65.454634455588376,69.41440519296998,70.736457677510117,69.076178555667923,64.866345166227305,59.204315457642245,53.565984727974424,1,1,1,1,1,0,0,0,1,1,1,1,0,0,0,0,0,1,1,1,0,0,0,0,1,1,1,1,1,1,0,0,1,1,1,1,0,0,0,0,1,1,1,1,1,0,0,0,0.85,0.85,0.85,0.85,0.85,0.85,0.7,0.7,0.85,0.85,0.85,0.85,1,null,153,212,"Cold","5B",null,null,"FARMINGTON FOUR CORNERS REGL","NM","",0,0]
["Hilo International Ap, HI","Fayetteville Pope Afb, NC","Fayetteville Pope Afb","NC",216,-79.02,35.17,-5,25.160000085830688,94.279997253417974,75.739998626708982,3276,1863,39.559999656677249,45.679999828338623,48.740000343322755,61.339998626708983,67.639998626708987,78.260001373291018,82.219999313354492,77,71.060001373291016,61.519999313354496,49.640000343322754,42.8,60.525808113829733,55.073060720050087,54.70524638058518,57.41864361726072,62.50596362562009,68.641118047510005,74.224884337273352,77.801767763040118,78.439398538442092,75.971568375683063,71.041555237100155,64.934443021067182,59.24214464014117,1,1,1,1,0,0,0,0,0,1,1,1,0,0,0,0,1,1,1,1,1,0,0,0,1,1,1,1,1,0,0,0,0,1,1,1,0,0,0,1,1,1,1,1,1,1,0,0,0.85,0.85,0.85,0.85,0.85,0.7,0.7,0.7,0.7,0.85,0.85,0.85,1,null,214,151,"Mixed-Humid","3A",null,null,"POPE AFB","NC",false,0,0]
["Kahului Airport, HI","Felts Fld, WA","Felts Fld","WA",2001,-117.32,47.68,-8,12.919999313354491,91.039998626708993,64.219999313354492,6075,567,33.259999978542325,35.060000085830687,35.779999828338624,49.1,52.7,63.5,70.880000686645502,71.599999999999994,61.880000686645509,46.940000343322751,38.120000171661374,32,49.308602887930938,47.483319352820402,46.337626025691158,47.530356064642859,50.750606004496476,55.158968072875425,59.606334761740897,62.933431407644861,64.272998997721146,63.27585859625492,60.201930215287099,55.852480657987186,51.361260978511964,1,1,1,1,1,1,0,0,1,1,1,1,0,0,0,0,0,0,1,1,0,0,0,0,1,1,1,1,1,1,1,0,1,1,1,1,0,0,0,0,0,1,1,1,1,0,0,0,0.85,0.85,0.85,0.85,0.85,0.85,0.85,0.7,0.85,0.85,0.85,0.85,1,null,122,243,"Cold","5B",null,null,"FELTS FLD","WA","",0,0]
["Kona Intl At Keahol, HI","Flagstaff Pulliam Arpt, AZ","Flagstaff Pulliam Arpt","AZ",6993,-111.67,35.130000000000003,-7,-1.6600013732910164,85.639998626708987,55.219999313354492,6822,180,29.119999957084655,29.119999957084655,35.6,43.159999656677243,51.619999313354491,64.039998626708979,67.639998626708987,63.319999313354494,57.559999656677249,46.4,36.139999914169309,29.839999914169312,46.224931082986807,45.352051432513093,44.101681538411576,44.968761821168336,47.727274442971193,51.658170578980972,55.736801574403614,58.900009406676006,60.32325520780811,59.635548026853144,57.016149338415481,53.147845776792046,49.038970277682338,1,1,1,1,1,1,0,1,1,1,1,1,0,0,0,0,0,0,1,1,0,0,0,0,1,1,1,1,1,1,1,1,1,1,1,1,0,0,0,0,0,1,1,1,0,0,0,0,0.85,0.85,0.85,0.85,0.85,0.85,0.85,0.85,0.85,0.85,0.85,0.85,1,null,92,273,"Cold","5B",null,null,"FLAGSTAFF PULLIAM ARPT","AZ","",1,0]
["Algona, IA","Flying Cloud, MN","Flying Cloud","MN",928,-93.45,44.82,-6,-4.0000000000000009,88.33999862670899,73.580000686645505,7693.2,1020.6,23.9,11.659999656677245,30.740000021457671,48.740000343322755,55.580000686645505,67.819999313354487,77.180000686645513,74.480000686645511,64.760001373291018,42.8,38.120000171661374,15.440000343322753,46.118904387950899,40.471417901689307,38.337707191185658,39.796277904696197,44.466931108489327,51.132189068051773,58.054649581489286,63.429866637628727,65.856707076185145,64.702577538105601,60.268319673165067,53.70979112784245,46.736573437460329,1,1,1,1,1,0,0,0,1,1,1,1,0,0,0,0,0,1,1,1,0,0,0,0,1,1,1,1,1,1,0,0,1,1,1,1,0,0,0,0,1,1,1,1,1,0,0,0,0.85,0.85,0.85,0.85,0.85,0.85,0.7,0.7,0.85,0.85,0.85,0.85,1,null,153,212,"Cold","6A",null,null,"FLYING CLOUD","MN","",0,0]
["Burlington Municipal Ap, IA","Fort Campbell Aaf, KY","Fort Campbell Aaf","KY",567,-87.48,36.67,-6,15.980000686645507,91.939998626708984,76.099999999999994,4249.8,1692,30.740000021457671,40.279999828338624,43.159999656677243,55.759999656677245,66.019999313354489,75.919999313354495,79.7,81.139998626708987,68.539998626708979,57.919999313354495,50.719999313354492,37.76000008583069,57.385424137082822,50.8522855548945,50.072126899023843,52.762284332373952,58.221526863361206,65.026818796809792,71.404255917543182,75.69146096076129,76.770907864119735,74.36122215747784,69.090525554652601,62.332706349063677,55.849294257794142,1,1,1,1,0,0,0,0,0,1,1,1,0,0,0,0,1,1,1,1,1,0,0,0,1,1,1,1,1,0,0,0,0,1,1,1,0,0,0,1,1,1,1,1,1,1,0,0,0.85,0.85,0.85,0.85,0.85,0.7,0.7,0.7,0.7,0.85,0.85,0.85,1,null,214,151,"Mixed-Humid","4A",null,null,"FORT CAMPBELL (AAF)","KY",false,0,0]
["Carroll, IA","Fort Collins AWOS, CO","Fort Collins AWOS","CO",5015,-105.02,40.450000000000003,-7,6.4400003433227528,90.860001373291013,60.259999656677245,6890.4000000000005,529.20000000000005,23.9,31.279999989271165,38.47999982833862,43.879999828338626,57.2,61.7,72.680000686645513,69.260001373291018,59.180000686645506,43.340000343322757,33.980000042915343,27.5,46.962192015386606,44.03636215589237,42.490155800474625,43.673647063436661,47.278340708934991,52.36461778825992,57.606661798783009,61.638053186817956,63.40794766145163,62.454994952971312,59.02759687028815,54.019157541456757,48.735203859923374,1,1,1,1,1,1,0,0,1,1,1,1,0,0,0,0,0,0,1,1,0,0,0,0,1,1,1,1,1,1,1,0,1,1,1,1,0,0,0,0,0,1,1,1,1,0,0,0,0.85,0.85,0.85,0.85,0.85,0.85,0.85,0.7,0.85,0.85,0.85,0.85,1,null,122,243,"Cold","5B",null,null,"FORT COLLINS AWOS","CO","",1,0]
["Charles City, IA","Fort Hood, TX","Fort Hood","TX",918,-97.72,31.13,-6,23.720000171661376,98.779997253417974,74.119999313354498,2143.8000000000002,3063.6,46.759999656677245,52.159999656677243,54.859999656677246,67.099999999999994,80.960001373291021,80.419999313354495,83.480000686645511,83.66000137329101,77.900000000000006,68.539998626708979,60.080000686645505,45.859999656677246,66.885479513194468,61.257476605572514,61.558671559323628,64.812373557645373,70.170455033609642,76.236249479971391,81.42861409756452,84.394079032052531,84.359650149063171,81.334301867512764,76.10663783901569,70.039329253340924,64.71391359340015,1,1,1,0,0,0,0,0,0,0,1,1,0,0,0,1,1,1,1,1,1,1,0,0,1,1,1,1,0,0,0,0,0,0,1,1,0,0,1,1,1,1,1,1,1,1,1,0,0.85,0.85,0.85,0.85,0.7,0.7,0.7,0.7,0.7,0.7,0.85,0.85,1,null,275,90,"Hot-Humid","2A",null,null,"FORT HOOD","TX","",0,0]
["Council Bluffs, IA","Fort Lauderdale, FL","Fort Lauderdale","FL",13,-80.17,26.2,-5,14.359999656677246,91.579997253417972,78.980000686645511,252,4240.8,66.739998626708982,66.739998626708982,73.760001373291018,73.760001373291018,79.7,80.060001373291016,84.019999313354489,79.880000686645502,80.419999313354495,77.360001373291013,73.760001373291018,67.280000686645508,75.341534598363594,75.189837832387326,75.800165694417288,77.854936756340564,80.818543275886285,83.918475543175944,86.346688441338245,87.470230858573728,86.996234149517207,85.048252860894664,82.134058334885893,79.013280283792113,76.499397599276449,1,0,0,0,0,0,0,0,0,0,0,0,1,1,1,1,1,1,1,1,1,1,1,1,1,0,0,0,0,0,0,0,0,0,0,0,1,1,1,1,1,1,1,1,1,1,1,1,0.85,0.7,0.7,0.7,0.7,0.7,0.7,0.7,0.7,0.7,0.7,0.7,1,null,365,0,"Hot-Humid","1A",null,null,"FORT LAUDERDALE","FL","",0,0]
["Denison, IA","Fort Polk Aaf, LA","Fort Polk Aaf","LA",335,-93.18,31.05,-6,30.2,93.560001373291016,76.099999999999994,2142,2430,48.740000343322755,53.780000686645508,54.680000686645506,67.639998626708987,74.3,78.260001373291018,80.239998626708982,78.260001373291018,74.66000137329101,67.819999313354487,60.619999313354491,42.8,65.187068631420402,60.054934311958654,60.174390068591137,63.164470203138819,68.245764250002182,74.093754610754743,79.184072477607003,82.189848054391078,82.327579616614457,79.561365310075999,74.612261522427787,68.770328423918286,63.558355903588158,1,1,1,0,0,0,0,0,0,0,1,1,0,0,0,1,1,1,1,1,1,1,0,0,1,1,1,1,0,0,0,0,0,0,1,1,0,0,1,1,1,1,1,1,1,1,1,0,0.85,0.85,0.85,0.85,0.7,0.7,0.7,0.7,0.7,0.7,0.85,0.85,1,null,275,90,"Hot-humid","3A",null,null,"FORT POLK (ARMY)","LA",false,0,0]
["Estherville Muni, IA","Fort Smith Regional Ap, AR","Fort Smith Regional Ap","AR",449,-94.37,35.33,-6,20.120000171661378,96.439998626708984,76.280000686645508,3596.4,2026.8,35.779999828338624,37.220000171661376,51.619999313354491,59.719999313354492,68.900000000000006,77.539998626708979,81.5,79.7,75.919999313354495,60.619999313354491,52.159999656677243,39.02000017166138,60.092328409691383,53.942442738146504,53.502530174652904,56.344342535785657,61.727117635961413,68.247752194244157,74.206542326997251,78.05023755838306,78.776919493204403,76.197167286642483,70.98343310652254,64.494757112968628,58.42251269722442,1,1,1,1,0,0,0,0,0,1,1,1,0,0,0,0,1,1,1,1,1,0,0,0,1,1,1,1,1,0,0,0,0,1,1,1,0,0,0,1,1,1,1,1,1,1,0,0,0.85,0.85,0.85,0.85,0.85,0.7,0.7,0.7,0.7,0.85,0.85,0.85,1,null,214,151,"Mixed-Humid","3A",null,null,"FORT SMITH REGIONAL AP","AR","",0,0]
["Fort Madison, IA","Fort Worth Meacham, TX","Fort Worth Meacham","TX",686,-97.37,32.82,-6,25.339999914169312,98.960001373291021,74.83999862670899,2698.2000000000003,2811.6,44.6,49.459999656677248,51.8,60.440000343322751,78.260001373291018,78.980000686645511,87.980000686645511,85.1,76.099999999999994,66.380000686645502,51.8,44.420000171661378,64.71019208699056,57.885308765541758,57.967813807611883,61.37181611419529,67.210010026817613,73.960580332862293,79.86388685262142,83.381141769012601,83.595518385539506,80.451136133460736,74.767626703177896,68.026484413225702,61.984891885627462,1,1,1,1,0,0,0,0,0,0,1,1,0,0,0,0,1,1,1,1,1,1,0,0,1,1,1,1,1,0,0,0,0,0,1,1,0,0,0,1,1,1,1,1,1,1,1,0,0.85,0.85,0.85,0.85,0.85,0.7,0.7,0.7,0.7,0.7,0.85,0.85,1,null,244,121,"Hot-Humid","3A",null,null,"FORT WORTH MEACHAM","TX","",0,0]
["Mason City Municipal Arpt, IA","Franklin Naas, VA","Franklin Naas","VA",39,-76.900000000000006,36.700000000000003,-5,19.040000343322752,96.979997253417977,77.719999313354492,2943,1656,41.359999656677246,45.5,53.6,58.819999313354494,66.739998626708982,73.939998626708984,78.619999313354498,77.900000000000006,72.860001373291013,63.139998626708987,51.8,45.140000343322754,60.871506501289261,56.787772761014935,56.496681610834884,58.909948449242883,63.398518085240184,68.79237567225222,73.6855291083628,76.802502544672748,77.330808820993241,75.132736764955183,70.781247731280615,65.410624395072659,60.420802492724796,1,1,1,1,0,0,0,0,0,1,1,1,0,0,0,0,1,1,1,1,1,0,0,0,1,1,1,1,1,0,0,0,0,1,1,1,0,0,0,1,1,1,1,1,1,1,0,0,0.85,0.85,0.85,0.85,0.85,0.7,0.7,0.7,0.7,0.85,0.85,0.85,1,null,214,151,"Mixed-Humid","4A",null,null,"FRANKLIN NAAS","VA","",0,0]
["Newton Muni, IA","Fresno Yosemite Intl Ap, CA","Fresno Yosemite Intl Ap","CA",335,-119.72,36.78,-8,33.619999957084659,101.12000274658203,69.980000686645511,2295,2228.4,46.759999656677245,50.719999313354492,55.219999313354492,62.419999313354495,71.060001373291016,78.260001373291018,83.480000686645511,80.780000686645508,75.380000686645502,67.639998626708987,52.340000343322757,45.679999828338623,64.222959007106411,59.206865598287543,59.229162465413779,62.117161820665196,67.118062126678268,72.928301652484222,78.033351927180306,81.102502925460911,81.335733142575648,78.672247528247112,73.806324653405809,68.006342301520391,62.784155253043416,1,1,1,1,0,0,0,0,0,0,1,1,0,0,0,0,1,1,1,1,1,1,0,0,1,1,1,1,1,0,0,0,0,0,1,1,0,0,0,1,1,1,1,1,1,1,1,0,0.85,0.85,0.85,0.85,0.85,0.7,0.7,0.7,0.7,0.7,0.85,0.85,1,null,244,121,"Hot-Dry","3B",null,null,"FRESNO YOSEMITE INTL AP","CA","",0,0]
["Oelwen, IA","Ft Lnrd Wd Aaf, MO","Ft Lnrd Wd Aaf","MO",1151,-92.15,37.75,-6,-1.3000000000000007,96.260001373291018,74.66000137329101,4523.4000000000005,1589.4,36.5,40.459999656677248,42.97999982833862,52.880000686645509,66.2,76.819999313354487,80.599999999999994,75.2,66.739998626708982,61.7,39.740000343322755,35.419999957084656,56.369534117359002,51.425115096369403,50.634266806337408,52.902396786866618,57.638282005591073,63.607440998049867,69.25392048533412,73.105878574200347,74.15924302831462,72.139438169874424,67.572957261367264,61.650123923196453,55.914815938580794,1,1,1,1,0,0,0,0,0,1,1,1,0,0,0,0,1,1,1,1,1,0,0,0,1,1,1,1,1,0,0,0,0,1,1,1,0,0,0,1,1,1,1,1,1,1,0,0,0.85,0.85,0.85,0.85,0.85,0.7,0.7,0.7,0.7,0.85,0.85,0.85,1,null,214,151,"Mixed-Humid","4A",null,null,"FT LNRD WD AAF","MO","",0,0]
["Ottumwa Industrial Ap, IA","Fulton Co Arpt Brow, GA","Fulton Co Arpt Brow","GA",863,-84.52,33.770000000000003,-5,24.979999828338624,91.4,74.3,2833.2000000000003,1620,44.240000343322755,48.2,55.580000686645505,63.86000137329102,68.900000000000006,74.119999313354498,74.66000137329101,79.33999862670899,74.66000137329101,58.459999656677248,49.459999656677248,40.820000171661377,61.081096104399798,56.605845650139521,56.3240192315928,58.846190671515693,63.514917116253883,69.113223070734037,74.181823815414688,77.399510456692994,77.927543385467672,75.628282681619851,71.101066080287453,65.525982355127411,60.356262993743492,1,1,1,1,0,0,0,0,0,1,1,1,0,0,0,0,1,1,1,1,1,0,0,0,1,1,1,1,1,0,0,0,0,1,1,1,0,0,0,1,1,1,1,1,1,1,0,0,0.85,0.85,0.85,0.85,0.85,0.7,0.7,0.7,0.7,0.85,0.85,0.85,1,null,214,151,"Mixed-Humid","3A",null,null,"FULTON CO ARPT BROW","GA","",0,0]
["Shenandoah Muni, IA","Gainesville Regional Ap, FL","Gainesville Regional Ap","FL",134,-82.28,29.7,-5,33.440000021457671,91.939998626708984,76.280000686645508,1256.4000000000001,2624.4,52.519999313354489,58.640000343322754,63.139998626708987,68.360001373291013,76.099999999999994,77.360001373291013,79.7,80.599999999999994,76.460001373291021,70.33999862670899,60.080000686645505,53.6,68.125260403776821,65.27927078011912,65.605316693443413,68.152217231172997,72.25608351922331,76.847179567120193,80.728765439047635,82.889045960438793,82.764910722462531,80.388717487879291,76.379857641529355,71.783302280764076,67.797214395429208,1,1,1,0,0,0,0,0,0,0,1,1,0,0,0,1,1,1,1,1,1,1,0,0,1,1,1,1,0,0,0,0,0,0,1,1,0,0,1,1,1,1,1,1,1,1,1,0,0.85,0.85,0.85,0.85,0.7,0.7,0.7,0.7,0.7,0.7,0.85,0.85,1,null,275,90,"Hot-Humid","2A",null,null,"GAINESVILLE REGIONAL AP","FL","",0,0]
["Washington, IA","Garden City Municipal Ap, KS","Garden City Municipal Ap","KS",2880,-100.72,37.93,-6,6.2599996566772456,96.620002746582031,69.080000686645505,5203.8,1254.6000000000001,31.639999994635581,33.799999999999997,37.76000008583069,55.940000343322751,60.8,77,77.180000686645513,72.139998626708987,65.66000137329101,54.5,40.279999828338624,34.880000042915341,53.558082270924359,49.338112088646653,48.308404230022674,50.211098315545968,54.550227810421489,60.19473174380034,65.673283181008713,69.557813262905,70.835759361222387,69.174005131688901,65.005712422640315,59.417410964025166,53.865777649363736,1,1,1,1,1,0,0,0,1,1,1,1,0,0,0,0,0,1,1,1,0,0,0,0,1,1,1,1,1,1,0,0,1,1,1,1,0,0,0,0,1,1,1,1,1,0,0,0,0.85,0.85,0.85,0.85,0.85,0.85,0.7,0.7,0.85,0.85,0.85,0.85,1,null,153,212,"Mixed-Humid","4A",null,null,"GARDEN CITY MUNICIPAL AP","KS","",0,0]
["Boise Air Terminal  Uo, ID","Glasgow Intl Arpt, MT","Glasgow Intl Arpt","MT",2293,-106.62,48.22,-7,-16.780000686645508,91.4,63.86000137329102,7990.2,595.80000000000007,8.4199993133544915,22.1,33.259999978542325,44.779999828338624,58.819999313354494,65.119999313354498,71.960001373291021,69.980000686645511,57.740000343322755,44.779999828338624,33.080000042915344,18.320000171661377,44.142849332763724,39.615982385753796,37.433991746861345,38.564760687158056,42.713536856678758,48.798877812261821,55.234545655891758,60.342984387482907,62.79260072822224,61.944864429165563,58.020751020673821,52.043141135088497,45.570190906844097,1,1,1,1,1,1,0,0,1,1,1,1,0,0,0,0,0,0,1,1,0,0,0,0,1,1,1,1,1,1,1,0,1,1,1,1,0,0,0,0,0,1,1,1,1,0,0,0,0.85,0.85,0.85,0.85,0.85,0.85,0.85,0.7,0.85,0.85,0.85,0.85,1,null,122,243,"Cold","6B",null,null,"GLASGOW INTL ARPT","MT","",0,0]
["Coeur D Alene Awos, ID","Glenwood  Asos, MN","Glenwood  Asos","MN",1394,-95.32,45.65,-6,-10.839998626708985,86.360001373291013,72.680000686645513,8172,588.6,11.299999999999999,22.279999828338624,27.320000171661377,49.819999313354494,54.859999656677246,63.319999313354494,72.680000686645513,68.180000686645513,64.219999313354492,38.120000171661374,28.220000171661376,22.1,43.62356159210205,39.647842092016226,37.515102994169318,38.538620226868808,42.451598250533586,48.234059042478791,54.378715086865746,59.283867093709055,61.670911601744464,60.91762867448319,57.220373115357177,51.54289156228544,45.365107074715269,1,1,1,1,1,1,0,0,1,1,1,1,0,0,0,0,0,0,1,1,0,0,0,0,1,1,1,1,1,1,1,0,1,1,1,1,0,0,0,0,0,1,1,1,1,0,0,0,0.85,0.85,0.85,0.85,0.85,0.85,0.85,0.7,0.85,0.85,0.85,0.85,1,null,122,243,"Cold","6A",null,null,"GLENWOOD (ASOS)","MN",false,1,0]
["Idaho Falls Fanning Field, ID","Goldsboro Seymour Johnson Afb, NC","Goldsboro Seymour Johnson Afb","NC",108,-77.97,35.35,-5,26.23999991416931,93.560001373291016,76.099999999999994,3427.2000000000003,1740.6000000000001,40.1,44.959999656677248,48.2,61.519999313354496,70.16000137329101,76.819999313354487,80.780000686645508,76.099999999999994,70.33999862670899,61.160001373291017,48.559999656677249,37.579999828338622,59.760438352872249,54.370334204362699,53.922093260158611,56.559699398790464,61.595619933482894,67.717164570983769,73.328658365670108,76.96737898421992,77.684837823026143,75.294018179378526,70.418124037039775,64.32813234401371,58.611493284700344,1,1,1,1,0,0,0,0,0,1,1,1,0,0,0,0,1,1,1,1,1,0,0,0,1,1,1,1,1,0,0,0,0,1,1,1,0,0,0,1,1,1,1,1,1,1,0,0,0.85,0.85,0.85,0.85,0.85,0.7,0.7,0.7,0.7,0.85,0.85,0.85,1,null,214,151,"Mixed-Humid","3A",null,null,"SEYMOUR JOHNSON AFB","NC",false,0,0]
["Mountain Home Afb, ID","Grand Forks International Ap, ND","Grand Forks International Ap","ND",840,-97.18,47.95,-6,-17.139998626708987,86.539998626708979,69.439998626708984,9232.2000000000007,540,8.9599996566772457,4.9999999999999991,26.420000171661378,48.019999313354489,58.819999313354494,66.919999313354495,69.439998626708984,70.16000137329101,59.359999656677246,42.259999656677245,23.720000171661376,5.7199993133544913,40.591177794835339,37.18049330513692,34.794371922676042,35.483269785074832,39.067615048261651,44.613092882954341,50.674189033140031,55.670985382953816,58.30098996085411,57.878651544013856,54.514059149214468,49.084245634098693,43.004575567340581,1,1,1,1,1,0,0,0,1,1,1,1,0,0,0,0,0,1,1,1,0,0,0,0,1,1,1,1,1,1,0,0,1,1,1,1,0,0,0,0,1,1,1,1,1,0,0,0,0.85,0.85,0.85,0.85,0.85,0.85,0.7,0.7,0.85,0.85,0.85,0.85,1,null,153,212,"Very Cold",7,null,null,"GRAND FORKS INTERNATIONAL AP","ND","",0,0]
["Pocatello Regional Ap, ID","Grand Island Central Ne Regio, NE","Grand Island Central Ne Regio","NE",1840,-98.32,40.97,-6,-3.9998626708985165E-2,93.020002746582037,73.039998626708979,6552,1089,17.419999313354491,23.9,38.120000171661374,52.159999656677243,60.8,73.039998626708979,75.919999313354495,73.400000000000006,65.119999313354498,51.440000343322751,34.339999914169312,25.879999828338622,49.428438064104888,43.824409676958609,42.140981095950657,43.921132939602195,48.700841196895148,55.234201253032275,61.818192127255344,66.7365951358275,68.707352739679749,67.216756599074046,62.653353568841091,56.206664972980498,49.557119540481807,1,1,1,1,1,0,0,0,1,1,1,1,0,0,0,0,0,1,1,1,0,0,0,0,1,1,1,1,1,1,0,0,1,1,1,1,0,0,0,0,1,1,1,1,1,0,0,0,0.85,0.85,0.85,0.85,0.85,0.85,0.7,0.7,0.85,0.85,0.85,0.85,1,null,153,212,"Cold","5A",null,null,"GRAND ISLAND CENTRAL NE REGIO","NE","",0,0]
["Aurora Municipal, IL","Grand Rapids Kent County Int, MI","Grand Rapids Kent County Int","MI",794,-85.52,42.88,-5,6.0800006866455067,86.360001373291013,71.780000686645508,6669,640.80000000000007,21.740000343322755,23.540000343322752,34.339999914169312,48.2,60.080000686645505,68,72.5,68.900000000000006,61.880000686645509,47.659999656677243,40.1,26.420000171661378,47.90509603879223,44.319653274454268,42.763960730558594,44.112376794846142,48.013416040439793,53.450212471141086,59.005581313718615,63.231430068529271,65.0262261353311,63.922128260667606,60.206936570233097,54.849073030976314,49.245147341580974,1,1,1,1,1,0,0,0,1,1,1,1,0,0,0,0,0,1,1,1,0,0,0,0,1,1,1,1,1,1,0,0,1,1,1,1,0,0,0,0,1,1,1,1,1,0,0,0,0.85,0.85,0.85,0.85,0.85,0.85,0.7,0.7,0.85,0.85,0.85,0.85,1,null,153,212,"Cold","5A",null,null,"GRAND RAPIDS KENT COUNTY INT'","MI",false,1,0]
["Central Illinois Rg, IL","Great Falls Intl Arpt, MT","Great Falls Intl Arpt","MT",3664,-111.38,47.47,-7,-11.200000000000001,88.7,60.259999656677245,7599.6,419.40000000000003,16.159999656677247,28.039999914169311,32.540000021457672,44.059999656677249,50.180000686645506,61.7,69.080000686645505,66.560001373291016,58.459999656677248,47.480000686645511,37.039999914169314,24.620000171661378,44.734630345743,41.776460168054513,39.985270497198691,40.996067123515473,44.545370329507868,49.707999538115907,55.138235887591591,59.420604590968885,61.438840252413179,60.666858644816031,57.30588867079431,52.232018948191879,46.767831810904291,1,1,1,1,1,1,0,0,1,1,1,1,0,0,0,0,0,0,1,1,0,0,0,0,1,1,1,1,1,1,1,0,1,1,1,1,0,0,0,0,0,1,1,1,1,0,0,0,0.85,0.85,0.85,0.85,0.85,0.85,0.85,0.7,0.85,0.85,0.85,0.85,1,null,122,243,"Cold","6B",null,null,"GREAT FALLS INTL ARPT","MT","",0,0]
["Decatur, IL","Greenville Downtown Ap, SC","Greenville Downtown Ap","SC",1046,-82.35,34.85,-5,10.040000343322752,93.2,74.119999313354498,3538.8,1423.8,37.220000171661376,41.179999828338623,47.480000686645511,57.919999313354495,65.3,74.83999862670899,79.880000686645502,75.380000686645502,69.619999313354498,59.359999656677246,53.959999656677248,40.279999828338624,58.616821796469495,53.676438653964276,53.126225882304709,55.571214011115259,60.374079206213878,66.282880640105049,71.757398161658671,75.370614414013076,76.180688899644167,73.976463220246529,69.332502767301051,63.45932739846485,57.887870781997165,1,1,1,1,1,0,0,0,0,1,1,1,0,0,0,0,0,1,1,1,1,0,0,0,1,1,1,1,1,1,0,0,0,1,1,1,0,0,0,0,1,1,1,1,1,1,0,0,0.85,0.85,0.85,0.85,0.85,0.85,0.7,0.7,0.7,0.85,0.85,0.85,1,null,184,181,"Mixed-Humid","3A",null,null,"GREENVILLE DOWNTOWN AP","SC","",0,0]
["Moline Quad City Intl Ap, IL","Greenville Municipal, MS","Greenville Municipal","MS",138,-90.98,33.479999999999997,-6,25.7,98.779997253417974,77.719999313354492,2341.8000000000002,2514.6,46.580000686645505,52.880000686645509,56.480000686645511,65.3,74.3,78.980000686645511,83.119999313354498,82.219999313354492,75.019999313354489,65.119999313354498,50.180000686645506,47.480000686645511,64.874904218699839,60.080022714008521,60.165513027459468,63.042571191621093,67.961247659196289,73.63941360981282,78.596967585256465,81.541646743608524,81.7058750833651,79.04684395693333,74.25767080432766,68.586727411167047,63.512232564761824,1,1,1,1,0,0,0,0,0,1,1,1,0,0,0,0,1,1,1,1,1,0,0,0,1,1,1,1,1,0,0,0,0,1,1,1,0,0,0,1,1,1,1,1,1,1,0,0,0.85,0.85,0.85,0.85,0.85,0.7,0.7,0.7,0.7,0.85,0.85,0.85,1,null,214,151,"Mixed-Humid","3A",null,null,"GREENVILLE MUNICIPAL","MS","",0,0]
["Rockford Greater Rockford Ap, IL","Groton New London Ap, CT","Groton New London Ap","CT",10,-72.05,41.33,-5,8.7800006866455078,83.3,73.580000686645505,5419.8,462.6,28.4,34.519999957084657,40.640000343322754,46.220000171661376,56.840000343322757,64.939998626708984,66.560001373291016,70.519999313354489,63.86000137329102,54.680000686645506,43.879999828338626,37.579999828338622,50.809260431054518,48.088719161670205,46.956008231102729,48.391699329665343,52.021557447848167,56.89940412934002,61.75375346671732,65.319244497404966,66.666477038374239,65.444274166339611,61.971221894613286,57.152624819176303,52.244524524569982,1,1,1,1,1,1,0,0,1,1,1,1,0,0,0,0,0,0,1,1,0,0,0,0,1,1,1,1,1,1,1,0,1,1,1,1,0,0,0,0,0,1,1,1,1,0,0,0,0.85,0.85,0.85,0.85,0.85,0.85,0.85,0.7,0.85,0.85,0.85,0.85,1,null,122,243,"Cold","5A",null,null,"GROTON NEW LONDON AP","CT","",0,0]
["Sterling Rockfalls, IL","Gunnison Co  AWOS, CO","Gunnison Co  AWOS","CO",7672,-106.93,38.53,-7,-11.019999313354493,80.780000686645508,52.340000343322757,9095.4,21.6,15.619999313354493,21.920000171661378,35.060000085830687,39.559999656677249,50,59.180000686645506,62.060001373291016,59.9,50.359999656677246,41.540000343322752,27.5,10.759999656677246,39.547671311652827,38.451667016361327,36.550057399581753,36.993814506411013,39.667266208450044,43.873536120424561,48.516195169196955,52.385062728163099,54.471658847024671,54.232080091980869,51.728776357554231,47.614272339201328,42.961076915732072,1,1,1,1,1,1,1,1,1,1,1,1,0,0,0,0,0,0,1,1,0,0,0,0,1,1,1,1,1,1,1,1,1,1,1,1,0,0,0,0,0,0,1,1,0,0,0,0,0.85,0.85,0.85,0.85,0.85,0.85,0.85,0.85,0.85,0.85,0.85,0.85,1,null,62,303,"Very Cold",7,null,null,"GUNNISON CO. AWOS","CO",false,0,0]
["Delaware Co Johnson, IN","Hailey Friedman Mem, ID","Hailey Friedman Mem","ID",5314,-114.3,43.5,-7,-0.21999931335449299,97.879997253417969,55.580000686645505,7216.2,738,30.740000021457671,32.720000010728839,37.220000171661376,37.039999914169314,52.880000686645509,62.6,76.099999999999994,72.139998626708987,58.459999656677248,44.779999828338624,33.080000042915344,21.2,46.68060265230806,42.730626392150064,40.974108566413832,42.269068826700533,46.277955825224765,51.955791387002506,57.822560174761854,62.348998494329614,64.355220443184507,63.318273353541436,59.508453464154208,53.918849040293281,48.006476613449564,1,1,1,1,1,1,0,0,1,1,1,1,0,0,0,0,0,0,1,1,0,0,0,0,1,1,1,1,1,1,1,0,1,1,1,1,0,0,0,0,0,1,1,1,1,0,0,0,0.85,0.85,0.85,0.85,0.85,0.85,0.85,0.7,0.85,0.85,0.85,0.85,1,null,122,243,"Cold","6B",null,null,"HAILEY FRIEDMAN MEM","ID","",0,0]
["Evansville Regional Ap, IN","Hallock, MN","Hallock","MN",820,-96.95,48.78,-6,-19.839998626708987,84.560001373291016,68.900000000000006,9127.8000000000011,538.20000000000005,5.8999999999999995,5.1800006866455073,24.440000343322755,49.459999656677248,56.659999656677243,66.739998626708982,68.539998626708979,70.7,56.659999656677243,44.240000343322755,21.2,18.140000343322754,40.860438181210874,37.293882082291219,34.903228814057279,35.629406433545959,39.283125553501684,44.911987979791995,51.048743977608638,56.093753525848157,58.731957139811435,58.27566639157061,54.84382049630792,49.330982972969693,43.17415987741186,1,1,1,1,1,0,0,0,1,1,1,1,0,0,0,0,0,1,1,1,0,0,0,0,1,1,1,1,1,1,0,0,1,1,1,1,0,0,0,0,1,1,1,1,1,0,0,0,0.85,0.85,0.85,0.85,0.85,0.85,0.7,0.7,0.85,0.85,0.85,0.85,1,null,153,212,"Very Cold",7,null,null,"HALLOCK","MN","",1,0]
["Huntingburg, IN","Hanksville, UT","Hanksville","UT",4307,-110.72,38.369999999999997,-7,6.6199993133544917,107.77999725341797,62.239998626708989,5207.4000000000005,1621.8,34.160000085830688,33.259999978542325,47.119999313354491,49.640000343322754,62.780000686645508,76.099999999999994,85.819999313354487,77.900000000000006,67.280000686645508,49.640000343322754,37.4,32.180000002682206,54.579397321641444,48.194384898631419,47.076484698725864,49.478326760165487,54.773833936129492,61.582650674967084,68.129953966658192,72.709088311225671,74.12643177516172,72.012531942667479,66.918409381265079,60.171925639388959,53.531655670820662,1,1,1,1,1,0,0,0,0,1,1,1,0,0,0,0,0,1,1,1,1,0,0,0,1,1,1,1,1,1,0,0,0,1,1,1,0,0,0,0,1,1,1,1,1,1,0,0,0.85,0.85,0.85,0.85,0.85,0.85,0.7,0.7,0.7,0.85,0.85,0.85,1,null,184,181,"Cold","5B",null,null,"HANKSVILLE","UT","",0,0]
["Monroe Co, IN","Harrison Faa Ap, AR","Harrison Faa Ap","AR",1374,-93.15,36.270000000000003,-6,15.799999999999999,91.4,73.939998626708984,3709.8,1625.4,38.299999999999997,36.5,51.259999656677245,58.280000686645508,65.83999862670899,71.780000686645508,78.8,78.980000686645511,76.099999999999994,55.4,50.719999313354492,40.640000343322754,58.669095888529739,53.760862754238708,53.217757606379365,55.659620252227164,60.44994156289944,66.340050467683525,71.79459931122166,75.391775880303555,76.193920668029122,73.99194227405232,69.35982030027742,63.504988722329216,57.953599616685636,1,1,1,1,1,0,0,0,0,1,1,1,0,0,0,0,0,1,1,1,1,0,0,0,1,1,1,1,1,1,0,0,0,1,1,1,0,0,0,0,1,1,1,1,1,1,0,0,0.85,0.85,0.85,0.85,0.85,0.85,0.7,0.7,0.7,0.85,0.85,0.85,1,null,184,181,"Mixed-Humid","4A",null,null,"HARRISON FAA AP","AR","",0,0]
["Chanute Martin Johnson Ap, KS","Hartford Brainard Fd, CT","Hartford Brainard Fd","CT",20,-72.650000000000006,41.73,-5,10.580000686645507,87.8,72.680000686645513,5326.2,673.2,25.879999828338622,30.2,40.820000171661377,50.719999313354492,60.080000686645505,68.719999313354492,70.33999862670899,69.619999313354498,64.400000000000006,52.7,47.480000686645511,37.4,51.63627379953045,{"$f":"MAX($Z387+6+(0.4+0.01*($Z387-44))*(MAX($N387:$Y387)-MIN($N387:$Y387))/2*SIN((0.986*((1*30-15)-15-(35-1*($Z387-44)))-90)*PI()/180),32)","v":48.199297147271722},{"$f":"MAX($Z387+6+(0.4+0.01*($Z387-44))*(MAX($N387:$Y387)-MIN($N387:$Y387))/2*SIN((0.986*((2*30-15)-15-(35-1*($Z387-44)))-90)*PI()/180),32)","v":47.05762630080639},{"$f":"MAX($Z387+6+(0.4+0.01*($Z387-44))*(MAX($N387:$Y387)-MIN($N387:$Y387))/2*SIN((0.986*((3*30-15)-15-(35-1*($Z387-44)))-90)*PI()/180),32)","v":48.673442946776071},{"$f":"MAX($Z387+6+(0.4+0.01*($Z387-44))*(MAX($N387:$Y387)-MIN($N387:$Y387))/2*SIN((0.986*((4*30-15)-15-(35-1*($Z387-44)))-90)*PI()/180),32)","v":52.625559575920519},{"$f":"MAX($Z387+6+(0.4+0.01*($Z387-44))*(MAX($N387:$Y387)-MIN($N387:$Y387))/2*SIN((0.986*((5*30-15)-15-(35-1*($Z387-44)))-90)*PI()/180),32)","v":57.883796084892431},{"$f":"MAX($Z387+6+(0.4+0.01*($Z387-44))*(MAX($N387:$Y387)-MIN($N387:$Y387))/2*SIN((0.986*((6*30-15)-15-(35-1*($Z387-44)))-90)*PI()/180),32)","v":63.077512095750862},{"$f":"MAX($Z387+6+(0.4+0.01*($Z387-44))*(MAX($N387:$Y387)-MIN($N387:$Y387))/2*SIN((0.986*((7*30-15)-15-(35-1*($Z387-44)))-90)*PI()/180),32)","v":66.852885492679121},{"$f":"MAX($Z387+6+(0.4+0.01*($Z387-44))*(MAX($N387:$Y387)-MIN($N387:$Y387))/2*SIN((0.986*((8*30-15)-15-(35-1*($Z387-44)))-90)*PI()/180),32)","v":68.22580701950271},{"$f":"MAX($Z387+6+(0.4+0.01*($Z387-44))*(MAX($N387:$Y387)-MIN($N387:$Y387))/2*SIN((0.986*((9*30-15)-15-(35-1*($Z387-44)))-90)*PI()/180),32)","v":66.838403522893898},{"$f":"MAX($Z387+6+(0.4+0.01*($Z387-44))*(MAX($N387:$Y387)-MIN($N387:$Y387))/2*SIN((0.986*((10*30-15)-15-(35-1*($Z387-44)))-90)*PI()/180),32)","v":63.052323104778843},{"$f":"MAX($Z387+6+(0.4+0.01*($Z387-44))*(MAX($N387:$Y387)-MIN($N387:$Y387))/2*SIN((0.986*((11*30-15)-15-(35-1*($Z387-44)))-90)*PI()/180),32)","v":57.854465971404565},{"$f":"MAX($Z387+6+(0.4+0.01*($Z387-44))*(MAX($N387:$Y387)-MIN($N387:$Y387))/2*SIN((0.986*((12*30-15)-15-(35-1*($Z387-44)))-90)*PI()/180),32)","v":52.599733685988156},{"$f":"IF(AND(OR(LEFT(AM$1,3)=\"Jan\",LEFT(AM$1,3)=\"Dec\"),I387<59),1,IF(N387<66,1,0))","v":1},{"$f":"IF(AND(OR(LEFT(AN$1,3)=\"Jan\",LEFT(AN$1,3)=\"Dec\"),J387<59),1,IF(O387<66,1,0))","v":1},{"$f":"IF(AND(OR(LEFT(AO$1,3)=\"Jan\",LEFT(AO$1,3)=\"Dec\"),K387<59),1,IF(P387<66,1,0))","v":1},{"$f":"IF(AND(OR(LEFT(AP$1,3)=\"Jan\",LEFT(AP$1,3)=\"Dec\"),L387<59),1,IF(Q387<66,1,0))","v":1},{"$f":"IF(AND(OR(LEFT(AQ$1,3)=\"Jan\",LEFT(AQ$1,3)=\"Dec\"),M387<59),1,IF(R387<66,1,0))","v":1},{"$f":"IF(AND(OR(LEFT(AR$1,3)=\"Jan\",LEFT(AR$1,3)=\"Dec\"),N387<59),1,IF(S387<66,1,0))","v":0},{"$f":"IF(AND(OR(LEFT(AS$1,3)=\"Jan\",LEFT(AS$1,3)=\"Dec\"),O387<59),1,IF(T387<66,1,0))","v":0},{"$f":"IF(AND(OR(LEFT(AT$1,3)=\"Jan\",LEFT(AT$1,3)=\"Dec\"),P387<59),1,IF(U387<66,1,0))","v":0},{"$f":"IF(AND(OR(LEFT(AU$1,3)=\"Jan\",LEFT(AU$1,3)=\"Dec\"),Q387<59),1,IF(V387<66,1,0))","v":1},{"$f":"IF(AND(OR(LEFT(AV$1,3)=\"Jan\",LEFT(AV$1,3)=\"Dec\"),R387<59),1,IF(W387<66,1,0))","v":1},{"$f":"IF(AND(OR(LEFT(AW$1,3)=\"Jan\",LEFT(AW$1,3)=\"Dec\"),S387<59),1,IF(X387<66,1,0))","v":1},{"$f":"IF(AND(OR(LEFT(AX$1,3)=\"Jan\",LEFT(AX$1,3)=\"Dec\"),T387<59),1,IF(Y387<66,1,0))","v":1},{"$f":"IF(OR(LEFT(AY$1,3)=\"Jul\", LEFT(AY$1,3)=\"Aug\"),1,IF(N387>66,1,0))","v":0},{"$f":"IF(OR(LEFT(AZ$1,3)=\"Jul\", LEFT(AZ$1,3)=\"Aug\"),1,IF(O387>66,1,0))","v":0},{"$f":"IF(OR(LEFT(BA$1,3)=\"Jul\", LEFT(BA$1,3)=\"Aug\"),1,IF(P387>66,1,0))","v":0},{"$f":"IF(OR(LEFT(BB$1,3)=\"Jul\", LEFT(BB$1,3)=\"Aug\"),1,IF(Q387>66,1,0))","v":0},{"$f":"IF(OR(LEFT(BC$1,3)=\"Jul\", LEFT(BC$1,3)=\"Aug\"),1,IF(R387>66,1,0))","v":0},{"$f":"IF(OR(LEFT(BD$1,3)=\"Jul\", LEFT(BD$1,3)=\"Aug\"),1,IF(S387>66,1,0))","v":1},{"$f":"IF(OR(LEFT(BE$1,3)=\"Jul\", LEFT(BE$1,3)=\"Aug\"),1,IF(T387>66,1,0))","v":1},{"$f":"IF(OR(LEFT(BF$1,3)=\"Jul\", LEFT(BF$1,3)=\"Aug\"),1,IF(U387>66,1,0))","v":1},{"$f":"IF(OR(LEFT(BG$1,3)=\"Jul\", LEFT(BG$1,3)=\"Aug\"),1,IF(V387>66,1,0))","v":0},{"$f":"IF(OR(LEFT(BH$1,3)=\"Jul\", LEFT(BH$1,3)=\"Aug\"),1,IF(W387>66,1,0))","v":0},{"$f":"IF(OR(LEFT(BI$1,3)=\"Jul\", LEFT(BI$1,3)=\"Aug\"),1,IF(X387>66,1,0))","v":0},{"$f":"IF(OR(LEFT(BJ$1,3)=\"Jul\", LEFT(BJ$1,3)=\"Aug\"),1,IF(Y387>66,1,0))","v":0},{"$f":"IF(AND(AY387=1,BJ387=0),1,AM387)","v":1},{"$f":"IF(AND(AY387=0,AZ387=1),1,AN387)","v":1},{"$f":"IF(AND(AZ387=0,BA387=1),1,AO387)","v":1},{"$f":"IF(AND(BA387=0,BB387=1),1,AP387)","v":1},{"$f":"IF(AND(BB387=0,BC387=1),1,AQ387)","v":1},{"$f":"IF(AND(BC387=0,BD387=1),1,AR387)","v":1},{"$f":"IF(AND(BD387=0,BE387=1),1,AS387)","v":0},{"$f":"IF(AND(BE387=0,BF387=1),1,AT387)","v":0},{"$f":"IF(AND(BF387=0,BG387=1),1,AU387)","v":1},{"$f":"IF(AND(BG387=0,BH387=1),1,AV387)","v":1},{"$f":"IF(AND(BH387=0,BI387=1),1,AW387)","v":1},{"$f":"IF(AND(BI387=0,BJ387=1),1,AX387)","v":1},{"$f":"IF(OR(AND(AX387=0,AM387=1),AND(AM387=1,AN387=0)),1,AY387)","v":0},{"$f":"IF(OR(AND(AM387=0,AN387=1),AND(AN387=1,AO387=0)),1,AZ387)","v":0},{"$f":"IF(OR(AND(AN387=0,AO387=1),AND(AO387=1,AP387=0)),1,BA387)","v":0},{"$f":"IF(OR(AND(AO387=0,AP387=1),AND(AP387=1,AQ387=0)),1,BB387)","v":0},{"$f":"IF(OR(AND(AP387=0,AQ387=1),AND(AQ387=1,AR387=0)),1,BC387)","v":1},{"$f":"IF(OR(AND(AQ387=0,AR387=1),AND(AR387=1,AS387=0)),1,BD387)","v":1},{"$f":"IF(OR(AND(AR387=0,AS387=1),AND(AS387=1,AT387=0)),1,BE387)","v":1},{"$f":"IF(OR(AND(AS387=0,AT387=1),AND(AT387=1,AU387=0)),1,BF387)","v":1},{"$f":"IF(OR(AND(AT387=0,AU387=1),AND(AU387=1,AV387=0)),1,BG387)","v":1},{"$f":"IF(OR(AND(AU387=0,AV387=1),AND(AV387=1,AW387=0)),1,BH387)","v":0},{"$f":"IF(OR(AND(AV387=0,AW387=1),AND(AW387=1,AX387=0)),1,BI387)","v":0},{"$f":"IF(OR(AND(AW387=0,AX387=1),AND(AX387=1,AM387=0)),1,BJ387)","v":0},{"$f":"IF(BK387=1,0.85,0.7)","v":0.85},{"$f":"IF(BL387=1,0.85,0.7)","v":0.85},{"$f":"IF(BM387=1,0.85,0.7)","v":0.85},{"$f":"IF(BN387=1,0.85,0.7)","v":0.85},{"$f":"IF(BO387=1,0.85,0.7)","v":0.85},{"$f":"IF(BP387=1,0.85,0.7)","v":0.85},{"$f":"IF(BQ387=1,0.85,0.7)","v":0.7},{"$f":"IF(BR387=1,0.85,0.7)","v":0.7},{"$f":"IF(BS387=1,0.85,0.7)","v":0.85},{"$f":"IF(BT387=1,0.85,0.7)","v":0.85},{"$f":"IF(BU387=1,0.85,0.7)","v":0.85},{"$f":"IF(BV387=1,0.85,0.7)","v":0.85},1,null,{"$f":"BW387*31+BX387*28+BY387*31+BZ387*30+CA387*31+CB387*30+CC387*31+CD387*31+CE387*30+CF387*31+CG387*30+CH387*31","v":153},{"$f":"365-CW387","v":212},"Cold","5A",null,null,"HARTFORD BRAINARD FD","CT","",0,0]
["Emporia Municipal Ap, KS","Havre City County Ap, MT","Havre City County Ap","MT",2585,-109.77,48.55,-7,-17.68000068664551,91.039998626708993,62.960001373291014,7950.6,536.4,20.659999656677247,18.679999828338623,22.1,48.2,55.580000686645505,62.239998626708989,71.419999313354495,69.080000686645505,55.759999656677245,43.159999656677243,34.160000085830688,26.23999991416931,44.080219023586956,41.362689689421352,39.548922778954505,40.480300526838782,43.914044970122582,48.955097704060378,54.289430648577145,58.526567717125609,60.562033836529878,59.865253395284839,56.617852953112646,51.666317479221121,46.301341000351478,1,1,1,1,1,1,0,0,1,1,1,1,0,0,0,0,0,0,1,1,0,0,0,0,1,1,1,1,1,1,1,0,1,1,1,1,0,0,0,0,0,1,1,1,1,0,0,0,0.85,0.85,0.85,0.85,0.85,0.85,0.85,0.7,0.85,0.85,0.85,0.85,1,null,122,243,"Cold","6B",null,null,"HAVRE CITY COUNTY AP","MT","",0,0]
["Great Bend AWOS, KS","Hayward Air Term, CA","Hayward Air Term","CA",46,-122.12,37.67,-8,39.200000000000003,82.219999313354492,64.760001373291018,2377.8000000000002,266.40000000000003,48.380000686645509,51.8,59.180000686645506,55.940000343322751,60.080000686645505,62.060001373291016,63.86000137329102,66.560001373291016,65.119999313354498,62.239998626708989,56.659999656677243,50.9,58.605479800080602,59.944423514353467,59.709500830400977,60.750790514215232,62.796864362950295,65.314381696980931,67.647112827075574,69.186995435700197,69.532635390607496,68.593936311077925,66.615584577981565,64.113268057873043,61.739254113583478,1,1,1,1,1,1,1,0,1,1,1,1,0,0,0,0,0,0,1,1,0,0,0,0,1,1,1,1,1,1,1,0,1,1,1,1,0,0,0,0,0,0,1,1,1,0,0,0,0.85,0.85,0.85,0.85,0.85,0.85,0.85,0.7,0.85,0.85,0.85,0.85,1,null,92,273,"Marine","3C",null,null,"HAYWARD AIR TERM","CA","",0,0]
["Hutchinson Municipal Ap, KS","Henderson City, KY","Henderson City","KY",384,-87.68,37.82,-6,14.9,90.860001373291013,76.099999999999994,4807.8,1063.8,34.700000000000003,37.4,39.740000343322755,52.7,65.480000686645511,70.519999313354489,75.380000686645502,71.599999999999994,67.639998626708987,55.4,41.179999828338623,37.039999914169314,54.158739681113254,50.874571696960807,49.996628914303734,51.767596905882812,55.725845573250098,60.839596402797923,65.775871435518965,69.247954513833591,70.350793676959242,68.79691690176125,64.991366115660938,59.92611677636814,54.921504182024613,1,1,1,1,1,0,0,0,0,1,1,1,0,0,0,0,0,1,1,1,1,0,0,0,1,1,1,1,1,1,0,0,0,1,1,1,0,0,0,0,1,1,1,1,1,1,0,0,0.85,0.85,0.85,0.85,0.85,0.85,0.7,0.7,0.7,0.85,0.85,0.85,1,null,184,181,"Mixed-Humid","4A",null,null,"HENDERSON CITY","KY","",0,0]
["Mcconnell Afb, KS","Hill City Municipal Ap, KS","Hill City Municipal Ap","KS",2188,-99.83,39.380000000000003,-6,7.3400003433227532,98.960001373291021,70.880000686645502,5596.2,1231.2,30.559999978542329,25.7,35.779999828338624,53.959999656677248,60.980000686645511,73.400000000000006,78.8,73.039998626708979,63.5,54.5,42.97999982833862,34.339999914169312,52.446027272923352,46.903351073692818,45.606217596412257,47.655978378770826,52.518331685076951,58.925830194909345,65.208260679139244,69.728010816867808,71.306938083238109,69.533470754265053,64.869890419204253,58.53183116033771,52.171405795938689,1,1,1,1,1,0,0,0,1,1,1,1,0,0,0,0,0,1,1,1,0,0,0,0,1,1,1,1,1,1,0,0,1,1,1,1,0,0,0,0,1,1,1,1,1,0,0,0,0.85,0.85,0.85,0.85,0.85,0.85,0.7,0.7,0.85,0.85,0.85,0.85,1,null,153,212,"Cold","5A",null,null,"HILL CITY MUNICIPAL AP","KS","",0,0]
["Newton AWOS, KS","Hillsville, VA","Hillsville","VA",2736,-80.819999999999993,36.770000000000003,-5,15.980000686645507,83.119999313354498,70.880000686645502,5319,595.80000000000007,34.700000000000003,35.060000085830687,37.939999914169313,50.540000343322752,57.019999313354489,65.83999862670899,71.060001373291016,72.5,60.980000686645511,54.859999656677246,38.47999982833862,36.860000085830691,51.424712322182849,49.451862929886133,48.469243631448258,49.82100525520034,53.154790302634225,57.601596325953579,62.002294807825081,65.209775872132525,66.387960150684762,65.229735754907864,62.037011722339265,57.642020773434631,53.190385027886634,1,1,1,1,1,1,0,0,1,1,1,1,0,0,0,0,0,0,1,1,0,0,0,0,1,1,1,1,1,1,1,0,1,1,1,1,0,0,0,0,0,1,1,1,1,0,0,0,0.85,0.85,0.85,0.85,0.85,0.85,0.85,0.7,0.85,0.85,0.85,0.85,1,null,122,243,"Mixed-Humid","4A",null,null,"HILLSVILLE","VA","",0,0]
["Olathe Johnson Co, KS","Hobart Municipal Ap, OK","Hobart Municipal Ap","OK",1568,-99.05,35,-6,18.5,99.5,72.319999313354487,3574.8,2439,35.960000085830686,38.299999999999997,54.140000343322754,58.819999313354494,67.819999313354487,80.419999313354495,82.760001373291018,88.880000686645502,75.560001373291016,63.5,49.459999656677248,37.939999914169313,61.2635617614119,52.811957301521915,52.447799756902512,55.945598896562089,62.393599472032015,70.111030766619379,77.086225384173787,81.500991356626884,82.204551899655797,79.013513115523864,72.759668438711259,65.073178858892916,57.957646337438412,1,1,1,1,0,0,0,0,0,1,1,1,0,0,0,0,1,1,1,1,1,0,0,0,1,1,1,1,1,0,0,0,0,1,1,1,0,0,0,1,1,1,1,1,1,1,0,0,0.85,0.85,0.85,0.85,0.85,0.7,0.7,0.7,0.7,0.85,0.85,0.85,1,null,214,151,"Mixed-Humid","3A",null,null,"HOBART MUNICIPAL AP","OK","",0,0]
["Topeka Municipal Ap, KS","Hondo Municipal Ap, TX","Hondo Municipal Ap","TX",918,-99.17,29.37,-6,30.019999957084657,97.33999862670899,73.400000000000006,1614.6000000000001,2829.6,49.1,54.5,62.060001373291016,68,73.939998626708984,80.960001373291021,83.66000137329101,81.680000686645513,80.239998626708982,69.439998626708984,55.940000343322751,52.7,67.753917894755318,62.942912711469063,63.306015241044193,66.392524604362663,71.397894571326461,77.017398324960411,81.786225612705664,84.461308112158392,84.345344345567057,81.468562055749459,76.580838879103553,70.956235183716245,66.060890600556874,1,1,1,0,0,0,0,0,0,0,1,1,0,0,0,1,1,1,1,1,1,1,0,0,1,1,1,1,0,0,0,0,0,0,1,1,0,0,1,1,1,1,1,1,1,1,1,0,0.85,0.85,0.85,0.85,0.7,0.7,0.7,0.7,0.7,0.7,0.85,0.85,1,null,275,90,"Hot-Humid","2B",null,null,"HONDO MUNICIPAL AP","TX","",0,0]
["Bowling Green Warren Co Ap, KY","Hooper Bay, AK","Hooper Bay","AK",20,-166.15,61.52,-9,-13.360001373291016,60.8,55.580000686645505,11698.2,0,18.140000343322754,13.640000343322754,23.359999656677246,26.420000171661378,37.4,42.97999982833862,50,48.919999313354495,43.340000343322757,33.259999978542325,28.76000008583069,20.479999828338624,32.343232863602573,34.764028545093709,33.400679083240156,33.325682431297388,34.558587622327664,36.77801891864484,39.405447350392272,41.755993206937234,43.216950487763171,43.407498163589608,42.277967046283827,40.122786828172977,37.503738445440149,1,1,1,1,1,1,1,1,1,1,1,1,0,0,0,0,0,0,1,1,0,0,0,0,1,1,1,1,1,1,1,1,1,1,1,1,0,0,0,0,0,0,1,1,0,0,0,0,0.85,0.85,0.85,0.85,0.85,0.85,0.85,0.85,0.85,0.85,0.85,0.85,1,null,62,303,"Subarctic",8,null,null,"HOOPER BAY","AK","",1,0]
["Fort Knox Godman Aaf, KY","Houghton Lake Roscommon Co Ar, MI","Houghton Lake Roscommon Co Ar","MI",1151,-84.68,44.37,-5,-0.76000137329101647,84.019999313354489,69.439998626708984,7741.8,396,16.519999313354493,18.320000171661377,32,43.159999656677243,57.2,63.139998626708987,69.260001373291018,66.919999313354495,58.1,45.320000171661377,34.160000085830688,25.160000085830688,44.256273873603504,41.48230713346674,39.676046552812693,40.627685269561155,44.089163986995096,49.158194934413643,54.513457079240716,58.759018816339392,60.788209052848103,60.072088082852758,56.797323872940851,51.817534180069948,46.430777928568979,1,1,1,1,1,1,0,0,1,1,1,1,0,0,0,0,0,0,1,1,0,0,0,0,1,1,1,1,1,1,1,0,1,1,1,1,0,0,0,0,0,1,1,1,1,0,0,0,0.85,0.85,0.85,0.85,0.85,0.85,0.85,0.7,0.85,0.85,0.85,0.85,1,null,122,243,"Cold","6A",null,null,"HOUGHTON LAKE ROSCOMMON CO AR","MI","",0,0]
["London Corbin Ap, KY","Houston D W  Hooks, TX","Houston D W  Hooks","TX",151,-95.55,30.07,-6,33.980000042915343,95.360001373291013,76.639998626708987,1357.2,3042,53.780000686645508,58.819999313354494,61.339998626708983,71.239998626708982,75.2,80.599999999999994,82.039998626708979,80.239998626708982,79.519999313354489,75.019999313354489,56.480000686645511,53.419999313354495,69.025752850885254,65.857308380628666,66.267683061756131,68.960983599360944,73.235159703298777,77.976081505030692,81.947954677118787,84.115449268839967,83.913574412759374,81.394951901100114,77.216099504673934,72.466299498674076,68.383660451298127,1,1,1,0,0,0,0,0,0,0,1,1,0,0,0,1,1,1,1,1,1,1,0,0,1,1,1,1,0,0,0,0,0,0,1,1,0,0,1,1,1,1,1,1,1,1,1,0,0.85,0.85,0.85,0.85,0.7,0.7,0.7,0.7,0.7,0.7,0.85,0.85,1,null,275,90,"Hot-Humid","2A",null,null,"HOUSTON D.W. HOOKS","TX",false,0,0]
["Louisville Bowman Field, KY","Houston Ellington Afb  Clear L, TX","Houston Ellington Afb  Clear L","TX",20,-95.09,29.57,-6,36.139999914169309,94.460001373291021,78.439998626708984,1342.8,2962.8,52.7,57.919999313354495,57.380000686645509,66.919999313354495,75.919999313354495,79.7,82.760001373291018,81.5,77.900000000000006,71.960001373291021,65.3,55.4,68.828986425530417,65.234065844413394,65.646999442833035,68.453359446995293,72.921624874498505,77.887073483609427,82.055384574483966,84.340023625667385,84.145464261115237,81.52242137744858,77.15463152460957,72.180626437419733,67.896957193593764,1,1,1,0,0,0,0,0,0,0,1,1,0,0,0,1,1,1,1,1,1,1,0,0,1,1,1,1,0,0,0,0,0,0,1,1,0,0,1,1,1,1,1,1,1,1,1,0,0.85,0.85,0.85,0.85,0.7,0.7,0.7,0.7,0.7,0.7,0.85,0.85,1,null,275,90,"Hot-Humid","2A",null,null,"HOUSTON ELLINGTON","TX",false,0,0]
["Alexandria Esler Regional Ap, LA","Huntingburg, IN","Huntingburg","IN",528,-86.95,38.25,-5,13.819999313354492,89.960001373291021,76.099999999999994,4057.2000000000003,1486.8,40.279999828338624,38.299999999999997,49.280000686645508,50.9,66.560001373291016,75.2,75.380000686645502,77,71.599999999999994,59.719999313354492,45.679999828338623,37.039999914169314,57.361260412947772,53.430381596232962,52.809858387082649,54.939720718001226,59.26478715026272,64.657662467006944,69.712610610200258,73.111981447210439,73.969676583480492,72.062124564259506,67.886558219623822,62.531403264727913,57.392563364001276,1,1,1,1,0,0,0,0,0,1,1,1,0,0,0,0,1,1,1,1,1,0,0,0,1,1,1,1,1,0,0,0,0,1,1,1,0,0,0,1,1,1,1,1,1,1,0,0,0.85,0.85,0.85,0.85,0.85,0.7,0.7,0.7,0.7,0.85,0.85,0.85,1,null,214,151,"Mixed-Humid","4A",null,null,"HUNTINGBURG","IN","",0,0]
["Barksdale Afb, LA","Huntington Tri State Arpt, WV","Huntington Tri State Arpt","WV",830,-82.55,38.380000000000003,-5,14.540000343322754,89.419999313354495,73.400000000000006,4469.4000000000005,1128.6000000000001,32.9,34.700000000000003,47.659999656677243,55.580000686645505,64.400000000000006,72.139998626708987,75.919999313354495,73.219999313354492,66.2,55.4,46.580000686645505,36.679999828338623,55.227890250584849,51.118046908953119,50.271996634489199,52.281768866491845,56.623485501161959,62.165411189794163,67.46295759798646,71.13523761678222,72.225014867734245,70.448222116406086,66.268007774636544,60.774009129660826,55.398321593373744,1,1,1,1,1,0,0,0,0,1,1,1,0,0,0,0,0,1,1,1,1,0,0,0,1,1,1,1,1,1,0,0,0,1,1,1,0,0,0,0,1,1,1,1,1,1,0,0,0.85,0.85,0.85,0.85,0.85,0.85,0.7,0.7,0.7,0.85,0.85,0.85,1,null,184,181,"Mixed-Humid","4A",null,null,"HUNTINGTON TRI STATE ARPT","WV","",0,0]
["Fort Polk Aaf, LA","Huslia, AK","Huslia","AK",180,-156.38,65.7,-9,-47.379997253417969,74.119999313354498,53.780000686645508,13235.4,7.2,-10.3,12.380000686645507,18.320000171661377,28.4,44.059999656677249,54.319999313354494,55.580000686645505,49.1,38.120000171661374,30.919999957084656,7.8800006866455075,8.0599996566772454,28.153917885937101,32,32,32,32,32,35.229001306189751,38.980397333276471,41.473697114114493,42.058983637915702,40.583692952712973,37.43238231052203,33.426489393396942,1,1,1,1,1,1,1,1,1,1,1,1,0,0,0,0,0,0,1,1,0,0,0,0,1,1,1,1,1,1,1,1,1,1,1,1,0,0,0,0,0,0,1,1,0,0,0,0,0.85,0.85,0.85,0.85,0.85,0.85,0.85,0.85,0.85,0.85,0.85,0.85,1,null,62,303,"Subarctic",8,null,null,"HUSLIA","AK","",0,0]
["Lake Charles Wb Airp, LA","Idaho Falls Fanning Field, ID","Idaho Falls Fanning Field","ID",4726,-112.07,43.52,-7,-2.3800006866455088,89.419999313354495,60.8,7594.2,7.2,18.320000171661377,21.2,34.700000000000003,46.580000686645505,54.140000343322754,61.519999313354496,69.080000686645505,66.2,56.659999656677243,44.420000171661378,32.360000005364419,27.320000171661377,44.511726130835001,41.988210185406736,40.260504397928813,41.204937531241697,44.575328534992231,49.493133054755297,54.676449556792981,58.774166717524004,60.71815141127091,60.001674069897618,56.811495553683137,51.97918505501783,46.764358773537701,1,1,1,1,1,1,0,0,1,1,1,1,0,0,0,0,0,0,1,1,0,0,0,0,1,1,1,1,1,1,1,0,1,1,1,1,0,0,0,0,0,1,1,1,1,0,0,0,0.85,0.85,0.85,0.85,0.85,0.85,0.85,0.7,0.85,0.85,0.85,0.85,1,null,122,243,"Cold","6B",null,null,"IDAHO FALLS FANNING FIELD","ID","",0,0]
["New Orleans Alvin Callender F, LA","Imperial, CA","Imperial","CA",-56,-115.58,32.83,-8,37.4,108.86000137329101,73.400000000000006,858.6,4384.8,56.480000686645511,57.740000343322755,66.019999313354489,73.580000686645505,80.239998626708982,89.239998626708982,92.3,91.4,88.7,73.219999313354492,63.86000137329102,55.040000343322752,74.06526021095172,67.059141741433422,68.207725701956434,72.447158762387033,78.672367363882969,85.260654951095887,90.494682835833785,93.010120991128503,92.151281697727114,88.142034652568839,82.027451882341325,75.401393614677161,69.991044047691759,1,1,0,0,0,0,0,0,0,0,1,1,0,0,1,1,1,1,1,1,1,1,0,0,1,1,1,0,0,0,0,0,0,0,1,1,0,1,1,1,1,1,1,1,1,1,1,0,0.85,0.85,0.85,0.7,0.7,0.7,0.7,0.7,0.7,0.7,0.85,0.85,1,null,303,62,"Hot-Dry","2B",null,null,"IMPERIAL","CA","",1,0]
["New Orleans Lakefront Ap, LA","International Falls Intl Ap, MN","International Falls Intl Ap","MN",1178,-93.4,48.57,-6,-20.919999313354495,82.760001373291018,67.639998626708987,9912.6,297,1.580000686645507,11.299999999999999,20.840000343322753,39.200000000000003,56.119999313354491,64.400000000000006,67.460001373291021,64.219999313354492,54.140000343322754,41.720000171661376,28.4,5.7199993133544913,38.049479524011481,35.505252692309583,33.032143043773559,33.430871931105976,36.597504525225489,41.706609241189433,47.42641920109488,52.265977793952871,54.963779492679542,54.816600710119161,51.862805864039785,46.872347100428449,41.146064401317886,1,1,1,1,1,1,0,1,1,1,1,1,0,0,0,0,0,0,1,1,0,0,0,0,1,1,1,1,1,1,1,1,1,1,1,1,0,0,0,0,0,1,1,1,0,0,0,0,0.85,0.85,0.85,0.85,0.85,0.85,0.85,0.85,0.85,0.85,0.85,0.85,1,null,92,273,"Very Cold",7,null,null,"INTERNATIONAL FALLS INTL AP","MN","",1,0]
["Barnstable Muni Boa, MA","Jack Northrop Fld H, CA","Jack Northrop Fld H","CA",69,-118.33,33.92,-8,45.679999828338623,82.039998626708979,64.219999313354492,1287,513,56.3,57.919999313354495,57.919999313354495,58.459999656677248,61.339998626708983,66.019999313354489,69.080000686645505,68,68,63.680000686645506,62.960001373291014,57.380000686645509,62.273041071434541,64.702601127601412,64.646109690007307,65.535033809686652,67.13766171610969,69.036243748223626,70.735885241323231,71.793548447963843,71.933537154251212,71.119361146600255,69.563247948237262,67.670822444745838,65.935374506770771,1,1,1,1,1,0,0,0,0,1,1,1,0,0,0,0,0,1,1,1,1,0,0,0,1,1,1,1,1,1,0,0,0,1,1,1,0,0,0,0,1,1,1,1,1,1,0,0,0.85,0.85,0.85,0.85,0.85,0.85,0.7,0.7,0.7,0.85,0.85,0.85,1,null,184,181,"Hot-Dry","3B",null,null,"JACK NORTHROP FLD H","CA","",0,0]
["Chicopee Falls Westo, MA","Jackson Julian Carroll Ap, KY","Jackson Julian Carroll Ap","KY",1364,-83.32,37.58,-5,14.9,87.260001373291018,73.219999313354492,3792.6,1085.4000000000001,34.880000042915341,40.820000171661377,44.779999828338624,60.440000343322751,65.119999313354498,71.960001373291021,75.2,74.119999313354498,64.580000686645505,57.919999313354495,50.9,42.259999656677245,56.991890406608583,53.065813478445421,52.409602480179153,54.511827907929998,58.824512307680223,64.223488030156588,69.301428852561287,72.734691246097739,73.628342459715682,71.749438533003513,67.587744729244747,62.228070672031919,57.067497999454901,1,1,1,1,1,0,0,0,1,1,1,1,0,0,0,0,0,1,1,1,0,0,0,0,1,1,1,1,1,1,0,0,1,1,1,1,0,0,0,0,1,1,1,1,1,0,0,0,0.85,0.85,0.85,0.85,0.85,0.85,0.7,0.7,0.85,0.85,0.85,0.85,1,null,153,212,"Mixed-Humid","4A",null,null,"JACKSON JULIAN CARROLL AP","KY","",1,0]
["Nantucket Memorial Ap, MA","Jacksonville AWOS, NC","Jacksonville AWOS","NC",95,-77.62,34.83,-5,24.620000171661378,91.22000274658204,75.739998626708982,3578.4,1488.6000000000001,41.9,43.879999828338626,47.119999313354491,58.459999656677248,70.519999313354489,76.280000686645508,75.019999313354489,74.83999862670899,69.619999313354498,57.740000343322755,47.480000686645511,40.1,58.652821670427713,55.366050077214425,54.902220175816353,56.980034815306126,61.057879589807918,66.072801417357653,70.71758364131982,73.781492196757952,74.465872102437046,72.59232918932824,68.649231289903597,63.664407636626116,58.937229333180355,1,1,1,1,0,0,0,0,0,1,1,1,0,0,0,0,1,1,1,1,1,0,0,0,1,1,1,1,1,0,0,0,0,1,1,1,0,0,0,1,1,1,1,1,1,1,0,0,0.85,0.85,0.85,0.85,0.85,0.7,0.7,0.7,0.7,0.85,0.85,0.85,1,null,214,151,"Hot-Humid","3A",null,null,"JACKSONVILLE AWOS","NC","",0,0]
["New Bedford Rgnl, MA","Jacksonville Craig, FL","Jacksonville Craig","FL",39,-81.52,30.33,-5,35.419999957084656,91.4,77,946.80000000000007,2602.8000000000002,56.480000686645511,58.819999313354494,62.6,66.2,76.280000686645508,78.619999313354498,82.4,78.080000686645505,74.83999862670899,69.980000686645511,65.83999862670899,56.3,68.925150583345598,66.57944395821616,66.94564441222326,69.391826117645707,73.280354116163977,77.597623660933934,81.218271913973751,83.198521112250077,83.022188785668305,80.735238672515393,76.933799562752682,72.608775142289772,68.887549676964113,1,1,1,0,0,0,0,0,0,0,1,1,0,0,0,1,1,1,1,1,1,1,0,0,1,1,1,1,0,0,0,0,0,0,1,1,0,0,1,1,1,1,1,1,1,1,1,0,0.85,0.85,0.85,0.85,0.7,0.7,0.7,0.7,0.7,0.7,0.85,0.85,1,null,275,90,"Hot-Humid","2A",null,null,"JACKSONVILLE CRAIG","FL","",1,0]
["Otis Angb, MA","Jamestown AWOS, NY","Jamestown AWOS","NY",1722,-79.27,42.15,-5,5.1800006866455073,80.960001373291021,68.719999313354492,7014.6,313.2,30.2,22.640000343322754,35.779999828338624,40.820000171661377,52.519999313354489,62.060001373291016,68.900000000000006,62.780000686645508,56.480000686645511,49.459999656677248,35.6,33.080000042915344,46.019287840895458,43.824045281974591,42.313010075433667,43.332065746728418,46.615579731012616,51.307653507800424,56.185225740126477,59.976882059971658,61.694268816375718,60.889722685550922,57.772961014927922,53.156415764705827,48.243460597470822,1,1,1,1,1,1,0,1,1,1,1,1,0,0,0,0,0,0,1,1,0,0,0,0,1,1,1,1,1,1,1,1,1,1,1,1,0,0,0,0,0,1,1,1,0,0,0,0,0.85,0.85,0.85,0.85,0.85,0.85,0.85,0.85,0.85,0.85,0.85,0.85,1,null,92,273,"Cold","5A",null,null,"JAMESTOWN AWOS","NY","",1,0]
["Westfield Barnes Muni Ap, MA","Jefferson City Mem, MO","Jefferson City Mem","MO",548,-92.15,38.58,-6,12.2,91.4,75.380000686645502,4366.8,1562.4,33.440000021457671,38.47999982833862,45.679999828338623,57.740000343322755,62.239998626708989,75.919999313354495,78.8,76.819999313354487,71.419999313354495,57.019999313354489,49.1,33.259999978542325,56.733972257065446,51.597204542653564,50.832639825897502,53.170340812409748,58.000949714993226,64.065293881253012,69.782608549881061,73.662587546013469,74.693854552022088,72.607593930485152,67.947621662655635,61.92863133248968,56.119565524993703,1,1,1,1,1,0,0,0,0,1,1,1,0,0,0,0,0,1,1,1,1,0,0,0,1,1,1,1,1,1,0,0,0,1,1,1,0,0,0,0,1,1,1,1,1,1,0,0,0.85,0.85,0.85,0.85,0.85,0.85,0.7,0.7,0.7,0.85,0.85,0.85,1,null,184,181,"Mixed-Humid","4A",null,null,"JEFFERSON CITY MEM","MO","",1,0]
["Baltimore Blt Washngtn IntL, MD","Joplin Municipal Ap, MO","Joplin Municipal Ap","MO",974,-94.5,37.15,-6,12.380000686645507,93.920002746582028,75.560001373291016,3571.2000000000003,2021.4,32.360000005364419,38.47999982833862,51.980000686645511,59,69.080000686645505,74.66000137329101,79.33999862670899,84.2,76.460001373291021,59.540000343322752,54.140000343322754,41.179999828338623,60.146082447612123,52.352334617570314,51.859916034958196,55.091406884292823,61.204469276913734,68.605639295041257,75.365687917968046,79.722504296625587,80.540417101344062,77.606224755155765,71.684769710367419,64.319570476787561,57.430479735804596,1,1,1,1,0,0,0,0,0,1,1,1,0,0,0,0,1,1,1,1,1,0,0,0,1,1,1,1,1,0,0,0,0,1,1,1,0,0,0,1,1,1,1,1,1,1,0,0,0.85,0.85,0.85,0.85,0.85,0.7,0.7,0.7,0.7,0.85,0.85,0.85,1,null,214,151,"Mixed-Humid","4A",null,null,"JOPLIN MUNICIPAL AP","MO","",0,0]
["Salisbury Wicomico Co Ap, MD","Kahului Airport, HI","Kahului Airport","HI",52,-156.43,20.9,-10,60.619999313354491,88.33999862670899,74.119999313354498,0,4037.4,71.960001373291021,71.419999313354495,73.219999313354492,74.119999313354498,75.380000686645502,77.360001373291013,78.080000686645505,78.439998626708984,79.519999313354489,77.900000000000006,75.019999313354489,72.860001373291013,75.461369928856413,78.572549092431842,78.862109601789001,79.829207371210387,81.221753463668591,82.676759280379486,83.814955132899058,84.339652732139029,84.114081563022765,83.197040226937332,81.827569680168182,80.362643524910624,79.184117338727958,0,0,0,0,0,0,0,0,0,0,0,0,1,1,1,1,1,1,1,1,1,1,1,1,0,0,0,0,0,0,0,0,0,0,0,0,1,1,1,1,1,1,1,1,1,1,1,1,0.7,0.7,0.7,0.7,0.7,0.7,0.7,0.7,0.7,0.7,0.7,0.7,1,null,365,0,"Hot-Humid","1A",null,null,"KAHULUI AIRPORT","HI","",0,0]
["Bar Harbor AWOS, ME","Kalispell Glacier Pk IntL Ar, MT","Kalispell Glacier Pk IntL Ar","MT",2972,-114.25,48.32,-7,-0.76000137329101647,86.360001373291013,61.7,7696.8,189,25.160000085830688,27.679999828338623,30.919999957084656,44.959999656677248,51.980000686645511,59.540000343322752,65.480000686645511,67.280000686645508,54.680000686645506,41.359999656677246,31.459999978542328,24.440000343322755,43.834137206404179,42.816973594653462,41.335358993208168,42.069081903169113,44.826886141042671,48.889907533177364,53.199056940658345,56.631088164423232,58.291389376795614,57.747177480754459,55.140309693562074,51.150306276998776,46.817223109405674,1,1,1,1,1,1,1,0,1,1,1,1,0,0,0,0,0,0,1,1,0,0,0,0,1,1,1,1,1,1,1,0,1,1,1,1,0,0,0,0,0,0,1,1,1,0,0,0,0.85,0.85,0.85,0.85,0.85,0.85,0.85,0.7,0.85,0.85,0.85,0.85,1,null,92,273,"Cold","6B",null,null,"KALISPELL GLACIER PK INT'L AR","MT",false,1,0]
["Millinocket Municipal Ap, ME","Kansas City IntL Arpt, MO","Kansas City IntL Arpt","MO",977,-94.72,39.299999999999997,-6,5.3599996566772452,92.660001373291024,75.919999313354495,5293.8,1393.2,26.779999828338624,30.2,42.259999656677245,54.680000686645506,65.480000686645511,75.380000686645502,76.819999313354487,75.560001373291016,69.619999313354498,55.759999656677245,40.820000171661377,29.660000085830688,53.705534368149223,48.428930272612646,47.309962009195218,49.422090702691385,54.21475746025294,60.438679834291101,66.471496544465765,70.740660946750253,72.133349549874239,70.286536607452447,65.681622373176012,59.518948706085531,53.404911467184036,1,1,1,1,1,0,0,0,0,1,1,1,0,0,0,0,0,1,1,1,1,0,0,0,1,1,1,1,1,1,0,0,0,1,1,1,0,0,0,0,1,1,1,1,1,1,0,0,0.85,0.85,0.85,0.85,0.85,0.85,0.7,0.7,0.7,0.85,0.85,0.85,1,null,184,181,"Mixed-Humid","4A",null,null,"KANSAS CITY INT'L ARPT","MO",false,1,0]
["Naval Air Station, ME","Kapalua, HI","Kapalua","HI",262,-156.63,20.95,-10,65.480000686645511,86.180000686645513,73.039998626708979,0,3956.4,72.5,74.119999313354498,71.780000686645508,73.760001373291018,75.019999313354489,76.280000686645508,77.539998626708979,78.8,78.980000686645511,77.539998626708979,74.66000137329101,71.780000686645508,75.231561754827638,78.672615970578434,78.924096074688705,79.777052667449681,81.009149468499245,82.299221459457399,83.310991495269704,83.780726124253505,83.58598177653441,82.777521567446641,81.566083109237866,80.267446504871955,79.220121397872717,0,0,0,0,0,0,0,0,0,0,0,0,1,1,1,1,1,1,1,1,1,1,1,1,0,0,0,0,0,0,0,0,0,0,0,0,1,1,1,1,1,1,1,1,1,1,1,1,0.7,0.7,0.7,0.7,0.7,0.7,0.7,0.7,0.7,0.7,0.7,0.7,1,null,365,0,"Hot-Humid","1A",null,null,"KAPALUA","HI","",0,0]
["Presque Isle Municip, ME","Kelso Wb Ap, WA","Kelso Wb Ap","WA",16,-122.9,46.13,-8,26.420000171661378,82.4,65.83999862670899,4554,81,40.640000343322754,43.340000343322757,48.740000343322755,50,56.3,59.359999656677246,62.960001373291014,65.66000137329101,60.980000686645511,51.980000686645511,44.240000343322755,40.820000171661377,52.139781269178002,52.749487856342583,52.126283256413934,53.070589584321738,55.33625884349582,58.332709426512309,61.278870312206706,63.406779264009224,64.161764021562988,63.347026173144307,61.17493969443381,58.211692398973248,55.22970035934749,1,1,1,1,1,1,1,1,1,1,1,1,0,0,0,0,0,0,1,1,0,0,0,0,1,1,1,1,1,1,1,1,1,1,1,1,0,0,0,0,0,0,1,1,0,0,0,0,0.85,0.85,0.85,0.85,0.85,0.85,0.85,0.85,0.85,0.85,0.85,0.85,1,null,62,303,"Marine","4C",null,null,"KELSO WB AP","WA","",1,0]
["Sanford Muni AWOS, ME","Keokuk Muni, IA","Keokuk Muni","IA",672,-91.43,40.47,-6,7.8800006866455075,91.22000274658204,77.719999313354492,5272.2,1303.2,24.620000171661378,28.4,37.76000008583069,59.540000343322752,63.5,69.8,76.460001373291021,75.739998626708982,70.33999862670899,55.580000686645505,44.779999828338624,34.519999957084657,53.541315046271237,47.913022438748953,46.739400225107318,48.90279439308118,53.839282913874847,60.262093980952635,66.497022911166098,70.91883939569189,72.37492882558368,70.485739051922835,65.743716502509713,59.38494243162836,53.066929292528606,1,1,1,1,1,0,0,0,0,1,1,1,0,0,0,0,0,1,1,1,1,0,0,0,1,1,1,1,1,1,0,0,0,1,1,1,0,0,0,0,1,1,1,1,1,1,0,0,0.85,0.85,0.85,0.85,0.85,0.85,0.7,0.7,0.7,0.85,0.85,0.85,1,null,184,181,"Cold","5A",null,null,"KEOKUK MUNI","IA","",1,0]
["Ann Arbor Municipal, MI","Killeen Muni AWOS, TX","Killeen Muni AWOS","TX",846,-97.68,31.08,-6,29.660000085830688,97.520002746582037,74.119999313354498,2044.8,2709,43.159999656677243,55.580000686645505,54.140000343322754,66.560001373291016,74.66000137329101,78.439998626708984,81.860001373291013,81.860001373291013,78.980000686645511,67.819999313354487,61.519999313354496,49.459999656677248,66.200000315104447,60.455112256366263,60.687699744801073,63.921145786807408,69.312602842624486,75.456704545785399,80.751896103887972,83.817904235940816,83.855526673708809,80.854956549008435,75.598338705028141,69.455891589734406,64.028738701703887,1,1,1,0,0,0,0,0,0,0,1,1,0,0,0,1,1,1,1,1,1,1,0,0,1,1,1,1,0,0,0,0,0,0,1,1,0,0,1,1,1,1,1,1,1,1,1,0,0.85,0.85,0.85,0.85,0.7,0.7,0.7,0.7,0.7,0.7,0.85,0.85,1,null,275,90,"Hot-Humid","2A",null,null,"KILLEEN MUNI AWOS","TX","",0,0]
["Cadillac Wexford Co Ap, MI","Kingsville, TX","Kingsville","TX",56,-97.82,27.5,-6,36.679999828338623,96.439998626708984,77.900000000000006,846,167.4,59.180000686645506,56.659999656677243,63.5,71.960001373291021,76.819999313354487,82.760001373291018,82.580000686645505,83.66000137329101,80.960001373291021,72.680000686645513,67.099999999999994,58.280000686645508,71.418028001132072,68.393957219102987,68.985538055948965,71.775177345610487,76.035712617594541,80.656569696422522,84.433250974934836,86.381306277467033,85.992944968973177,83.369399409341113,79.194537178749826,74.556600454177342,70.664538915651889,1,1,1,0,0,0,0,0,0,0,0,1,0,0,0,1,1,1,1,1,1,1,1,0,1,1,1,1,0,0,0,0,0,0,0,1,0,0,1,1,1,1,1,1,1,1,1,1,0.85,0.85,0.85,0.85,0.7,0.7,0.7,0.7,0.7,0.7,0.7,0.85,1,null,306,59,"Hot-Humid","2A",null,null,"KINGSVILLE","TX","",0,0]
["Detroit Metropolitan Arpt, MI","Klamath Falls Intl Ap  Uo, OR","Klamath Falls Intl Ap  Uo","OR",4002,-121.74,42.22,-8,11.840000343322753,88.16000137329101,62.239998626708989,6672.6,275.40000000000003,30.559999978542329,37.039999914169314,35.779999828338624,44.959999656677248,51.259999656677245,60.440000343322751,68.539998626708979,67.099999999999994,55.219999313354492,44.779999828338624,34.880000042915341,30.919999957084656,46.847287431318463,45.924685154852185,44.716170601797657,45.627156954660997,48.420181581843735,52.367199572458311,56.439359861862648,59.575191116733883,60.957290595867434,60.225392771229437,57.570278089698697,53.684043109571959,49.579694867113126,1,1,1,1,1,1,0,0,1,1,1,1,0,0,0,0,0,0,1,1,0,0,0,0,1,1,1,1,1,1,1,0,1,1,1,1,0,0,0,0,0,1,1,1,1,0,0,0,0.85,0.85,0.85,0.85,0.85,0.85,0.85,0.7,0.85,0.85,0.85,0.85,1,null,122,243,"Cold","5B",null,null,"KLAMATH FALLS INTL AP","OR",false,0,0]
["Grand Rapids Kent County Int, MI","Kona Intl At Keahol, HI","Kona Intl At Keahol","HI",49,-156.05000000000001,19.73,-10,67.099999999999994,86.539998626708979,75.2,0,4595.4000000000005,73.939998626708984,73.939998626708984,75.019999313354489,75.919999313354495,77.539998626708979,78.080000686645505,79.16000137329101,79.33999862670899,80.419999313354495,78.619999313354498,76.460001373291021,75.380000686645502,77.001972262238809,80.638106146640311,80.906056934186225,81.720340351021932,82.868700876061908,84.05180064168313,84.961246461857144,85.359977268571271,85.144057732427768,84.369770607943195,83.238945766240221,82.046350128847038,81.10285212710528,0,0,0,0,0,0,0,0,0,0,0,0,1,1,1,1,1,1,1,1,1,1,1,1,0,0,0,0,0,0,0,0,0,0,0,0,1,1,1,1,1,1,1,1,1,1,1,1,0.7,0.7,0.7,0.7,0.7,0.7,0.7,0.7,0.7,0.7,0.7,0.7,1,null,365,0,"Hot-Humid","1A",null,null,"KONA INTL AT KEAHOL","HI","",0,0]
["Hancock Houghton Co Ap, MI","Kotzebue Ralph Wein Memorial, AK","Kotzebue Ralph Wein Memorial","AK",10,-162.6,66.88,-9,-30.820002746582034,64.400000000000006,57.740000343322755,14999.4,0,0.13999862670898358,1.0399986267089836,2.4800006866455071,12.380000686645507,30.559999978542329,44.240000343322755,55.4,53.240000343322755,43.340000343322757,24.620000171661378,9.3199993133544918,1.0399986267089836,23.286027215310973,32,32,32,32,32,32,32.152760508807177,33.996507166429851,34.612394634100042,33.839882352256346,32,32,1,1,1,1,1,1,1,1,1,1,1,1,0,0,0,0,0,0,1,1,0,0,0,0,1,1,1,1,1,1,1,1,1,1,1,1,0,0,0,0,0,0,1,1,0,0,0,0,0.85,0.85,0.85,0.85,0.85,0.85,0.85,0.85,0.85,0.85,0.85,0.85,1,null,62,303,"Subarctic",8,null,null,"KOTZEBUE RALPH WEIN MEMORIAL","AK","",0,0]
["Howell, MI","La Grande Muni Ap, OR","La Grande Muni Ap","OR",2713,-118,45.28,-8,14.9,90.139998626708987,62.060001373291016,5936.4000000000005,414,32.540000021457672,34.880000042915341,42.259999656677245,47.119999313354491,52.7,62.6,66.560001373291016,68.719999313354492,62.060001373291016,49.280000686645508,37.76000008583069,33.440000021457671,49.242027555165222,48.107659337278719,47.05781591914667,48.14131338646186,51.075721427167196,55.096141364856116,59.154588786223343,62.193166828321608,63.419823298572958,62.514811284657966,59.714036114660885,55.74756299789329,51.649314277441633,1,1,1,1,1,1,0,0,1,1,1,1,0,0,0,0,0,0,1,1,0,0,0,0,1,1,1,1,1,1,1,0,1,1,1,1,0,0,0,0,0,1,1,1,1,0,0,0,0.85,0.85,0.85,0.85,0.85,0.85,0.85,0.7,0.85,0.85,0.85,0.85,1,null,122,243,"Cold","5B",null,null,"LA GRANDE MUNI AP","OR","",0,0]
["Jackson Reynolds Field, MI","Lafayette Purdue Univ Ap, IN","Lafayette Purdue Univ Ap","IN",600,-86.93,40.42,-5,4.0999999999999996,89.960001373291021,74.480000686645511,5751,1035,26.420000171661378,27.139999914169312,44.420000171661378,54.680000686645506,60.980000686645511,70.16000137329101,75.2,73.580000686645505,65.3,53.780000686645508,46.220000171661376,18.679999828338623,51.494740092395105,45.548446653151217,44.085093951145268,46.11717216475833,51.114988792338998,57.775785911222783,64.363324106381967,69.160460030211823,70.916746278063798,69.174379774244926,64.387535198656195,57.803977357432629,51.139812057586532,1,1,1,1,1,0,0,0,1,1,1,1,0,0,0,0,0,1,1,1,0,0,0,0,1,1,1,1,1,1,0,0,1,1,1,1,0,0,0,0,1,1,1,1,1,0,0,0,0.85,0.85,0.85,0.85,0.85,0.85,0.7,0.7,0.85,0.85,0.85,0.85,1,null,153,212,"Cold","5A",null,null,"LAFAYETTE PURDUE UNIV AP","IN","",0,0]
["Manistee AWOS, MI","Lake Charles Wb Airp, LA","Lake Charles Wb Airp","LA",16,-93.17,30.22,-6,28.039999914169311,95.179997253417966,79.33999862670899,1771.2,2802.6,50.359999656677246,57.019999313354489,60.619999313354491,72.680000686645513,73.039998626708979,80.060001373291016,82.039998626708979,81.139998626708987,76.460001373291021,69.080000686645505,59.540000343322752,44.240000343322755,67.218849222888693,61.515209962300943,61.852950250712524,65.153387260026847,70.556211222492266,76.653092812254641,81.854785887153099,84.805388986698617,84.735781942824545,81.664108904193654,76.391048784239487,70.29110596354424,64.954324541286468,1,1,1,0,0,0,0,0,0,0,1,1,0,0,0,1,1,1,1,1,1,1,0,0,1,1,1,1,0,0,0,0,0,0,1,1,0,0,1,1,1,1,1,1,1,1,1,0,0.85,0.85,0.85,0.85,0.7,0.7,0.7,0.7,0.7,0.7,0.85,0.85,1,null,275,90,"Hot-Humid","2A",null,null,"LAKE CHARLES WB AIRP","LA","",0,0]
["Oakland Co Intl, MI","Lamar Municipal, CO","Lamar Municipal","CO",3703,-102.68,38.07,-7,8.7800006866455078,97.520002746582037,66.380000686645502,5655.6,1357.2,30.740000021457671,37.039999914169314,38.120000171661374,45.859999656677246,62.419999313354495,72.319999313354487,77.900000000000006,76.460001373291021,71.239998626708982,47.840000343322757,38.839999914169312,31.639999994635581,52.612712221023152,48.311513513183073,47.171980876820392,49.014651172330943,53.359203990781097,59.073164688456281,64.667101354707711,68.682868192303502,70.073693690184129,68.477037749057288,64.309093345190547,58.656299417419248,52.99214381520828,1,1,1,1,1,0,0,0,0,1,1,1,0,0,0,0,0,1,1,1,1,0,0,0,1,1,1,1,1,1,0,0,0,1,1,1,0,0,0,0,1,1,1,1,1,1,0,0,0.85,0.85,0.85,0.85,0.85,0.85,0.7,0.7,0.7,0.85,0.85,0.85,1,null,184,181,"Cold","5B",null,null,"LAMAR MUNICIPAL","CO","",0,0]
["Saginaw Tri City Intl Ap, MI","Lancaster, PA","Lancaster","PA",413,-76.3,40.119999999999997,-5,12.019999313354491,93.379997253417969,73.580000686645505,4753.8,977.4,35.6,37.4,42.440000343322751,53.780000686645508,66.019999313354489,70.519999313354489,74.83999862670899,71.599999999999994,65.480000686645511,52.340000343322757,47.480000686645511,30.559999978542329,54.083287665648001,49.998691810884701,49.037247680864219,50.955124097506456,55.252397017443393,60.80891603111322,66.176288829052936,69.955426977761022,71.161239880494989,69.479413822017904,65.348342682195934,59.844853815356927,54.403516405973143,1,1,1,1,0,0,0,0,1,1,1,1,0,0,0,0,1,1,1,1,0,0,0,0,1,1,1,1,1,0,0,0,1,1,1,1,0,0,0,1,1,1,1,1,1,0,0,0,0.85,0.85,0.85,0.85,0.85,0.7,0.7,0.7,0.85,0.85,0.85,0.85,1,null,183,182,"Cold","5A",null,null,"LANCASTER","PA","",0,0]
["St Clair County Int, MI","Langley Afb, VA","Langley Afb","VA",10,-76.349999999999994,37.08,-5,24.8,90.5,76.460001373291021,4024.8,1526.4,40.279999828338624,40.279999828338624,44.059999656677249,54.319999313354494,65.3,75.560001373291016,80.060001373291016,75.380000686645502,70.33999862670899,60.440000343322751,45.679999828338623,38.120000171661374,57.582685022746048,53.100983169868385,52.468732751035255,54.733505263012383,59.30495284935207,64.991457248535127,70.310743457229123,73.876257552456167,74.758593339059956,72.727756397056112,68.313115671522581,62.665415299242532,57.256815415947997,1,1,1,1,1,0,0,0,0,1,1,1,0,0,0,0,0,1,1,1,1,0,0,0,1,1,1,1,1,1,0,0,0,1,1,1,0,0,0,0,1,1,1,1,1,1,0,0,0.85,0.85,0.85,0.85,0.85,0.85,0.7,0.7,0.7,0.85,0.85,0.85,1,null,184,181,"Mixed-Humid","4A",null,null,"LANGLEY AFB HAMPTON","VA",false,0,0]
["Alexandria Municipal Ap, MN","Las Cruces Intl, NM","Las Cruces Intl","NM",4569,-106.92,32.28,-7,18.859999656677246,102.37999725341797,66.380000686645502,2773.8,2347.2000000000003,41.720000171661376,46.580000686645505,50.719999313354492,62.239998626708989,72.319999313354487,79.7,85.280000686645508,81.139998626708987,76.819999313354487,63.5,51.080000686645505,46.580000686645505,63.228766961032399,56.800948892847003,56.713539232391625,59.888416544903748,65.498000132536717,72.080065586874198,77.91889611454414,81.492510559407307,81.869391245344517,78.95129841365906,73.4988779301015,66.933387218054165,60.966222608886667,1,1,1,1,0,0,0,0,0,1,1,1,0,0,0,0,1,1,1,1,1,0,0,0,1,1,1,1,1,0,0,0,0,1,1,1,0,0,0,1,1,1,1,1,1,1,0,0,0.85,0.85,0.85,0.85,0.85,0.7,0.7,0.7,0.7,0.85,0.85,0.85,1,null,214,151,"Hot-Dry","3B",null,null,"LAS CRUCES INTL","NM","",0,0]
["Bemidji Municipal, MN","Lawrence Muni, MA","Lawrence Muni","MA",151,-71.12,42.72,-5,9.3199993133544918,87.8,72.5,5776.2,628.20000000000005,23.720000171661376,31.639999994635581,41.359999656677246,46.759999656677245,59.359999656677246,64.760001373291018,71.599999999999994,71.419999313354495,62.780000686645508,50.719999313354492,46.040000343322752,32.180000002682206,50.293917816971266,46.536180108955399,45.21390133257605,46.779799601076846,50.825699399550295,56.296974596321085,61.767452996447958,65.811170102313866,67.37406873470799,66.048755280099826,62.180693114131543,56.778152249005096,51.249388216890566,1,1,1,1,1,1,0,0,1,1,1,1,0,0,0,0,0,0,1,1,0,0,0,0,1,1,1,1,1,1,1,0,1,1,1,1,0,0,0,0,0,1,1,1,1,0,0,0,0.85,0.85,0.85,0.85,0.85,0.85,0.85,0.7,0.85,0.85,0.85,0.85,1,null,122,243,"Cold","5A",null,null,"LAWRENCE MUNI","MA","",0,0]
["Benson Muni, MN","Lawton Municipal, OK","Lawton Municipal","OK",1109,-98.42,34.57,-6,20.840000343322753,100.22000274658204,73.760001373291018,2971.8,2046.6000000000001,41.720000171661376,50.180000686645506,48.919999313354495,62.6,71.060001373291016,77.539998626708979,82.039998626708979,82.580000686645505,71.060001373291016,61.519999313354496,51.980000686645511,40.640000343322754,61.872109683572432,56.259696608623372,56.032858557356725,58.892103760520726,64.09212589360834,70.277459052863549,75.83580083145722,79.318283788159306,79.817145073618562,77.202348806094918,72.155481927948628,65.992088065541324,60.318750809883952,1,1,1,1,0,0,0,0,0,1,1,1,0,0,0,0,1,1,1,1,1,0,0,0,1,1,1,1,1,0,0,0,0,1,1,1,0,0,0,1,1,1,1,1,1,1,0,0,0.85,0.85,0.85,0.85,0.85,0.7,0.7,0.7,0.7,0.85,0.85,0.85,1,null,214,151,"Mixed-Humid","3A",null,null,"LAWTON MUNICIPAL","OK","",0,0]
["Cloquet AWOS, MN","Lebanon Municipal, NH","Lebanon Municipal","NH",597,-72.3,43.63,-5,-2.7399986267089851,85.819999313354487,69.439998626708984,7171.2,408.6,16.880000686645506,22.640000343322754,32.9,46.040000343322752,51.080000686645505,66.919999313354495,68.180000686645513,66.919999313354495,61.7,48.2,41.359999656677246,26.6,45.88515077146765,42.839409033214835,41.157040670335697,42.271119530497614,45.891243790324459,51.073772273688846,56.467799066220408,60.667287959976768,62.577577458717542,61.70072116614368,58.265285187679048,53.166768852781409,47.734179014656881,1,1,1,1,1,0,0,0,1,1,1,1,0,0,0,0,0,1,1,1,0,0,0,0,1,1,1,1,1,1,0,0,1,1,1,1,0,0,0,0,1,1,1,1,1,0,0,0,0.85,0.85,0.85,0.85,0.85,0.85,0.7,0.7,0.85,0.85,0.85,0.85,1,null,153,212,"Cold","6A",null,null,"LEBANON MUNICIPAL","NH","",0,0]
["Detroit Lakes Awos, MN","Lewisburg Greenbrie, WV","Lewisburg Greenbrie","WV",2303,-80.400000000000006,37.869999999999997,-5,-4.0000000000000009,86.180000686645513,70.16000137329101,6080.4000000000005,424.8,31.279999989271165,30.559999978542329,39.559999656677249,48.919999313354495,53.780000686645508,66.739998626708982,71.239998626708982,66.560001373291016,60.259999656677245,47.480000686645511,34.880000042915341,34.519999957084657,48.922465640698391,46.982141578578648,45.785244566592908,46.970105036411759,50.227870847324375,54.709355137025589,59.246389963641391,62.656327281791299,64.050314380774822,63.064987041250475,59.957186018619183,55.537007542093264,50.956639248591408,1,1,1,1,1,0,0,0,1,1,1,1,0,0,0,0,0,1,1,1,0,0,0,0,1,1,1,1,1,1,0,0,1,1,1,1,0,0,0,0,1,1,1,1,1,0,0,0,0.85,0.85,0.85,0.85,0.85,0.85,0.7,0.7,0.85,0.85,0.85,0.85,1,null,153,212,"Cold","5A",null,null,"LEWISBURG GREENBRIE","WV","",0,0]
["Eveleth Muni AWOS, MN","Lexington Bluegrass Ap, KY","Lexington Bluegrass Ap","KY",964,-84.6,38.03,-5,12.740000343322754,89.419999313354495,73.760001373291018,4663.8,1144.8,29.3,32.540000021457672,47.119999313354491,55.040000343322752,64.939998626708984,73.219999313354492,75.919999313354495,74.83999862670899,66.560001373291016,55.4,48.019999313354489,32.9,54.7653147484505,49.94620194919051,48.990113984165049,51.103413559687155,55.735236574464736,61.678226981142757,67.383252745966189,71.363210986225539,72.580664253584189,70.718264592382354,66.261475174759823,60.3720268436238,54.585095065630924,1,1,1,1,1,0,0,0,0,1,1,1,0,0,0,0,0,1,1,1,1,0,0,0,1,1,1,1,1,1,0,0,0,1,1,1,0,0,0,0,1,1,1,1,1,1,0,0,0.85,0.85,0.85,0.85,0.85,0.85,0.7,0.7,0.7,0.85,0.85,0.85,1,null,184,181,"Mixed-Humid","4A",null,null,"LEXINGTON BLUEGRASS AP","KY","",0,0]
["Fergus Falls Awos, MN","Limon, CO","Limon","CO",5560,-103.72,39.18,-7,1.3999999999999992,89.6,60.259999656677245,6564.6,417.6,28.039999914169311,35.960000085830686,36.679999828338623,42.079999828338622,56.840000343322757,65.3,68.180000686645513,68.719999313354492,61.7,47.119999313354491,33.619999957084659,25.7,47.554958842029308,45.524845139805564,44.18918398537707,45.294856378294384,48.553651770416266,53.116114923229034,57.792969506266587,61.365121299949443,62.901433890728732,62.001443726524158,58.899747112903889,54.40484907079972,49.688414043361668,1,1,1,1,1,1,0,0,1,1,1,1,0,0,0,0,0,0,1,1,0,0,0,0,1,1,1,1,1,1,1,0,1,1,1,1,0,0,0,0,0,1,1,1,1,0,0,0,0.85,0.85,0.85,0.85,0.85,0.85,0.85,0.7,0.85,0.85,0.85,0.85,1,null,122,243,"Cold","5B",null,null,"LIMON","CO","",0,0]
["Grand Rapids Awos, MN","Little Rock Adams Field, AR","Little Rock Adams Field","AR",256,-92.23,34.75,-6,22.279999828338624,95.360001373291013,77.180000686645513,3029.4,2088,36.860000085830691,46.040000343322752,52.159999656677243,62.239998626708989,69.980000686645511,78.8,81.5,81.139998626708987,74.83999862670899,62.060001373291016,53.419999313354495,42.079999828338622,61.828218944105387,55.480435333817525,55.234203090451558,58.270795158999505,63.798677021494093,70.376921083238003,76.290806655728147,79.998788328759616,80.534323537529531,77.75781677702463,72.393007321634855,65.838315430123785,59.802322554873406,1,1,1,1,0,0,0,0,0,1,1,1,0,0,0,0,1,1,1,1,1,0,0,0,1,1,1,1,1,0,0,0,0,1,1,1,0,0,0,1,1,1,1,1,1,1,0,0,0.85,0.85,0.85,0.85,0.85,0.7,0.7,0.7,0.7,0.85,0.85,0.85,1,null,214,151,"Mixed-Humid","3A",null,null,"LITTLE ROCK ADAMS FIELD","AR","",0,0]
["Hutchinson AWOS, MN","Livingston Mission Field, MT","Livingston Mission Field","MT",4651,-110.45,45.7,-7,-12.100000000000001,95.179997253417966,57.2,6847.2,462.6,26.420000171661378,29.3,41.359999656677246,44.059999656677249,50.9,58.640000343322754,69.260001373291018,70.519999313354489,57.919999313354495,45.140000343322754,37.039999914169314,31.1,46.920273982008844,44.862248659489673,43.462414351920579,44.527916906962716,47.781016663752936,52.37374303889915,57.108931126663677,60.752281180513435,62.354097863188642,61.496842971607727,58.403973203959005,53.881692727745985,49.108803639545215,1,1,1,1,1,1,0,0,1,1,1,1,0,0,0,0,0,0,1,1,0,0,0,0,1,1,1,1,1,1,1,0,1,1,1,1,0,0,0,0,0,1,1,1,1,0,0,0,0.85,0.85,0.85,0.85,0.85,0.85,0.85,0.7,0.85,0.85,0.85,0.85,1,null,122,243,"Cold","6B",null,null,"LIVINGSTON MISSION FIELD","MT","",0,0]
["Little Falls AWOS, MN","Lone Rock Faa Ap, WI","Lone Rock Faa Ap","WI",718,-90.18,43.2,-6,-11.380000686645509,90.5,75.380000686645502,6411.6,595.80000000000007,18.320000171661377,26.420000171661378,37.579999828338622,48.919999313354495,58.819999313354494,67.819999313354487,72.680000686645513,64.219999313354492,61.160001373291017,50.359999656677246,45.5,28.76000008583069,48.478630069967821,44.018934759898933,42.389824898354256,43.911848398917428,48.188266381074527,54.104364596180382,60.118020874634468,64.66168303420929,66.550975513058276,65.293425111691079,61.216831721662324,55.383822232288765,49.314860456372791,1,1,1,1,1,0,0,1,1,1,1,1,0,0,0,0,0,1,1,1,0,0,0,0,1,1,1,1,1,1,0,1,1,1,1,1,0,0,0,0,1,1,1,1,0,0,0,0,0.85,0.85,0.85,0.85,0.85,0.85,0.7,0.85,0.85,0.85,0.85,0.85,1,null,123,242,"Cold","6A",null,null,"LONE ROCK FAA AP","WI","",0,0]
["Mankato Awos, MN","Long Beach Daugherty Fld, CA","Long Beach Daugherty Fld","CA",26,-118.17,33.83,-8,43.52000017166138,87.619999313354498,67.280000686645508,1164.6000000000001,824.4,56.3,56.840000343322757,58.640000343322754,61.880000686645509,64.219999313354492,67.639998626708987,70.519999313354489,70.33999862670899,71.960001373291021,65.83999862670899,61.160001373291017,56.119999313354491,63.485205296033051,64.940902198249276,64.919593418640204,66.088381733082358,68.142604455843212,70.546796777704799,72.674268920248707,73.970462484182747,74.097504642120072,73.02227989781538,71.025062150586564,68.62645698430596,66.451697799189091,1,1,1,1,1,0,0,0,0,1,1,1,0,0,0,0,0,1,1,1,1,0,0,0,1,1,1,1,1,1,0,0,0,1,1,1,0,0,0,0,1,1,1,1,1,1,0,0,0.85,0.85,0.85,0.85,0.85,0.85,0.7,0.7,0.7,0.85,0.85,0.85,1,null,184,181,"Hot-Dry","3B",null,null,"LONG BEACH DAUGHERTY FLD","CA","",0,0]
["Minneapolis St Paul IntL Arp, MN","Louisville Bowman Field, KY","Louisville Bowman Field","KY",541,-85.67,38.229999999999997,-5,13.640000343322754,91.039998626708993,74.83999862670899,3855.6,1438.2,31.279999989271165,42.079999828338622,50,60.440000343322751,69.980000686645511,74.480000686645511,75.019999313354489,75.919999313354495,67.639998626708987,56.659999656677243,51.8,37.220000171661376,57.774027282064907,52.563520652111109,51.908222847097157,54.345929825638947,59.2412156975779,65.318048761754341,70.992408833158478,74.785186514643215,75.707735855056256,73.519580151903256,68.79109590971116,62.754835414355199,56.984242985539865,1,1,1,1,0,0,0,0,0,1,1,1,0,0,0,0,1,1,1,1,1,0,0,0,1,1,1,1,1,0,0,0,0,1,1,1,0,0,0,1,1,1,1,1,1,1,0,0,0.85,0.85,0.85,0.85,0.85,0.7,0.7,0.7,0.7,0.85,0.85,0.85,1,null,214,151,"Mixed-Humid","4A",null,null,"LOUISVILLE BOWMAN FIELD","KY","",0,0]
["Morris Muni AWOS, MN","Lovelock Derby Field, NV","Lovelock Derby Field","NV",3900,-118.55,40.07,-8,10.399999999999999,96.8,61.880000686645509,5137.2,1148.4000000000001,30.919999957084656,38.839999914169312,43.159999656677243,50.180000686645506,60.259999656677245,71.239998626708982,79.7,74.83999862670899,65.66000137329101,53.419999313354495,39.920000171661378,32.720000010728839,53.488054622477051,48.562615733389684,47.453900571825685,49.482073115491474,54.118458935795573,60.154512619807491,66.016843756386606,70.177345393526153,71.55151866423472,69.781164128851017,65.327751979012021,59.352132720731845,53.411943600761482,1,1,1,1,1,0,0,0,1,1,1,1,0,0,0,0,0,1,1,1,0,0,0,0,1,1,1,1,1,1,0,0,1,1,1,1,0,0,0,0,1,1,1,1,1,0,0,0,0.85,0.85,0.85,0.85,0.85,0.85,0.7,0.7,0.85,0.85,0.85,0.85,1,null,153,212,"Cold","5B",null,null,"LOVELOCK DERBY FIELD","NV","",0,0]
["Park Rapids Municipal Ap, MN","Lynchburg Regional Arpt, VA","Lynchburg Regional Arpt","VA",938,-79.2,37.33,-5,18.859999656677246,89.779997253417974,73.219999313354492,4069.8,1341,33.080000042915344,38.47999982833862,49.1,57.019999313354489,65.119999313354498,74.66000137329101,77.360001373291013,75.019999313354489,69.619999313354498,55.040000343322752,51.440000343322751,36.5,56.951945253333001,52.062184886420575,51.337983335800295,53.641139935555636,58.37130142524282,64.295478318579825,69.869442613989008,73.640254620482054,74.624994078594568,72.566973473275112,68.002647590357753,62.121778309615884,56.457304836013712,1,1,1,1,1,0,0,0,0,1,1,1,0,0,0,0,0,1,1,1,1,0,0,0,1,1,1,1,1,1,0,0,0,1,1,1,0,0,0,0,1,1,1,1,1,1,0,0,0.85,0.85,0.85,0.85,0.85,0.85,0.7,0.7,0.7,0.85,0.85,0.85,1,null,184,181,"Mixed-Humid","4A",null,null,"LYNCHBURG REGIONAL ARPT","VA","",0,0]
["Redwood Falls Muni, MN","Madison Dane Co Regional Arpt, WI","Madison Dane Co Regional Arpt","WI",859,-89.33,43.13,-6,-2.9199993133544933,86.9,72.860001373291013,7446.6,696.6,14.719999313354492,19.579999828338622,37.939999914169313,45.5,61.160001373291017,66.739998626708982,73.400000000000006,69.980000686645511,59,46.759999656677245,34.519999957084657,19.759999656677245,45.907835537897398,41.552583593573466,39.62948074886139,40.906920295086344,45.051917928585496,50.98401613984025,57.156922113686448,61.961572780680555,64.145561902562548,63.139599058422739,59.205903965942873,53.369854871054123,47.152707906578172,1,1,1,1,1,0,0,0,1,1,1,1,0,0,0,0,0,1,1,1,0,0,0,0,1,1,1,1,1,1,0,0,1,1,1,1,0,0,0,0,1,1,1,1,1,0,0,0,0.85,0.85,0.85,0.85,0.85,0.85,0.7,0.7,0.85,0.85,0.85,0.85,1,null,153,212,"Cold","6A",null,null,"MADISON DANE CO REGIONAL ARPT","WI","",0,0]
["South St Paul Muni, MN","Manhattan Rgnl, KS","Manhattan Rgnl","KS",1082,-96.67,39.130000000000003,-6,8.7800006866455078,97.160001373291024,75.739998626708982,4912.2,1688.4,30.919999957084656,34.519999957084657,43.879999828338626,57.019999313354489,66.2,77.539998626708979,78.439998626708984,81.5,66.2,56.119999313354491,44.6,28.4,55.55238319586401,48.964455560672945,47.952147556789477,50.484950558206094,55.902650430927828,62.793040213847519,69.360033625926434,73.891842633874418,75.207181382479035,72.96318655693284,67.744789989521436,60.91224716346597,54.246565659049899,1,1,1,1,0,0,0,0,0,1,1,1,0,0,0,0,1,1,1,1,1,0,0,0,1,1,1,1,1,0,0,0,0,1,1,1,0,0,0,1,1,1,1,1,1,1,0,0,0.85,0.85,0.85,0.85,0.85,0.7,0.7,0.7,0.7,0.85,0.85,0.85,1,null,214,151,"Mixed-Humid","4A",null,null,"MANHATTAN RGNL","KS","",0,0]
["Thief River Awos, MN","Mankato Awos, MN","Mankato Awos","MN",1020,-93.92,44.22,-6,-8.1399986267089854,86.180000686645513,71.419999313354495,7507.8,721.80000000000007,13.640000343322754,25.879999828338622,25.520000171661376,49.459999656677248,60.080000686645505,67.280000686645508,71.599999999999994,71.780000686645508,61.339998626708983,41.720000171661376,41.179999828338623,19.220000171661376,45.788493228285283,41.571226556951181,39.659125763700501,40.908731519304482,44.994314826557329,50.850905435679024,56.951892751608789,61.706960411389048,63.87662675168734,62.895334805334535,59.018873440314117,53.257702049496558,47.113558738237003,1,1,1,1,1,0,0,0,1,1,1,1,0,0,0,0,0,1,1,1,0,0,0,0,1,1,1,1,1,1,0,0,1,1,1,1,0,0,0,0,1,1,1,1,1,0,0,0,0.85,0.85,0.85,0.85,0.85,0.85,0.7,0.7,0.85,0.85,0.85,0.85,1,null,153,212,"Cold","6A",null,null,"MANKATOAWOS","MN",false,0,0]
["Two Harbors, MN","Mansfield Lahm Municipal Arpt, OH","Mansfield Lahm Municipal Arpt","OH",1296,-82.52,40.82,-5,5.7199993133544913,85.460001373291021,71.780000686645508,6411.6,687.6,21.379999828338622,24.259999656677245,36.139999914169309,48.559999656677249,58.640000343322754,67.099999999999994,73.039998626708979,69.980000686645511,62.060001373291016,50.180000686645506,40.820000171661377,30.919999957084656,48.723726103469119,44.704435023335414,43.171718482563222,44.650210750006266,48.754520031900007,54.414794864598257,60.155597385482693,64.480498949040026,66.262147313978502,65.036128377944522,61.122022870139034,55.540102709363246,49.745381405516824,1,1,1,1,1,0,0,0,1,1,1,1,0,0,0,0,0,1,1,1,0,0,0,0,1,1,1,1,1,1,0,0,1,1,1,1,0,0,0,0,1,1,1,1,1,0,0,0,0.85,0.85,0.85,0.85,0.85,0.85,0.7,0.7,0.85,0.85,0.85,0.85,1,null,153,212,"Cold","5A",null,null,"MANSFIELD LAHM MUNICIPAL ARPT","OH","",0,0]
["Willmar, MN","March Afb, CA","March Afb","CA",1515,-117.25,33.9,-8,36.679999828338623,98.600000000000009,67.280000686645508,2124,1634.4,48.919999313354495,57.559999656677249,56.3,54.859999656677246,67.639998626708987,73.580000686645505,75.560001373291016,75.919999313354495,73.760001373291018,69.439998626708984,51.259999656677245,51.259999656677245,63.045808043283962,61.373176801348123,61.306352402852845,63.256936385657589,66.716478975235233,70.783197082447273,74.397037962625859,76.615998299378731,76.861671885717385,75.070020115418075,71.708064632598862,67.652150943158802,63.95951545377239,1,1,1,1,0,0,0,0,0,0,1,1,0,0,0,0,1,1,1,1,1,1,0,0,1,1,1,1,1,0,0,0,0,0,1,1,0,0,0,1,1,1,1,1,1,1,1,0,0.85,0.85,0.85,0.85,0.85,0.7,0.7,0.7,0.7,0.7,0.85,0.85,1,null,244,121,"Hot-Dry","3B",null,null,"MARCH AFB RIVERSIDE","CA",false,0,0]
["Cape Girardeau Municipal Ap, MO","Marion   Wytheville, VA","Marion   Wytheville","VA",2558,-81.349999999999994,36.9,-5,11.840000343322753,87.619999313354498,69.980000686645511,4750.2,727.2,31.1,38.299999999999997,48.919999313354495,51.259999656677245,61.519999313354496,70.33999862670899,71.239998626708982,72.319999313354487,61.339998626708983,55.219999313354492,47.3,30.740000021457671,53.376602137676656,50.093133937866362,49.14030874439527,50.855731169939098,54.792249923820066,59.923750729248837,64.912628822469301,68.458456247544945,69.636958443275176,68.140940651074317,64.360362962811564,59.280691213398299,54.226020124430278,1,1,1,1,1,0,0,0,1,1,1,1,0,0,0,0,0,1,1,1,0,0,0,0,1,1,1,1,1,1,0,0,1,1,1,1,0,0,0,0,1,1,1,1,1,0,0,0,0.85,0.85,0.85,0.85,0.85,0.85,0.7,0.7,0.85,0.85,0.85,0.85,1,null,153,212,"Mixed-Humid","4A",null,null,"MARION   WYTHEVILLE","VA","",0,0]
["Jefferson City Mem, MO","Marthas Vineyard, MA","Marthas Vineyard","MA",69,-70.62,41.4,-5,12.380000686645507,80.960001373291021,70.880000686645502,5243.4000000000005,408.6,37.579999828338622,30.740000021457671,40.820000171661377,45.859999656677246,53.780000686645508,64.219999313354492,68.719999313354492,69.439998626708984,62.419999313354495,55.580000686645505,48.740000343322755,34.880000042915341,51.185534080675204,49.081262839977029,48.061590588653829,49.420214812751269,52.802989171225292,57.328141397408821,61.816120828840461,65.097066464861001,66.315749264538965,65.154500775667884,61.916018312252902,57.444462234908556,52.905412543959628,1,1,1,1,1,1,0,0,1,1,1,1,0,0,0,0,0,0,1,1,0,0,0,0,1,1,1,1,1,1,1,0,1,1,1,1,0,0,0,0,0,1,1,1,1,0,0,0,0.85,0.85,0.85,0.85,0.85,0.85,0.85,0.7,0.85,0.85,0.85,0.85,1,null,122,243,"Cold","5A",null,null,"MARTHAS VINEYARD","MA","",0,0]
["Kansas City Downtown Ap, MO","Mason City Municipal Arpt, IA","Mason City Municipal Arpt","IA",1194,-93.33,43.15,-6,-7.9600013732910169,87.980000686645511,73.580000686645505,7695,729,14.180000686645508,16.159999656677247,34.700000000000003,46.759999656677245,59.180000686645506,68.539998626708979,73.580000686645505,68.900000000000006,62.239998626708989,46.759999656677245,33.259999978542325,17.600000000000001,45.310630000715385,41.046231602280187,39.066093283398743,40.277682153908415,44.365178903561194,50.263114514328471,56.434101179324777,61.269576126535732,63.509098294046254,62.568901716813457,58.694063121560902,52.894618901211402,46.682283563939784,1,1,1,1,1,0,0,0,1,1,1,1,0,0,0,0,0,1,1,1,0,0,0,0,1,1,1,1,1,1,0,0,1,1,1,1,0,0,0,0,1,1,1,1,1,0,0,0,0.85,0.85,0.85,0.85,0.85,0.85,0.7,0.7,0.85,0.85,0.85,0.85,1,null,153,212,"Cold","6A",null,null,"MASON CITY MUNICIPAL ARPT","IA","",0,0]
["Poplar Bluff Amos, MO","Mayport Ns, FL","Mayport Ns","FL",16,-81.42,30.4,-5,38.660000085830688,92.120002746582031,77.539998626708979,963,2809.8,55.040000343322752,57.2,64.039998626708979,68.180000686645513,77,78.619999313354498,80.960001373291021,80.419999313354495,79.33999862670899,71.239998626708982,65.83999862670899,55.040000343322752,69.471068150768545,67.099845102803386,67.507113520766126,69.990309441294798,73.902149580496129,78.222952522805983,81.82643439572243,83.773292117733234,83.556047221610598,81.231327937374104,77.405108171468555,73.074751069708668,69.369030943491069,1,1,1,0,0,0,0,0,0,0,1,1,0,0,0,1,1,1,1,1,1,1,0,0,1,1,1,1,0,0,0,0,0,0,1,1,0,0,1,1,1,1,1,1,1,1,1,0,0.85,0.85,0.85,0.85,0.7,0.7,0.7,0.7,0.7,0.7,0.85,0.85,1,null,275,90,"Hot-Humid","2A",null,null,"MAYPORT NS","FL","",0,0]
["St Joseph Rosecrans Memorial, MO","Mcalester Municipal Ap, OK","Mcalester Municipal Ap","OK",761,-95.78,34.9,-6,19.399999999999999,96.439998626708984,75.560001373291016,2952,2154.6,39.379999828338626,45.859999656677246,53.419999313354495,62.239998626708989,70.33999862670899,79.880000686645502,81.860001373291013,78.8,75.019999313354489,59,58.640000343322754,41.359999656677246,62.209424444486018,56.35828939378861,56.163812620228143,59.109210197157623,64.426718856199784,70.730248020086393,76.376685671925571,79.894200823527328,80.365898944077358,77.668824649366229,72.506011917483363,66.223227448346563,60.458175834475725,1,1,1,1,0,0,0,0,0,1,1,1,0,0,0,0,1,1,1,1,1,0,0,0,1,1,1,1,1,0,0,0,0,1,1,1,0,0,0,1,1,1,1,1,1,1,0,0,0.85,0.85,0.85,0.85,0.85,0.7,0.7,0.7,0.7,0.85,0.85,0.85,1,null,214,151,"Mixed-Humid","3A",null,null,"MCALESTER MUNICIPAL AP","OK","",0,0]
["Whiteman Afb, MO","Mccook Municipal, NE","Mccook Municipal","NE",2578,-100.58,40.200000000000003,-6,7.1599996566772459,98.600000000000009,70.7,5661,12.6,29.660000085830688,29.119999957084655,44.959999656677248,51.619999313354491,64.760001373291018,69.080000686645505,77.539998626708979,78.619999313354498,67.460001373291021,51.619999313354491,36.679999828338623,26.420000171661378,52.442575314012295,47.096677817602682,45.821244622651818,47.835755772997501,52.615097892745581,58.913461806492244,65.089081899393506,69.532187625048266,71.084615005732815,69.341699921041609,64.757760046933896,58.527669952247585,52.275398628757188,1,1,1,1,1,0,0,0,0,1,1,1,0,0,0,0,0,1,1,1,1,0,0,0,1,1,1,1,1,1,0,0,0,1,1,1,0,0,0,0,1,1,1,1,1,1,0,0,0.85,0.85,0.85,0.85,0.85,0.85,0.7,0.7,0.7,0.85,0.85,0.85,1,null,184,181,"Cold","5A",null,null,"MCCOOK MUNICIPAL","NE","",1,0]
["Greenville Municipal, MS","Medford Rogue Valley Intl Ap, OR","Medford Rogue Valley Intl Ap","OR",1952,-122.7,42.19,-8,25.7,95.360001373291013,65.83999862670899,4563,597.6,37.579999828338622,42.97999982833862,45.859999656677246,51.259999656677245,55.759999656677245,66.380000686645502,72.5,69.619999313354498,63.680000686645506,55.580000686645505,42.079999828338622,38.47999982833862,53.540328737023756,51.707600006385583,50.916977050595769,52.374163601745444,55.69932152935295,60.025697177352647,64.225554061626539,67.204134763534938,68.185026321807385,66.912544235783713,63.718380570728485,59.435143309490428,55.179324250895441,1,1,1,1,1,0,0,0,1,1,1,1,0,0,0,0,0,1,1,1,0,0,0,0,1,1,1,1,1,1,0,0,1,1,1,1,0,0,0,0,1,1,1,1,1,0,0,0,0.85,0.85,0.85,0.85,0.85,0.85,0.7,0.7,0.85,0.85,0.85,0.85,1,null,153,212,"Marine","4C",null,null,"MEDFORD ROGUE VALLEY INTL AP","OR","",0,0]
["Greenwood Leflore Arpt, MS","Mekoryuk, AK","Mekoryuk","AK",49,-166.27,60.37,-9,-10.480000686645509,57.2,52.340000343322757,11230.2,0,13.819999313354492,26.23999991416931,29.480000042915343,28.4,35.6,41.179999828338623,47.119999313354491,47.659999656677243,43.340000343322757,32,31.279999989271165,26.779999828338624,33.608164233475513,{"$f":"MAX($Z579+6+(0.4+0.01*($Z579-44))*(MAX($N579:$Y579)-MIN($N579:$Y579))/2*SIN((0.986*((1*30-15)-15-(35-1*($Z579-44)))-90)*PI()/180),32)","v":36.050738442173405},{"$f":"MAX($Z579+6+(0.4+0.01*($Z579-44))*(MAX($N579:$Y579)-MIN($N579:$Y579))/2*SIN((0.986*((2*30-15)-15-(35-1*($Z579-44)))-90)*PI()/180),32)","v":34.773177956153049},{"$f":"MAX($Z579+6+(0.4+0.01*($Z579-44))*(MAX($N579:$Y579)-MIN($N579:$Y579))/2*SIN((0.986*((3*30-15)-15-(35-1*($Z579-44)))-90)*PI()/180),32)","v":34.755931152710708},{"$f":"MAX($Z579+6+(0.4+0.01*($Z579-44))*(MAX($N579:$Y579)-MIN($N579:$Y579))/2*SIN((0.986*((4*30-15)-15-(35-1*($Z579-44)))-90)*PI()/180),32)","v":36.003493676944913},{"$f":"MAX($Z579+6+(0.4+0.01*($Z579-44))*(MAX($N579:$Y579)-MIN($N579:$Y579))/2*SIN((0.986*((5*30-15)-15-(35-1*($Z579-44)))-90)*PI()/180),32)","v":38.19066913139357},{"$f":"MAX($Z579+6+(0.4+0.01*($Z579-44))*(MAX($N579:$Y579)-MIN($N579:$Y579))/2*SIN((0.986*((6*30-15)-15-(35-1*($Z579-44)))-90)*PI()/180),32)","v":40.747336528460629},{"$f":"MAX($Z579+6+(0.4+0.01*($Z579-44))*(MAX($N579:$Y579)-MIN($N579:$Y579))/2*SIN((0.986*((7*30-15)-15-(35-1*($Z579-44)))-90)*PI()/180),32)","v":43.007061111663361},{"$f":"MAX($Z579+6+(0.4+0.01*($Z579-44))*(MAX($N579:$Y579)-MIN($N579:$Y579))/2*SIN((0.986*((8*30-15)-15-(35-1*($Z579-44)))-90)*PI()/180),32)","v":44.380810844980047},{"$f":"MAX($Z579+6+(0.4+0.01*($Z579-44))*(MAX($N579:$Y579)-MIN($N579:$Y579))/2*SIN((0.986*((9*30-15)-15-(35-1*($Z579-44)))-90)*PI()/180),32)","v":44.510496690297494},{"$f":"MAX($Z579+6+(0.4+0.01*($Z579-44))*(MAX($N579:$Y579)-MIN($N579:$Y579))/2*SIN((0.986*((10*30-15)-15-(35-1*($Z579-44)))-90)*PI()/180),32)","v":43.362314033514338},{"$f":"MAX($Z579+6+(0.4+0.01*($Z579-44))*(MAX($N579:$Y579)-MIN($N579:$Y579))/2*SIN((0.986*((11*30-15)-15-(35-1*($Z579-44)))-90)*PI()/180),32)","v":41.235554378151441},{"$f":"MAX($Z579+6+(0.4+0.01*($Z579-44))*(MAX($N579:$Y579)-MIN($N579:$Y579))/2*SIN((0.986*((12*30-15)-15-(35-1*($Z579-44)))-90)*PI()/180),32)","v":38.684590402737506},{"$f":"IF(AND(OR(LEFT(AM$1,3)=\"Jan\",LEFT(AM$1,3)=\"Dec\"),I579<59),1,IF(N579<66,1,0))","v":1},{"$f":"IF(AND(OR(LEFT(AN$1,3)=\"Jan\",LEFT(AN$1,3)=\"Dec\"),J579<59),1,IF(O579<66,1,0))","v":1},{"$f":"IF(AND(OR(LEFT(AO$1,3)=\"Jan\",LEFT(AO$1,3)=\"Dec\"),K579<59),1,IF(P579<66,1,0))","v":1},{"$f":"IF(AND(OR(LEFT(AP$1,3)=\"Jan\",LEFT(AP$1,3)=\"Dec\"),L579<59),1,IF(Q579<66,1,0))","v":1},{"$f":"IF(AND(OR(LEFT(AQ$1,3)=\"Jan\",LEFT(AQ$1,3)=\"Dec\"),M579<59),1,IF(R579<66,1,0))","v":1},{"$f":"IF(AND(OR(LEFT(AR$1,3)=\"Jan\",LEFT(AR$1,3)=\"Dec\"),N579<59),1,IF(S579<66,1,0))","v":1},{"$f":"IF(AND(OR(LEFT(AS$1,3)=\"Jan\",LEFT(AS$1,3)=\"Dec\"),O579<59),1,IF(T579<66,1,0))","v":1},{"$f":"IF(AND(OR(LEFT(AT$1,3)=\"Jan\",LEFT(AT$1,3)=\"Dec\"),P579<59),1,IF(U579<66,1,0))","v":1},{"$f":"IF(AND(OR(LEFT(AU$1,3)=\"Jan\",LEFT(AU$1,3)=\"Dec\"),Q579<59),1,IF(V579<66,1,0))","v":1},{"$f":"IF(AND(OR(LEFT(AV$1,3)=\"Jan\",LEFT(AV$1,3)=\"Dec\"),R579<59),1,IF(W579<66,1,0))","v":1},{"$f":"IF(AND(OR(LEFT(AW$1,3)=\"Jan\",LEFT(AW$1,3)=\"Dec\"),S579<59),1,IF(X579<66,1,0))","v":1},{"$f":"IF(AND(OR(LEFT(AX$1,3)=\"Jan\",LEFT(AX$1,3)=\"Dec\"),T579<59),1,IF(Y579<66,1,0))","v":1},{"$f":"IF(OR(LEFT(AY$1,3)=\"Jul\", LEFT(AY$1,3)=\"Aug\"),1,IF(N579>66,1,0))","v":0},{"$f":"IF(OR(LEFT(AZ$1,3)=\"Jul\", LEFT(AZ$1,3)=\"Aug\"),1,IF(O579>66,1,0))","v":0},{"$f":"IF(OR(LEFT(BA$1,3)=\"Jul\", LEFT(BA$1,3)=\"Aug\"),1,IF(P579>66,1,0))","v":0},{"$f":"IF(OR(LEFT(BB$1,3)=\"Jul\", LEFT(BB$1,3)=\"Aug\"),1,IF(Q579>66,1,0))","v":0},{"$f":"IF(OR(LEFT(BC$1,3)=\"Jul\", LEFT(BC$1,3)=\"Aug\"),1,IF(R579>66,1,0))","v":0},{"$f":"IF(OR(LEFT(BD$1,3)=\"Jul\", LEFT(BD$1,3)=\"Aug\"),1,IF(S579>66,1,0))","v":0},{"$f":"IF(OR(LEFT(BE$1,3)=\"Jul\", LEFT(BE$1,3)=\"Aug\"),1,IF(T579>66,1,0))","v":1},{"$f":"IF(OR(LEFT(BF$1,3)=\"Jul\", LEFT(BF$1,3)=\"Aug\"),1,IF(U579>66,1,0))","v":1},{"$f":"IF(OR(LEFT(BG$1,3)=\"Jul\", LEFT(BG$1,3)=\"Aug\"),1,IF(V579>66,1,0))","v":0},{"$f":"IF(OR(LEFT(BH$1,3)=\"Jul\", LEFT(BH$1,3)=\"Aug\"),1,IF(W579>66,1,0))","v":0},{"$f":"IF(OR(LEFT(BI$1,3)=\"Jul\", LEFT(BI$1,3)=\"Aug\"),1,IF(X579>66,1,0))","v":0},{"$f":"IF(OR(LEFT(BJ$1,3)=\"Jul\", LEFT(BJ$1,3)=\"Aug\"),1,IF(Y579>66,1,0))","v":0},{"$f":"IF(AND(AY579=1,BJ579=0),1,AM579)","v":1},{"$f":"IF(AND(AY579=0,AZ579=1),1,AN579)","v":1},{"$f":"IF(AND(AZ579=0,BA579=1),1,AO579)","v":1},{"$f":"IF(AND(BA579=0,BB579=1),1,AP579)","v":1},{"$f":"IF(AND(BB579=0,BC579=1),1,AQ579)","v":1},{"$f":"IF(AND(BC579=0,BD579=1),1,AR579)","v":1},{"$f":"IF(AND(BD579=0,BE579=1),1,AS579)","v":1},{"$f":"IF(AND(BE579=0,BF579=1),1,AT579)","v":1},{"$f":"IF(AND(BF579=0,BG579=1),1,AU579)","v":1},{"$f":"IF(AND(BG579=0,BH579=1),1,AV579)","v":1},{"$f":"IF(AND(BH579=0,BI579=1),1,AW579)","v":1},{"$f":"IF(AND(BI579=0,BJ579=1),1,AX579)","v":1},{"$f":"IF(OR(AND(AX579=0,AM579=1),AND(AM579=1,AN579=0)),1,AY579)","v":0},{"$f":"IF(OR(AND(AM579=0,AN579=1),AND(AN579=1,AO579=0)),1,AZ579)","v":0},{"$f":"IF(OR(AND(AN579=0,AO579=1),AND(AO579=1,AP579=0)),1,BA579)","v":0},{"$f":"IF(OR(AND(AO579=0,AP579=1),AND(AP579=1,AQ579=0)),1,BB579)","v":0},{"$f":"IF(OR(AND(AP579=0,AQ579=1),AND(AQ579=1,AR579=0)),1,BC579)","v":0},{"$f":"IF(OR(AND(AQ579=0,AR579=1),AND(AR579=1,AS579=0)),1,BD579)","v":0},{"$f":"IF(OR(AND(AR579=0,AS579=1),AND(AS579=1,AT579=0)),1,BE579)","v":1},{"$f":"IF(OR(AND(AS579=0,AT579=1),AND(AT579=1,AU579=0)),1,BF579)","v":1},{"$f":"IF(OR(AND(AT579=0,AU579=1),AND(AU579=1,AV579=0)),1,BG579)","v":0},{"$f":"IF(OR(AND(AU579=0,AV579=1),AND(AV579=1,AW579=0)),1,BH579)","v":0},{"$f":"IF(OR(AND(AV579=0,AW579=1),AND(AW579=1,AX579=0)),1,BI579)","v":0},{"$f":"IF(OR(AND(AW579=0,AX579=1),AND(AX579=1,AM579=0)),1,BJ579)","v":0},{"$f":"IF(BK579=1,0.85,0.7)","v":0.85},{"$f":"IF(BL579=1,0.85,0.7)","v":0.85},{"$f":"IF(BM579=1,0.85,0.7)","v":0.85},{"$f":"IF(BN579=1,0.85,0.7)","v":0.85},{"$f":"IF(BO579=1,0.85,0.7)","v":0.85},{"$f":"IF(BP579=1,0.85,0.7)","v":0.85},{"$f":"IF(BQ579=1,0.85,0.7)","v":0.85},{"$f":"IF(BR579=1,0.85,0.7)","v":0.85},{"$f":"IF(BS579=1,0.85,0.7)","v":0.85},{"$f":"IF(BT579=1,0.85,0.7)","v":0.85},{"$f":"IF(BU579=1,0.85,0.7)","v":0.85},{"$f":"IF(BV579=1,0.85,0.7)","v":0.85},1,null,{"$f":"BW579*31+BX579*28+BY579*31+BZ579*30+CA579*31+CB579*30+CC579*31+CD579*31+CE579*30+CF579*31+CG579*30+CH579*31","v":62},{"$f":"365-CW579","v":303},"Subarctic",8,null,null,"MEKORYUK","AK","",0,0]
["Jackson International Ap, MS","Memorial Fld, AR","Memorial Fld","AR",554,-93.1,34.47,-6,17.779999828338624,96.979997253417977,75.739998626708982,3133.8,2143.8000000000002,43.340000343322757,41.720000171661376,48.380000686645509,62.419999313354495,71.239998626708982,76.819999313354487,80.060001373291016,81.5,78.260001373291018,61.7,49.640000343322754,43.879999828338626,61.68619189510607,56.71794793313174,56.484755095499764,59.171389379051405,64.077538155491368,69.924338140199382,75.187730815246141,78.495731768544388,78.986059573779158,76.530902732335804,71.770235710048709,65.944999730376566,60.573632321024611,1,1,1,1,0,0,0,0,0,1,1,1,0,0,0,0,1,1,1,1,1,0,0,0,1,1,1,1,1,0,0,0,0,1,1,1,0,0,0,1,1,1,1,1,1,1,0,0,0.85,0.85,0.85,0.85,0.85,0.7,0.7,0.7,0.7,0.85,0.85,0.85,1,null,214,151,"Mixed-Humid","3A",null,null,"MEMORIAL FLD","AR","",0,0]
["Meridian Naas, MS","Mercury Desert Rock Ap  Surfra, NV","Mercury Desert Rock Ap  Surfra","NV",3067,-116.02,36.630000000000003,-8,28.76000008583069,101.47999725341798,64.939998626708984,2869.2000000000003,2680.2000000000003,44.240000343322755,46.580000686645505,56.480000686645511,57.559999656677249,71.960001373291021,82.219999313354492,86.719999313354492,86.719999313354492,77.900000000000006,63.139998626708987,50.180000686645506,41.540000343322752,63.876273997058611,56.80575118248057,56.791047448795965,60.187209664361006,66.108975811244704,73.012746286083186,79.098946924286352,82.781115738315691,83.099438682855407,79.970939976906152,74.211111019798025,67.321339990852266,61.097551883349034,1,1,1,1,0,0,0,0,0,1,1,1,0,0,0,0,1,1,1,1,1,0,0,0,1,1,1,1,1,0,0,0,0,1,1,1,0,0,0,1,1,1,1,1,1,1,0,0,0.85,0.85,0.85,0.85,0.85,0.7,0.7,0.7,0.7,0.85,0.85,0.85,1,null,214,151,"Cold","5B",null,null,"MERCURY DESERT ROCK AP","NV",false,0,0]
["Tupelo C D Lemons Arpt, MS","Meridian Naas, MS","Meridian Naas","MS",272,-88.57,32.549999999999997,-6,25.520000171661376,95,76.639998626708987,2197.8000000000002,2082.6,44.240000343322755,49.459999656677248,57.380000686645509,65.66000137329101,72.319999313354487,76.280000686645508,80.419999313354495,79.33999862670899,71.599999999999994,65.66000137329101,58.280000686645508,47.480000686645511,64.086356392951856,59.572755615689026,59.581002781820899,62.32763225909364,67.09669274741465,72.645055137056303,77.526453268305929,80.468475493631075,80.704238382065881,78.172286703523739,73.532612681573099,67.994618849576341,63.001868642911695,1,1,1,1,0,0,0,0,0,1,1,1,0,0,0,0,1,1,1,1,1,0,0,0,1,1,1,1,1,0,0,0,0,1,1,1,0,0,0,1,1,1,1,1,1,1,0,0,0.85,0.85,0.85,0.85,0.85,0.7,0.7,0.7,0.7,0.85,0.85,0.85,1,null,214,151,"Mixed-Humid","3A",null,null,"MERIDIAN NAAS","MS","",0,0]
["Butte Bert Mooney Arpt, MT","Miami Opa Locka, FL","Miami Opa Locka","FL",10,-80.28,25.9,-5,23.720000171661376,93.379997253417969,82.580000686645505,187.20000000000002,4129.2,66.919999313354495,68,70.33999862670899,70.33999862670899,78.980000686645511,79.7,83.480000686645511,83.83999862670899,82.4,78.260001373291018,72.139998626708987,67.639998626708987,75.218246174642488,75.205937585612702,75.796113558703581,77.799651955731804,80.694299618050692,83.725522024606065,86.103184342578018,87.207512247901732,86.750645653846405,84.851673878679904,82.005593179640243,78.954278350363296,76.493101623284971,1,0,0,0,0,0,0,0,0,0,0,0,1,1,1,1,1,1,1,1,1,1,1,1,1,0,0,0,0,0,0,0,0,0,0,0,1,1,1,1,1,1,1,1,1,1,1,1,0.85,0.7,0.7,0.7,0.7,0.7,0.7,0.7,0.7,0.7,0.7,0.7,1,null,365,0,"Hot-Humid","1A",null,null,"MIAMI OPA LOCKA","FL","",0,0]
["Great Falls Intl Arpt, MT","Miles City Municipal Arpt, MT","Miles City Municipal Arpt","MT",2627,-105.88,46.43,-7,-11.560001373291017,94.639998626708987,64.939998626708984,7426.8,754.2,14,22.820000171661377,32,47.659999656677243,59.719999313354492,68,75.560001373291016,68.360001373291013,59.540000343322752,46.580000686645505,33.259999978542325,24.440000343322755,46.118411232739277,41.175080758220382,39.170300511392483,40.540644860509758,44.928912433329145,51.191233661744981,57.69523801227934,62.745556521224486,65.025745841459809,63.941439487884914,59.775278621225794,53.613237273859497,47.061546482908639,1,1,1,1,1,0,0,0,1,1,1,1,0,0,0,0,0,1,1,1,0,0,0,0,1,1,1,1,1,1,0,0,1,1,1,1,0,0,0,0,1,1,1,1,1,0,0,0,0.85,0.85,0.85,0.85,0.85,0.85,0.7,0.7,0.85,0.85,0.85,0.85,1,null,153,212,"Cold","6B",null,null,"MILES CITY MUNICIPAL ARPT","MT","",0,0]
["Kalispell Glacier Pk IntL Ar, MT","Milwaukee Mitchell Intl Ap, WI","Milwaukee Mitchell Intl Ap","WI",672,-87.9,42.95,-6,1.7600013732910149,86.719999313354492,72.680000686645513,7113.6,604.80000000000007,18.5,21.740000343322755,34.880000042915341,45.320000171661377,55.219999313354492,65.3,71.060001373291016,70.16000137329101,63.139998626708987,50,37.76000008583069,24.259999656677245,46.577534330642386,43.085151878798037,41.397879595289801,42.624756602245675,46.445978501055627,51.865484916982894,57.470597985594118,61.800258608148788,63.725874021288163,62.745502892945709,59.114694065700284,53.779873812831113,48.131645245317173,1,1,1,1,1,1,0,0,1,1,1,1,0,0,0,0,0,0,1,1,0,0,0,0,1,1,1,1,1,1,1,0,1,1,1,1,0,0,0,0,0,1,1,1,1,0,0,0,0.85,0.85,0.85,0.85,0.85,0.85,0.85,0.7,0.85,0.85,0.85,0.85,1,null,122,243,"Cold","6A",null,null,"MILWAUKEE MITCHELL INTL AP","WI","",0,0]
["Miles City Municipal Arpt, MT","Minneapolis Crystal, MN","Minneapolis Crystal","MN",869,-93.35,45.07,-6,-3.8199993133544932,88.16000137329101,72.680000686645513,8141.4000000000005,691.2,12.380000686645507,14.9,30.559999978542329,47.3,57.2,64.760001373291018,71.239998626708982,69.439998626708984,63.5,41.179999828338623,35.6,18.140000343322754,43.989972553416472,40.29310579995051,38.26463910409332,39.292561264660179,43.108928529739359,48.718945959688185,54.660276058405003,59.384219576990986,61.659407839153488,60.892777962647443,57.284163838908142,51.774206349715207,45.799160825641891,1,1,1,1,1,1,0,0,1,1,1,1,0,0,0,0,0,0,1,1,0,0,0,0,1,1,1,1,1,1,1,0,1,1,1,1,0,0,0,0,0,1,1,1,1,0,0,0,0.85,0.85,0.85,0.85,0.85,0.85,0.85,0.7,0.85,0.85,0.85,0.85,1,null,122,243,"Cold","6A",null,null,"MINNEAPOLIS CRYSTAL","MN","",0,0]
["Missoula International Ap, MT","Minneapolis St Paul IntL Arp, MN","Minneapolis St Paul IntL Arp","MN",833,-93.23,44.88,-6,-7.6000000000000014,87.8,72.319999313354487,7563.6,817.2,11.480000686645507,23.359999656677246,35.6,45.5,61.7,68.719999313354492,74.83999862670899,69.080000686645505,60.440000343322751,46.759999656677245,32.540000021457672,19.399999999999999,45.903397178323303,40.72399764884247,38.647245735288017,40.025913978838055,44.500631255890525,50.904993550701143,57.569605136917104,62.757232299817829,65.11564007563878,64.030073133448283,59.783501225821247,53.482858762134668,46.770505296387874,1,1,1,1,1,0,0,0,1,1,1,1,0,0,0,0,0,1,1,1,0,0,0,0,1,1,1,1,1,1,0,0,1,1,1,1,0,0,0,0,1,1,1,1,1,0,0,0,0.85,0.85,0.85,0.85,0.85,0.85,0.7,0.7,0.85,0.85,0.85,0.85,1,null,153,212,"Cold","6A",null,null,"MINNEAPOLIS ST PAUL INT'L ARP","MN",false,0,0]
["Asheville Regional Arpt, NC","Minot Faa Ap, ND","Minot Faa Ap","ND",1715,-101.28,48.27,-6,-14.980000686645509,87.980000686645511,68.180000686645513,8733.6,478.8,9.1400003433227539,16.340000343322753,22.459999656677248,47.480000686645511,56.659999656677243,66.019999313354489,70.33999862670899,66.2,57.559999656677249,45.5,28.4,13.819999313354492,41.778191574828263,38.50964864509853,36.307226089007862,37.094887459725292,40.667316682744179,46.093305028283879,51.958485017068014,56.73400709986042,59.175057852758329,58.645339779288122,55.282932058502404,49.964298079095435,44.075821750430229,1,1,1,1,1,0,0,0,1,1,1,1,0,0,0,0,0,1,1,1,0,0,0,0,1,1,1,1,1,1,0,0,1,1,1,1,0,0,0,0,1,1,1,1,1,0,0,0,0.85,0.85,0.85,0.85,0.85,0.85,0.7,0.7,0.85,0.85,0.85,0.85,1,null,153,212,"Very Cold",7,null,null,"MINOT FAA AP","ND","",0,0]
["Cherry Point Mcas, NC","Moab Canyonlands  Uo, UT","Moab Canyonlands  Uo","UT",3280,-109.54,38.58,-7,12.019999313354491,98.779997253417974,60.980000686645511,4980.6000000000004,1515.6000000000001,33.440000021457671,35.419999957084656,46.580000686645505,54.319999313354494,66.380000686645502,75.560001373291016,81.139998626708987,78.439998626708984,66.380000686645502,53.6,37.4,28.939999914169313,54.919671220354836,48.754515895976411,47.698538151586298,50.088852485398569,55.302386630446158,61.980152568829276,68.381487701220266,72.837785377800998,74.187442935544752,72.078651333173113,67.061099599306502,60.442689916190034,53.94861276050851,1,1,1,1,0,0,0,0,0,1,1,1,0,0,0,0,1,1,1,1,1,0,0,0,1,1,1,1,1,0,0,0,0,1,1,1,0,0,0,1,1,1,1,1,1,1,0,0,0.85,0.85,0.85,0.85,0.85,0.7,0.7,0.7,0.7,0.85,0.85,0.85,1,null,214,151,"Cold","5B",null,null,"MOAB CANYONLANDS [UO]","UT",false,1,0]
["Fayetteville Pope Afb, NC","Mobridge, SD","Mobridge","SD",1666,-100.43,45.53,-7,-10.119999313354493,91.039998626708993,69.619999313354498,8294.4,797.4,17.600000000000001,23.359999656677246,27.860000085830688,48.380000686645509,55.4,64.219999313354492,74.3,74.119999313354498,61.880000686645509,38.839999914169312,24.8,14.359999656677246,43.861260216595376,40.033271638433689,37.9615221489546,38.991622767320585,42.855061893023503,48.544774580549785,54.577649536769108,59.381124934925666,61.703100888693378,60.938318582990121,57.286130311449519,51.698535228973547,45.632026101256216,1,1,1,1,1,1,0,0,1,1,1,1,0,0,0,0,0,0,1,1,0,0,0,0,1,1,1,1,1,1,1,0,1,1,1,1,0,0,0,0,0,1,1,1,1,0,0,0,0.85,0.85,0.85,0.85,0.85,0.85,0.85,0.7,0.85,0.85,0.85,0.85,1,null,122,243,"Cold","6A",null,null,"MOBRIDGE","SD","",0,0]
["Goldsboro Seymour Johnson Afb, NC","Molokai  Amos, HI","Molokai  Amos","HI",449,-157.1,21.15,-10,61.7,86.360001373291013,72.5,36,3789,71.060001373291016,70.519999313354489,70.519999313354489,75.019999313354489,75.2,76.819999313354487,78.619999313354498,78.080000686645505,77.900000000000006,76.819999313354487,74.119999313354498,71.239998626708982,74.679725688777552,77.82510451388427,78.092194926427638,79.033765107233577,80.404380278639309,81.846768474398772,82.984948983412352,83.52223751611308,83.318581536585597,82.427067114327386,81.08008122215314,79.62873649053904,78.451348289679601,0,0,0,0,0,0,0,0,0,0,0,0,1,1,1,1,1,1,1,1,1,1,1,1,0,0,0,0,0,0,0,0,0,0,0,0,1,1,1,1,1,1,1,1,1,1,1,1,0.7,0.7,0.7,0.7,0.7,0.7,0.7,0.7,0.7,0.7,0.7,0.7,1,null,365,0,"Hot-Humid","1A",null,null,"MOLOKAI (AMOS)","HI",false,1,0]
["Kinston Stallings Afb, NC","Monterey Naf, CA","Monterey Naf","CA",164,-121.87,36.6,-8,38.660000085830688,72.860001373291013,59.359999656677246,3254.4,46.800000000000004,50.9,50.359999656677246,55.759999656677245,52.519999313354489,55.4,58.280000686645508,58.640000343322754,59.540000343322752,61.7,58.819999313354494,53.419999313354495,51.440000343322751,55.597753341883831,58.906222006303196,58.690997909492793,59.233464410592241,60.392219256428149,61.865215139480682,63.268492983278527,64.236266792669625,64.516271410390331,64.035519317829994,62.919325956528439,61.458644327169303,60.034223606230313,1,1,1,1,1,1,1,1,1,1,1,1,0,0,0,0,0,0,1,1,0,0,0,0,1,1,1,1,1,1,1,1,1,1,1,1,0,0,0,0,0,0,1,1,0,0,0,0,0.85,0.85,0.85,0.85,0.85,0.85,0.85,0.85,0.85,0.85,0.85,0.85,1,null,62,303,"Marine","3C",null,null,"MONTEREY PENINSULA","CA",false,1,0]
["New River Mcaf, NC","Monticello Awos, NY","Monticello Awos","NY",1404,-74.8,41.7,-5,3.380000686645507,82.4,68.360001373291013,6843.6,466.2,25.879999828338622,26.6,29.480000042915343,48.740000343322755,53.240000343322755,65.66000137329101,69.980000686645511,68.360001373291013,62.419999313354495,48.2,38.839999914169312,24.440000343322755,46.908438656101488,44.590632261083407,43.144515277783043,44.243515389655222,47.601161281436099,52.34223080854354,57.230891136644011,60.992837614682045,62.647460919806974,61.763457989021013,58.571257809131048,53.902956550319239,48.975418876394912,1,1,1,1,1,1,0,0,1,1,1,1,0,0,0,0,0,0,1,1,0,0,0,0,1,1,1,1,1,1,1,0,1,1,1,1,0,0,0,0,0,1,1,1,1,0,0,0,0.85,0.85,0.85,0.85,0.85,0.85,0.85,0.7,0.85,0.85,0.85,0.85,1,null,122,243,"Cold","6A",null,null,"MONTICELLOAWOS","NY",false,1,0]
["Pitt Greenville Arp, NC","Monticello Muni, IA","Monticello Muni","IA",850,-91.17,42.23,-6,-22.18000068664551,89.779997253417974,77.180000686645513,6611.4000000000005,811.80000000000007,18.140000343322754,23.179999828338623,37.579999828338622,53.419999313354495,57.919999313354495,71.780000686645508,71.239998626708982,71.239998626708982,65.119999313354498,51.8,37.220000171661376,21.920000171661378,48.493917490292901,44.167640005564643,42.561101304827076,44.065035033094908,48.287417687774834,54.127620161038195,60.063303677984514,64.547240858269902,66.410624376289405,65.167734602462005,61.142549909847006,55.384296718548249,49.393952460245487,1,1,1,1,1,0,0,0,1,1,1,1,0,0,0,0,0,1,1,1,0,0,0,0,1,1,1,1,1,1,0,0,1,1,1,1,0,0,0,0,1,1,1,1,1,0,0,0,0.85,0.85,0.85,0.85,0.85,0.85,0.7,0.7,0.85,0.85,0.85,0.85,1,null,153,212,"Cold","5A",null,null,"MONTICELLO MUNI","IA","",1,0]
["Southern Pines Awos, NC","Moody Afb Valdosta, GA","Moody Afb Valdosta","GA",233,-83.2,30.97,-5,33.619999957084659,93.739998626708982,76.280000686645508,1947.6000000000001,2269.8000000000002,48.019999313354489,55.580000686645505,56.480000686645511,65.3,73.939998626708984,79.16000137329101,81.680000686645513,78.260001373291018,75.019999313354489,65.3,56.119999313354491,48.2,65.294575453457767,61.264296239974747,61.381622061201,64.082911947354859,68.664033061473091,73.930845587947474,78.510473677714586,81.209166694971529,81.323468716652002,78.823585159357535,74.361149196668649,69.099363530480019,64.409793681255252,1,1,1,1,0,0,0,0,0,1,1,1,0,0,0,0,1,1,1,1,1,0,0,0,1,1,1,1,1,0,0,0,0,1,1,1,0,0,0,1,1,1,1,1,1,1,0,0,0.85,0.85,0.85,0.85,0.85,0.7,0.7,0.7,0.7,0.85,0.85,0.85,1,null,214,151,"Hot-Humid","2A",null,null,"MOODY AFB VALDOSTA","GA","",0,0]
["Bismarck Municipal Arpt  Isis, ND","Morris Muni AWOS, MN","Morris Muni AWOS","MN",1128,-95.97,45.57,-6,-13.180000686645508,84.739998626708982,72.680000686645513,8625.6,426.6,11.299999999999999,20.840000343322753,28.4,39.379999828338626,53.059999656677249,66.019999313354489,67.819999313354487,68,57.019999313354489,39.200000000000003,30.740000021457671,20.120000171661378,41.926629965207347,39.28947047309358,37.253989922444511,38.000497469303113,41.33440441755117,46.386676544066574,51.840361261202887,56.273871603613053,58.531544778085376,58.024883479896886,54.885956784307375,49.932974306846837,44.457007258035745,1,1,1,1,1,0,0,0,1,1,1,1,0,0,0,0,0,1,1,1,0,0,0,0,1,1,1,1,1,1,0,0,1,1,1,1,0,0,0,0,1,1,1,1,1,0,0,0,0.85,0.85,0.85,0.85,0.85,0.85,0.7,0.7,0.85,0.85,0.85,0.85,1,null,153,212,"Cold","6A",null,null,"MORRIS MUNI AWOS","MN","",1,0]
["Grand Forks Af, ND","Mount Vernon AWOS, IL","Mount Vernon AWOS","IL",479,-88.87,38.32,-6,10.940000343322753,91.039998626708993,76.099999999999994,4615.2,1503,33.259999978542325,36.139999914169309,38.120000171661374,49.819999313354494,68.180000686645513,75.919999313354495,74.66000137329101,77.360001373291013,72.680000686645513,58.280000686645508,48.019999313354489,37.039999914169314,55.887726263314079,51.339590944844709,50.5267599837237,52.67533996116785,57.225270395436645,62.990541802287517,68.468347344003064,72.230812590596514,73.297192994198753,71.389520069191377,67.005058161607238,61.286684834261337,55.724982217726826,1,1,1,1,0,0,0,0,0,1,1,1,0,0,0,0,1,1,1,1,1,0,0,0,1,1,1,1,1,0,0,0,0,1,1,1,0,0,0,1,1,1,1,1,1,1,0,0,0.85,0.85,0.85,0.85,0.85,0.7,0.7,0.7,0.7,0.85,0.85,0.85,1,null,214,151,"Mixed-Humid","4A",null,null,"MOUNT VERNON AWOS","IL","",0,0]
["Minot Afb, ND","Mountain View Moffett Fld Nas, CA","Mountain View Moffett Fld Nas","CA",39,-122.05,37.4,-8,38.660000085830688,83.66000137329101,64.939998626708984,2500.2000000000003,372.6,48.559999656677249,51.259999656677245,57.559999656677249,55.580000686645505,57.2,63.86000137329102,64.400000000000006,66.2,71.780000686645508,61.339998626708983,53.959999656677248,50.9,58.579835612675915,58.630363083730309,58.329032664676944,59.657070361808749,62.268302683687928,65.482071685308512,68.460658950718681,70.427649807770052,70.870317777325567,69.673274631400659,67.148548112973927,63.95424709628665,60.923015367007096,1,1,1,1,1,1,1,0,0,1,1,1,0,0,0,0,0,0,1,1,1,0,0,0,1,1,1,1,1,1,1,0,0,1,1,1,0,0,0,0,0,0,1,1,1,1,0,0,0.85,0.85,0.85,0.85,0.85,0.85,0.85,0.7,0.7,0.85,0.85,0.85,1,null,123,242,"Marine","3C",null,null,"MOUNTAIN VIEW MOFFETT FLD NAS","CA","",0,0]
["Ainsworth Municipal, NE","Muskegon County Arpt, MI","Muskegon County Arpt","MI",623,-86.23,43.17,-5,8.6,83.83999862670899,71.060001373291016,6759,594,23.720000171661376,22.279999828338624,34.160000085830688,43.879999828338626,56.659999656677243,66.919999313354495,71.599999999999994,70.519999313354489,61.880000686645509,48.2,38.839999914169312,30.2,47.551506749375228,44.346493118137403,42.815041602754981,44.082215181775283,47.817705534090713,53.047799533721431,58.409192581475473,62.504354957887941,64.265819481184437,63.23443327837775,59.679043057371942,54.526416069493969,49.119663943519647,1,1,1,1,1,0,0,0,1,1,1,1,0,0,0,0,0,1,1,1,0,0,0,0,1,1,1,1,1,1,0,0,1,1,1,1,0,0,0,0,1,1,1,1,1,0,0,0,0.85,0.85,0.85,0.85,0.85,0.85,0.7,0.7,0.85,0.85,0.85,0.85,1,null,153,212,"Cold","5A",null,null,"MUSKEGON COUNTY ARPT","MI","",0,0]
["Bellevue Offutt Afb, NE","Nantucket Memorial Ap, MA","Nantucket Memorial Ap","MA",46,-70.069999999999993,41.25,-5,8.4199993133544915,78.980000686645511,71.780000686645508,5083.2,12.6,30.559999978542329,37.220000171661376,40.640000343322754,46.220000171661376,51.8,60.619999313354491,67.280000686645508,68.360001373291013,66.380000686645502,54.680000686645506,50.540000343322752,41.9,51.415835932542201,49.445104100106519,48.461986089548517,49.812827023569604,53.145509395628274,57.591318187257471,61.991384824931735,65.198764132461875,66.37740326612888,65.220071772363596,62.028445940034132,57.634472226780012,53.183507594145546,1,1,1,1,1,1,0,0,0,1,1,1,0,0,0,0,0,0,1,1,1,0,0,0,1,1,1,1,1,1,1,0,0,1,1,1,0,0,0,0,0,1,1,1,1,1,0,0,0.85,0.85,0.85,0.85,0.85,0.85,0.85,0.7,0.7,0.85,0.85,0.85,1,null,153,212,"Cold","5A",null,null,"NANTUCKET MEMORIAL AP","MA","",0,0]
["Chadron Municipal Ap, NE","Nasa Shuttle Fclty, FL","Nasa Shuttle Fclty","FL",10,-80.72,28.62,-5,42.440000343322751,90.5,77.900000000000006,721.80000000000007,3135.6,53.240000343322755,60.080000686645505,65.480000686645511,69.619999313354498,75.380000686645502,78.8,82.4,79.16000137329101,79.519999313354489,73.039998626708979,70.880000686645502,64.039998626708979,71.018575367862226,{"$f":"MAX($Z643+6+(0.4+0.01*($Z643-44))*(MAX($N643:$Y643)-MIN($N643:$Y643))/2*SIN((0.986*((1*30-15)-15-(35-1*($Z643-44)))-90)*PI()/180),32)","v":67.339292917589987},{"$f":"MAX($Z643+6+(0.4+0.01*($Z643-44))*(MAX($N643:$Y643)-MIN($N643:$Y643))/2*SIN((0.986*((2*30-15)-15-(35-1*($Z643-44)))-90)*PI()/180),32)","v":67.940385278808009},{"$f":"MAX($Z643+6+(0.4+0.01*($Z643-44))*(MAX($N643:$Y643)-MIN($N643:$Y643))/2*SIN((0.986*((3*30-15)-15-(35-1*($Z643-44)))-90)*PI()/180),32)","v":70.907847785881984},{"$f":"MAX($Z643+6+(0.4+0.01*($Z643-44))*(MAX($N643:$Y643)-MIN($N643:$Y643))/2*SIN((0.986*((4*30-15)-15-(35-1*($Z643-44)))-90)*PI()/180),32)","v":75.468165606361637},{"$f":"MAX($Z643+6+(0.4+0.01*($Z643-44))*(MAX($N643:$Y643)-MIN($N643:$Y643))/2*SIN((0.986*((5*30-15)-15-(35-1*($Z643-44)))-90)*PI()/180),32)","v":80.432621623714056},{"$f":"MAX($Z643+6+(0.4+0.01*($Z643-44))*(MAX($N643:$Y643)-MIN($N643:$Y643))/2*SIN((0.986*((6*30-15)-15-(35-1*($Z643-44)))-90)*PI()/180),32)","v":84.507153872433335},{"$f":"MAX($Z643+6+(0.4+0.01*($Z643-44))*(MAX($N643:$Y643)-MIN($N643:$Y643))/2*SIN((0.986*((7*30-15)-15-(35-1*($Z643-44)))-90)*PI()/180),32)","v":86.62967273144821},{"$f":"MAX($Z643+6+(0.4+0.01*($Z643-44))*(MAX($N643:$Y643)-MIN($N643:$Y643))/2*SIN((0.986*((8*30-15)-15-(35-1*($Z643-44)))-90)*PI()/180),32)","v":86.24691095115071},{"$f":"MAX($Z643+6+(0.4+0.01*($Z643-44))*(MAX($N643:$Y643)-MIN($N643:$Y643))/2*SIN((0.986*((9*30-15)-15-(35-1*($Z643-44)))-90)*PI()/180),32)","v":83.458641288113},{"$f":"MAX($Z643+6+(0.4+0.01*($Z643-44))*(MAX($N643:$Y643)-MIN($N643:$Y643))/2*SIN((0.986*((10*30-15)-15-(35-1*($Z643-44)))-90)*PI()/180),32)","v":78.99166919854197},{"$f":"MAX($Z643+6+(0.4+0.01*($Z643-44))*(MAX($N643:$Y643)-MIN($N643:$Y643))/2*SIN((0.986*((11*30-15)-15-(35-1*($Z643-44)))-90)*PI()/180),32)","v":74.010379795707948},{"$f":"MAX($Z643+6+(0.4+0.01*($Z643-44))*(MAX($N643:$Y643)-MIN($N643:$Y643))/2*SIN((0.986*((12*30-15)-15-(35-1*($Z643-44)))-90)*PI()/180),32)","v":69.813222926452951},{"$f":"IF(AND(OR(LEFT(AM$1,3)=\"Jan\",LEFT(AM$1,3)=\"Dec\"),I643<59),1,IF(N643<66,1,0))","v":1},{"$f":"IF(AND(OR(LEFT(AN$1,3)=\"Jan\",LEFT(AN$1,3)=\"Dec\"),J643<59),1,IF(O643<66,1,0))","v":1},{"$f":"IF(AND(OR(LEFT(AO$1,3)=\"Jan\",LEFT(AO$1,3)=\"Dec\"),K643<59),1,IF(P643<66,1,0))","v":1},{"$f":"IF(AND(OR(LEFT(AP$1,3)=\"Jan\",LEFT(AP$1,3)=\"Dec\"),L643<59),1,IF(Q643<66,1,0))","v":0},{"$f":"IF(AND(OR(LEFT(AQ$1,3)=\"Jan\",LEFT(AQ$1,3)=\"Dec\"),M643<59),1,IF(R643<66,1,0))","v":0},{"$f":"IF(AND(OR(LEFT(AR$1,3)=\"Jan\",LEFT(AR$1,3)=\"Dec\"),N643<59),1,IF(S643<66,1,0))","v":0},{"$f":"IF(AND(OR(LEFT(AS$1,3)=\"Jan\",LEFT(AS$1,3)=\"Dec\"),O643<59),1,IF(T643<66,1,0))","v":0},{"$f":"IF(AND(OR(LEFT(AT$1,3)=\"Jan\",LEFT(AT$1,3)=\"Dec\"),P643<59),1,IF(U643<66,1,0))","v":0},{"$f":"IF(AND(OR(LEFT(AU$1,3)=\"Jan\",LEFT(AU$1,3)=\"Dec\"),Q643<59),1,IF(V643<66,1,0))","v":0},{"$f":"IF(AND(OR(LEFT(AV$1,3)=\"Jan\",LEFT(AV$1,3)=\"Dec\"),R643<59),1,IF(W643<66,1,0))","v":0},{"$f":"IF(AND(OR(LEFT(AW$1,3)=\"Jan\",LEFT(AW$1,3)=\"Dec\"),S643<59),1,IF(X643<66,1,0))","v":0},{"$f":"IF(AND(OR(LEFT(AX$1,3)=\"Jan\",LEFT(AX$1,3)=\"Dec\"),T643<59),1,IF(Y643<66,1,0))","v":1},{"$f":"IF(OR(LEFT(AY$1,3)=\"Jul\", LEFT(AY$1,3)=\"Aug\"),1,IF(N643>66,1,0))","v":0},{"$f":"IF(OR(LEFT(AZ$1,3)=\"Jul\", LEFT(AZ$1,3)=\"Aug\"),1,IF(O643>66,1,0))","v":0},{"$f":"IF(OR(LEFT(BA$1,3)=\"Jul\", LEFT(BA$1,3)=\"Aug\"),1,IF(P643>66,1,0))","v":0},{"$f":"IF(OR(LEFT(BB$1,3)=\"Jul\", LEFT(BB$1,3)=\"Aug\"),1,IF(Q643>66,1,0))","v":1},{"$f":"IF(OR(LEFT(BC$1,3)=\"Jul\", LEFT(BC$1,3)=\"Aug\"),1,IF(R643>66,1,0))","v":1},{"$f":"IF(OR(LEFT(BD$1,3)=\"Jul\", LEFT(BD$1,3)=\"Aug\"),1,IF(S643>66,1,0))","v":1},{"$f":"IF(OR(LEFT(BE$1,3)=\"Jul\", LEFT(BE$1,3)=\"Aug\"),1,IF(T643>66,1,0))","v":1},{"$f":"IF(OR(LEFT(BF$1,3)=\"Jul\", LEFT(BF$1,3)=\"Aug\"),1,IF(U643>66,1,0))","v":1},{"$f":"IF(OR(LEFT(BG$1,3)=\"Jul\", LEFT(BG$1,3)=\"Aug\"),1,IF(V643>66,1,0))","v":1},{"$f":"IF(OR(LEFT(BH$1,3)=\"Jul\", LEFT(BH$1,3)=\"Aug\"),1,IF(W643>66,1,0))","v":1},{"$f":"IF(OR(LEFT(BI$1,3)=\"Jul\", LEFT(BI$1,3)=\"Aug\"),1,IF(X643>66,1,0))","v":1},{"$f":"IF(OR(LEFT(BJ$1,3)=\"Jul\", LEFT(BJ$1,3)=\"Aug\"),1,IF(Y643>66,1,0))","v":0},{"$f":"IF(AND(AY643=1,BJ643=0),1,AM643)","v":1},{"$f":"IF(AND(AY643=0,AZ643=1),1,AN643)","v":1},{"$f":"IF(AND(AZ643=0,BA643=1),1,AO643)","v":1},{"$f":"IF(AND(BA643=0,BB643=1),1,AP643)","v":1},{"$f":"IF(AND(BB643=0,BC643=1),1,AQ643)","v":0},{"$f":"IF(AND(BC643=0,BD643=1),1,AR643)","v":0},{"$f":"IF(AND(BD643=0,BE643=1),1,AS643)","v":0},{"$f":"IF(AND(BE643=0,BF643=1),1,AT643)","v":0},{"$f":"IF(AND(BF643=0,BG643=1),1,AU643)","v":0},{"$f":"IF(AND(BG643=0,BH643=1),1,AV643)","v":0},{"$f":"IF(AND(BH643=0,BI643=1),1,AW643)","v":0},{"$f":"IF(AND(BI643=0,BJ643=1),1,AX643)","v":1},{"$f":"IF(OR(AND(AX643=0,AM643=1),AND(AM643=1,AN643=0)),1,AY643)","v":0},{"$f":"IF(OR(AND(AM643=0,AN643=1),AND(AN643=1,AO643=0)),1,AZ643)","v":0},{"$f":"IF(OR(AND(AN643=0,AO643=1),AND(AO643=1,AP643=0)),1,BA643)","v":1},{"$f":"IF(OR(AND(AO643=0,AP643=1),AND(AP643=1,AQ643=0)),1,BB643)","v":1},{"$f":"IF(OR(AND(AP643=0,AQ643=1),AND(AQ643=1,AR643=0)),1,BC643)","v":1},{"$f":"IF(OR(AND(AQ643=0,AR643=1),AND(AR643=1,AS643=0)),1,BD643)","v":1},{"$f":"IF(OR(AND(AR643=0,AS643=1),AND(AS643=1,AT643=0)),1,BE643)","v":1},{"$f":"IF(OR(AND(AS643=0,AT643=1),AND(AT643=1,AU643=0)),1,BF643)","v":1},{"$f":"IF(OR(AND(AT643=0,AU643=1),AND(AU643=1,AV643=0)),1,BG643)","v":1},{"$f":"IF(OR(AND(AU643=0,AV643=1),AND(AV643=1,AW643=0)),1,BH643)","v":1},{"$f":"IF(OR(AND(AV643=0,AW643=1),AND(AW643=1,AX643=0)),1,BI643)","v":1},{"$f":"IF(OR(AND(AW643=0,AX643=1),AND(AX643=1,AM643=0)),1,BJ643)","v":1},{"$f":"IF(BK643=1,0.85,0.7)","v":0.85},{"$f":"IF(BL643=1,0.85,0.7)","v":0.85},{"$f":"IF(BM643=1,0.85,0.7)","v":0.85},{"$f":"IF(BN643=1,0.85,0.7)","v":0.85},{"$f":"IF(BO643=1,0.85,0.7)","v":0.7},{"$f":"IF(BP643=1,0.85,0.7)","v":0.7},{"$f":"IF(BQ643=1,0.85,0.7)","v":0.7},{"$f":"IF(BR643=1,0.85,0.7)","v":0.7},{"$f":"IF(BS643=1,0.85,0.7)","v":0.7},{"$f":"IF(BT643=1,0.85,0.7)","v":0.7},{"$f":"IF(BU643=1,0.85,0.7)","v":0.7},{"$f":"IF(BV643=1,0.85,0.7)","v":0.85},1,null,{"$f":"BW643*31+BX643*28+BY643*31+BZ643*30+CA643*31+CB643*30+CC643*31+CD643*31+CE643*30+CF643*31+CG643*30+CH643*31","v":306},{"$f":"365-CW643","v":59},"Hot-Humid","2A",null,null,"NASA SHUTTLE FCLTY","FL","",1,0]
["Columbus Muni, NE","Nashville International Ap, TN","Nashville International Ap","TN",581,-86.68,36.119999999999997,-6,18.320000171661377,92.120002746582031,74.83999862670899,3549.6,1841.4,36.320000171661377,36.5,53.6,58.819999313354494,68.360001373291013,76.099999999999994,80.239998626708982,79.33999862670899,71.780000686645508,60.259999656677245,52.340000343322757,41.359999656677246,59.718027265104531,54.149802406726167,53.689890312421099,56.365297474034179,61.478637785618602,67.697040296000466,73.399582562365339,77.099809064148829,77.833198741444633,75.408582272988554,70.457973305754479,64.271824358245453,58.462650485070654,1,1,1,1,0,0,0,0,0,1,1,1,0,0,0,0,1,1,1,1,1,0,0,0,1,1,1,1,1,0,0,0,0,1,1,1,0,0,0,1,1,1,1,1,1,1,0,0,0.85,0.85,0.85,0.85,0.85,0.7,0.7,0.7,0.7,0.85,0.85,0.85,1,null,214,151,"Mixed-Humid","4A",null,null,"NASHVILLE INTERNATIONAL AP","TN","",0,0]
["Grand Island Central Ne Regio, NE","Needles Airport, CA","Needles Airport","CA",915,-114.62,34.770000000000003,-8,39.379999828338626,112.10000000000001,68.180000686645513,972,4975.2,54.5,56.659999656677243,65.119999313354498,75.380000686645502,84.2,94.639998626708987,97.7,97.160001373291024,85.460001373291021,74.66000137329101,61.519999313354496,55.940000343322751,75.353863191473977,65.971758800023267,67.499479819093182,72.638559366684589,80.049417163104721,87.800298918941095,93.870817859831519,96.678599674304323,95.491752763189652,90.619647063734078,83.332272007922214,75.529194205900396,69.244406135834424,1,1,1,0,0,0,0,0,0,0,1,1,0,0,0,1,1,1,1,1,1,1,0,0,1,1,1,1,0,0,0,0,0,0,1,1,0,0,1,1,1,1,1,1,1,1,1,0,0.85,0.85,0.85,0.85,0.7,0.7,0.7,0.7,0.7,0.7,0.85,0.85,1,null,275,90,"Hot-Dry","3B",null,null,"NEEDLES AIRPORT","CA","",0,0]
["Kearney Muni AWOS, NE","New Bedford Rgnl, MA","New Bedford Rgnl","MA",82,-70.95,41.67,-5,11.840000343322753,84.019999313354489,71.419999313354495,5416.2,657,27.860000085830688,27.679999828338623,42.259999656677245,48.019999313354489,57.019999313354489,65.66000137329101,72.860001373291013,71.060001373291016,63.319999313354494,52.340000343322757,47.119999313354491,39.379999828338626,51.355671330935337,47.845905040168141,46.666813756110564,48.273937919212337,52.248355849827945,57.554074266708177,62.808075900897428,66.64082425982825,68.053254419305247,66.677194692053121,62.871336251702431,57.627734750784477,52.31321572685863,1,1,1,1,1,1,0,0,1,1,1,1,0,0,0,0,0,0,1,1,0,0,0,0,1,1,1,1,1,1,1,0,1,1,1,1,0,0,0,0,0,1,1,1,1,0,0,0,0.85,0.85,0.85,0.85,0.85,0.85,0.85,0.7,0.85,0.85,0.85,0.85,1,null,122,243,"Cold","5A",null,null,"NEW BEDFORD RGNL","MA","",0,0]
["North Platte Regional Ap, NE","New Orleans Alvin Callender F, LA","New Orleans Alvin Callender F","LA",7,-90.02,29.82,-6,33.799999999999997,91.22000274658204,78.080000686645505,1103.4000000000001,2608.2000000000003,53.059999656677249,58.280000686645508,60.080000686645505,68.180000686645513,76.099999999999994,79.16000137329101,80.599999999999994,80.599999999999994,76.639998626708987,67.819999313354487,65.480000686645511,55.759999656677245,68.521260381202183,65.780746979321592,66.133324009794109,68.672345917486368,72.735977514646379,77.264970603015911,81.078773340215321,83.18325927031438,83.029861704522872,80.658566082292438,76.68748715032909,72.15174782842783,68.233658468700938,1,1,1,0,0,0,0,0,0,0,1,1,0,0,0,1,1,1,1,1,1,1,0,0,1,1,1,1,0,0,0,0,0,0,1,1,0,0,1,1,1,1,1,1,1,1,1,0,0.85,0.85,0.85,0.85,0.7,0.7,0.7,0.7,0.7,0.7,0.85,0.85,1,null,275,90,"Hot-Humid","2A",null,null,"NEW ORLEANS ALVIN CALLENDER F","LA","",0,0]
["Omaha Eppley Airfield, NE","New Orleans Lakefront Ap, LA","New Orleans Lakefront Ap","LA",10,-90.03,30.05,-6,38.839999914169312,91.939998626708984,78.260001373291018,1170,30.6,56.659999656677243,58.640000343322754,60.440000343322751,66.380000686645502,78.619999313354498,82.039998626708979,83.480000686645511,82.580000686645505,80.419999313354495,71.599999999999994,59.719999313354492,54.680000686645506,69.667342439416331,66.332938646038698,66.803047748154953,69.583771864464623,73.950272401795814,78.764353705283042,82.771151295933834,84.926231635125149,84.667839821653445,82.063329663638498,77.791606870483392,72.966161817464865,68.844821120011389,1,1,1,0,0,0,0,0,0,0,1,1,0,0,0,1,1,1,1,1,1,1,0,0,1,1,1,1,0,0,0,0,0,0,1,1,0,0,1,1,1,1,1,1,1,1,1,0,0.85,0.85,0.85,0.85,0.7,0.7,0.7,0.7,0.7,0.7,0.85,0.85,1,null,275,90,"Hot-Humid","2A",null,null,"NEW ORLEANS LAKEFRONT AP","LA","",0,0]
["Sidney Municipal Ap, NE","New York J F Kennedy IntL Ar, NY","New York J F Kennedy IntL Ar","NY",16,-73.8,40.65,-5,17.240000343322752,86.539998626708979,72.139998626708987,4728.6000000000004,1150.2,34.160000085830688,31.639999994635581,42.079999828338622,51.619999313354491,60.980000686645511,71.060001373291016,77,76.639998626708987,67.819999313354487,57.2,45.140000343322754,37.939999914169313,54.578410913813606,50.105462493950228,49.160044380478674,51.190999466275485,55.668928010262469,61.426588930481728,66.963159179837561,70.835446401705155,72.034079257952357,70.246615623106862,65.938985439239588,60.23403889636603,54.618858226773604,1,1,1,1,1,0,0,0,0,1,1,1,0,0,0,0,0,1,1,1,1,0,0,0,1,1,1,1,1,1,0,0,0,1,1,1,0,0,0,0,1,1,1,1,1,1,0,0,0.85,0.85,0.85,0.85,0.85,0.85,0.7,0.7,0.7,0.85,0.85,0.85,1,null,184,181,"Mixed-Humid","4A",null,null,"NEW YORK J F KENNEDY INT'L AR","NY",{"$f":"IF(AND(C660=DC660,D660=DD660),\"\",FALSE)","v":false},1,0]
["Berlin Municipal, NH","Newport News, VA","Newport News","VA",43,-76.5,37.130000000000003,-5,22.820000171661377,91.579997253417972,76.639998626708987,3276,1767.6000000000001,42.620000171661374,39.200000000000003,50.719999313354492,60.080000686645505,69.980000686645511,75.019999313354489,80.599999999999994,75.739998626708982,74.66000137329101,60.440000343322751,46.759999656677245,45.859999656677246,60.268383544242546,55.220757297545106,54.839138960864759,57.436729354832266,62.336426513180328,68.261048864966753,73.666252293004291,77.143087227068776,77.785263061948115,75.425386770051844,70.678596473657194,64.782216213772116,59.273228371105986,1,1,1,1,0,0,0,0,0,1,1,1,0,0,0,0,1,1,1,1,1,0,0,0,1,1,1,1,1,0,0,0,0,1,1,1,0,0,0,1,1,1,1,1,1,1,0,0,0.85,0.85,0.85,0.85,0.85,0.7,0.7,0.7,0.7,0.85,0.85,0.85,1,null,214,151,"Mixed-Humid","4A",null,null,"NEWPORT NEWS","VA","",1,0]
["Laconia Muni AWOS, NH","Niagara Falls Af, NY","Niagara Falls Af","NY",590,-78.95,43.1,-5,6.6199993133544917,85.1,71.239998626708982,6231.6,671.4,32,24.440000343322755,28.76000008583069,48.559999656677249,50.9,73.400000000000006,71.780000686645508,67.099999999999994,62.239998626708989,51.980000686645511,46.040000343322752,31.639999994635581,49.179397297207622,45.544140518747682,44.119533622625411,45.577850630941327,49.538958742132522,54.970334084493274,60.456204975009655,64.566594626239137,66.23006663256686,65.013011380663926,61.232673077327988,55.874455158100218,50.335059696264949,1,1,1,1,1,0,0,0,1,1,1,1,0,0,0,0,0,1,1,1,0,0,0,0,1,1,1,1,1,1,0,0,1,1,1,1,0,0,0,0,1,1,1,1,1,0,0,0,0.85,0.85,0.85,0.85,0.85,0.85,0.7,0.7,0.85,0.85,0.85,0.85,1,null,153,212,"Cold","5A",null,null,"NIAGARA FALLS AF","NY","",1,0]
["Lebanon Municipal, NH","Nome Municipal Arpt, AK","Nome Municipal Arpt","AK",13,-165.45,64.52,-9,-24.160001373291017,64.939998626708984,55.4,13024.800000000001,1.8,14.359999656677246,8.0599996566772454,10.759999656677246,19.759999656677245,39.02000017166138,48.380000686645509,53.240000343322755,51.980000686645511,42.97999982833862,28.76000008583069,15.619999313354493,10.219999313354492,28.729917732264898,32,32,32,32,32.705497932877421,35.539613163467727,38.162668802130725,39.890924974137924,40.273885075021866,39.211724652893352,36.981312190167749,34.164039066950963,1,1,1,1,1,1,1,1,1,1,1,1,0,0,0,0,0,0,1,1,0,0,0,0,1,1,1,1,1,1,1,1,1,1,1,1,0,0,0,0,0,0,1,1,0,0,0,0,0.85,0.85,0.85,0.85,0.85,0.85,0.85,0.85,0.85,0.85,0.85,0.85,1,null,62,303,"Subarctic",8,null,null,"NOME MUNICIPAL ARPT","AK","",1,0]
["Atlantic City Intl Ap, NJ","North Adams, MA","North Adams","MA",659,-73.17,42.7,-5,3.0199993133544916,87.980000686645511,71.780000686645508,6366.6,343.8,24.259999656677245,30.019999957084657,37.4,46.4,54.319999313354494,64.219999313354492,65.3,67.099999999999994,62.060001373291016,51.8,43.7,27.139999914169312,47.887342424131418,45.80223674088829,44.488396846882694,45.624536959722654,48.914504650547322,53.50071914080646,58.187712947909397,61.753748907273831,63.269284791813838,62.339272818109137,59.206134939024189,54.686571825858735,49.958677252635148,1,1,1,1,1,1,1,0,1,1,1,1,0,0,0,0,0,0,1,1,0,0,0,0,1,1,1,1,1,1,1,0,1,1,1,1,0,0,0,0,0,0,1,1,1,0,0,0,0.85,0.85,0.85,0.85,0.85,0.85,0.85,0.7,0.85,0.85,0.85,0.85,1,null,92,273,"Cold","5A",null,null,"NORTH ADAMS","MA","",0,0]
["Belmar Asc, NJ","North Bend Muni Airport, OR","North Bend Muni Airport","OR",7,-124.25,43.42,-8,33.619999957084659,69.260001373291018,59.9,4453.2,0,45.320000171661377,47.3,48.740000343322755,50.359999656677246,53.780000686645508,56.119999313354491,59.180000686645506,59.540000343322752,57.740000343322755,52.880000686645509,50,44.959999656677248,52.184657696501851,55.03941445870722,54.677269882797866,55.229379991012763,56.551828775371384,58.299899580678002,60.017930812942907,61.258091155813567,61.697113704471349,61.220560466066345,59.95265238609651,58.223889244660946,56.484899795621253,1,1,1,1,1,1,1,1,1,1,1,1,0,0,0,0,0,0,1,1,0,0,0,0,1,1,1,1,1,1,1,1,1,1,1,1,0,0,0,0,0,0,1,1,0,0,0,0,0.85,0.85,0.85,0.85,0.85,0.85,0.85,0.85,0.85,0.85,0.85,0.85,1,null,62,303,"Marine","4C",null,null,"NORTH BEND MUNI AIRPORT","OR","",0,0]
["Millville Municipal Ap, NJ","Northway Airport, AK","Northway Airport","AK",1712,-141.93,62.97,-9,-45.4,74.3,57.2,14790.6,12.6,-11.560001373291017,-3.6399986267089854,11.659999656677245,21.740000343322755,46.940000343322751,54.859999656677246,60.440000343322751,52.519999313354489,37.039999914169314,26.6,-2.9199993133544933,-8.8600013732910163,23.916767015587794,32,32,32,32,32,32,33.839456670692016,36.29093370637311,37.080885965218947,36.003400217428549,33.33933972772148,32,1,1,1,1,1,1,1,1,1,1,1,1,0,0,0,0,0,0,1,1,0,0,0,0,1,1,1,1,1,1,1,1,1,1,1,1,0,0,0,0,0,0,1,1,0,0,0,0,0.85,0.85,0.85,0.85,0.85,0.85,0.85,0.85,0.85,0.85,0.85,0.85,1,null,62,303,"Subarctic",8,null,null,"NORTHWAY AIRPORT","AK","",0,0]
["Trenton Mercer County Ap, NJ","Oakland Co Intl, MI","Oakland Co Intl","MI",1004,-83.42,42.67,-5,5.5400003433227534,86.180000686645513,71.599999999999994,5947.2,837,25.520000171661376,20.659999656677247,41.540000343322752,50.180000686645506,55.219999313354492,70.16000137329101,73.580000686645505,72.5,65.83999862670899,51.080000686645505,46.220000171661376,30.380000042915345,50.396986451279631,45.577799091577873,44.123891091275468,45.869154530682692,50.358659598994322,56.422147614787619,62.479076985567296,66.950615730732636,68.671188367858392,67.192301124250804,62.899448750298468,56.911629372129639,50.789660385753763,1,1,1,1,1,0,0,0,1,1,1,1,0,0,0,0,0,1,1,1,0,0,0,0,1,1,1,1,1,1,0,0,1,1,1,1,0,0,0,0,1,1,1,1,1,0,0,0,0.85,0.85,0.85,0.85,0.85,0.85,0.7,0.7,0.85,0.85,0.85,0.85,1,null,153,212,"Cold","5A",null,null,"OAKLAND CO INTL","MI","",0,0]
["Clovis Cannon Afb, NM","Oelwen, IA","Oelwen","IA",1076,-91.97,42.68,-6,-2.3800006866455088,90.679997253417966,77.180000686645513,6226.2,691.2,22.820000171661377,27.320000171661377,43.879999828338626,49.280000686645508,59,68.539998626708979,67.819999313354487,72.139998626708987,64.580000686645505,52.519999313354489,38.839999914169312,22.820000171661377,49.241534033997418,45.516229495665968,44.085068465827717,45.562012112671475,49.562072314256859,55.042571736247027,60.574933747247655,64.717062932812155,66.389249488580191,65.155612219615989,61.337717691000847,55.930758947153919,50.344143108415317,1,1,1,1,1,0,0,0,1,1,1,1,0,0,0,0,0,1,1,1,0,0,0,0,1,1,1,1,1,1,0,0,1,1,1,1,0,0,0,0,1,1,1,1,1,0,0,0,0.85,0.85,0.85,0.85,0.85,0.85,0.7,0.7,0.85,0.85,0.85,0.85,1,null,153,212,"Cold","6A",null,null,"OELWEN","IA","",0,0]
["Farmington Four Corners Regl, NM","Ohio State Universi, OH","Ohio State Universi","OH",928,-83.07,40.07,-5,11.659999656677245,88.16000137329101,73.039998626708979,5067,1166.4000000000001,29.480000042915343,35.6,42.620000171661374,49.819999313354494,57.740000343322755,70.519999313354489,75.380000686645502,77.719999313354492,69.619999313354498,56.119999313354491,44.779999828338624,33.980000042915343,53.707506658606334,48.835932914265854,47.757377020936694,49.793806574738234,54.414394830142733,60.414714252958632,66.230689117907687,70.34629594955527,71.688738403811357,69.908088167309657,65.468499164845113,59.52721868604759,53.632933045619254,1,1,1,1,1,0,0,0,0,1,1,1,0,0,0,0,0,1,1,1,1,0,0,0,1,1,1,1,1,1,0,0,0,1,1,1,0,0,0,0,1,1,1,1,1,1,0,0,0.85,0.85,0.85,0.85,0.85,0.85,0.7,0.7,0.7,0.85,0.85,0.85,1,null,184,181,"Cold","5A",null,null,"OHIO STATE UNIVERSI","OH","",1,0]
["Holloman Afb, NM","Oklahoma City Wiley, OK","Oklahoma City Wiley","OK",1299,-97.65,35.53,-6,17.959999656677248,97.160001373291024,73.939998626708984,3934.8,2176.2000000000003,37.4,37.579999828338622,45.859999656677246,60.080000686645505,71.780000686645508,75.2,82.219999313354492,84.560001373291016,71.239998626708982,62.239998626708989,45.320000171661377,39.740000343322755,59.575999944503991,53.196515128513624,52.687626685352015,55.538291348032345,61.005439442154781,67.663974565683915,73.778246927539612,77.754477212814948,78.556199722089431,75.974433128402808,70.682154680627022,64.058878312654414,57.83106307757545,1,1,1,1,0,0,0,0,0,1,1,1,0,0,0,0,1,1,1,1,1,0,0,0,1,1,1,1,1,0,0,0,0,1,1,1,0,0,0,1,1,1,1,1,1,1,0,0,0.85,0.85,0.85,0.85,0.85,0.7,0.7,0.7,0.7,0.85,0.85,0.85,1,null,214,151,"Mixed-Humid","3A",null,null,"OKLAHOMA CITY WILEY","OK","",1,0]
["Las Cruces Intl, NM","Oklahoma City Will Rogers Wor, OK","Oklahoma City Will Rogers Wor","OK",1305,-97.6,35.380000000000003,-6,17.419999313354491,96.8,74.119999313354498,3540.6,2091.6,33.619999957084659,44.240000343322755,50.719999313354492,61.160001373291017,69.080000686645505,77,81.860001373291013,82.219999313354492,73.400000000000006,62.6,49.640000343322754,38.47999982833862,60.412876919850909,53.399862730479036,52.968094265913344,56.040915590468771,61.81734847228995,68.791676663204953,75.145934042601027,79.223785502468317,79.962276218199193,77.168907204252008,71.571813141231615,64.629962850494664,58.152856587472904,1,1,1,1,0,0,0,0,0,1,1,1,0,0,0,0,1,1,1,1,1,0,0,0,1,1,1,1,1,0,0,0,0,1,1,1,0,0,0,1,1,1,1,1,1,1,0,0,0.85,0.85,0.85,0.85,0.85,0.7,0.7,0.7,0.7,0.85,0.85,0.85,1,null,214,151,"Mixed-Humid","3A",null,null,"OKLAHOMA CITY WILL ROGERS WOR","OK","",1,0]
["Sata Fe County Municipal Ap, NM","Olympia Airport, WA","Olympia Airport","WA",207,-122.9,46.97,-8,24.079999828338622,83.3,64.760001373291018,5167.8,115.2,40.279999828338624,40.640000343322754,42.97999982833862,48.2,53.780000686645508,59,64.400000000000006,63.86000137329102,58.819999313354494,50.719999313354492,44.420000171661378,38.839999914169312,50.552821982004872,51.302155417452489,50.60549540282318,51.459097712134415,53.640457749054463,56.580970404184391,59.514145739292914,61.675406401683844,62.501386493669997,61.776781575536681,59.690471085695144,56.78628400434043,53.821241449105273,1,1,1,1,1,1,1,1,1,1,1,1,0,0,0,0,0,0,1,1,0,0,0,0,1,1,1,1,1,1,1,1,1,1,1,1,0,0,0,0,0,0,1,1,0,0,0,0,0.85,0.85,0.85,0.85,0.85,0.85,0.85,0.85,0.85,0.85,0.85,0.85,1,null,62,303,"Marine","4C",null,null,"OLYMPIA AIRPORT","WA","",0,0]
["Truth Or Consequences Muni Ap, NM","Orange City, IA","Orange City","IA",1414,-96.07,42.98,-6,-9.5800006866455085,91.579997253417972,80.780000686645508,6701.4000000000005,927,19.220000171661376,23.179999828338623,42.440000343322751,49.640000343322754,59.540000343322752,69.8,74.66000137329101,73.760001373291018,61.160001373291017,49.459999656677248,31.639999994635581,26.6,48.581699034628805,43.87850148595308,42.223971981806613,43.790674472316653,48.170223809715566,54.221022968312084,60.365837901780495,65.002927903247738,66.923564004111384,65.6271028067831,61.451486901418313,55.485154921939255,49.283323242756069,1,1,1,1,1,0,0,0,1,1,1,1,0,0,0,0,0,1,1,1,0,0,0,0,1,1,1,1,1,1,0,0,1,1,1,1,0,0,0,0,1,1,1,1,1,0,0,0,0.85,0.85,0.85,0.85,0.85,0.85,0.7,0.7,0.85,0.85,0.85,0.85,1,null,153,212,"Cold","6A",null,null,"ORANGE CITY","IA","",1,0]
["Fallon Naas, NV","Orlando Sanford Airport, FL","Orlando Sanford Airport","FL",56,-81.25,28.78,-5,42.259999656677245,93.020002746582037,75.019999313354489,660.6,3056.4,62.239998626708989,60.980000686645511,60.8,69.8,75.380000686645502,79.880000686645502,84.019999313354489,80.239998626708982,77.719999313354492,74.119999313354498,64.760001373291018,60.8,70.952986175328093,69.254158954826949,69.727890950172693,72.084955358042919,75.7109470170642,79.660695323089783,82.904637512690243,84.597190063483879,84.297163070081993,82.082763191870711,78.531207882040874,74.568264763223667,71.226936030140834,1,1,1,0,0,0,0,0,0,0,1,1,0,0,0,1,1,1,1,1,1,1,0,0,1,1,1,1,0,0,0,0,0,0,1,1,0,0,1,1,1,1,1,1,1,1,1,0,0.85,0.85,0.85,0.85,0.7,0.7,0.7,0.7,0.7,0.7,0.85,0.85,1,null,275,90,"Hot-Humid","2A",null,null,"ORLANDO SANFORD AIRPORT","FL","",0,0]
["Mercury Desert Rock Ap  Surfra, NV","Otis Angb, MA","Otis Angb","MA",131,-70.52,41.65,-5,12.919999313354491,81.860001373291013,71.060001373291016,5792.4000000000005,597.6,35.419999957084656,33.440000021457671,36.679999828338623,43.7,53.780000686645508,63.5,71.060001373291016,73.400000000000006,60.259999656677245,55.4,38.47999982833862,35.779999828338624,50.196274074071077,48.0771403636709,46.968214330753717,48.264724278637473,51.628714909583181,56.183310224970015,60.741284767404004,64.11453223188586,65.423763683481454,64.32770776846499,61.112068351818444,56.615051401994151,52.008873688092748,1,1,1,1,1,1,0,0,1,1,1,1,0,0,0,0,0,0,1,1,0,0,0,0,1,1,1,1,1,1,1,0,1,1,1,1,0,0,0,0,0,1,1,1,1,0,0,0,0.85,0.85,0.85,0.85,0.85,0.85,0.85,0.7,0.85,0.85,0.85,0.85,1,null,122,243,"Cold","5A",null,null,"OTIS ANGB","MA","",1,0]
["Tonopah Airport, NV","Oxford AWOS, CT","Oxford AWOS","CT",728,-73.13,41.48,-5,8.7800006866455078,83.83999862670899,70.880000686645502,6208.2,585,24.620000171661378,30.919999957084656,32.360000005364419,45.5,55.940000343322751,64.039998626708979,72.319999313354487,70.16000137329101,62.6,51.440000343322751,44.959999656677248,32.360000005364419,49.024547932948153,45.683513749562032,44.286194402342332,45.687992385912068,49.523507453492975,54.792953495643737,60.122768196856207,64.123653220328606,65.752716229188337,64.585316845555241,60.925755708942347,55.727953825152007,50.346798355745797,1,1,1,1,1,1,0,0,1,1,1,1,0,0,0,0,0,0,1,1,0,0,0,0,1,1,1,1,1,1,1,0,1,1,1,1,0,0,0,0,0,1,1,1,1,0,0,0,0.85,0.85,0.85,0.85,0.85,0.85,0.85,0.7,0.85,0.85,0.85,0.85,1,null,122,243,"Cold","5A",null,null,"OXFORD AWOS","CT","",1,0]
["Albany County Ap, NY","Page Muni  Amos, AZ","Page Muni  Amos","AZ",4277,-111.45,36.93,-7,25.339999914169312,97.520002746582037,62.060001373291016,3565.8,2106,41.179999828338623,41,51.259999656677245,63.86000137329102,70.33999862670899,80.239998626708982,83.83999862670899,80.060001373291016,71.780000686645508,59.719999313354492,43.7,36.860000085830691,60.428657379281034,53.844760347764122,53.429101734805847,56.40197762979642,61.988462117302255,68.732351925323059,74.875748248910469,78.817280163718323,79.529526635306567,76.826829644805343,71.413688812610147,64.701122715657959,58.438865150894145,1,1,1,1,0,0,0,0,0,1,1,1,0,0,0,0,1,1,1,1,1,0,0,0,1,1,1,1,1,0,0,0,0,1,1,1,0,0,0,1,1,1,1,1,1,1,0,0,0.85,0.85,0.85,0.85,0.85,0.7,0.7,0.7,0.7,0.85,0.85,0.85,1,null,214,151,"Cold","5B",null,null,"PAGE MUNI (AMOS)","AZ",false,0,0]
["Elmira Corning Regional Ap, NY","Palm Springs Thermal Ap, CA","Palm Springs Thermal Ap","CA",-112,-116.17,33.630000000000003,-8,34.160000085830688,108.86000137329101,72.680000686645513,1092.6000000000001,4271.4000000000005,53.780000686645508,56.480000686645511,66.019999313354489,72.860001373291013,80.780000686645508,88.7,92.120002746582031,91.579997253417972,87.439998626708984,70.16000137329101,62.6,53.6,73.092274200230435,65.853812977675886,66.912532129256149,71.14608874714267,77.450941057801018,84.183632145742948,89.589182324986126,92.258551639261043,91.495927840575604,87.500100574445653,81.31264379535007,74.546413464355354,68.965131788000946,1,1,0,0,0,0,0,0,0,0,1,1,0,0,1,1,1,1,1,1,1,1,0,0,1,1,1,0,0,0,0,0,0,0,1,1,0,1,1,1,1,1,1,1,1,1,1,0,0.85,0.85,0.85,0.7,0.7,0.7,0.7,0.7,0.7,0.7,0.85,0.85,1,null,303,62,"Hot-Dry","3B",null,null,"PALM SPRINGS THERMAL AP","CA","",0,0]
["Fort Drum Wheeler S, NY","Palmdale Airport, CA","Palmdale Airport","CA",2522,-118.08,34.630000000000003,-8,26.420000171661378,102.02000274658204,66.019999313354489,2851.2000000000003,23.400000000000002,43.879999828338626,47.3,51.619999313354491,61.880000686645509,70.33999862670899,77.360001373291013,82.219999313354492,81.319999313354487,76.280000686645508,61.7,49.640000343322754,44.779999828338624,62.440712261983791,57.689440663126561,57.53597623113032,60.224999292645023,65.055574547587113,70.768538114337943,75.87471799979042,79.043109728187432,79.447823169127801,76.983363527407505,72.292130187113628,66.596965412487833,61.382401667182194,1,1,1,1,0,0,0,0,0,1,1,1,0,0,0,0,1,1,1,1,1,0,0,0,1,1,1,1,1,0,0,0,0,1,1,1,0,0,0,1,1,1,1,1,1,1,0,0,0.85,0.85,0.85,0.85,0.85,0.7,0.7,0.7,0.7,0.85,0.85,0.85,1,null,214,151,"Hot-Dry","3B",null,null,"PALMDALE AIRPORT","CA","",0,0]
["Jamestown AWOS, NY","Park Rapids Municipal Ap, MN","Park Rapids Municipal Ap","MN",1433,-95.07,46.9,-6,-16.960001373291018,84.019999313354489,69.260001373291018,8888.4,298.8,9.8599996566772461,13.1,23.540000343322752,47.119999313354491,55.580000686645505,65.480000686645511,66.919999313354495,63.139998626708987,58.819999313354494,42.620000171661374,27.5,14.9,40.843177923698946,38.517670743083286,36.435206383494041,37.065740197555655,40.244913829812766,45.144026680468897,50.486049487386197,54.87850168287833,57.176422912452978,56.780824595583461,53.794825529916402,48.996772387556412,43.637351660296694,1,1,1,1,1,1,0,1,1,1,1,1,0,0,0,0,0,0,1,1,0,0,0,0,1,1,1,1,1,1,1,1,1,1,1,1,0,0,0,0,0,1,1,1,0,0,0,0,0.85,0.85,0.85,0.85,0.85,0.85,0.85,0.85,0.85,0.85,0.85,0.85,1,null,92,273,"Very Cold",7,null,null,"PARK RAPIDS MUNICIPAL AP","MN","",0,0]
["New York J F Kennedy IntL Ar, NY","Patterson Memorial, LA","Patterson Memorial","LA",10,-91.33,29.72,-6,35.6,91.22000274658204,76.460001373291021,1364.4,2575.8000000000002,55.580000686645505,58.280000686645508,59.180000686645506,66.019999313354489,74.66000137329101,79.16000137329101,82.580000686645505,80.780000686645508,77.539998626708979,66.560001373291016,57.740000343322755,53.780000686645508,67.70509643972737,64.704310351117513,65.002737180792678,67.569568058724741,71.735718960519549,76.415218451295473,80.388282875511791,82.619271764220414,82.526643482999958,80.13454302079559,76.066508226464819,71.382935059463762,67.304669041818514,1,1,1,0,0,0,0,0,0,0,1,1,0,0,0,1,1,1,1,1,1,1,0,0,1,1,1,1,0,0,0,0,0,0,1,1,0,0,1,1,1,1,1,1,1,1,1,0,0.85,0.85,0.85,0.85,0.7,0.7,0.7,0.7,0.7,0.7,0.85,0.85,1,null,275,90,"Hot-Humid","2A",null,null,"PATTERSON MEMORIAL","LA","",0,0]
["Poughkeepsie Dutchess Co Ap, NY","Pease Intl Tradepor, NH","Pease Intl Tradepor","NH",102,-70.819999999999993,43.08,-5,7.6999999999999993,85.819999313354487,71.060001373291016,6530.4000000000005,585,30.559999978542329,26.779999828338624,33.080000042915344,42.259999656677245,55.4,66.380000686645502,71.419999313354495,68.900000000000006,60.440000343322751,48.919999313354495,38.299999999999997,33.259999978542325,48.106794447180341,45.620943507101622,44.263321020895852,45.471551575768316,48.930691258195068,53.739062002995475,58.643287876301166,62.365006827826633,63.934095459431639,62.941546638900597,59.646083511945243,54.906719327230505,49.958842395315166,1,1,1,1,1,0,0,0,1,1,1,1,0,0,0,0,0,1,1,1,0,0,0,0,1,1,1,1,1,1,0,0,1,1,1,1,0,0,0,0,1,1,1,1,1,0,0,0,0.85,0.85,0.85,0.85,0.85,0.85,0.7,0.7,0.85,0.85,0.85,0.85,1,null,153,212,"Cold","5A",null,null,"PEASE INTL TRADEPOR","NH","",0,0]
["Rochester Greater Rochester I, NY","Pendleton E Or Regional Ap, OR","Pendleton E Or Regional Ap","OR",1483,-118.83,45.7,-8,14.9,92.83999862670899,63.680000686645506,5112,655.20000000000005,32.180000002682206,38.660000085830688,43.7,50.540000343322752,57.019999313354489,63.86000137329102,72.319999313354487,72.5,62.960001373291014,51.8,45.5,34.160000085830688,52.170849466499398,49.476413574617197,48.474060508817288,49.999324916878322,53.654623125803184,58.487145327585111,63.237220138908278,66.666667359332706,67.881548721473337,66.565186676399748,63.060711276913509,58.281618041491342,53.473651270002129,1,1,1,1,1,1,0,0,1,1,1,1,0,0,0,0,0,0,1,1,0,0,0,0,1,1,1,1,1,1,1,0,1,1,1,1,0,0,0,0,0,1,1,1,1,0,0,0,0.85,0.85,0.85,0.85,0.85,0.85,0.85,0.7,0.85,0.85,0.85,0.85,1,null,122,243,"Cold","5B",null,null,"PENDLETON E OR REGIONAL AP","OR",{"$f":"IF(AND(C724=DC724,D724=DD724),\"\",FALSE)","v":""},0,0]
["Watertown Ap, NY","Petersburg, AK","Petersburg","AK",108,-132.94999999999999,56.8,-9,12.2,66.019999313354489,56.3,8215.2000000000007,9,27.860000085830688,32.360000005364419,33.440000021457671,42.079999828338622,47.119999313354491,55.219999313354492,55.040000343322752,54.859999656677246,48.019999313354489,41.720000171661376,34.700000000000003,30.019999957084657,41.91380805433613,43.748126686129865,42.765716008222775,43.125234856634997,44.732969103174725,47.169838040546679,49.800634226937802,51.939600094568839,53.029181227579961,52.785361512698302,51.27169631598332,48.882745797245526,46.241226724035791,1,1,1,1,1,1,1,1,1,1,1,1,0,0,0,0,0,0,1,1,0,0,0,0,1,1,1,1,1,1,1,1,1,1,1,1,0,0,0,0,0,0,1,1,0,0,0,0,0.85,0.85,0.85,0.85,0.85,0.85,0.85,0.85,0.85,0.85,0.85,0.85,1,null,62,303,"Very Cold",7,null,null,"PETERSBURG","AK","",0,0]
["Akron Akron Canton Reg Ap, OH","Phillips Price Co, WI","Phillips Price Co","WI",1473,-90.4,45.7,-6,-12.639998626708985,82.219999313354492,69.080000686645505,8249.4,410.40000000000003,13.280000686645508,11.480000686645507,27.5,45.679999828338623,54.319999313354494,65.66000137329101,66.380000686645502,68.360001373291013,59.719999313354492,44.059999656677249,35.060000085830687,21.559999656677245,42.915890629650796,39.914383615747425,37.908819541058904,38.772418169711813,42.280069210690058,47.517449365623904,53.119354786658569,57.625562497825705,59.861460016446756,59.244226198069398,55.934752549314751,50.795704377263426,45.166653783090133,1,1,1,1,1,1,0,0,1,1,1,1,0,0,0,0,0,0,1,1,0,0,0,0,1,1,1,1,1,1,1,0,1,1,1,1,0,0,0,0,0,1,1,1,1,0,0,0,0.85,0.85,0.85,0.85,0.85,0.85,0.85,0.7,0.85,0.85,0.85,0.85,1,null,122,243,"Very Cold",7,null,null,"PHILLIPS PRICE CO.","WI",false,0,0]
["Cleveland Hopkins Intl Ap, OH","Pine Bluff Faa Ap, AR","Pine Bluff Faa Ap","AR",207,-91.93,34.17,-6,25.339999914169312,95,77.539998626708979,3279.6,2482.2000000000003,39.559999656677249,47.840000343322757,49.640000343322754,66.019999313354489,72.319999313354487,78.619999313354498,79.33999862670899,85.819999313354487,79.16000137329101,62.6,50,35.060000085830687,62.213862814054096,54.051360218775244,53.819535128318464,57.339813372452852,63.694580177714919,71.227367646392338,77.974638641005612,82.177612998215366,82.740720682019457,79.517178996882279,73.34725375931589,65.839231063917964,58.950192728375988,1,1,1,0,0,0,0,0,0,1,1,1,0,0,0,1,1,1,1,1,1,0,0,0,1,1,1,1,0,0,0,0,0,1,1,1,0,0,1,1,1,1,1,1,1,1,0,0,0.85,0.85,0.85,0.85,0.7,0.7,0.7,0.7,0.7,0.85,0.85,0.85,1,null,245,120,"Mixed-Humid","3A",null,null,"PINE BLUFF FAA AP","AR","",0,0]
["Columbus Port Columbus Intl A, OH","Pipestone AWOS, MN","Pipestone AWOS","MN",1735,-96.32,43.98,-6,-8.1399986267089854,86,73.219999313354492,8447.4,720,11.119999313354493,10.759999656677246,37.039999914169314,45.140000343322754,56.119999313354491,68.539998626708979,74.119999313354498,68.539998626708979,62.060001373291016,43.7,30.740000021457671,8.6,43.211287375998822,38.725898893910752,36.429354943134115,37.464618656524863,41.561832593290937,47.652994800836268,54.150349982113205,59.360262381847747,61.924688045868713,61.175169905853338,57.307081415420797,51.328699448650319,44.798381394835474,1,1,1,1,1,0,0,0,1,1,1,1,0,0,0,0,0,1,1,1,0,0,0,0,1,1,1,1,1,1,0,0,1,1,1,1,0,0,0,0,1,1,1,1,1,0,0,0,0.85,0.85,0.85,0.85,0.85,0.85,0.7,0.7,0.85,0.85,0.85,0.85,1,null,153,212,"Cold","6A",null,null,"PIPESTONE AWOS","MN","",0,0]
["Mansfield Lahm Municipal Arpt, OH","Plymouth Municipal, MA","Plymouth Municipal","MA",148,-70.73,41.92,-5,9.6800006866455064,84.2,71.780000686645508,5565.6,415.8,28.4,28.580000042915344,41.720000171661376,45.859999656677246,55.759999656677245,62.6,68.900000000000006,67.819999313354487,64.939998626708984,54.859999656677246,45.320000171661377,37.220000171661376,50.292931295682308,48.039457109223683,46.920933046330575,48.24536475399578,51.66751869750594,56.295357714496532,60.922564248030952,64.342985607732317,65.665036255905775,64.544103317687743,61.272375237524194,56.70267835836566,52.026174592925329,1,1,1,1,1,1,0,0,1,1,1,1,0,0,0,0,0,0,1,1,0,0,0,0,1,1,1,1,1,1,1,0,1,1,1,1,0,0,0,0,0,1,1,1,1,0,0,0,0.85,0.85,0.85,0.85,0.85,0.85,0.85,0.7,0.85,0.85,0.85,0.85,1,null,122,243,"Cold","5A",null,null,"PLYMOUTH MUNICIPAL","MA","",0,0]
["Toledo Express Airport, OH","Point Hope AWOS, AK","Point Hope AWOS","AK",13,-166.8,68.349999999999994,-9,-26.679997253417969,55.040000343322752,51.259999656677245,14718.6,0,8.4199993133544915,1.9399986267089837,9.6800006866455064,8.7800006866455078,32.540000021457672,34.700000000000003,41.540000343322752,44.420000171661378,36.320000171661377,31.639999994635581,19.220000171661376,17.600000000000001,24.07112331208301,32,32,32,32,32,32,32.412917750502189,33.866199849768783,34.330236765587841,33.684070124825794,32.096133220126625,32,1,1,1,1,1,1,1,1,1,1,1,1,0,0,0,0,0,0,1,1,0,0,0,0,1,1,1,1,1,1,1,1,1,1,1,1,0,0,0,0,0,0,1,1,0,0,0,0,0.85,0.85,0.85,0.85,0.85,0.85,0.85,0.85,0.85,0.85,0.85,0.85,1,null,62,303,"Subarctic",8,null,null,"POINT HOPE AWOS","AK","",0,0]
["Altus Afb, OK","Poplar Bluff Amos, MO","Poplar Bluff Amos","MO",479,-90.47,36.770000000000003,-6,15.619999313354493,91.4,76.460001373291021,3954.6,1634.4,34.880000042915341,35.419999957084656,50.180000686645506,60.8,67.099999999999994,74.83999862670899,80.960001373291021,78.260001373291018,69.080000686645505,62.6,45.140000343322754,35.6,58.039835880161966,52.390275191650524,51.739413117051754,54.29484579091023,59.390460306375211,65.698006214194095,71.573324471269174,75.48492283249881,76.413182905473121,74.11613939725062,69.19255209676146,62.92582990865516,56.949490544373766,1,1,1,1,0,0,0,0,0,1,1,1,0,0,0,0,1,1,1,1,1,0,0,0,1,1,1,1,1,0,0,0,0,1,1,1,0,0,0,1,1,1,1,1,1,1,0,0,0.85,0.85,0.85,0.85,0.85,0.7,0.7,0.7,0.7,0.85,0.85,0.85,1,null,214,151,"Mixed-Humid","4A",null,null,"POPLAR BLUFF(AMOS)","MO",false,0,0]
["Fort Sill Post Field Af, OK","Porterville AWOS, CA","Porterville AWOS","CA",443,-119.07,36.03,-8,33.619999957084659,99.139998626708987,69.260001373291018,2439,1751.4,48.380000686645509,48.019999313354489,55.040000343322752,55.759999656677245,69.439998626708984,76.819999313354487,78.439998626708984,79.880000686645502,71.780000686645508,61.519999313354496,54.859999656677246,49.1,62.512218923176803,59.563913778803894,59.442084989313287,61.684526384679074,65.706711058131233,70.460194590792412,74.705908246475872,77.337141332399767,77.668022396188817,75.612302189534844,71.705835863909542,66.966904067555447,62.630782402341836,1,1,1,1,0,0,0,0,0,1,1,1,0,0,0,0,1,1,1,1,1,0,0,0,1,1,1,1,1,0,0,0,0,1,1,1,0,0,0,1,1,1,1,1,1,1,0,0,0.85,0.85,0.85,0.85,0.85,0.7,0.7,0.7,0.7,0.85,0.85,0.85,1,null,214,151,"Hot-Dry","3B",null,null,"PORTERVILLE AWOS","CA","",0,0]
["Mcalester Municipal Ap, OK","Portland Troutdale, OR","Portland Troutdale","OR",36,-122.4,45.55,-8,30.019999957084657,91.579997253417972,60.980000686645511,4215.6000000000004,369,41.359999656677246,45.140000343322754,44.959999656677248,51.980000686645511,55.759999656677245,64.219999313354492,68.180000686645513,67.819999313354487,63.139998626708987,55.040000343322752,45.320000171661377,42.8,53.855451924049689,53.786034127135217,53.193160832333156,54.336916379600503,56.919163259735498,60.266799029802009,63.50721083770339,65.795735409452632,66.53583354819213,65.534587268801857,63.052986843677118,59.737899666246825,56.453454296347978,1,1,1,1,1,1,0,0,1,1,1,1,0,0,0,0,0,0,1,1,0,0,0,0,1,1,1,1,1,1,1,0,1,1,1,1,0,0,0,0,0,1,1,1,1,0,0,0,0.85,0.85,0.85,0.85,0.85,0.85,0.85,0.7,0.85,0.85,0.85,0.85,1,null,122,243,"Marine","4C",null,null,"PORTLAND TROUTDALE","OR","",0,0]
["Oklahoma City Will Rogers Wor, OK","Presque Isle Municip, ME","Presque Isle Municip","ME",535,-68.05,46.68,-5,-14.260001373291017,81.680000686645513,66.019999313354489,8883,205.20000000000002,11.119999313354493,14.719999313354492,29.3,38.839999914169312,48.919999313354495,59.540000343322752,63.319999313354494,66.739998626708982,51.440000343322751,42.440000343322751,35.960000085830686,23.540000343322752,40.636547715696572,38.588829820716185,36.553269289029053,37.146070667276923,40.212711140873722,44.953823612016251,50.133564052346429,54.401753293875821,56.645822036012589,56.280819178972678,53.401888342307828,48.759467214261861,43.563674403735099,1,1,1,1,1,1,1,0,1,1,1,1,0,0,0,0,0,0,1,1,0,0,0,0,1,1,1,1,1,1,1,0,1,1,1,1,0,0,0,0,0,0,1,1,1,0,0,0,0.85,0.85,0.85,0.85,0.85,0.85,0.85,0.7,0.85,0.85,0.85,0.85,1,null,92,273,"Very Cold",7,null,null,"PRESQUE ISLE MUNICIP","ME","",0,0]
["Stillwater Rgnl, OK","Provincetown AWOS, MA","Provincetown AWOS","MA",7,-70.22,42.07,-5,17.600000000000001,80.780000686645508,69.619999313354498,5506.2,583.20000000000005,31.1,35.419999957084656,34.700000000000003,45.859999656677246,52.159999656677243,61.519999313354496,71.960001373291021,71.419999313354495,65.66000137329101,54.859999656677246,46.580000686645505,39.02000017166138,50.937479547997043,48.444789830847185,47.353481829155079,48.760390526754634,52.298783490497215,57.046324066097192,61.765492640709567,65.226165200772542,66.526264112927237,65.326898560589839,61.940701657759739,57.250337810033407,52.478422635015555,1,1,1,1,1,1,0,0,1,1,1,1,0,0,0,0,0,0,1,1,0,0,0,0,1,1,1,1,1,1,1,0,1,1,1,1,0,0,0,0,0,1,1,1,1,0,0,0,0.85,0.85,0.85,0.85,0.85,0.85,0.85,0.7,0.85,0.85,0.85,0.85,1,null,122,243,"Cold","5A",null,null,"PROVINCETOWN AWOS","MA","",0,0]
["Tulsa International Airport, OK","Provo Muni AWOS, UT","Provo Muni AWOS","UT",4490,-111.72,40.22,-7,12.559999656677245,91.22000274658204,62.239998626708989,5671.8,928.80000000000007,33.259999978542325,33.440000021457671,41.540000343322752,51.259999656677245,59.540000343322752,69.260001373291018,77.180000686645513,73.039998626708979,61.7,48.019999313354489,37.579999828338622,29.660000085830688,51.396602759067328,47.38202313394784,46.144746212055082,47.840439095499121,52.02709330279194,57.61339289650838,63.143182800063663,67.17503805845422,68.65799346581025,67.205493842169844,63.196155598131611,57.675074532776712,52.081405508224506,1,1,1,1,1,0,0,0,1,1,1,1,0,0,0,0,0,1,1,1,0,0,0,0,1,1,1,1,1,1,0,0,1,1,1,1,0,0,0,0,1,1,1,1,1,0,0,0,0.85,0.85,0.85,0.85,0.85,0.85,0.7,0.7,0.85,0.85,0.85,0.85,1,null,153,212,"Cold","5B",null,null,"PROVO MUNI AWOS","UT","",0,0]
["Aurora State, OR","Pullman Moscow Rgnl, WA","Pullman Moscow Rgnl","WA",2552,-117.12,46.75,-8,15.799999999999999,89.6,64.219999313354492,6282,10.8,30.380000042915345,33.799999999999997,39.200000000000003,47.3,52.340000343322757,59,68.539998626708979,68.360001373291013,60.080000686645505,48.019999313354489,33.980000042915343,35.23999991416931,48.114191807982039,46.858398387128339,45.698182249917238,46.731728698648837,49.689627924028358,53.800857910353784,57.993763205717542,61.175398430256593,62.516421332211884,61.667273626400302,58.849298748103884,54.797045275657972,50.566795523771866,1,1,1,1,1,1,0,0,1,1,1,1,0,0,0,0,0,0,1,1,0,0,0,0,1,1,1,1,1,1,1,0,1,1,1,1,0,0,0,0,0,1,1,1,1,0,0,0,0.85,0.85,0.85,0.85,0.85,0.85,0.85,0.7,0.85,0.85,0.85,0.85,1,null,122,243,"Cold","5B",null,null,"PULLMAN MOSCOW RGNL","WA","",0,0]
["Eugene Mahlon Sweet Arpt  Uo, OR","Raleigh Durham International, NC","Raleigh Durham International","NC",417,-78.78,35.869999999999997,-5,23,91.760001373291018,75.560001373291016,3358.8,1576.8,39.559999656677249,41.359999656677246,51.080000686645505,60.259999656677245,68.180000686645513,75.019999313354489,78.619999313354498,75.919999313354495,71.419999313354495,58.280000686645508,51.440000343322751,42.079999828338622,59.527671108245848,55.286312837018976,54.860604085857815,57.215430738560791,61.73697093912368,67.246615555226128,72.308190811487393,75.602319116127205,76.270335162487413,74.138110273645339,69.761441725457814,64.281175621513867,59.125827775263502,1,1,1,1,0,0,0,0,0,1,1,1,0,0,0,0,1,1,1,1,1,0,0,0,1,1,1,1,1,0,0,0,0,1,1,1,0,0,0,1,1,1,1,1,1,1,0,0,0.85,0.85,0.85,0.85,0.85,0.7,0.7,0.7,0.7,0.85,0.85,0.85,1,null,214,151,"Mixed-Humid","4A",null,null,"RALEIGH DURHAM INTERNATIONAL","NC","",0,0]
["Lakeview AWOS, OR","Rawlins Municipal Ap, WY","Rawlins Municipal Ap","WY",6734,-107.2,41.8,-7,5.7199993133544913,90.139998626708987,55.580000686645505,7318.8,372.6,28.4,27.860000085830688,37.4,42.97999982833862,52.7,61.160001373291017,71.780000686645508,67.639998626708987,53.959999656677248,42.259999656677245,30.740000021457671,26.420000171661378,45.396931512845704,43.534658626954446,42.026149795518826,42.960279626821922,46.093552784958128,50.609233336058303,55.330239555734458,59.025968419919941,60.733071247259062,60.006565378555003,57.035825764279792,52.595221465377499,47.842264424140652,1,1,1,1,1,1,0,0,1,1,1,1,0,0,0,0,0,0,1,1,0,0,0,0,1,1,1,1,1,1,1,0,1,1,1,1,0,0,0,0,0,1,1,1,1,0,0,0,0.85,0.85,0.85,0.85,0.85,0.85,0.85,0.7,0.85,0.85,0.85,0.85,1,null,122,243,"Cold","6B",null,null,"RAWLINS MUNICIPAL AP","WY","",0,0]
["Pendleton E Or Regional Ap, OR","Red Oak, IA","Red Oak","IA",1043,-95.27,41.02,-6,-5.9800006866455089,95.179997253417966,78.980000686645511,5853.6,1279.8,22.279999828338624,21.920000171661378,43.7,52.880000686645509,63.680000686645506,70.880000686645502,77,75.380000686645502,68.539998626708979,54.680000686645506,37.579999828338622,31.459999978542328,51.845863171309638,46.081785424745163,44.684911441301864,46.718642342690458,51.652854828722127,58.201370376396653,64.657217492533377,69.337580138695756,71.022449664589914,69.272638863666216,64.544262886586097,58.069845798254946,51.537044186533741,1,1,1,1,1,0,0,0,0,1,1,1,0,0,0,0,0,1,1,1,1,0,0,0,1,1,1,1,1,1,0,0,0,1,1,1,0,0,0,0,1,1,1,1,1,1,0,0,0.85,0.85,0.85,0.85,0.85,0.85,0.7,0.7,0.7,0.85,0.85,0.85,1,null,184,181,"Cold","5A",null,null,"RED OAK","IA","",1,0]
["Portland Troutdale, OR","Redmond Roberts Field, OR","Redmond Roberts Field","OR",3060,-121.17,44.25,-8,12.019999313354491,89.960001373291021,60.980000686645511,6354,279,31.639999994635581,36.679999828338623,38.839999914169312,47.119999313354491,50.540000343322752,60.980000686645511,67.460001373291021,63.319999313354494,57.919999313354495,48.380000686645509,35.23999991416931,34.160000085830688,47.75172609607651,47.021728944022492,45.91759954252062,46.855555954747672,49.591105387510829,53.411184725067557,57.320031418879147,60.298744341052696,61.570876065068049,60.804825852917332,58.200276497588746,54.436143925869189,50.493607299616137,1,1,1,1,1,1,0,1,1,1,1,1,0,0,0,0,0,0,1,1,0,0,0,0,1,1,1,1,1,1,1,1,1,1,1,1,0,0,0,0,0,1,1,1,0,0,0,0,0.85,0.85,0.85,0.85,0.85,0.85,0.85,0.85,0.85,0.85,0.85,0.85,1,null,92,273,"Cold","5B",null,null,"REDMOND ROBERTS FIELD","OR","",0,0]
["Salem Mcnary Field, OR","Renton Muni, WA","Renton Muni","WA",33,-122.22,47.48,-8,28.220000171661376,86.180000686645513,60.980000686645511,4289.4000000000005,241.20000000000002,42.97999982833862,42.97999982833862,47.659999656677243,52.519999313354489,55.580000686645505,62.060001373291016,66.560001373291016,67.280000686645508,59.359999656677246,52.519999313354489,45.5,43.7,53.291287817497775,53.879016776040835,53.318719247120981,54.31526375613754,56.608885619599597,59.601716953012946,62.513630148396487,64.585590157432819,65.277508673896392,64.409026473683866,62.20652682599647,59.244125205550894,56.294017246707121,1,1,1,1,1,1,0,0,1,1,1,1,0,0,0,0,0,0,1,1,0,0,0,0,1,1,1,1,1,1,1,0,1,1,1,1,0,0,0,0,0,1,1,1,1,0,0,0,0.85,0.85,0.85,0.85,0.85,0.85,0.85,0.7,0.85,0.85,0.85,0.85,1,null,122,243,"Marine","4C",null,null,"RENTON MUNI","WA","",0,0]
["Sexton Summit, OR","Republic, NY","Republic","NY",85,-73.42,40.72,-5,17.600000000000001,87.439998626708984,73.219999313354492,4685.4000000000005,1029.6000000000001,34.339999914169312,33.799999999999997,44.6,50.9,58.280000686645508,65.83999862670899,75.2,75.560001373291016,71.239998626708982,54.319999313354494,50.359999656677246,37.039999914169314,54.400383409735277,50.805757971857361,49.922195935806542,51.769934938591994,55.867333334617733,61.146341089139057,66.230903478967974,69.795650961717357,70.91137717158702,69.28725087811307,65.346625628233312,60.116686120202161,54.96069668259539,1,1,1,1,1,1,0,0,0,1,1,1,0,0,0,0,0,0,1,1,1,0,0,0,1,1,1,1,1,1,1,0,0,1,1,1,0,0,0,0,0,1,1,1,1,1,0,0,0.85,0.85,0.85,0.85,0.85,0.85,0.85,0.7,0.7,0.85,0.85,0.85,1,null,153,212,"Mixed-Humid","4A",null,null,"REPUBLIC","NY","",0,0]
["Bradford Regional Ap, PA","Richmond International Ap, VA","Richmond International Ap","VA",164,-77.319999999999993,37.520000000000003,-5,20.840000343322753,92.3,75.380000686645502,3724.2000000000003,1542.6000000000001,34.519999957084657,39.02000017166138,50,57.919999313354495,67.819999313354487,74.3,79.33999862670899,77.360001373291013,69.439998626708984,57.740000343322755,49.640000343322754,42.620000171661374,58.41906834700336,52.980687672524148,52.383614208185875,54.923767337092848,59.939017001250839,66.122061088360283,71.861193873522495,75.6604219535716,76.529417981565857,74.241664751174397,69.393500397243216,63.248673671098693,57.408928353556639,1,1,1,1,0,0,0,0,0,1,1,1,0,0,0,0,1,1,1,1,1,0,0,0,1,1,1,1,1,0,0,0,0,1,1,1,0,0,0,1,1,1,1,1,1,1,0,0,0.85,0.85,0.85,0.85,0.85,0.7,0.7,0.7,0.7,0.85,0.85,0.85,1,null,214,151,"Mixed-Humid","4A",null,null,"RICHMOND INTERNATIONAL AP","VA","",0,0]
["Erie International Ap, PA","Riverton Municipl Ap, WY","Riverton Municipl Ap","WY",5455,-108.45,43.05,-7,-4.1800006866455091,93.379997253417969,55.580000686645505,7448.4000000000005,799.2,21.740000343322755,24.440000343322755,29.660000085830688,44.959999656677248,54.859999656677246,66.739998626708982,74.119999313354498,72.5,63.139998626708987,45.140000343322754,36.139999914169309,19.399999999999999,46.17462988043485,42.428260785534995,40.64928804603197,41.874573266559949,45.784726972171526,51.360507342206454,57.148501297838692,61.639979018845914,63.664167621480757,62.693431152775858,58.980807032800953,53.494047951697027,47.663362217470663,1,1,1,1,1,0,0,0,1,1,1,1,0,0,0,0,0,1,1,1,0,0,0,0,1,1,1,1,1,1,0,0,1,1,1,1,0,0,0,0,1,1,1,1,1,0,0,0,0.85,0.85,0.85,0.85,0.85,0.85,0.7,0.7,0.85,0.85,0.85,0.85,1,null,153,212,"Cold","6B",null,null,"RIVERTON MUNICIPL AP","WY","",1,0]
["Lancaster, PA","Rochester International Arpt, MN","Rochester International Arpt","MN",1305,-92.5,43.9,-6,-9.219999313354494,85.1,71.960001373291021,8132.4000000000005,549,9.3199993133544918,18.140000343322754,32.540000021457672,44.6,57.559999656677249,66.560001373291016,69.619999313354498,68,59.719999313354492,45.320000171661377,32,18.320000171661377,43.603835584398816,39.810839532633224,37.714726311258545,38.717692638647705,42.558299885387754,48.235434587066692,54.269264096397933,59.086977767646957,61.432764289187688,60.695158254516016,57.066428043422164,51.492458105852997,45.426189603512761,1,1,1,1,1,0,0,0,1,1,1,1,0,0,0,0,0,1,1,1,0,0,0,0,1,1,1,1,1,1,0,0,1,1,1,1,0,0,0,0,1,1,1,1,1,0,0,0,0.85,0.85,0.85,0.85,0.85,0.85,0.7,0.7,0.85,0.85,0.85,0.85,1,null,153,212,"Cold","6A",null,null,"ROCHESTER INTERNATIONAL ARPT","MN","",0,0]
["Philadelphia Ne Philadelphia, PA","Rockland Knox Awos, ME","Rockland Knox Awos","ME",56,-69.099999999999994,44.07,-5,2.4800006866455071,78.8,66.2,7110,228.6,27.860000085830688,24.620000171661378,32.9,38.47999982833862,49.819999313354494,61.880000686645509,61.7,64.939998626708984,61.339998626708983,50,39.379999828338626,32.180000002682206,45.542903870666677,44.518096961347673,43.182671787031467,44.026469940391003,46.829542429429949,50.861225213225701,55.070598044069548,58.360423025203154,59.873156577556479,59.214481388778943,56.556091297317323,52.590936647542463,48.352596103800963,1,1,1,1,1,1,1,1,1,1,1,1,0,0,0,0,0,0,1,1,0,0,0,0,1,1,1,1,1,1,1,1,1,1,1,1,0,0,0,0,0,0,1,1,0,0,0,0,0.85,0.85,0.85,0.85,0.85,0.85,0.85,0.85,0.85,0.85,0.85,0.85,1,null,62,303,"Cold","6A",null,null,"ROCKLAND KNOXAWOS","ME",false,0,0]
["Pittsburgh International Ap, PA","Rocky Mount Wilson, NC","Rocky Mount Wilson","NC",164,-77.900000000000006,35.85,-5,21.020000171661376,93.379997253417969,75.380000686645502,2835,1458,40.459999656677248,46.759999656677245,55.4,60.259999656677245,69.260001373291018,74.3,74.83999862670899,76.460001373291021,69.619999313354498,60.080000686645505,55.940000343322751,43.159999656677243,60.609150718793479,56.925576158239352,56.622175064564921,58.92203307911862,63.225656768522214,68.411240297284081,73.12708140637136,76.143923437389134,76.675380024009655,74.582918816936385,70.411972075596253,65.24976134435444,60.441896402384558,1,1,1,1,0,0,0,0,0,1,1,1,0,0,0,0,1,1,1,1,1,0,0,0,1,1,1,1,1,0,0,0,0,1,1,1,0,0,0,1,1,1,1,1,1,1,0,0,0.85,0.85,0.85,0.85,0.85,0.7,0.7,0.7,0.7,0.85,0.85,0.85,1,null,214,151,"Mixed-Humid","4A",null,null,"ROCKY MOUNT WILSON","NC","",0,0]
["Wilkes Barre Scranton Intl Ap, PA","Roseburg Regional Ap, OR","Roseburg Regional Ap","OR",525,-123.35,43.23,-8,29.480000042915343,89.779997253417974,62.780000686645508,3832.2000000000003,372.6,42.8,46.220000171661376,51.080000686645505,52.340000343322757,59.719999313354492,61.7,69.080000686645505,68.719999313354492,61.7,52.519999313354489,49.280000686645508,43.340000343322757,54.931013767294687,54.804596872311215,54.27350706812571,55.477798980362365,58.103555363396559,61.466332351859734,64.689570301746926,66.933082569819703,67.612063109834281,66.549525180629033,64.022435667656438,60.689519396101012,57.419552353938123,1,1,1,1,1,1,0,0,1,1,1,1,0,0,0,0,0,0,1,1,0,0,0,0,1,1,1,1,1,1,1,0,1,1,1,1,0,0,0,0,0,1,1,1,1,0,0,0,0.85,0.85,0.85,0.85,0.85,0.85,0.85,0.7,0.85,0.85,0.85,0.85,1,null,122,243,"Marine","4C",null,null,"ROSEBURG REGIONAL AP","OR","",0,0]
["Block Island State Arpt, RI","Rutland State, VT","Rutland State","VT",807,-72.95,43.52,-5,-1.8399986267089852,82.219999313354492,68.539998626708979,7304.4000000000005,538.20000000000005,17.959999656677248,22.640000343322754,28.4,48.2,58.459999656677248,64.039998626708979,70.880000686645502,68.719999313354492,61.339998626708983,48.559999656677249,34.880000042915341,24.620000171661378,45.844712059987735,42.526483668566641,40.788919535369871,41.933218098634761,45.661100303671674,51.000836205334004,56.560541353032391,60.890992922369492,62.863391977518866,61.963602309166333,58.426167960546486,53.173175708140526,47.573898933599025,1,1,1,1,1,1,0,0,1,1,1,1,0,0,0,0,0,0,1,1,0,0,0,0,1,1,1,1,1,1,1,0,1,1,1,1,0,0,0,0,0,1,1,1,1,0,0,0,0.85,0.85,0.85,0.85,0.85,0.85,0.85,0.7,0.85,0.85,0.85,0.85,1,null,122,243,"Cold","6A",null,null,"RUTLAND STATE","VT","",1,0]
["Pawtucket AWOS, RI","Sacramento Executive Arpt, CA","Sacramento Executive Arpt","CA",16,-121.5,38.5,-8,33.799999999999997,97.160001373291024,68.900000000000006,2615.4,1002.6,47.3,50.540000343322752,53.6,57.559999656677249,65.119999313354498,69.980000686645511,74.3,72.5,69.8,62.239998626708989,50.9,45.5,59.999123167273119,58.362513708769846,58.079275586170915,59.860467784131885,63.241795107251569,67.341862480927489,71.091924160260234,73.514468778331945,73.978022747899615,72.361753583212518,69.086966749508136,65.007285900984215,61.186142720593423,1,1,1,1,1,0,0,0,0,1,1,1,0,0,0,0,0,1,1,1,1,0,0,0,1,1,1,1,1,1,0,0,0,1,1,1,0,0,0,0,1,1,1,1,1,1,0,0,0.85,0.85,0.85,0.85,0.85,0.85,0.7,0.7,0.7,0.85,0.85,0.85,1,null,184,181,"Hot-Dry","3B",null,null,"SACRAMENTO EXECUTIVE ARPT","CA","",1,0]
["Beaufort Mcas, SC","Saginaw Tri City Intl Ap, MI","Saginaw Tri City Intl Ap","MI",659,-84.08,43.53,-5,3.5599996566772454,86.539998626708979,71.780000686645508,6854.4000000000005,531,15.799999999999999,19.040000343322752,41,46.759999656677245,56.480000686645511,64.400000000000006,67.639998626708987,72.860001373291013,59,51.980000686645511,40.279999828338624,27.679999828338623,47.076602825791866,42.595227767051,40.793579371587583,42.193690326583607,46.430600135256441,52.39989296321896,58.545580645275756,63.265694979184758,65.329865424648901,64.200034145228528,60.170709075131597,54.292195887657769,48.096819635752475,1,1,1,1,1,1,0,0,1,1,1,1,0,0,0,0,0,0,1,1,0,0,0,0,1,1,1,1,1,1,1,0,1,1,1,1,0,0,0,0,0,1,1,1,1,0,0,0,0.85,0.85,0.85,0.85,0.85,0.85,0.85,0.7,0.85,0.85,0.85,0.85,1,null,122,243,"Cold","5A",null,null,"SAGINAW TRI CITY INTL AP","MI","",0,0]
["Greenville Downtown Ap, SC","Salina Municipal Ap, KS","Salina Municipal Ap","KS",1263,-97.67,38.82,-6,7.3400003433227532,98.239998626708982,73.760001373291018,4591.8,1859.4,29.3,30.740000021457671,44.6,54.319999313354494,65.119999313354498,77.719999313354492,78.439998626708984,82.580000686645505,74.83999862670899,57.380000686645509,50.359999656677246,35.6,56.880931196212771,49.801764097055333,48.92281129271948,51.682257542367921,57.360810656675888,64.478268257246626,71.179355337149673,75.717330282130533,76.909299990469208,74.444559188877989,68.96558055009713,61.90054428994145,55.09106098512494,1,1,1,1,1,0,0,0,0,1,1,1,0,0,0,0,0,1,1,1,1,0,0,0,1,1,1,1,1,1,0,0,0,1,1,1,0,0,0,0,1,1,1,1,1,1,0,0,0.85,0.85,0.85,0.85,0.85,0.85,0.7,0.7,0.7,0.85,0.85,0.85,1,null,184,181,"Mixed-Humid","4A",null,null,"SALINA MUNICIPAL AP","KS","",0,0]
["Myrtle Beach Afb, SC","Salisbury Wicomico Co Ap, MD","Salisbury Wicomico Co Ap","MD",49,-75.52,38.33,-5,18.140000343322754,90.320002746582034,75.919999313354495,3661.2000000000003,1337.4,36.5,41,47.119999313354491,60.080000686645505,64.580000686645505,71.780000686645508,77.360001373291013,75.919999313354495,69.080000686645505,58.459999656677248,49.819999313354494,43.52000017166138,58.022082348392438,53.696782593560634,53.118128110165038,55.381757333984609,59.897620424248508,65.488588074922717,70.697288408439491,74.165993414365815,74.990531678544826,72.955974595898965,68.592660823493617,63.037955336806789,57.739777721546083,1,1,1,1,1,0,0,0,0,1,1,1,0,0,0,0,0,1,1,1,1,0,0,0,1,1,1,1,1,1,0,0,0,1,1,1,0,0,0,0,1,1,1,1,1,1,0,0,0.85,0.85,0.85,0.85,0.85,0.85,0.7,0.7,0.7,0.85,0.85,0.85,1,null,184,181,"Mixed-Humid","4A",null,null,"SALISBURY WICOMICO CO AP","MD","",0,0]
["Aberdeen Regional Arpt, SD","San Angelo Mathis Field, TX","San Angelo Mathis Field","TX",1916,-100.5,31.35,-6,24.979999828338624,98.060001373291016,69.980000686645511,2469.6,2322,41.9,48.2,55.4,67.639998626708987,73.219999313354492,78.080000686645505,82.219999313354492,80.960001373291021,73.939998626708984,64.580000686645505,54.140000343322754,46.759999656677245,63.999561531902991,58.304435682328112,58.304389083758934,61.352869411861391,66.655243290611693,72.829365256458701,78.265855272904844,81.547608438316317,81.81918521678152,79.009794935868626,73.85174846631233,67.68957010830465,62.129526612903263,1,1,1,0,0,0,0,0,0,1,1,1,0,0,0,1,1,1,1,1,1,0,0,0,1,1,1,1,0,0,0,0,0,1,1,1,0,0,1,1,1,1,1,1,1,1,0,0,0.85,0.85,0.85,0.85,0.7,0.7,0.7,0.7,0.7,0.85,0.85,0.85,1,null,245,120,"Hot-Dry","3B",null,null,"SAN ANGELO MATHIS FIELD","TX","",0,0]
["Huron Regional Arpt, SD","San Diego Lindbergh Field, CA","San Diego Lindbergh Field","CA",13,-117.17,32.729999999999997,-8,46.759999656677245,81.139998626708987,67.460001373291021,939.6,745.2,57.2,59,59.719999313354492,62.960001373291014,62.960001373291014,67.099999999999994,68.900000000000006,71.780000686645508,70.880000686645502,65.480000686645511,62.6,57.559999656677249,63.862466068529102,65.645727956848418,65.640454594790668,66.735713586529101,68.646008797415121,70.873392342190982,72.837262374891438,74.025705907339812,74.128936818334225,73.120046380087501,71.262017432800903,69.0391738546775,67.030934079411566,1,1,1,1,1,0,0,0,0,1,1,1,0,0,0,0,0,1,1,1,1,0,0,0,1,1,1,1,1,1,0,0,0,1,1,1,0,0,0,0,1,1,1,1,1,1,0,0,0.85,0.85,0.85,0.85,0.85,0.85,0.7,0.7,0.7,0.85,0.85,0.85,1,null,184,181,"Hot-Dry","3B",null,null,"SAN DIEGO LINDBERGH FIELD","CA","",0,0]
["Pierre Municipal Ap, SD","San Diego North Island Nas, CA","San Diego North Island Nas","CA",49,-117.2,32.700000000000003,-8,46.040000343322752,79.519999313354489,66.560001373291016,1364.4,376.2,55.4,57.559999656677249,57.559999656677249,59.540000343322752,61.160001373291017,64.039998626708979,68,68.180000686645513,67.099999999999994,65.83999862670899,59.359999656677246,56.480000686645511,61.709862961965065,64.184241641891248,64.110060084110756,64.97422262108455,66.551471970402588,68.430673783016928,70.121985147093099,71.18453969168759,71.341366200290665,70.551585426665284,69.021065900347011,67.148761121890573,65.422716184890646,1,1,1,1,1,1,0,0,0,1,1,1,0,0,0,0,0,0,1,1,1,0,0,0,1,1,1,1,1,1,1,0,0,1,1,1,0,0,0,0,0,1,1,1,1,1,0,0,0.85,0.85,0.85,0.85,0.85,0.85,0.85,0.7,0.7,0.85,0.85,0.85,1,null,153,212,"Hot-Dry","3B",null,null,"SAN DIEGO NORTH ISLAND NAS","CA","",0,0]
["Watertown Municipal Ap, SD","San Luis Co Rgnl, CA","San Luis Co Rgnl","CA",216,-120.63,35.229999999999997,-8,36.320000171661377,84.2,63.319999313354494,2579.4,115.2,50.9,51.259999656677245,56.659999656677243,56.840000343322757,58.459999656677248,61.519999313354496,62.239998626708989,62.060001373291016,64.760001373291018,59.719999313354492,54.140000343322754,52.7,57.638410928804582,60.169615476273968,59.962266008606321,60.713160365496385,62.226566361188461,64.107991400613045,65.867013053606641,67.045115218972256,67.335207412203431,66.661672632678432,65.200078100165598,63.331410953417937,61.542768081267624,1,1,1,1,1,1,1,1,1,1,1,1,0,0,0,0,0,0,1,1,0,0,0,0,1,1,1,1,1,1,1,1,1,1,1,1,0,0,0,0,0,0,1,1,0,0,0,0,0.85,0.85,0.85,0.85,0.85,0.85,0.85,0.85,0.85,0.85,0.85,0.85,1,null,62,303,"Marine","3C",null,null,"SAN LUIS CO RGNL","CA","",0,0]
["Chattanooga Lovell Field Ap, TN","Sandberg, CA","Sandberg","CA",4517,-118.72,34.75,-8,28.220000171661376,89.419999313354495,60.259999656677245,3601.8,1072.8,44.959999656677248,46.940000343322751,47.480000686645511,53.240000343322755,57.740000343322755,67.819999313354487,73.760001373291018,76.639998626708987,69.080000686645505,56.840000343322757,50.9,43.7,57.480109731073249,55.269074862057565,54.765562031209022,56.533630353575234,60.112405574173842,64.56902478116028,68.741801499652652,71.543037173540228,72.24254655607578,70.657991746935522,67.20241137585063,62.776555718649824,58.534092256882701,1,1,1,1,1,0,0,0,0,1,1,1,0,0,0,0,0,1,1,1,1,0,0,0,1,1,1,1,1,1,0,0,0,1,1,1,0,0,0,0,1,1,1,1,1,1,0,0,0.85,0.85,0.85,0.85,0.85,0.85,0.7,0.7,0.7,0.85,0.85,0.85,1,null,184,181,"Hot-Dry","3B",null,null,"SANDBERG","CA","",0,0]
["Crossville Memorial Ap, TN","Sanford Muni AWOS, ME","Sanford Muni AWOS","ME",243,-70.72,43.4,-5,-0.21999931335449299,84.380000686645502,68.719999313354492,7398,12.6,27.679999828338623,22.820000171661377,34.160000085830688,40.820000171661377,52.7,64.219999313354492,69.080000686645505,56.119999313354491,55.580000686645505,45.320000171661377,39.379999828338626,31.279999989271165,45.056164403108703,43.134472786391463,41.581736154789638,42.498655251471028,45.646220983734636,50.203971838009764,54.983859817062886,58.739933458850359,60.493114285793368,59.786408698014867,56.804030397632083,52.323382248480584,47.512414239514804,1,1,1,1,1,1,0,1,1,1,1,1,0,0,0,0,0,0,1,1,0,0,0,0,1,1,1,1,1,1,1,1,1,1,1,1,0,0,0,0,0,1,1,1,0,0,0,0,0.85,0.85,0.85,0.85,0.85,0.85,0.85,0.85,0.85,0.85,0.85,0.85,1,null,92,273,"Cold","6A",null,null,"SANFORD MUNI AWOS","ME","",1,0]
["Knoxville Mcghee Tyson Ap, TN","Santa Maria Public Arpt, CA","Santa Maria Public Arpt","CA",253,-120.47,34.92,-8,34.700000000000003,80.239998626708982,61.880000686645509,3061.8,23.400000000000002,50.540000343322752,50.9,51.8,55.4,57.019999313354489,58.819999313354494,61.880000686645509,61.160001373291017,60.8,58.280000686645508,53.780000686645508,51.980000686645511,56.059342728183694,59.334629270959155,59.12933268480036,59.687788369270962,60.864426244151105,62.352537514814749,63.764223046074584,64.731505249475177,65.002247112430211,64.505875596102044,63.371777585538233,61.895573204171598,60.462057873003467,1,1,1,1,1,1,1,1,1,1,1,1,0,0,0,0,0,0,1,1,0,0,0,0,1,1,1,1,1,1,1,1,1,1,1,1,0,0,0,0,0,0,1,1,0,0,0,0,0.85,0.85,0.85,0.85,0.85,0.85,0.85,0.85,0.85,0.85,0.85,0.85,1,null,62,303,"Marine","3C",null,null,"SANTA MARIA PUBLIC ARPT","CA","",0,0]
["Abilene Regional Ap  Ut, TX","Sata Fe County Municipal Ap, NM","Sata Fe County Municipal Ap","NM",6344,-106.08,35.619999999999997,-7,12.019999313354491,89.779997253417974,60.980000686645511,5365.8,648,31.1,35.960000085830686,47.119999313354491,51.440000343322751,60.8,70.16000137329101,70.7,69.8,60.980000686645511,50.9,37.939999914169313,29.660000085830688,51.465643981646188,48.798803700797933,47.734460450688118,49.206700150000053,52.831760833207554,57.664714569356477,62.445777489048091,65.928691863854965,67.205582388648494,65.943607870662618,62.471721415626362,57.69492373143472,52.858360747152815,1,1,1,1,1,0,0,0,1,1,1,1,0,0,0,0,0,1,1,1,0,0,0,0,1,1,1,1,1,1,0,0,1,1,1,1,0,0,0,0,1,1,1,1,1,0,0,0,0.85,0.85,0.85,0.85,0.85,0.85,0.7,0.7,0.85,0.85,0.85,0.85,1,null,153,212,"Cold","5B",null,null,"SATA FE COUNTY MUNICIPAL AP","NM","",0,0]
["Austin Mueller Municipal Ap  U, TX","Savoonga, AK","Savoonga","AK",56,-170.5,63.68,-9,-16.780000686645508,63.680000686645506,46.759999656677245,12879,0,11.480000686645507,12.559999656677245,6.6199993133544917,25.160000085830688,35.419999957084656,38.660000085830688,47.840000343322757,46.759999656677245,40.820000171661377,33.980000042915343,28.939999914169313,19.940000343322755,29.102246599328026,{"$f":"MAX($Z835+6+(0.4+0.01*($Z835-44))*(MAX($N835:$Y835)-MIN($N835:$Y835))/2*SIN((0.986*((1*30-15)-15-(35-1*($Z835-44)))-90)*PI()/180),32)","v":32},{"$f":"MAX($Z835+6+(0.4+0.01*($Z835-44))*(MAX($N835:$Y835)-MIN($N835:$Y835))/2*SIN((0.986*((2*30-15)-15-(35-1*($Z835-44)))-90)*PI()/180),32)","v":32},{"$f":"MAX($Z835+6+(0.4+0.01*($Z835-44))*(MAX($N835:$Y835)-MIN($N835:$Y835))/2*SIN((0.986*((3*30-15)-15-(35-1*($Z835-44)))-90)*PI()/180),32)","v":32},{"$f":"MAX($Z835+6+(0.4+0.01*($Z835-44))*(MAX($N835:$Y835)-MIN($N835:$Y835))/2*SIN((0.986*((4*30-15)-15-(35-1*($Z835-44)))-90)*PI()/180),32)","v":32},{"$f":"MAX($Z835+6+(0.4+0.01*($Z835-44))*(MAX($N835:$Y835)-MIN($N835:$Y835))/2*SIN((0.986*((5*30-15)-15-(35-1*($Z835-44)))-90)*PI()/180),32)","v":33.258392442987891},{"$f":"MAX($Z835+6+(0.4+0.01*($Z835-44))*(MAX($N835:$Y835)-MIN($N835:$Y835))/2*SIN((0.986*((6*30-15)-15-(35-1*($Z835-44)))-90)*PI()/180),32)","v":35.884878275554108},{"$f":"MAX($Z835+6+(0.4+0.01*($Z835-44))*(MAX($N835:$Y835)-MIN($N835:$Y835))/2*SIN((0.986*((7*30-15)-15-(35-1*($Z835-44)))-90)*PI()/180),32)","v":38.307359100992798},{"$f":"MAX($Z835+6+(0.4+0.01*($Z835-44))*(MAX($N835:$Y835)-MIN($N835:$Y835))/2*SIN((0.986*((8*30-15)-15-(35-1*($Z835-44)))-90)*PI()/180),32)","v":39.894377960593815},{"$f":"MAX($Z835+6+(0.4+0.01*($Z835-44))*(MAX($N835:$Y835)-MIN($N835:$Y835))/2*SIN((0.986*((9*30-15)-15-(35-1*($Z835-44)))-90)*PI()/180),32)","v":40.232253931901248},{"$f":"MAX($Z835+6+(0.4+0.01*($Z835-44))*(MAX($N835:$Y835)-MIN($N835:$Y835))/2*SIN((0.986*((10*30-15)-15-(35-1*($Z835-44)))-90)*PI()/180),32)","v":39.232914436167469},{"$f":"MAX($Z835+6+(0.4+0.01*($Z835-44))*(MAX($N835:$Y835)-MIN($N835:$Y835))/2*SIN((0.986*((11*30-15)-15-(35-1*($Z835-44)))-90)*PI()/180),32)","v":37.156852713243289},{"$f":"MAX($Z835+6+(0.4+0.01*($Z835-44))*(MAX($N835:$Y835)-MIN($N835:$Y835))/2*SIN((0.986*((12*30-15)-15-(35-1*($Z835-44)))-90)*PI()/180),32)","v":34.545226244288465},{"$f":"IF(AND(OR(LEFT(AM$1,3)=\"Jan\",LEFT(AM$1,3)=\"Dec\"),I835<59),1,IF(N835<66,1,0))","v":1},{"$f":"IF(AND(OR(LEFT(AN$1,3)=\"Jan\",LEFT(AN$1,3)=\"Dec\"),J835<59),1,IF(O835<66,1,0))","v":1},{"$f":"IF(AND(OR(LEFT(AO$1,3)=\"Jan\",LEFT(AO$1,3)=\"Dec\"),K835<59),1,IF(P835<66,1,0))","v":1},{"$f":"IF(AND(OR(LEFT(AP$1,3)=\"Jan\",LEFT(AP$1,3)=\"Dec\"),L835<59),1,IF(Q835<66,1,0))","v":1},{"$f":"IF(AND(OR(LEFT(AQ$1,3)=\"Jan\",LEFT(AQ$1,3)=\"Dec\"),M835<59),1,IF(R835<66,1,0))","v":1},{"$f":"IF(AND(OR(LEFT(AR$1,3)=\"Jan\",LEFT(AR$1,3)=\"Dec\"),N835<59),1,IF(S835<66,1,0))","v":1},{"$f":"IF(AND(OR(LEFT(AS$1,3)=\"Jan\",LEFT(AS$1,3)=\"Dec\"),O835<59),1,IF(T835<66,1,0))","v":1},{"$f":"IF(AND(OR(LEFT(AT$1,3)=\"Jan\",LEFT(AT$1,3)=\"Dec\"),P835<59),1,IF(U835<66,1,0))","v":1},{"$f":"IF(AND(OR(LEFT(AU$1,3)=\"Jan\",LEFT(AU$1,3)=\"Dec\"),Q835<59),1,IF(V835<66,1,0))","v":1},{"$f":"IF(AND(OR(LEFT(AV$1,3)=\"Jan\",LEFT(AV$1,3)=\"Dec\"),R835<59),1,IF(W835<66,1,0))","v":1},{"$f":"IF(AND(OR(LEFT(AW$1,3)=\"Jan\",LEFT(AW$1,3)=\"Dec\"),S835<59),1,IF(X835<66,1,0))","v":1},{"$f":"IF(AND(OR(LEFT(AX$1,3)=\"Jan\",LEFT(AX$1,3)=\"Dec\"),T835<59),1,IF(Y835<66,1,0))","v":1},{"$f":"IF(OR(LEFT(AY$1,3)=\"Jul\", LEFT(AY$1,3)=\"Aug\"),1,IF(N835>66,1,0))","v":0},{"$f":"IF(OR(LEFT(AZ$1,3)=\"Jul\", LEFT(AZ$1,3)=\"Aug\"),1,IF(O835>66,1,0))","v":0},{"$f":"IF(OR(LEFT(BA$1,3)=\"Jul\", LEFT(BA$1,3)=\"Aug\"),1,IF(P835>66,1,0))","v":0},{"$f":"IF(OR(LEFT(BB$1,3)=\"Jul\", LEFT(BB$1,3)=\"Aug\"),1,IF(Q835>66,1,0))","v":0},{"$f":"IF(OR(LEFT(BC$1,3)=\"Jul\", LEFT(BC$1,3)=\"Aug\"),1,IF(R835>66,1,0))","v":0},{"$f":"IF(OR(LEFT(BD$1,3)=\"Jul\", LEFT(BD$1,3)=\"Aug\"),1,IF(S835>66,1,0))","v":0},{"$f":"IF(OR(LEFT(BE$1,3)=\"Jul\", LEFT(BE$1,3)=\"Aug\"),1,IF(T835>66,1,0))","v":1},{"$f":"IF(OR(LEFT(BF$1,3)=\"Jul\", LEFT(BF$1,3)=\"Aug\"),1,IF(U835>66,1,0))","v":1},{"$f":"IF(OR(LEFT(BG$1,3)=\"Jul\", LEFT(BG$1,3)=\"Aug\"),1,IF(V835>66,1,0))","v":0},{"$f":"IF(OR(LEFT(BH$1,3)=\"Jul\", LEFT(BH$1,3)=\"Aug\"),1,IF(W835>66,1,0))","v":0},{"$f":"IF(OR(LEFT(BI$1,3)=\"Jul\", LEFT(BI$1,3)=\"Aug\"),1,IF(X835>66,1,0))","v":0},{"$f":"IF(OR(LEFT(BJ$1,3)=\"Jul\", LEFT(BJ$1,3)=\"Aug\"),1,IF(Y835>66,1,0))","v":0},{"$f":"IF(AND(AY835=1,BJ835=0),1,AM835)","v":1},{"$f":"IF(AND(AY835=0,AZ835=1),1,AN835)","v":1},{"$f":"IF(AND(AZ835=0,BA835=1),1,AO835)","v":1},{"$f":"IF(AND(BA835=0,BB835=1),1,AP835)","v":1},{"$f":"IF(AND(BB835=0,BC835=1),1,AQ835)","v":1},{"$f":"IF(AND(BC835=0,BD835=1),1,AR835)","v":1},{"$f":"IF(AND(BD835=0,BE835=1),1,AS835)","v":1},{"$f":"IF(AND(BE835=0,BF835=1),1,AT835)","v":1},{"$f":"IF(AND(BF835=0,BG835=1),1,AU835)","v":1},{"$f":"IF(AND(BG835=0,BH835=1),1,AV835)","v":1},{"$f":"IF(AND(BH835=0,BI835=1),1,AW835)","v":1},{"$f":"IF(AND(BI835=0,BJ835=1),1,AX835)","v":1},{"$f":"IF(OR(AND(AX835=0,AM835=1),AND(AM835=1,AN835=0)),1,AY835)","v":0},{"$f":"IF(OR(AND(AM835=0,AN835=1),AND(AN835=1,AO835=0)),1,AZ835)","v":0},{"$f":"IF(OR(AND(AN835=0,AO835=1),AND(AO835=1,AP835=0)),1,BA835)","v":0},{"$f":"IF(OR(AND(AO835=0,AP835=1),AND(AP835=1,AQ835=0)),1,BB835)","v":0},{"$f":"IF(OR(AND(AP835=0,AQ835=1),AND(AQ835=1,AR835=0)),1,BC835)","v":0},{"$f":"IF(OR(AND(AQ835=0,AR835=1),AND(AR835=1,AS835=0)),1,BD835)","v":0},{"$f":"IF(OR(AND(AR835=0,AS835=1),AND(AS835=1,AT835=0)),1,BE835)","v":1},{"$f":"IF(OR(AND(AS835=0,AT835=1),AND(AT835=1,AU835=0)),1,BF835)","v":1},{"$f":"IF(OR(AND(AT835=0,AU835=1),AND(AU835=1,AV835=0)),1,BG835)","v":0},{"$f":"IF(OR(AND(AU835=0,AV835=1),AND(AV835=1,AW835=0)),1,BH835)","v":0},{"$f":"IF(OR(AND(AV835=0,AW835=1),AND(AW835=1,AX835=0)),1,BI835)","v":0},{"$f":"IF(OR(AND(AW835=0,AX835=1),AND(AX835=1,AM835=0)),1,BJ835)","v":0},{"$f":"IF(BK835=1,0.85,0.7)","v":0.85},{"$f":"IF(BL835=1,0.85,0.7)","v":0.85},{"$f":"IF(BM835=1,0.85,0.7)","v":0.85},{"$f":"IF(BN835=1,0.85,0.7)","v":0.85},{"$f":"IF(BO835=1,0.85,0.7)","v":0.85},{"$f":"IF(BP835=1,0.85,0.7)","v":0.85},{"$f":"IF(BQ835=1,0.85,0.7)","v":0.85},{"$f":"IF(BR835=1,0.85,0.7)","v":0.85},{"$f":"IF(BS835=1,0.85,0.7)","v":0.85},{"$f":"IF(BT835=1,0.85,0.7)","v":0.85},{"$f":"IF(BU835=1,0.85,0.7)","v":0.85},{"$f":"IF(BV835=1,0.85,0.7)","v":0.85},1,null,{"$f":"BW835*31+BX835*28+BY835*31+BZ835*30+CA835*31+CB835*30+CC835*31+CD835*31+CE835*30+CF835*31+CG835*30+CH835*31","v":62},{"$f":"365-CW835","v":303},"Subarctic",8,null,null,"SAVOONGA","AK","",0,0]
["College Station Easterwood Fl, TX","Seattle Seattle Tacoma Intl A, WA","Seattle Seattle Tacoma Intl A","WA",400,-122.32,47.47,-8,29.119999957084655,81.319999313354487,63.5,4577.4000000000005,136.80000000000001,40.1,42.440000343322751,46.940000343322751,51.619999313354491,55.4,60.080000686645505,63.86000137329102,65.83999862670899,59.180000686645506,52.519999313354489,46.580000686645505,41.720000171661376,52.246301494493878,52.68355517791548,52.046689746915739,53.025848656831201,55.365799048496861,58.456596792598006,61.492577826499669,63.682366907831451,64.455161766873019,63.609521514485898,61.365875314165571,58.309064123660065,55.235892886660999,1,1,1,1,1,1,1,1,1,1,1,1,0,0,0,0,0,0,1,1,0,0,0,0,1,1,1,1,1,1,1,1,1,1,1,1,0,0,0,0,0,0,1,1,0,0,0,0,0.85,0.85,0.85,0.85,0.85,0.85,0.85,0.85,0.85,0.85,0.85,0.85,1,null,62,303,"Marine","4C",null,null,"SEATTLE SEATTLE TACOMA INTL A","WA","",0,0]
["Corpus Christi Nas, TX","Seward, AK","Seward","AK",59,-149.44999999999999,60.12,-9,7.3400003433227532,66.019999313354489,55.580000686645505,8888.4,0,31.639999994635581,28.939999914169313,30.380000042915345,39.02000017166138,44.059999656677249,53.240000343322755,54.319999313354494,56.119999313354491,48.2,35.060000085830687,28.4,30.380000042915345,40.046246479414911,42.131361469563785,41.109427432910053,41.374351359412195,42.857076745026149,45.171108368501798,47.713258226873464,49.820875783841416,50.944578043812271,50.791454695948609,49.401419700573321,47.13680710031867,44.587923068177574,1,1,1,1,1,1,1,1,1,1,1,1,0,0,0,0,0,0,1,1,0,0,0,0,1,1,1,1,1,1,1,1,1,1,1,1,0,0,0,0,0,0,1,1,0,0,0,0,0.85,0.85,0.85,0.85,0.85,0.85,0.85,0.85,0.85,0.85,0.85,0.85,1,null,62,303,"Very Cold",7,null,null,"SEWARD","AK","",0,0]
["Dalhart Municipal Ap, TX","Sheldon, IA","Sheldon","IA",1417,-95.83,43.22,-6,-9.5800006866455085,91.579997253417972,80.780000686645508,6759,806.4,18.320000171661377,34.160000085830688,40.1,50.9,55.4,69.8,73.400000000000006,71.419999313354495,60.619999313354491,52.519999313354489,25.7,23.540000343322752,48.06241083615447,43.607203482142033,41.929202454668228,43.413909170229758,47.674311943392446,53.599871136537359,59.645998430340008,64.236677572028782,66.17527729881553,64.956471717187171,60.897961284357706,55.057659288183068,48.957930445744296,1,1,1,1,1,0,0,0,1,1,1,1,0,0,0,0,0,1,1,1,0,0,0,0,1,1,1,1,1,1,0,0,1,1,1,1,0,0,0,0,1,1,1,1,1,0,0,0,0.85,0.85,0.85,0.85,0.85,0.85,0.7,0.7,0.85,0.85,0.85,0.85,1,null,153,212,"Cold","6A",null,null,"SHELDON","IA","",0,0]
["Dallas Addison Arpt, TX","Shemya Afb, AK","Shemya Afb","AK",102,174.12,52.72,-10,23.9,53.240000343322755,50.359999656677246,9644.4,0,33.619999957084659,31.459999978542328,30.559999978542329,33.440000021457671,37.579999828338622,41.720000171661376,45.679999828338623,47.840000343322757,46.940000343322751,40.820000171661377,33.980000042915343,31.1,37.935561698920104,41.705678899821827,41.056519067099174,41.157826063750584,41.983192659910806,43.317474333006416,44.81287000304205,46.079581743878101,46.787421619646828,46.751880258586453,45.982222064166301,44.6790703055538,43.18211157080777,1,1,1,1,1,1,1,1,1,1,1,1,0,0,0,0,0,0,1,1,0,0,0,0,1,1,1,1,1,1,1,1,1,1,1,1,0,0,0,0,0,0,1,1,0,0,0,0,0.85,0.85,0.85,0.85,0.85,0.85,0.85,0.85,0.85,0.85,0.85,0.85,1,null,62,303,"Very Cold",7,null,null,"SHEMYA AFB","AK","",0,0]
["Dallas Redbird Arpt, TX","Shishmaref AWOS, AK","Shishmaref AWOS","AK",7,-166.05,66.27,-9,-28.660001373291017,57.019999313354489,51.619999313354491,14268.6,0,4.9999999999999991,-3.6399986267089854,6.2599996566772456,19.399999999999999,32.360000005364419,38.120000171661374,48.559999656677249,46.940000343322751,39.559999656677249,33.440000021457671,22.1,13.459999656677246,25.315342500952823,32,32,32,32,32,32,34.470186847185445,36.320997600032044,36.867007211823577,35.965889862983758,33.852535677126383,32,1,1,1,1,1,1,1,1,1,1,1,1,0,0,0,0,0,0,1,1,0,0,0,0,1,1,1,1,1,1,1,1,1,1,1,1,0,0,0,0,0,0,1,1,0,0,0,0,0.85,0.85,0.85,0.85,0.85,0.85,0.85,0.85,0.85,0.85,0.85,0.85,1,null,62,303,"Subarctic",8,null,null,"SHISHMAREF AWOS","AK","",0,0]
["Draughon Miller Cen, TX","Shreveport Regional Arpt, LA","Shreveport Regional Arpt","LA",253,-93.82,32.450000000000003,-6,27.679999828338623,95.360001373291013,76.460001373291021,2284.2000000000003,2417.4,42.8,49.459999656677248,59,66.380000686645502,72.680000686645513,78.080000686645505,81.680000686645513,82.760001373291018,76.819999313354487,62.960001373291014,58.459999656677248,45.320000171661377,64.767890777326613,58.988804488545583,59.070717418056965,62.201678842559843,67.565555417181471,73.764170052906636,79.181758321390546,82.406142352890527,82.596836760334071,79.704134107731278,74.482061919380286,68.291833785743137,62.747028064155501,1,1,1,0,0,0,0,0,0,1,1,1,0,0,0,1,1,1,1,1,1,0,0,0,1,1,1,1,0,0,0,0,0,1,1,1,0,0,1,1,1,1,1,1,1,1,0,0,0.85,0.85,0.85,0.85,0.7,0.7,0.7,0.7,0.7,0.85,0.85,0.85,1,null,245,120,"Hot-humid","3A",null,null,"SHREVEPORT REGIONAL ARPT","LA","",0,0]
["Fort Worth Meacham, TX","Siloam Spring Awos, AR","Siloam Spring Awos","AR",1194,-94.48,36.18,-6,16.159999656677247,92.660001373291024,74.119999313354498,3738.6,1702.8,37.220000171661376,46.759999656677245,45.5,57.019999313354489,67.819999313354487,75.2,79.519999313354489,78.980000686645511,71.599999999999994,55.219999313354492,50.9,39.559999656677249,58.819999786011159,53.917721629970437,53.390734721712001,55.842961882769202,60.635192313648034,66.518257302033547,71.958645297927319,75.538235331282834,76.323952096753786,74.110986411158308,69.476181883280347,63.62767173781107,58.089960272436571,1,1,1,1,0,0,0,0,0,1,1,1,0,0,0,0,1,1,1,1,1,0,0,0,1,1,1,1,1,0,0,0,0,1,1,1,0,0,0,1,1,1,1,1,1,1,0,0,0.85,0.85,0.85,0.85,0.85,0.7,0.7,0.7,0.7,0.85,0.85,0.85,1,null,214,151,"Mixed-Humid","4A",null,null,"SILOAM SPRINGAWOS","AR",false,0,0]
["Georgetown AWOS, TX","Sioux Falls Foss Field, SD","Sioux Falls Foss Field","SD",1420,-96.75,43.58,-6,-8.3199993133544936,89.419999313354495,73.400000000000006,7452,792,13.640000343322754,20.120000171661378,36.5,46.4,59.180000686645506,69.260001373291018,73.580000686645505,71.419999313354495,62.780000686645508,48.380000686645509,31.639999994635581,19.220000171661376,46.151452397206057,41.483896148726686,39.533837361195097,40.872754376133216,45.151637840261664,51.255130839065195,57.592263864731464,62.511165535944542,64.729648329533461,63.669430517494561,59.606874210986824,53.600947317189238,47.217187235105179,1,1,1,1,1,0,0,0,1,1,1,1,0,0,0,0,0,1,1,1,0,0,0,0,1,1,1,1,1,1,0,0,1,1,1,1,0,0,0,0,1,1,1,1,1,0,0,0,0.85,0.85,0.85,0.85,0.85,0.85,0.7,0.7,0.85,0.85,0.85,0.85,1,null,153,212,"Cold","6A",null,null,"SIOUX FALLS FOSS FIELD","SD","",0,0]
["Hondo Municipal Ap, TX","Sleetmute, AK","Sleetmute","AK",177,-157.15,61.72,-9,-43.779997253417967,100.57999725341797,72.319999313354487,11286,234,-1.119999313354493,23,22.820000171661377,55.040000343322752,43.340000343322757,56.3,54.859999656677246,50.359999656677246,42.079999828338622,33.440000021457671,17.600000000000001,11.840000343322753,34.126958992938469,33.930795476979789,32,32,33.957225203757623,37.753759415728844,42.168904669612267,46.051785315535277,48.390268676136046,48.574793026354548,46.557259250700028,42.863568618933435,38.456538515720375,1,1,1,1,1,1,1,1,1,1,1,1,0,0,0,0,0,0,1,1,0,0,0,0,1,1,1,1,1,1,1,1,1,1,1,1,0,0,0,0,0,0,1,1,0,0,0,0,0.85,0.85,0.85,0.85,0.85,0.85,0.85,0.85,0.85,0.85,0.85,0.85,1,null,62,303,"Subarctic",8,null,null,"SLEETMUTE","AK","",0,0]
["Houston Ellington Afb  Clear L, TX","Soldotna, AK","Soldotna","AK",112,-151.03,60.47,-9,-19.480000686645511,68,55.580000686645505,9745.2000000000007,3.6,25.339999914169312,29.480000042915343,29.119999957084655,35.6,46.580000686645505,54.319999313354494,55.219999313354492,53.240000343322755,45.859999656677246,32.360000005364419,19.579999828338622,25.160000085830688,37.709205409949774,39.155977352425012,37.815261153746725,38.010892353878106,39.691876665736864,42.42003962368463,45.484243510468531,48.085756362187084,49.54645376351327,49.485582426763102,47.919009403916199,45.255086094998653,42.188205162780648,1,1,1,1,1,1,1,1,1,1,1,1,0,0,0,0,0,0,1,1,0,0,0,0,1,1,1,1,1,1,1,1,1,1,1,1,0,0,0,0,0,0,1,1,0,0,0,0,0.85,0.85,0.85,0.85,0.85,0.85,0.85,0.85,0.85,0.85,0.85,0.85,1,null,62,303,"Very Cold",7,null,null,"SOLDOTNA","AK","",0,0]
["Kingsville, TX","South Lake Tahoe, CA","South Lake Tahoe","CA",6262,-120,38.9,-8,3.7400003433227531,84.380000686645502,51.619999313354491,7545.6,37.800000000000004,26.420000171661378,29.119999957084655,33.440000021457671,42.440000343322751,48.380000686645509,57.559999656677249,62.239998626708989,62.060001373291016,55.940000343322751,42.97999982833862,35.6,29.119999957084655,43.850411040325689,43.979585158929829,42.74120981083685,43.355957319317312,45.663584272739925,49.062572144087291,52.666922364704092,55.537105504868329,56.924964098235151,56.468731414895174,54.287331534519438,50.949379952317592,47.324965187581483,1,1,1,1,1,1,1,1,1,1,1,1,0,0,0,0,0,0,1,1,0,0,0,0,1,1,1,1,1,1,1,1,1,1,1,1,0,0,0,0,0,0,1,1,0,0,0,0,0.85,0.85,0.85,0.85,0.85,0.85,0.85,0.85,0.85,0.85,0.85,0.85,1,null,62,303,"Mixed-Dry","4B",null,null,"SOUTH LAKE TAHOE","CA","",0,0]
["Laredo Intl Ap  Ut, TX","South St Paul Muni, MN","South St Paul Muni","MN",820,-93.15,44.85,-6,-5.6199993133544934,88.16000137329101,72.5,7871.4000000000005,846,11.840000343322753,23,33.080000042915344,45.679999828338623,57.559999656677249,70.7,73.760001373291018,70.880000686645502,64.939998626708984,48.2,31.1,9.8599996566772461,45.142958926566656,40.166595890326334,38.026729561712031,39.305810544259941,43.670426668634349,49.982873481246628,56.597714442639436,61.790689318440876,64.208169181108119,63.220000649944552,59.083765080736001,52.877636015916202,46.219336635574344,1,1,1,1,1,0,0,0,1,1,1,1,0,0,0,0,0,1,1,1,0,0,0,0,1,1,1,1,1,1,0,0,1,1,1,1,0,0,0,0,1,1,1,1,1,0,0,0,0.85,0.85,0.85,0.85,0.85,0.85,0.7,0.7,0.85,0.85,0.85,0.85,1,null,153,212,"Cold","6A",null,null,"SOUTH ST PAUL MUNI","MN","",1,0]
["Lufkin Angelina Co, TX","Southwest Florida I, FL","Southwest Florida I","FL",30,-81.75,26.53,-5,45.320000171661377,92.660001373291024,76.819999313354487,304.2,102.60000000000001,63.319999313354494,68.180000686645513,68.360001373291013,72.860001373291013,74.66000137329101,78.980000686645511,80.060001373291016,80.419999313354495,80.960001373291021,74.119999313354498,67.639998626708987,63.319999313354494,72.751507187934777,72.72264720109952,73.187148255336552,75.102085214722067,77.968300250720432,81.03867024448796,83.512855941315308,84.745922710968699,84.416452697803877,82.610327338038829,79.798341039930619,76.713481366101718,74.159864529662201,1,0,0,0,0,0,0,0,0,0,0,1,0,1,1,1,1,1,1,1,1,1,1,0,1,1,0,0,0,0,0,0,0,0,0,1,1,1,1,1,1,1,1,1,1,1,1,1,0.85,0.85,0.7,0.7,0.7,0.7,0.7,0.7,0.7,0.7,0.7,0.85,1,null,365,0,"Hot-Humid","2A",null,null,"SOUTHWEST FLORIDA I","FL","",0,0]
["Midland International Ap, TX","Springfield Capital Ap, IL","Springfield Capital Ap","IL",587,-89.68,39.85,-6,4.640000343322753,90.5,75.560001373291016,5346,1247.4000000000001,23,25.7,45.140000343322754,54.319999313354494,64.939998626708984,74.480000686645511,76.460001373291021,73.939998626708984,66.560001373291016,53.419999313354495,45.140000343322754,33.080000042915344,53.161589040037704,47.29851004568107,46.054380925054147,48.226847587788875,53.24962311951878,59.813443674584533,66.207348273771672,70.764667150249608,72.297464908454643,70.406194191582173,65.583843857348967,59.08743383504104,52.610353509681808,1,1,1,1,1,0,0,0,0,1,1,1,0,0,0,0,0,1,1,1,1,0,0,0,1,1,1,1,1,1,0,0,0,1,1,1,0,0,0,0,1,1,1,1,1,1,0,0,0.85,0.85,0.85,0.85,0.85,0.85,0.7,0.7,0.7,0.85,0.85,0.85,1,null,184,181,"Cold","5A",null,null,"SPRINGFIELD CAPITAL AP","IL","",0,0]
["Nacogdoches AWOS, TX","Springfield Regional Arpt, MO","Springfield Regional Arpt","MO",1260,-93.38,37.229999999999997,-6,10.940000343322753,92.120002746582031,74.480000686645511,4498.2,1333.8,33.080000042915344,31.81999999731779,48.380000686645509,57.2,62.419999313354495,74.119999313354498,78.080000686645505,76.280000686645508,67.280000686645508,57.559999656677249,43.52000017166138,37.4,55.736328872148306,50.715948659058853,49.850033285677448,52.082464030269279,56.83132341645733,62.858748063093351,68.593596850606247,72.540993065835806,73.67198705406544,71.69176780311814,67.116509976855724,61.138825034550777,55.316888675328499,1,1,1,1,1,0,0,0,0,1,1,1,0,0,0,0,0,1,1,1,1,0,0,0,1,1,1,1,1,1,0,0,0,1,1,1,0,0,0,0,1,1,1,1,1,1,0,0,0.85,0.85,0.85,0.85,0.85,0.85,0.7,0.7,0.7,0.85,0.85,0.85,1,null,184,181,"Mixed-Humid","4A",null,null,"SPRINGFIELD REGIONAL ARPT","MO","",0,0]
["Randolph Afb, TX","St Joseph Rosecrans Memorial, MO","St Joseph Rosecrans Memorial","MO",810,-94.9,39.770000000000003,-6,1.9399986267089837,94.100000000000009,78.980000686645511,5387.4000000000005,1425.6000000000001,26.960000085830689,34.880000042915341,37.220000171661376,53.419999313354495,64.219999313354492,75.019999313354489,77.719999313354492,79.16000137329101,63.86000137329102,54.5,40.459999656677248,34.160000085830688,53.565972606972473,47.848772396474928,46.669169331688323,48.851316786358986,53.826404398516821,60.297598913632065,66.578083757213818,71.030753769581381,72.494951894289244,70.589012326156165,65.809747585033875,59.402946676394912,53.038640988866639,1,1,1,1,1,0,0,0,1,1,1,1,0,0,0,0,0,1,1,1,0,0,0,0,1,1,1,1,1,1,0,0,1,1,1,1,0,0,0,0,1,1,1,1,1,0,0,0,0.85,0.85,0.85,0.85,0.85,0.85,0.7,0.7,0.85,0.85,0.85,0.85,1,null,153,212,"Cold","5A",null,null,"ST JOSEPH ROSECRANS MEMORIAL","MO","",0,0]
["San Antonio Intl Ap, TX","St Paul Downtown Ap, MN","St Paul Downtown Ap","MN",722,-93.05,44.93,-6,-7.6000000000000014,87.619999313354498,73.219999313354492,7790.4000000000005,653.4,3.9199993133544915,22.640000343322754,33.440000021457671,44.6,56.3,69.8,69.439998626708984,72.860001373291013,62.780000686645508,48.2,37.4,15.619999313354493,44.834246543302932,39.122309364273988,36.794834438810469,38.126948632272423,42.771415851632867,49.517584142759148,56.60696077896894,62.191590489433217,64.815753478370553,63.795421223138675,59.396559049859789,52.765798172517066,45.631548596908047,1,1,1,1,1,0,0,0,1,1,1,1,0,0,0,0,0,1,1,1,0,0,0,0,1,1,1,1,1,1,0,0,1,1,1,1,0,0,0,0,1,1,1,1,1,0,0,0,0.85,0.85,0.85,0.85,0.85,0.85,0.7,0.7,0.85,0.85,0.85,0.85,1,null,153,212,"Cold","6A",null,null,"ST PAUL DOWNTOWN AP","MN","",0,0]
["Tyler Pounds Fld, TX","St Petersburg Clear, FL","St Petersburg Clear","FL",10,-82.68,27.9,-5,45.859999656677246,91.579997253417972,78.260001373291018,725.4,3562.2000000000003,54.140000343322754,60.259999656677245,62.960001373291014,71.780000686645508,78.8,80.780000686645508,83.3,81.680000686645513,81.139998626708987,77.180000686645513,69.980000686645511,63.139998626708987,72.150356340277682,68.282984977132543,68.992192521328292,72.088616596509667,76.765126550141233,81.802717995609115,85.888265091018027,87.956807025763112,87.469146467356921,84.552399655424736,79.966861594925618,74.907823446609186,70.694001465971894,1,1,1,0,0,0,0,0,0,0,0,1,0,0,0,1,1,1,1,1,1,1,1,0,1,1,1,1,0,0,0,0,0,0,0,1,0,0,1,1,1,1,1,1,1,1,1,1,0.85,0.85,0.85,0.85,0.7,0.7,0.7,0.7,0.7,0.7,0.7,0.85,1,null,306,59,"Hot-Humid","2A",null,null,"ST PETERSBURG CLEAR","FL","",0,0]
["Wichita Falls Municipal Arpt, TX","Staunton Shenandoah, VA","Staunton Shenandoah","VA",1200,-78.900000000000006,38.270000000000003,-5,16.7,91.039998626708993,73.939998626708984,4618.8,1157.4000000000001,37.76000008583069,35.6,40.1,53.240000343322755,61.339998626708983,72.5,74.83999862670899,77,67.460001373291021,55.219999313354492,41,41.720000171661376,54.931999871371545,51.280536560341844,50.443962295614263,52.341256650559224,56.477860613369273,61.775504614141319,66.853276104908858,70.387575695776036,71.457133733177983,69.783153432277601,65.801983555321868,60.551377382424214,55.399986326840789,1,1,1,1,1,0,0,0,0,1,1,1,0,0,0,0,0,1,1,1,1,0,0,0,1,1,1,1,1,1,0,0,0,1,1,1,0,0,0,0,1,1,1,1,1,1,0,0,0.85,0.85,0.85,0.85,0.85,0.85,0.7,0.7,0.7,0.85,0.85,0.85,1,null,184,181,"Mixed-Humid","4A",null,null,"STAUNTON SHENANDOAH","VA","",0,0]
["Blanding, UT","Stewart Field, NY","Stewart Field","NY",581,-74.099999999999994,41.5,-5,8.9599996566772457,86.360001373291013,71.599999999999994,5922,799.2,19.759999656677245,30.2,40.459999656677248,48.919999313354495,57.380000686645509,69.080000686645505,74.66000137329101,72.139998626708987,62.419999313354495,48.740000343322755,43.340000343322757,35.960000085830686,50.357534254805685,45.147176718772883,43.635863050833315,45.44064902909669,50.091089375734846,56.374975148941523,62.654314684319381,67.292301364420808,69.079972487539138,67.551344026587685,63.104876546791083,56.899610318896329,50.55304361125134,1,1,1,1,1,0,0,0,1,1,1,1,0,0,0,0,0,1,1,1,0,0,0,0,1,1,1,1,1,1,0,0,1,1,1,1,0,0,0,0,1,1,1,1,1,0,0,0,0.85,0.85,0.85,0.85,0.85,0.85,0.7,0.7,0.85,0.85,0.85,0.85,1,null,153,212,"Cold","5A",null,null,"NEWBURGH STEWART","NY",false,0,0]
["Bryce Cnyn Faa Ap, UT","Stillwater Rgnl, OK","Stillwater Rgnl","OK",1010,-97.08,36.15,-6,18.140000343322754,99.139998626708987,75.2,3736.8,2255.4,35.779999828338624,36.5,52.159999656677243,65.3,69.080000686645505,74.66000137329101,86.180000686645513,82.939998626708984,75.380000686645502,55.040000343322752,49.459999656677248,39.920000171661378,60.329041236981958,52.860571669523864,52.403041758419164,55.575538217549898,61.551100955193327,68.772107457573469,75.35629110076637,79.587382952832499,80.362483719431722,77.479551441085576,71.690066843476174,64.503148305628713,57.792176898200267,1,1,1,1,0,0,0,0,0,1,1,1,0,0,0,0,1,1,1,1,1,0,0,0,1,1,1,1,1,0,0,0,0,1,1,1,0,0,0,1,1,1,1,1,1,1,0,0,0.85,0.85,0.85,0.85,0.85,0.7,0.7,0.7,0.7,0.85,0.85,0.85,1,null,214,151,"Mixed-Humid","3A",null,null,"STILLWATER RGNL","OK","",0,0]
["Moab Canyonlands  Uo, UT","Stuttgart AWOS, AR","Stuttgart AWOS","AR",223,-91.57,34.6,-6,25.160000085830688,93.379997253417969,76.639998626708987,2746.8,2160,44.779999828338624,45.140000343322754,51.980000686645511,60.980000686645511,72.5,78.439998626708984,80.960001373291021,78.619999313354498,76.280000686645508,66.019999313354489,54.859999656677246,41.9,62.795287713090033,57.756165758566183,57.634633101658629,60.422297060114346,65.39251006395989,71.24970950044208,76.467126074266304,79.684759752642094,80.063884732064892,77.505676244155353,72.676970754473231,66.836444761508233,61.506521370556641,1,1,1,1,0,0,0,0,0,0,1,1,0,0,0,0,1,1,1,1,1,1,0,0,1,1,1,1,1,0,0,0,0,0,1,1,0,0,0,1,1,1,1,1,1,1,1,0,0.85,0.85,0.85,0.85,0.85,0.7,0.7,0.7,0.7,0.7,0.85,0.85,1,null,244,121,"Mixed-Humid","3A",null,null,"STUTTGART AWOS","AR","",0,0]
["Provo Muni AWOS, UT","Tacoma Mcchord Afb, WA","Tacoma Mcchord Afb","WA",289,-122.48,47.15,-8,24.8,82.219999313354492,63.5,5486.4000000000005,169.20000000000002,38.299999999999997,39.559999656677249,41.359999656677246,47.480000686645511,51.8,59,66.019999313354489,66.560001373291016,59,49.640000343322754,39.740000343322755,38.660000085830688,49.826904233514448,50.15059652349909,49.352217958847156,50.241566149622997,52.58681878463041,55.776649623117628,58.979580100251759,61.360717028515076,62.299380373124947,61.550893068068802,59.310359863948058,56.161810268078597,52.925962253241771,1,1,1,1,1,1,0,0,1,1,1,1,0,0,0,0,0,0,1,1,0,0,0,0,1,1,1,1,1,1,1,0,1,1,1,1,0,0,0,0,0,1,1,1,1,0,0,0,0.85,0.85,0.85,0.85,0.85,0.85,0.85,0.7,0.85,0.85,0.85,0.85,1,null,122,243,"Marine","4C",null,null,"MC CHORD AFB TACOMA","WA",false,0,0]
["Vernal, UT","Tallahassee Regional Ap  Isis, FL","Tallahassee Regional Ap  Isis","FL",69,-84.37,30.38,-5,28.939999914169313,93.560001373291016,76.099999999999994,1468.8,2356.2000000000003,50.359999656677246,54.680000686645506,62.419999313354495,66.919999313354495,72.680000686645513,78.619999313354498,80.960001373291021,80.060001373291016,75.739998626708982,66.560001373291016,61.519999313354496,51.080000686645505,66.856876861885809,63.4489938871112,63.690293592858126,66.32100448900124,70.655391239978783,75.563629144226752,79.766310353767253,82.167941246055705,82.142499718764768,79.696617498048639,75.467851476922931,70.55849468605102,66.248246628451923,1,1,1,0,0,0,0,0,0,0,1,1,0,0,0,1,1,1,1,1,1,1,0,0,1,1,1,1,0,0,0,0,0,0,1,1,0,0,1,1,1,1,1,1,1,1,1,0,0.85,0.85,0.85,0.85,0.7,0.7,0.7,0.7,0.7,0.7,0.85,0.85,1,null,275,90,"Hot-Humid","2A",null,null,"TALLAHASSEE REGIONAL AP","FL",false,1,0]
["Danville Faa Ap, VA","Tekamah  Asos, NE","Tekamah  Asos","NE",1023,-96.17,41.77,-6,-3.9998626708985165E-2,91.039998626708993,74.83999862670899,6474.6,1047.6000000000001,20.3,31.459999978542328,43.52000017166138,44.240000343322755,62.060001373291016,70.16000137329101,77.360001373291013,74.3,65.3,51.619999313354491,39.740000343322755,13.459999656677246,49.54876745132551,42.825369077597308,40.996584792192415,42.961051172813505,48.206699784008407,55.366171477377129,62.573239625244625,67.949270850587197,70.092919767370347,68.445411250804796,63.436193784608115,56.370997095722274,49.091473579082049,1,1,1,1,1,0,0,0,1,1,1,1,0,0,0,0,0,1,1,1,0,0,0,0,1,1,1,1,1,1,0,0,1,1,1,1,0,0,0,0,1,1,1,1,1,0,0,0,0.85,0.85,0.85,0.85,0.85,0.85,0.7,0.7,0.85,0.85,0.85,0.85,1,null,153,212,"Cold","5A",null,null,"TEKAMAH (ASOS)","NE",false,0,0]
["Dinwiddie Co, VA","Teterboro Airport, NJ","Teterboro Airport","NJ",10,-74.069999999999993,40.85,-5,14.540000343322754,89.779997253417974,73.939998626708984,4649.4000000000005,784.80000000000007,29.839999914169312,39.02000017166138,43.7,50.719999313354492,62.419999313354495,69.8,72.139998626708987,71.239998626708982,64.400000000000006,54.859999656677246,48.740000343322755,38.120000171661374,53.819944876971313,50.256893077983605,49.319253433300453,51.118780833963527,55.186400731433324,60.46182531551429,65.569933871612051,69.179219186244097,70.348865421381262,68.773986261040946,64.865098227988341,59.641113225826608,54.463743449414899,1,1,1,1,1,0,0,0,1,1,1,1,0,0,0,0,0,1,1,1,0,0,0,0,1,1,1,1,1,1,0,0,1,1,1,1,0,0,0,0,1,1,1,1,1,0,0,0,0.85,0.85,0.85,0.85,0.85,0.85,0.7,0.7,0.85,0.85,0.85,0.85,1,null,153,212,"Cold","5A",null,null,"TETERBORO AIRPORT","NJ","",0,0]
["Hillsville, VA","Thief River Awos, MN","Thief River Awos","MN",1115,-96.18,48.07,-6,-17.860001373291016,82.219999313354492,68.360001373291013,9018,387,8.6,22.1,17.419999313354491,49.459999656677248,49.1,63.139998626708987,70.519999313354489,65.119999313354498,59,34.339999914169312,37.220000171661376,12.740000343322754,40.757369582946986,37.754059969803023,35.491583100650061,36.165707089132646,39.600711129087671,44.901208482486268,50.685542831028357,55.445938287475904,57.941524416191292,57.52178823457848,54.296140446705209,49.105395857217729,43.302602035161414,1,1,1,1,1,1,0,1,1,1,1,1,0,0,0,0,0,0,1,1,0,0,0,0,1,1,1,1,1,1,1,1,1,1,1,1,0,0,0,0,0,1,1,1,0,0,0,0,0.85,0.85,0.85,0.85,0.85,0.85,0.85,0.85,0.85,0.85,0.85,0.85,1,null,92,273,"Very Cold",7,null,null,"THIEF RIVERAWOS","MN",false,0,0]
["Hot Springs Ingalls, VA","Togiac Village Awos, AK","Togiac Village Awos","AK",20,-160.4,59.05,-9,-13.9,64.039998626708979,55.580000686645505,10067.4,9,27.860000085830688,32.9,26.420000171661378,29.480000042915343,35.779999828338624,50.9,57.380000686645509,51.980000686645511,42.259999656677245,37.039999914169314,28.580000042915344,21.2,36.836328862595231,38.392507558641441,37.025899459412365,37.173869325550399,38.797846531162008,41.47451639135825,44.506163658347837,47.102542752891381,48.586867452583114,48.572225650312376,47.062433957478035,44.451042845411621,41.41875165022843,1,1,1,1,1,1,1,1,1,1,1,1,0,0,0,0,0,0,1,1,0,0,0,0,1,1,1,1,1,1,1,1,1,1,1,1,0,0,0,0,0,0,1,1,0,0,0,0,0.85,0.85,0.85,0.85,0.85,0.85,0.85,0.85,0.85,0.85,0.85,0.85,1,null,62,303,"Subarctic",8,null,null,"TOGIAC VILLAGE AWOS","AK","",0,0]
["Lynchburg Regional Arpt, VA","Tonopah Airport, NV","Tonopah Airport","NV",5428,-117.08,38.07,-8,14,93.020002746582037,59,5412.6,927,35.419999957084656,35.060000085830687,39.02000017166138,50.180000686645506,58.459999656677248,71.780000686645508,76.460001373291021,72.139998626708987,64.760001373291018,51.080000686645505,38.120000171661374,31.639999994635581,52.103287957310677,48.457635695279592,47.338709459102816,49.025736495659942,53.078967209998765,58.441864554250856,63.716506690887194,67.52797686229772,68.882756631771016,67.427701774605637,63.542094762395834,58.238778941890672,52.900145308275462,1,1,1,1,1,0,0,0,1,1,1,1,0,0,0,0,0,1,1,1,0,0,0,0,1,1,1,1,1,1,0,0,1,1,1,1,0,0,0,0,1,1,1,1,1,0,0,0,0.85,0.85,0.85,0.85,0.85,0.85,0.7,0.7,0.85,0.85,0.85,0.85,1,null,153,212,"Cold","5B",null,null,"TONOPAH AIRPORT","NV",{"$f":"IF(AND(C916=DC916,D916=DD916),\"\",FALSE)","v":""},0,0]
["Melfa Accomack Arpt, VA","Travis Field Afb, CA","Travis Field Afb","CA",59,-121.93,38.270000000000003,-8,34.339999914169312,95,66.739998626708982,2647.8,1114.2,45.140000343322754,50,52.880000686645509,60.8,69.619999313354498,68.900000000000006,73.400000000000006,70.519999313354489,71.960001373291021,64.039998626708979,48.380000686645509,46.040000343322752,60.197369915687872,58.668761510985973,58.403650231900151,60.170092093249472,63.507636802180151,67.546301897188584,71.233347083547784,73.607687214346996,74.050413944804447,72.446123730000949,69.212999537285611,65.193805011441654,61.436205143292774,1,1,1,1,0,0,0,0,0,1,1,1,0,0,0,0,1,1,1,1,1,0,0,0,1,1,1,1,1,0,0,0,0,1,1,1,0,0,0,1,1,1,1,1,1,1,0,0,0.85,0.85,0.85,0.85,0.85,0.7,0.7,0.7,0.7,0.85,0.85,0.85,1,null,214,151,"Hot-Dry","3B",null,null,"TRAVIS AFB FAIRFLD","CA",false,0,0]
["Norfolk Nas, VA","Troy Af, AL","Troy Af","AL",394,-86.02,31.87,-6,22.820000171661377,93.379997253417969,75.380000686645502,2109.6,2169,47.840000343322757,52.159999656677243,60.440000343322751,61.880000686645509,73.400000000000006,76.280000686645508,78.980000686645511,78.260001373291018,77,68.539998626708979,54.140000343322754,45.140000343322754,64.575561904384671,60.640331036370434,60.692160741670932,63.320251267854999,67.839550319171835,73.072032953389183,77.653771936900114,80.390466396917517,80.568754748699632,78.142163385847795,73.743220741994165,68.518579007017294,63.830121563305219,1,1,1,1,0,0,0,0,0,0,1,1,0,0,0,0,1,1,1,1,1,1,0,0,1,1,1,1,1,0,0,0,0,0,1,1,0,0,0,1,1,1,1,1,1,1,1,0,0.85,0.85,0.85,0.85,0.85,0.7,0.7,0.7,0.7,0.7,0.85,0.85,1,null,244,121,"Hot-Humid","3A",null,null,"TROY AF","AL","",0,0]
["Quantico Mcas, VA","Tucson International Ap, AZ","Tucson International Ap","AZ",2549,-110.95,32.130000000000003,-7,34.339999914169312,103.63999862670899,66.019999313354489,1593,3178.8,51.080000686645505,55.940000343322751,57.559999656677249,65.83999862670899,76.460001373291021,86.539998626708979,87.260001373291018,84.2,80.060001373291016,69.8,57.559999656677249,52.159999656677243,68.768328885640187,63.23289310705222,63.723208985712361,67.092605576738578,72.462797734706683,78.43396211647611,83.449622707510159,86.202370281086431,85.974658761028081,82.825844664179087,77.576714909577163,71.59553605929743,66.441394553421404,1,1,1,1,0,0,0,0,0,0,1,1,0,0,0,0,1,1,1,1,1,1,0,0,1,1,1,1,1,0,0,0,0,0,1,1,0,0,0,1,1,1,1,1,1,1,1,0,0.85,0.85,0.85,0.85,0.85,0.7,0.7,0.7,0.7,0.7,0.85,0.85,1,null,244,121,"Hot-Dry","2B",null,null,"TUCSON INTERNATIONAL AP","AZ","",0,0]
["Shannon Arpt, VA","Tupelo C D Lemons Arpt, MS","Tupelo C D Lemons Arpt","MS",361,-88.77,34.270000000000003,-6,22.820000171661377,93.560001373291016,75.560001373291016,2905.2000000000003,1954.8,40.459999656677248,47.659999656677243,57.2,63.680000686645506,66.919999313354495,77.719999313354492,80.780000686645508,82.219999313354492,72.860001373291013,59.180000686645506,50.359999656677246,41.540000343322752,61.781863072016471,56.242776889690219,56.007704892939529,58.841748670835095,64.006171038731807,70.154785720279648,75.684861545712792,79.154899030083982,79.660379428195583,77.06954148459107,72.057727035292203,65.931342750907305,60.287325105600864,1,1,1,1,0,0,0,0,0,1,1,1,0,0,0,0,1,1,1,1,1,0,0,0,1,1,1,1,1,0,0,0,0,1,1,1,0,0,0,1,1,1,1,1,1,1,0,0,0.85,0.85,0.85,0.85,0.85,0.7,0.7,0.7,0.7,0.85,0.85,0.85,1,null,214,151,"Mixed-Humid","3A",null,null,"TUPELO C D LEMONS ARPT","MS","",0,0]
["Washington Dc Dulles IntL Ar, VA","Two Harbors, MN","Two Harbors","MN",1076,-91.75,47.05,-6,-10.660001373291017,81.139998626708987,68.900000000000006,8982,221.4,12.380000686645507,11.299999999999999,33.619999957084659,42.440000343322751,52.159999656677243,61.880000686645509,64.219999313354492,64.760001373291018,53.780000686645508,37.220000171661376,29.480000042915343,19.579999828338622,40.399835844889083,38.738998416290109,36.776524186409446,37.322514440033146,40.234648403589709,44.753833482135299,49.702074442196889,53.789536022833012,55.950758373361225,55.622385582671789,52.890013079035782,48.465875862660766,43.503193477013156,1,1,1,1,1,1,1,1,1,1,1,1,0,0,0,0,0,0,1,1,0,0,0,0,1,1,1,1,1,1,1,1,1,1,1,1,0,0,0,0,0,0,1,1,0,0,0,0,0.85,0.85,0.85,0.85,0.85,0.85,0.85,0.85,0.85,0.85,0.85,0.85,1,null,62,303,"Very Cold",7,null,null,"TWO HARBORS","MN","",0,0]
["Washington Dc Reagan Ap, VA","Tyler Pounds Fld, TX","Tyler Pounds Fld","TX",544,-95.4,32.35,-6,22.820000171661377,100.57999725341797,77.180000686645513,2282.4,2367,47.119999313354491,49.280000686645508,55.580000686645505,63.319999313354494,71.780000686645508,77.360001373291013,82.939998626708984,79.33999862670899,77.539998626708979,67.819999313354487,53.780000686645508,48.919999313354495,64.652986062454858,60.119450506108791,60.181772095575994,62.973576971801926,67.767138170782857,73.312940094990253,78.165384009484882,81.059605629529443,81.241181488554105,78.662781040735396,73.996504097150918,68.45868765265034,63.49284890382738,1,1,1,1,0,0,0,0,0,0,1,1,0,0,0,0,1,1,1,1,1,1,0,0,1,1,1,1,1,0,0,0,0,0,1,1,0,0,0,1,1,1,1,1,1,1,1,0,0.85,0.85,0.85,0.85,0.85,0.7,0.7,0.7,0.7,0.7,0.85,0.85,1,null,244,121,"Hot-Humid","3A",null,null,"TYLER POUNDS FLD","TX","",0,0]
["Burlington International Ap, VT","Unalakleet Field, AK","Unalakleet Field","AK",16,-160.80000000000001,63.88,-9,-27.220002746582033,65.83999862670899,57.2,12058.2,0,7.6999999999999993,16.519999313354493,24.259999656677245,30.019999957084657,39.559999656677249,44.420000171661378,53.780000686645508,49.459999656677248,39.379999828338626,34.519999957084657,21.559999656677245,14.180000686645508,31.373205420546334,33.068769773417721,32,32,32.670178857237595,35.357422583113021,38.570111169719262,41.470807827927672,43.303401272687623,43.590197781502596,42.256439424682,39.649790871769547,36.449715237752002,1,1,1,1,1,1,1,1,1,1,1,1,0,0,0,0,0,0,1,1,0,0,0,0,1,1,1,1,1,1,1,1,1,1,1,1,0,0,0,0,0,0,1,1,0,0,0,0,0.85,0.85,0.85,0.85,0.85,0.85,0.85,0.85,0.85,0.85,0.85,0.85,1,null,62,303,"Subarctic",8,null,null,"UNALAKLEET FIELD","AK","",1,0]
["Springfield Hartnes, VT","Valdez Pioneer Fiel, AK","Valdez Pioneer Fiel","AK",125,-146.27000000000001,61.13,-9,4.8199993133544918,66.019999313354489,54.680000686645506,8928,0,30.559999978542329,30.380000042915345,33.619999957084659,36.320000171661377,44.240000343322755,53.6,53.059999656677249,53.059999656677249,48.2,37.039999914169314,30.559999978542329,28.039999914169311,39.94317804862375,42.348738067471103,41.405319750843645,41.644764130045722,43.004656337688729,45.13051951327725,47.468214659550945,49.40838551166091,50.445296638066814,50.308661174386813,49.03409525984533,46.953834141722901,44.610129938252335,1,1,1,1,1,1,1,1,1,1,1,1,0,0,0,0,0,0,1,1,0,0,0,0,1,1,1,1,1,1,1,1,1,1,1,1,0,0,0,0,0,0,1,1,0,0,0,0,0.85,0.85,0.85,0.85,0.85,0.85,0.85,0.85,0.85,0.85,0.85,0.85,1,null,62,303,"Very Cold",7,null,null,"VALDEZ PIONEER FIEL","AK","",1,0]
["Fairchild Afb, WA","Valparaiso Elgin Afb, FL","Valparaiso Elgin Afb","FL",66,-86.52,30.48,-6,32.540000021457672,90.679997253417966,76.819999313354487,1945.8,2412,47.840000343322757,53.240000343322755,55.040000343322752,63.139998626708987,75.560001373291016,79.7,81.139998626708987,79.33999862670899,76.280000686645508,67.639998626708987,60.080000686645505,48.380000686645509,65.67084922476991,61.671604022627086,61.822322863680625,64.540211871137359,69.116811391266282,74.359160231612321,78.900759379898247,81.557771029961941,81.637604149425357,79.119449005434731,74.659701542216652,69.420863662847665,64.76851919352076,1,1,1,1,0,0,0,0,0,0,1,1,0,0,0,0,1,1,1,1,1,1,0,0,1,1,1,1,1,0,0,0,0,0,1,1,0,0,0,1,1,1,1,1,1,1,1,0,0.85,0.85,0.85,0.85,0.85,0.7,0.7,0.7,0.7,0.7,0.85,0.85,1,null,244,121,"Hot-Humid","2A",null,null,"EGLIN AFB VALPARAIS","FL",false,1,0]
["Gray Aaf, WA","Van Nuys Airport, CA","Van Nuys Airport","CA",771,-118.48,34.22,-8,40.820000171661377,100.57999725341797,64.580000686645505,1278,1333.8,55.940000343322751,55.940000343322751,57.919999313354495,64.039998626708979,66.739998626708982,69.080000686645505,73.760001373291018,75.019999313354489,75.380000686645502,62.960001373291014,59.9,57.380000686645509,64.546959017923427,64.842893314777655,64.87117484913739,66.378936993572822,68.973158309818899,71.977615033635473,74.609149219880123,76.181810929738873,76.285661653086464,74.893631098494268,72.368573481856913,69.368683983266692,66.675930030227647,1,1,1,1,0,0,0,0,0,1,1,1,0,0,0,0,1,1,1,1,1,0,0,0,1,1,1,1,1,0,0,0,0,1,1,1,0,0,0,1,1,1,1,1,1,1,0,0,0.85,0.85,0.85,0.85,0.85,0.7,0.7,0.7,0.7,0.85,0.85,0.85,1,null,214,151,"Hot-Dry","3B",null,null,"VAN NUYS AIRPORT","CA","",0,0]
["Kelso Wb Ap, WA","Vero Beach Municipal Arpt, FL","Vero Beach Municipal Arpt","FL",23,-80.42,27.65,-5,43.159999656677243,90.5,77.719999313354492,257.40000000000003,3580.2000000000003,64.939998626708984,65.119999313354498,69.080000686645505,75.2,77.719999313354492,78.439998626708984,80.780000686645508,79.880000686645502,79.33999862670899,76.639998626708987,68.900000000000006,65.480000686645511,73.50652021120672,74.0261841735649,74.483935243784828,76.250900486140509,78.866493180453304,81.648918783447087,83.87289518322504,84.958708658671327,84.623325194518685,82.954167659114162,80.386327686557152,77.589152337306459,75.291768471921188,1,1,0,0,0,0,0,0,0,0,0,1,0,0,1,1,1,1,1,1,1,1,1,0,1,1,1,0,0,0,0,0,0,0,0,1,0,1,1,1,1,1,1,1,1,1,1,1,0.85,0.85,0.85,0.7,0.7,0.7,0.7,0.7,0.7,0.7,0.7,0.85,1,null,334,31,"Hot-Humid","2A",null,null,"VERO BEACH MUNICIPAL ARPT","FL","",0,0]
["Pullman Moscow Rgnl, WA","Visalia Muni AWOS, CA","Visalia Muni AWOS","CA",292,-119.4,36.32,-8,32.720000010728839,97.879997253417969,71.060001373291016,2979,1686.6000000000001,43.52000017166138,48.2,55.219999313354492,62.419999313354495,68.900000000000006,73.580000686645505,81.860001373291013,77.180000686645513,71.060001373291016,60.8,46.040000343322752,40.459999656677248,60.845863256846393,55.64836094686077,55.322424854337683,58.000250562989628,62.983821535313169,68.97409319821881,74.409608929889572,77.873517791032555,78.462898556539457,76.024120047248374,71.192887464320506,65.228536032043721,59.685765864678707,1,1,1,1,0,0,0,0,0,1,1,1,0,0,0,0,1,1,1,1,1,0,0,0,1,1,1,1,1,0,0,0,0,1,1,1,0,0,0,1,1,1,1,1,1,1,0,0,0.85,0.85,0.85,0.85,0.85,0.7,0.7,0.7,0.7,0.85,0.85,0.85,1,null,214,151,"Hot-Dry","3B",null,null,"VISALIA MUNI AWOS","CA","",1,0]
["Seattle Boeing Field  Isis, WA","Walla Walla City County Ap, WA","Walla Walla City County Ap","WA",1164,-118.28,46.1,-8,16.159999656677247,94.820002746582034,65.480000686645511,4766.4000000000005,898.2,35.6,39.559999656677249,48.380000686645509,50.9,56.659999656677243,67.639998626708987,77.180000686645513,75.380000686645502,63.319999313354494,52.159999656677243,42.259999656677245,35.779999828338624,53.826356042574531,50.42438963174061,49.503165741590692,51.272840488570218,55.272120878365627,60.458532846600377,65.48015818872635,69.028032873729444,70.177348690559739,68.628518760067536,64.785269471827348,59.649402979083291,54.559662029267471,1,1,1,1,1,0,0,0,1,1,1,1,0,0,0,0,0,1,1,1,0,0,0,0,1,1,1,1,1,1,0,0,1,1,1,1,0,0,0,0,1,1,1,1,1,0,0,0,0.85,0.85,0.85,0.85,0.85,0.85,0.7,0.7,0.85,0.85,0.85,0.85,1,null,153,212,"Cold","5B",null,null,"WALLA WALLA CITY COUNTY AP","WA","",0,0]
["Seattle Seattle Tacoma Intl A, WA","Walnut Ridge AWOS, AR","Walnut Ridge AWOS","AR",272,-90.92,36.130000000000003,-6,19.040000343322752,92.83999862670899,76.099999999999994,3627,1796.4,37.039999914169314,43.52000017166138,45.859999656677246,62.419999313354495,68.900000000000006,76.639998626708987,79.7,76.280000686645508,73.039998626708979,63.86000137329102,46.759999656677245,37.579999828338622,59.370355991076117,54.227338305950028,53.747436693364385,56.297228110335439,61.212070130554537,67.210833441443413,72.729847942278013,76.330497452827885,77.074217190479644,74.767145144546276,70.010655196856732,64.044599752005126,58.424123101389469,1,1,1,1,0,0,0,0,0,1,1,1,0,0,0,0,1,1,1,1,1,0,0,0,1,1,1,1,1,0,0,0,0,1,1,1,0,0,0,1,1,1,1,1,1,1,0,0,0.85,0.85,0.85,0.85,0.85,0.7,0.7,0.7,0.7,0.85,0.85,0.85,1,null,214,151,"Mixed-Humid","3A",null,null,"WALNUT RIDGE AWOS","AR","",0,0]
["Stampede Pass, WA","Washington Dc Dulles IntL Ar, VA","Washington Dc Dulles IntL Ar","VA",269,-77.47,38.979999999999997,-5,15.799999999999999,90.860001373291013,74.3,4665.6000000000004,1164.6000000000001,33.080000042915344,34.880000042915341,45.859999656677246,54.5,64.760001373291018,72.5,76.099999999999994,73.400000000000006,68.180000686645513,53.419999313354495,46.040000343322752,33.799999999999997,54.81167135362756,50.815365878300128,49.936697187103903,51.892758100836836,56.173671198523316,61.663550510383594,66.931374392180231,70.604003369499623,71.724110102477766,69.999721509796643,65.880326051771192,60.439707636341318,55.096047295956502,1,1,1,1,1,0,0,0,0,1,1,1,0,0,0,0,0,1,1,1,1,0,0,0,1,1,1,1,1,1,0,0,0,1,1,1,0,0,0,0,1,1,1,1,1,1,0,0,0.85,0.85,0.85,0.85,0.85,0.85,0.7,0.7,0.7,0.85,0.85,0.85,1,null,184,181,"Mixed-Humid","4A",null,null,"WASHINGTON DC DULLES INT'L AR","VA",false,0,0]
["Tacoma Mcchord Afb, WA","Washington Dc Reagan Ap, VA","Washington Dc Reagan Ap","VA",10,-77.03,38.869999999999997,-5,20.3,91.760001373291018,75.2,4127.4000000000005,1584,36.320000171661377,34.339999914169312,43.159999656677243,57.380000686645509,63.680000686645506,75.560001373291016,80.960001373291021,78.619999313354498,67.280000686645508,59.719999313354492,46.940000343322751,43.52000017166138,57.429315374191496,51.823214453377943,51.105746283508019,53.600606309073015,58.657470817452655,64.958190145896808,70.860384704422572,74.825556525778836,75.820122469581719,73.584833595853837,68.702352396376611,62.445372837106618,56.444873063141273,1,1,1,1,1,0,0,0,0,1,1,1,0,0,0,0,0,1,1,1,1,0,0,0,1,1,1,1,1,1,0,0,0,1,1,1,0,0,0,0,1,1,1,1,1,1,0,0,0.85,0.85,0.85,0.85,0.85,0.85,0.7,0.7,0.7,0.85,0.85,0.85,1,null,184,181,"Mixed-Humid","4A",null,null,"WASHINGTON DC REAGAN AP","VA","",0,0]
["Tacoma Narrows, WA","Washington, IA","Washington","IA",754,-91.67,41.28,-6,3.1999999999999993,90.860001373291013,78.080000686645505,6064.2,1062,25.879999828338622,22.820000171661377,37.039999914169314,53.240000343322755,58.819999313354494,71.780000686645508,73.580000686645505,72.680000686645513,70.880000686645502,50.180000686645506,38.299999999999997,31.279999989271165,50.680055042635907,46.212003149251849,44.837608242110392,46.550129591155255,50.903172116005081,56.762048200141869,62.599551504221928,66.894046833387847,68.526107799916247,67.070312562060693,62.906136583051946,57.119036503712934,51.217509141635105,1,1,1,1,1,0,0,0,0,1,1,1,0,0,0,0,0,1,1,1,1,0,0,0,1,1,1,1,1,1,0,0,0,1,1,1,0,0,0,0,1,1,1,1,1,1,0,0,0.85,0.85,0.85,0.85,0.85,0.85,0.7,0.7,0.7,0.85,0.85,0.85,1,null,184,181,"Cold","5A",null,null,"WASHINGTON","IA","",0,0]
["The Dalles Municipal Arpt, WA","Waterloo Municipal Ap, IA","Waterloo Municipal Ap","IA",866,-92.4,42.55,-6,-6.3399986267089856,88.880000686645502,73.760001373291018,7057.8,941.4,15.259999656677246,18.320000171661377,35.779999828338624,49.459999656677248,59.540000343322752,69.980000686645511,74.480000686645511,71.599999999999994,64.400000000000006,51.259999656677245,36.139999914169309,23.720000171661376,47.652602803217221,42.562642803663024,40.730541441445482,42.266774508167089,46.770899180918697,53.068845953085351,59.518957944204239,64.439914064555666,66.548991267140707,65.296426077242074,61.008718914220715,54.803526725685607,48.298328480484592,1,1,1,1,1,0,0,0,1,1,1,1,0,0,0,0,0,1,1,1,0,0,0,0,1,1,1,1,1,1,0,0,1,1,1,1,0,0,0,0,1,1,1,1,1,0,0,0,0.85,0.85,0.85,0.85,0.85,0.85,0.7,0.7,0.85,0.85,0.85,0.85,1,null,153,212,"Cold","6A",null,null,"WATERLOO MUNICIPAL AP","IA","",0,0]
["Toledo Winlock Mem, WA","Watertown Ap, NY","Watertown Ap","NY",318,-76.02,44,-5,-5.9800006866455089,82.580000686645505,70.33999862670899,7018.2,399.6,22.279999828338624,24.979999828338624,29.3,45.320000171661377,54.859999656677246,63.139998626708987,67.819999313354487,68.360001373291013,63.139998626708987,49.819999313354494,35.779999828338624,28.76000008583069,46.241205204088395,{"$f":"MAX($Z963+6+(0.4+0.01*($Z963-44))*(MAX($N963:$Y963)-MIN($N963:$Y963))/2*SIN((0.986*((1*30-15)-15-(35-1*($Z963-44)))-90)*PI()/180),32)","v":44.014816492495399},{"$f":"MAX($Z963+6+(0.4+0.01*($Z963-44))*(MAX($N963:$Y963)-MIN($N963:$Y963))/2*SIN((0.986*((2*30-15)-15-(35-1*($Z963-44)))-90)*PI()/180),32)","v":42.519797358820249},{"$f":"MAX($Z963+6+(0.4+0.01*($Z963-44))*(MAX($N963:$Y963)-MIN($N963:$Y963))/2*SIN((0.986*((3*30-15)-15-(35-1*($Z963-44)))-90)*PI()/180),32)","v":43.558812991443887},{"$f":"MAX($Z963+6+(0.4+0.01*($Z963-44))*(MAX($N963:$Y963)-MIN($N963:$Y963))/2*SIN((0.986*((4*30-15)-15-(35-1*($Z963-44)))-90)*PI()/180),32)","v":46.861027954007398},{"$f":"MAX($Z963+6+(0.4+0.01*($Z963-44))*(MAX($N963:$Y963)-MIN($N963:$Y963))/2*SIN((0.986*((5*30-15)-15-(35-1*($Z963-44)))-90)*PI()/180),32)","v":51.565669027845644},{"$f":"MAX($Z963+6+(0.4+0.01*($Z963-44))*(MAX($N963:$Y963)-MIN($N963:$Y963))/2*SIN((0.986*((6*30-15)-15-(35-1*($Z963-44)))-90)*PI()/180),32)","v":56.446399016349154},{"$f":"MAX($Z963+6+(0.4+0.01*($Z963-44))*(MAX($N963:$Y963)-MIN($N963:$Y963))/2*SIN((0.986*((7*30-15)-15-(35-1*($Z963-44)))-90)*PI()/180),32)","v":60.23098043368865},{"$f":"MAX($Z963+6+(0.4+0.01*($Z963-44))*(MAX($N963:$Y963)-MIN($N963:$Y963))/2*SIN((0.986*((8*30-15)-15-(35-1*($Z963-44)))-90)*PI()/180),32)","v":61.932903811269554},{"$f":"MAX($Z963+6+(0.4+0.01*($Z963-44))*(MAX($N963:$Y963)-MIN($N963:$Y963))/2*SIN((0.986*((9*30-15)-15-(35-1*($Z963-44)))-90)*PI()/180),32)","v":61.108536593292257},{"$f":"MAX($Z963+6+(0.4+0.01*($Z963-44))*(MAX($N963:$Y963)-MIN($N963:$Y963))/2*SIN((0.986*((10*30-15)-15-(35-1*($Z963-44)))-90)*PI()/180),32)","v":57.972762799005913},{"$f":"MAX($Z963+6+(0.4+0.01*($Z963-44))*(MAX($N963:$Y963)-MIN($N963:$Y963))/2*SIN((0.986*((11*30-15)-15-(35-1*($Z963-44)))-90)*PI()/180),32)","v":53.342970191628183},{"$f":"MAX($Z963+6+(0.4+0.01*($Z963-44))*(MAX($N963:$Y963)-MIN($N963:$Y963))/2*SIN((0.986*((12*30-15)-15-(35-1*($Z963-44)))-90)*PI()/180),32)","v":48.425985561535811},{"$f":"IF(AND(OR(LEFT(AM$1,3)=\"Jan\",LEFT(AM$1,3)=\"Dec\"),I963<59),1,IF(N963<66,1,0))","v":1},{"$f":"IF(AND(OR(LEFT(AN$1,3)=\"Jan\",LEFT(AN$1,3)=\"Dec\"),J963<59),1,IF(O963<66,1,0))","v":1},{"$f":"IF(AND(OR(LEFT(AO$1,3)=\"Jan\",LEFT(AO$1,3)=\"Dec\"),K963<59),1,IF(P963<66,1,0))","v":1},{"$f":"IF(AND(OR(LEFT(AP$1,3)=\"Jan\",LEFT(AP$1,3)=\"Dec\"),L963<59),1,IF(Q963<66,1,0))","v":1},{"$f":"IF(AND(OR(LEFT(AQ$1,3)=\"Jan\",LEFT(AQ$1,3)=\"Dec\"),M963<59),1,IF(R963<66,1,0))","v":1},{"$f":"IF(AND(OR(LEFT(AR$1,3)=\"Jan\",LEFT(AR$1,3)=\"Dec\"),N963<59),1,IF(S963<66,1,0))","v":1},{"$f":"IF(AND(OR(LEFT(AS$1,3)=\"Jan\",LEFT(AS$1,3)=\"Dec\"),O963<59),1,IF(T963<66,1,0))","v":0},{"$f":"IF(AND(OR(LEFT(AT$1,3)=\"Jan\",LEFT(AT$1,3)=\"Dec\"),P963<59),1,IF(U963<66,1,0))","v":0},{"$f":"IF(AND(OR(LEFT(AU$1,3)=\"Jan\",LEFT(AU$1,3)=\"Dec\"),Q963<59),1,IF(V963<66,1,0))","v":1},{"$f":"IF(AND(OR(LEFT(AV$1,3)=\"Jan\",LEFT(AV$1,3)=\"Dec\"),R963<59),1,IF(W963<66,1,0))","v":1},{"$f":"IF(AND(OR(LEFT(AW$1,3)=\"Jan\",LEFT(AW$1,3)=\"Dec\"),S963<59),1,IF(X963<66,1,0))","v":1},{"$f":"IF(AND(OR(LEFT(AX$1,3)=\"Jan\",LEFT(AX$1,3)=\"Dec\"),T963<59),1,IF(Y963<66,1,0))","v":1},{"$f":"IF(OR(LEFT(AY$1,3)=\"Jul\", LEFT(AY$1,3)=\"Aug\"),1,IF(N963>66,1,0))","v":0},{"$f":"IF(OR(LEFT(AZ$1,3)=\"Jul\", LEFT(AZ$1,3)=\"Aug\"),1,IF(O963>66,1,0))","v":0},{"$f":"IF(OR(LEFT(BA$1,3)=\"Jul\", LEFT(BA$1,3)=\"Aug\"),1,IF(P963>66,1,0))","v":0},{"$f":"IF(OR(LEFT(BB$1,3)=\"Jul\", LEFT(BB$1,3)=\"Aug\"),1,IF(Q963>66,1,0))","v":0},{"$f":"IF(OR(LEFT(BC$1,3)=\"Jul\", LEFT(BC$1,3)=\"Aug\"),1,IF(R963>66,1,0))","v":0},{"$f":"IF(OR(LEFT(BD$1,3)=\"Jul\", LEFT(BD$1,3)=\"Aug\"),1,IF(S963>66,1,0))","v":0},{"$f":"IF(OR(LEFT(BE$1,3)=\"Jul\", LEFT(BE$1,3)=\"Aug\"),1,IF(T963>66,1,0))","v":1},{"$f":"IF(OR(LEFT(BF$1,3)=\"Jul\", LEFT(BF$1,3)=\"Aug\"),1,IF(U963>66,1,0))","v":1},{"$f":"IF(OR(LEFT(BG$1,3)=\"Jul\", LEFT(BG$1,3)=\"Aug\"),1,IF(V963>66,1,0))","v":0},{"$f":"IF(OR(LEFT(BH$1,3)=\"Jul\", LEFT(BH$1,3)=\"Aug\"),1,IF(W963>66,1,0))","v":0},{"$f":"IF(OR(LEFT(BI$1,3)=\"Jul\", LEFT(BI$1,3)=\"Aug\"),1,IF(X963>66,1,0))","v":0},{"$f":"IF(OR(LEFT(BJ$1,3)=\"Jul\", LEFT(BJ$1,3)=\"Aug\"),1,IF(Y963>66,1,0))","v":0},{"$f":"IF(AND(AY963=1,BJ963=0),1,AM963)","v":1},{"$f":"IF(AND(AY963=0,AZ963=1),1,AN963)","v":1},{"$f":"IF(AND(AZ963=0,BA963=1),1,AO963)","v":1},{"$f":"IF(AND(BA963=0,BB963=1),1,AP963)","v":1},{"$f":"IF(AND(BB963=0,BC963=1),1,AQ963)","v":1},{"$f":"IF(AND(BC963=0,BD963=1),1,AR963)","v":1},{"$f":"IF(AND(BD963=0,BE963=1),1,AS963)","v":1},{"$f":"IF(AND(BE963=0,BF963=1),1,AT963)","v":0},{"$f":"IF(AND(BF963=0,BG963=1),1,AU963)","v":1},{"$f":"IF(AND(BG963=0,BH963=1),1,AV963)","v":1},{"$f":"IF(AND(BH963=0,BI963=1),1,AW963)","v":1},{"$f":"IF(AND(BI963=0,BJ963=1),1,AX963)","v":1},{"$f":"IF(OR(AND(AX963=0,AM963=1),AND(AM963=1,AN963=0)),1,AY963)","v":0},{"$f":"IF(OR(AND(AM963=0,AN963=1),AND(AN963=1,AO963=0)),1,AZ963)","v":0},{"$f":"IF(OR(AND(AN963=0,AO963=1),AND(AO963=1,AP963=0)),1,BA963)","v":0},{"$f":"IF(OR(AND(AO963=0,AP963=1),AND(AP963=1,AQ963=0)),1,BB963)","v":0},{"$f":"IF(OR(AND(AP963=0,AQ963=1),AND(AQ963=1,AR963=0)),1,BC963)","v":0},{"$f":"IF(OR(AND(AQ963=0,AR963=1),AND(AR963=1,AS963=0)),1,BD963)","v":1},{"$f":"IF(OR(AND(AR963=0,AS963=1),AND(AS963=1,AT963=0)),1,BE963)","v":1},{"$f":"IF(OR(AND(AS963=0,AT963=1),AND(AT963=1,AU963=0)),1,BF963)","v":1},{"$f":"IF(OR(AND(AT963=0,AU963=1),AND(AU963=1,AV963=0)),1,BG963)","v":1},{"$f":"IF(OR(AND(AU963=0,AV963=1),AND(AV963=1,AW963=0)),1,BH963)","v":0},{"$f":"IF(OR(AND(AV963=0,AW963=1),AND(AW963=1,AX963=0)),1,BI963)","v":0},{"$f":"IF(OR(AND(AW963=0,AX963=1),AND(AX963=1,AM963=0)),1,BJ963)","v":0},{"$f":"IF(BK963=1,0.85,0.7)","v":0.85},{"$f":"IF(BL963=1,0.85,0.7)","v":0.85},{"$f":"IF(BM963=1,0.85,0.7)","v":0.85},{"$f":"IF(BN963=1,0.85,0.7)","v":0.85},{"$f":"IF(BO963=1,0.85,0.7)","v":0.85},{"$f":"IF(BP963=1,0.85,0.7)","v":0.85},{"$f":"IF(BQ963=1,0.85,0.7)","v":0.85},{"$f":"IF(BR963=1,0.85,0.7)","v":0.7},{"$f":"IF(BS963=1,0.85,0.7)","v":0.85},{"$f":"IF(BT963=1,0.85,0.7)","v":0.85},{"$f":"IF(BU963=1,0.85,0.7)","v":0.85},{"$f":"IF(BV963=1,0.85,0.7)","v":0.85},1,null,{"$f":"BW963*31+BX963*28+BY963*31+BZ963*30+CA963*31+CB963*30+CC963*31+CD963*31+CE963*30+CF963*31+CG963*30+CH963*31","v":122},{"$f":"365-CW963","v":243},"Cold","6A",null,null,"WATERTOWN AP","NY","",0,0]
["Walla Walla City County Ap, WA","Watertown Municipal Ap, SD","Watertown Municipal Ap","SD",1745,-97.15,44.93,-6,-11.739998626708985,86.9,71.419999313354495,8568,475.2,16.519999313354493,7.519999313354492,28.939999914169313,46.040000343322752,57.380000686645509,62.419999313354495,69.439998626708984,69.260001373291018,61.160001373291017,45.5,32.540000021457672,8.0599996566772454,42.256054791816297,38.701963341782154,36.491655024991374,37.347918802311675,41.047556324760279,46.626200058970959,52.629690546119498,57.493125474141756,59.948775581247844,59.356537824306926,55.870788101325736,50.400140794628577,44.370604429932918,1,1,1,1,1,1,0,0,1,1,1,1,0,0,0,0,0,0,1,1,0,0,0,0,1,1,1,1,1,1,1,0,1,1,1,1,0,0,0,0,0,1,1,1,1,0,0,0,0.85,0.85,0.85,0.85,0.85,0.85,0.85,0.7,0.85,0.85,0.85,0.85,1,null,122,243,"Cold","6A",null,null,"WATERTOWN MUNICIPAL AP","SD","",1,0]
["Wenatchee Pangborn, WA","Watertown, WI","Watertown","WI",833,-88.72,43.17,-6,0.49999999999999922,86.360001373291013,74.480000686645511,6606,736.2,21.920000171661378,21.379999828338622,30.740000021457671,48.919999313354495,59.9,69.439998626708984,70.16000137329101,70.7,63.86000137329102,49.280000686645508,38.299999999999997,33.259999978542325,48.298630256914116,44.864125288009525,43.375383700035776,44.733954659437181,48.585705709433547,53.92661858156292,59.364502029746028,63.481887932893393,65.20551620451225,64.08609657368946,60.415423017977666,55.150313166464898,49.6631990397468,1,1,1,1,1,0,0,0,1,1,1,1,0,0,0,0,0,1,1,1,0,0,0,0,1,1,1,1,1,1,0,0,1,1,1,1,0,0,0,0,1,1,1,1,1,0,0,0,0.85,0.85,0.85,0.85,0.85,0.85,0.7,0.7,0.85,0.85,0.85,0.85,1,null,153,212,"Cold","6A",null,null,"WATERTOWN","WI","",0,0]
["Whidbey Island Nas, WA","Waterville AWOS, ME","Waterville AWOS","ME",331,-69.680000000000007,44.53,-5,-0.93999862670898515,82.219999313354492,68.719999313354492,7673.4000000000005,396,24.079999828338622,21.559999656677245,29.119999957084655,40.279999828338624,51.980000686645511,65.83999862670899,69.439998626708984,66.739998626708982,54.859999656677246,44.420000171661378,35.23999991416931,28.220000171661376,44.450081839169542,42.428153572851905,40.796001761285709,41.680334695897272,44.850637369297068,49.480521533820387,54.363136533309536,58.225753524772927,60.061521864656001,59.391920245121781,56.391490647175168,51.842341283540655,46.930278040363334,1,1,1,1,1,1,0,0,1,1,1,1,0,0,0,0,0,0,1,1,0,0,0,0,1,1,1,1,1,1,1,0,1,1,1,1,0,0,0,0,0,1,1,1,1,0,0,0,0.85,0.85,0.85,0.85,0.85,0.85,0.85,0.7,0.85,0.85,0.85,0.85,1,null,122,243,"Cold","6A",null,null,"WATERVILLE AWOS","ME","",0,0]
["William R Fairchild, WA","Wausau Municipal Arpt, WI","Wausau Municipal Arpt","WI",1200,-89.63,44.92,-6,-7.9600013732910169,84.919999313354495,69.980000686645511,7644.6,712.80000000000007,18.5,18.140000343322754,23.720000171661376,47.119999313354491,51.080000686645505,70.519999313354489,71.419999313354495,70.519999313354489,64.039998626708979,47.119999313354491,36.860000085830691,24.259999656677245,45.395451731224583,42.160884937950748,40.388912976630017,41.485964957590795,45.166077375912892,50.469972217511618,56.015107556430642,60.356058413458506,62.361289051633264,61.508105203575148,58.018902387241589,52.803195086952933,47.220537787011914,1,1,1,1,1,0,0,0,1,1,1,1,0,0,0,0,0,1,1,1,0,0,0,0,1,1,1,1,1,1,0,0,1,1,1,1,0,0,0,0,1,1,1,1,1,0,0,0,0.85,0.85,0.85,0.85,0.85,0.85,0.7,0.7,0.85,0.85,0.85,0.85,1,null,153,212,"Cold","6A",null,null,"WAUSAU MUNICIPAL ARPT","WI","",0,0]
["Yakima Air Terminal, WA","Webster City, IA","Webster City","IA",1122,-93.87,42.43,-6,-0.21999931335449299,90.5,77.180000686645513,6141.6,1191.6000000000001,21.740000343322755,25.879999828338622,43.7,51.619999313354491,57.919999313354495,71.060001373291016,77.539998626708979,74.3,67.280000686645508,53.240000343322755,35.779999828338624,28.4,50.846246544302325,45.280387430043717,43.78274046078382,45.690297666915512,50.5058248663142,56.974080684936176,63.4090145648182,68.133261824836225,69.915374613812546,68.290817770111119,63.683057070221473,57.293176348311633,50.786796485589988,1,1,1,1,1,0,0,0,0,1,1,1,0,0,0,0,0,1,1,1,1,0,0,0,1,1,1,1,1,1,0,0,0,1,1,1,0,0,0,0,1,1,1,1,1,1,0,0,0.85,0.85,0.85,0.85,0.85,0.85,0.7,0.7,0.7,0.85,0.85,0.85,1,null,184,181,"Cold","6A",null,null,"WEBSTER CITY","IA","",0,0]
["Antigo Lang Awos, WI","Wenatchee Pangborn, WA","Wenatchee Pangborn","WA",1243,-120.2,47.4,-8,12.019999313354491,91.760001373291018,64.760001373291018,5628.6,903.6,29.119999957084655,33.259999978542325,42.079999828338622,52.340000343322757,60.8,68,72.860001373291013,74.3,66.019999313354489,49.640000343322754,39.379999828338626,28.4,51.442958987706326,47.756355235967966,46.56442048352524,48.208144435550189,52.259065113394655,57.661247615801194,63.006529823365227,66.901581555392937,68.331097553367201,66.922452442907655,63.042831279933836,57.703517107346705,52.296284445553155,1,1,1,1,1,0,0,0,0,1,1,1,0,0,0,0,0,1,1,1,1,0,0,0,1,1,1,1,1,1,0,0,0,1,1,1,0,0,0,0,1,1,1,1,1,1,0,0,0.85,0.85,0.85,0.85,0.85,0.85,0.7,0.7,0.7,0.85,0.85,0.85,1,null,184,181,"Cold","5B",null,null,"WENATCHEE PANGBORN","WA","",0,0]
["Appleton Outagamie, WI","Wendover Usaf Auxiliary Field, UT","Wendover Usaf Auxiliary Field","UT",4234,-114.03,40.72,-8,12.2,93.379997253417969,59.719999313354492,5792.4000000000005,1341,29.480000042915343,28.76000008583069,43.340000343322757,51.619999313354491,62.419999313354495,74.3,78.619999313354498,78.619999313354498,63.680000686645506,49.640000343322754,35.23999991416931,28.76000008583069,52.185643729445054,47.429378267475499,46.191009897434817,48.079227678610103,52.601838548021213,58.579954287012974,64.455286902665037,68.696340407091398,70.197618847750505,68.567790863683484,64.231696235346917,58.319604848857594,52.372594432190063,1,1,1,1,1,0,0,0,1,1,1,1,0,0,0,0,0,1,1,1,0,0,0,0,1,1,1,1,1,1,0,0,1,1,1,1,0,0,0,0,1,1,1,1,1,0,0,0,0.85,0.85,0.85,0.85,0.85,0.85,0.7,0.7,0.85,0.85,0.85,0.85,1,null,153,212,"Cold","5B",null,null,"WENDOVER USAF AUXILIARY FIELD","UT","",1,0]
["Eau Claire County Ap, WI","West Palm Beach Intl Arpt, FL","West Palm Beach Intl Arpt","FL",20,-80.099999999999994,26.68,-5,48.2,90.320002746582034,77.719999313354492,268.2,3915,64.219999313354492,65.83999862670899,69.980000686645511,73.039998626708979,77,80.599999999999994,81.5,82.039998626708979,81.319999313354487,77,72.5,67.099999999999994,74.387287279939002,74.135528776170716,74.704846537899883,76.755380048104058,79.752626147670654,82.915306451787075,85.419019600806621,86.611134179049799,86.180907150655784,84.240483820574681,81.295665432620794,78.11406428063934,75.525013734852138,1,1,0,0,0,0,0,0,0,0,0,0,0,0,1,1,1,1,1,1,1,1,1,1,1,1,1,0,0,0,0,0,0,0,0,0,1,1,1,1,1,1,1,1,1,1,1,1,0.85,0.85,0.85,0.7,0.7,0.7,0.7,0.7,0.7,0.7,0.7,0.7,1,null,365,0,"Hot-Humid","2A",null,null,"WEST PALM BEACH INTL ARPT","FL","",0,0]
["Green Bay Austin Straubel Int, WI","Westfield Barnes Muni Ap, MA","Westfield Barnes Muni Ap","MA",272,-72.72,42.15,-5,-5.9800006866455089,87.980000686645511,73.580000686645505,6368.4000000000005,552.6,17.240000343322752,24.979999828338624,40.820000171661377,46.220000171661376,57.2,65.83999862670899,67.639998626708987,71.419999313354495,64.760001373291018,51.619999313354491,39.740000343322755,32.540000021457672,48.463342307201806,44.043454564394125,42.418736771731176,43.933631024878409,48.193256791525897,54.08727697277692,60.079324378788016,64.607479512936749,66.491408958524389,65.24003747332695,61.179554319179474,55.368387004149994,49.32130584170001,1,1,1,1,1,1,0,0,1,1,1,1,0,0,0,0,0,0,1,1,0,0,0,0,1,1,1,1,1,1,1,0,1,1,1,1,0,0,0,0,0,1,1,1,1,0,0,0,0.85,0.85,0.85,0.85,0.85,0.85,0.85,0.7,0.85,0.85,0.85,0.85,1,null,122,243,"Cold","5A",null,null,"WESTFIELD BARNES MUNI AP","MA","",1,0]
["Janesville Rock Co, WI","Westhampton Gabreski Ap, NY","Westhampton Gabreski Ap","NY",66,-72.63,40.85,-5,6.9800006866455071,86.180000686645513,73.580000686645505,5239.8,567,28.4,35.779999828338624,41.359999656677246,47.3,57.380000686645509,64.219999313354492,68.900000000000006,72.319999313354487,65.480000686645511,55.580000686645505,44.240000343322755,37.039999914169314,51.587452091713473,48.278635484195199,47.14760578343288,48.737882905825387,52.634936612508852,57.822939799420737,62.949559486343297,66.678463248279371,68.037654855533944,66.672840069899394,62.939778897683873,57.81155126163938,52.624908723480956,1,1,1,1,1,1,0,0,1,1,1,1,0,0,0,0,0,0,1,1,0,0,0,0,1,1,1,1,1,1,1,0,1,1,1,1,0,0,0,0,0,1,1,1,1,0,0,0,0.85,0.85,0.85,0.85,0.85,0.85,0.85,0.7,0.85,0.85,0.85,0.85,1,null,122,243,"Mixed-Humid","4A",null,null,"WESTHAMPTON GABRESKI AP","NY","",0,0]
["La Crosse Municipal Arpt, WI","Wheaton Ndb AWOS, MN","Wheaton Ndb AWOS","MN",1027,-96.5,45.7,-6,-12.639998626708985,86,71.780000686645508,8445.6,586.80000000000007,13.280000686645508,14,27.679999828338623,50,56.119999313354491,63.86000137329102,70.880000686645502,68.539998626708979,63.5,43.7,21.379999828338622,19.759999656677245,42.884821914516081,39.780134263378244,37.747947088888644,38.618757962134922,42.165576609403679,47.463870092154465,53.13255656493422,57.69400554151008,59.959205052081039,59.337695936435658,55.991484123312304,50.792811288486533,45.096791620329078,1,1,1,1,1,1,0,0,1,1,1,1,0,0,0,0,0,0,1,1,0,0,0,0,1,1,1,1,1,1,1,0,1,1,1,1,0,0,0,0,0,1,1,1,1,0,0,0,0.85,0.85,0.85,0.85,0.85,0.85,0.85,0.7,0.85,0.85,0.85,0.85,1,null,122,243,"Cold","6A",null,null,"WHEATON NDB AWOS","MN","",0,0]
["Lone Rock Faa Ap, WI","Wheeling Ohio County Ap, WV","Wheeling Ohio County Ap","WV",1178,-80.650000000000006,40.18,-5,8.2400003433227536,87.980000686645511,71.780000686645508,5599.8,693,38.120000171661374,31.279999989271165,35.779999828338624,53.780000686645508,56.659999656677243,70.519999313354489,70.33999862670899,69.080000686645505,62.060001373291016,55.4,39.559999656677249,28.039999914169311,50.984821906873627,48.142739833726822,47.011066793599205,48.479206723965333,52.164466327254097,57.106225896298731,62.016339644607598,65.614910756540723,66.963916216113248,65.711716961484214,62.184718025347294,57.302286033105425,52.337102124090976,1,1,1,1,1,0,0,0,1,1,1,1,0,0,0,0,0,1,1,1,0,0,0,0,1,1,1,1,1,1,0,0,1,1,1,1,0,0,0,0,1,1,1,1,1,0,0,0,0.85,0.85,0.85,0.85,0.85,0.85,0.7,0.7,0.85,0.85,0.85,0.85,1,null,153,212,"Cold","5A",null,null,"WHEELING OHIO COUNTY AP","WV","",0,0]
["Madison Dane Co Regional Arpt, WI","Whidbey Island Nas, WA","Whidbey Island Nas","WA",33,-122.67,48.35,-8,26.960000085830689,69.8,60.440000343322751,5380.2,1.8,42.079999828338622,40.820000171661377,44.059999656677249,49.640000343322754,51.440000343322751,56.480000686645511,58.459999656677248,58.640000343322754,55.940000343322751,48.919999313354495,47.3,41.720000171661376,49.667616506080108,52.106110830130994,51.598900379278611,52.152263487690483,53.62195753357544,55.62488411520274,57.638949553038309,59.139156653022397,59.734453315652942,59.269666292016026,57.865949482407473,55.889203305182562,53.854697114015657,1,1,1,1,1,1,1,1,1,1,1,1,0,0,0,0,0,0,1,1,0,0,0,0,1,1,1,1,1,1,1,1,1,1,1,1,0,0,0,0,0,0,1,1,0,0,0,0,0.85,0.85,0.85,0.85,0.85,0.85,0.85,0.85,0.85,0.85,0.85,0.85,1,null,62,303,"Cold","4C",null,null,"WHIDBEY ISLAND NAS","WA","",0,0]
["Manitowac Muni Awos, WI","White Plains Westchester Co A, NY","White Plains Westchester Co A","NY",400,-73.72,41.07,-5,12.019999313354491,86.539998626708979,72.5,5589,639,24.079999828338622,30.740000021457671,43.7,52.159999656677243,57.559999656677249,65.3,73.219999313354492,69.439998626708984,64.760001373291018,53.6,45.140000343322754,28.939999914169313,50.817150573469192,46.640742528156537,45.319800666378228,46.995820237408424,51.231920911814704,56.923897768525663,62.588049323821075,66.747927187595565,68.319195088997986,66.89227783555647,62.839123398841046,57.216248943782126,51.48934334820909,1,1,1,1,1,1,0,0,1,1,1,1,0,0,0,0,0,0,1,1,0,0,0,0,1,1,1,1,1,1,1,0,1,1,1,1,0,0,0,0,0,1,1,1,1,0,0,0,0.85,0.85,0.85,0.85,0.85,0.85,0.85,0.7,0.85,0.85,0.85,0.85,1,null,122,243,"Mixed-Humid","4A",null,null,"WHITE PLAINS WESTCHESTER CO A","NY","",1,0]
["Marshfield Muni, WI","Whiteman Afb, MO","Whiteman Afb","MO",836,-93.55,38.72,-6,8.0599996566772454,93.379997253417969,75.739998626708982,4687.2,1398.6000000000001,34.339999914169312,37.039999914169314,40.1,53.959999656677248,65.83999862670899,75.2,77.900000000000006,75.019999313354489,66.019999313354489,58.819999313354494,38.660000085830688,40.279999828338624,55.379780482592651,51.101083177428876,50.25664006290998,52.311614911563858,56.730346860967884,62.361025333789335,67.735927214705498,71.45400149871034,72.546074826418916,70.72748145560459,66.472265773742279,60.889615323167988,55.434733975071488,1,1,1,1,1,0,0,0,0,1,1,1,0,0,0,0,0,1,1,1,1,0,0,0,1,1,1,1,1,1,0,0,0,1,1,1,0,0,0,0,1,1,1,1,1,1,0,0,0.85,0.85,0.85,0.85,0.85,0.85,0.7,0.7,0.7,0.85,0.85,0.85,1,null,184,181,"Mixed-Humid","4A",null,null,"WHITEMAN AFB","MO","",0,0]
["Milwaukee Mitchell Intl Ap, WI","Whiting Field Naas, FL","Whiting Field Naas","FL",177,-87.02,30.72,-6,31.1,92.83999862670899,76.819999313354487,1675.8,2307.6,52.519999313354489,53.780000686645508,55.759999656677245,65.480000686645511,73.400000000000006,78.8,79.519999313354489,80.060001373291016,75.2,66.019999313354489,62.239998626708989,50.180000686645506,66.133424624612886,63.077314478154598,63.251275366896294,65.740505337725153,69.896148238549614,74.634971706874211,78.721728378199941,81.091142147319118,81.125588801539379,78.816089289599205,74.764650249750574,70.027341702295544,65.839016124262784,1,1,1,1,0,0,0,0,0,0,1,1,0,0,0,0,1,1,1,1,1,1,0,0,1,1,1,1,1,0,0,0,0,0,1,1,0,0,0,1,1,1,1,1,1,1,1,0,0.85,0.85,0.85,0.85,0.85,0.7,0.7,0.7,0.7,0.7,0.85,0.85,1,null,244,121,"Hot-Humid","2A",null,null,"WHITING FIELD NAAS","FL","",1,0]
["Minocqua Woodruff, WI","Whittier, AK","Whittier","AK",30,-148.68,60.77,-9,9.5,67.460001373291021,57.919999313354495,9144,0,28.4,29.660000085830688,30.2,35.060000085830687,46.580000686645505,53.6,53.780000686645508,52.880000686645509,47.840000343322757,35.419999957084656,28.939999914169313,29.119999957084655,39.34646595589102,41.86545591957573,40.922752555377159,41.133158260509553,42.441827545480102,44.50763559395709,46.792097703039325,48.699733619367784,49.733288643792129,49.623350731631106,48.398576893883991,46.378223305695734,44.088926264418831,1,1,1,1,1,1,1,1,1,1,1,1,0,0,0,0,0,0,1,1,0,0,0,0,1,1,1,1,1,1,1,1,1,1,1,1,0,0,0,0,0,0,1,1,0,0,0,0,0.85,0.85,0.85,0.85,0.85,0.85,0.85,0.85,0.85,0.85,0.85,0.85,1,null,62,303,"Very Cold",7,null,null,"WHITTIER","AK",{"$f":"IF(AND(C980=DC980,D980=DD980),\"\",FALSE)","v":""},0,0]
["Mosinee Central Wi, WI","Wichita Col  Jabara, KS","Wichita Col  Jabara","KS",1420,-97.22,37.75,-6,11.480000686645507,97.160001373291024,73.939998626708984,4685.4000000000005,1564.2,33.980000042915343,37.039999914169314,47.840000343322757,56.3,62.6,76.639998626708987,82.4,75.739998626708982,71.060001373291016,58.1,43.52000017166138,24.079999828338622,55.862082100894355,47.922192214936054,46.844421889124561,49.681236126660032,55.693175579898153,63.313135583561035,70.554856135555809,75.530671175713266,76.94355783418554,74.425225430199347,68.632116113530756,61.074293102086344,53.721819433377185,1,1,1,1,1,0,0,0,0,1,1,1,0,0,0,0,0,1,1,1,1,0,0,0,1,1,1,1,1,1,0,0,0,1,1,1,0,0,0,0,1,1,1,1,1,1,0,0,0.85,0.85,0.85,0.85,0.85,0.85,0.7,0.7,0.7,0.85,0.85,0.85,1,null,184,181,"Mixed-Humid","4A",null,null,"WICHITA COL. JABARA","KS",false,0,0]
["Phillips Price Co, WI","Wichita Falls Municipal Arpt, TX","Wichita Falls Municipal Arpt","TX",1030,-98.5,33.979999999999997,-6,21.2,100.03999862670899,73.400000000000006,2818.8,2379.6,40.1,47.3,53.959999656677248,63.680000686645506,71.419999313354495,79.33999862670899,84.739998626708982,81.680000686645513,75.739998626708982,64.400000000000006,51.980000686645511,42.97999982833862,63.189807945930795,56.464617439648727,56.370577790179446,59.618068031123251,65.360579785838667,72.101238870674266,78.082988618466828,81.746593775900308,82.137079200825212,79.152658849672321,73.5712678782794,66.847781855178425,60.73478102434661,1,1,1,1,0,0,0,0,0,1,1,1,0,0,0,0,1,1,1,1,1,0,0,0,1,1,1,1,1,0,0,0,0,1,1,1,0,0,0,1,1,1,1,1,1,1,0,0,0.85,0.85,0.85,0.85,0.85,0.7,0.7,0.7,0.7,0.85,0.85,0.85,1,null,214,151,"Mixed-Humid","3A",null,null,"WICHITA FALLS MUNICIPAL ARPT","TX","",0,0]
["Rhinelander Oneida, WI","Wichita Mid Continent Ap, KS","Wichita Mid Continent Ap","KS",1319,-97.43,37.65,-6,10.580000686645507,97.160001373291024,73.400000000000006,4282.2,1593,31.459999978542328,39.740000343322755,47.840000343322757,54.680000686645506,63.86000137329102,75.560001373291016,81.139998626708987,76.819999313354487,71.599999999999994,59.180000686645506,46.940000343322751,34.700000000000003,57.044164634763376,50.79737777571026,49.994042512869115,52.592422689569105,57.915210470502785,64.574939193927179,70.835647938555496,75.065386489658195,76.161608311646219,73.838566293328768,68.701797135941405,62.090278880366036,55.727405646498774,1,1,1,1,1,0,0,0,0,1,1,1,0,0,0,0,0,1,1,1,1,0,0,0,1,1,1,1,1,1,0,0,0,1,1,1,0,0,0,0,1,1,1,1,1,1,0,0,0.85,0.85,0.85,0.85,0.85,0.85,0.7,0.7,0.7,0.85,0.85,0.85,1,null,184,181,"Mixed-Humid","4A",null,null,"WICHITA MID CONTINENT AP","KS","",0,0]
["Rice Lake Municipal, WI","Wilkes Barre Scranton Intl Ap, PA","Wilkes Barre Scranton Intl Ap","PA",932,-75.73,41.33,-5,8.2400003433227536,86,70.519999313354489,5985,666,27.860000085830688,27.5,35.779999828338624,50.359999656677246,60.259999656677245,68.900000000000006,73.219999313354492,68.180000686645513,61.160001373291017,52.880000686645509,41,29.119999957084655,49.805205582331304,46.628110733443407,45.335140998444288,46.771354945814537,50.562381277445212,55.720030558512619,60.899882022125212,64.751727560365069,66.27152427495345,65.063113731456582,61.441486760207091,56.350676242222157,51.117680390779363,1,1,1,1,1,0,0,0,1,1,1,1,0,0,0,0,0,1,1,1,0,0,0,0,1,1,1,1,1,1,0,0,1,1,1,1,0,0,0,0,1,1,1,1,1,0,0,0,0.85,0.85,0.85,0.85,0.85,0.85,0.7,0.7,0.85,0.85,0.85,0.85,1,null,153,212,"Cold","5A",null,null,"WILKES BARRE SCRANTON INTL AP","PA","",0,0]
["Sturgeon Bay, WI","William R Fairchild, WA","William R Fairchild","WA",298,-123.5,48.12,-8,27.679999828338623,74.66000137329101,60.8,5761.8,18,39.559999656677249,39.559999656677249,42.620000171661374,48.2,50,55.940000343322751,59,60.259999656677245,56.119999313354491,48.740000343322755,44.059999656677249,39.379999828338626,48.667506737382446,50.625235875121689,50.004295409373626,50.598892838532876,52.254037179665339,54.538289553708459,56.856224377973291,58.603636220058299,59.325035254892427,58.832377706950524,57.254082358186267,55.001556213522619,52.661954925044782,1,1,1,1,1,1,1,1,1,1,1,1,0,0,0,0,0,0,1,1,0,0,0,0,1,1,1,1,1,1,1,1,1,1,1,1,0,0,0,0,0,0,1,1,0,0,0,0,0.85,0.85,0.85,0.85,0.85,0.85,0.85,0.85,0.85,0.85,0.85,0.85,1,null,62,303,"Marine","4C",null,null,"WILLIAM R FAIRCHILD","WA","",0,0]
["Watertown, WI","Williamsport Regional Ap, PA","Williamsport Regional Ap","PA",518,-76.92,41.25,-5,9.3199993133544918,87.619999313354498,71.599999999999994,5594.4000000000005,795.6,25.520000171661376,29.839999914169312,41.359999656677246,51.619999313354491,60.980000686645511,69.619999313354498,71.960001373291021,71.599999999999994,64.580000686645505,51.8,42.620000171661374,32.180000002682206,51.249643947306559,47.505735386148046,46.286497112083389,47.924972007826369,51.994066342139142,57.433107970141265,62.824326873325354,66.762418763378321,68.22085930132485,66.819483485700133,62.923581518701809,57.548680285694608,52.095830622797095,1,1,1,1,1,0,0,0,1,1,1,1,0,0,0,0,0,1,1,1,0,0,0,0,1,1,1,1,1,1,0,0,1,1,1,1,0,0,0,0,1,1,1,1,1,0,0,0,0.85,0.85,0.85,0.85,0.85,0.85,0.7,0.7,0.85,0.85,0.85,0.85,1,null,153,212,"Cold","5A",null,null,"WILLIAMSPORT REGIONAL AP","PA","",0,0]
["Wausau Municipal Arpt, WI","Williston Sloulin Intl Ap, ND","Williston Sloulin Intl Ap","ND",1902,-103.65,48.2,-6,-17.860001373291016,90.860001373291013,66.380000686645502,8290.8000000000011,460.8,10.040000343322752,19.940000343322755,32.9,38.660000085830688,57.559999656677249,64.039998626708979,68.719999313354492,69.980000686645511,60.619999313354491,45.859999656677246,29.119999957084655,16.159999656677247,42.929698432373677,39.438954785562672,37.326069912164868,38.237849629887734,41.936624504356047,47.458251864693445,53.363434448574694,58.112895413892929,60.468614568628993,59.816537412369875,56.326637904707681,50.908612133293886,44.974752009752017,1,1,1,1,1,1,0,0,1,1,1,1,0,0,0,0,0,0,1,1,0,0,0,0,1,1,1,1,1,1,1,0,1,1,1,1,0,0,0,0,0,1,1,1,1,0,0,0,0.85,0.85,0.85,0.85,0.85,0.85,0.85,0.7,0.85,0.85,0.85,0.85,1,null,122,243,"Very Cold",7,null,null,"WILLISTON SLOULIN INTL AP","ND","",0,0]
["Wittman Rgnl, WI","Willmar, MN","Willmar","MN",1132,-95.08,45.12,-6,-13.180000686645508,85.1,71.239998626708982,7399.8,667.80000000000007,10.940000343322753,25.520000171661376,36.5,50.9,55.580000686645505,67.819999313354487,71.599999999999994,70.880000686645502,60.980000686645511,39.740000343322755,39.02000017166138,21.2,45.961096092642173,41.236544336827471,39.251695058971329,40.579747018339987,44.874523005823811,51.016523475783792,57.404741354632549,62.373989206830721,64.628956001275455,63.581849892904543,59.505615225258431,53.462785381136769,47.028517082236554,1,1,1,1,1,0,0,0,1,1,1,1,0,0,0,0,0,1,1,1,0,0,0,0,1,1,1,1,1,1,0,0,1,1,1,1,0,0,0,0,1,1,1,1,1,0,0,0,0.85,0.85,0.85,0.85,0.85,0.85,0.7,0.7,0.85,0.85,0.85,0.85,1,null,153,212,"Cold","6A",null,null,"WILLMAR","MN","",1,0]
["Beckley Raleigh Co Mem Ap, WV","Willow Grove Nas, PA","Willow Grove Nas","PA",335,-75.150000000000006,40.200000000000003,-5,14.359999656677246,89.960001373291021,73.760001373291018,4528.8,973.80000000000007,33.619999957084659,34.880000042915341,44.240000343322755,51.259999656677245,61.519999313354496,70.880000686645502,75.2,73.939998626708984,64.039998626708979,53.419999313354495,53.240000343322755,38.47999982833862,54.663725751916026,51.04103038363786,50.180728036983695,52.052980592611448,56.169756569611508,61.457954868140639,66.539125108084662,70.088781963198556,71.181652672328923,69.532863643493513,65.572197145666337,60.332061937224296,55.178380013175754,1,1,1,1,1,0,0,0,1,1,1,1,0,0,0,0,0,1,1,1,0,0,0,0,1,1,1,1,1,1,0,0,1,1,1,1,0,0,0,0,1,1,1,1,1,0,0,0,0.85,0.85,0.85,0.85,0.85,0.85,0.7,0.7,0.85,0.85,0.85,0.85,1,null,153,212,"Mixed-Humid","4A",null,null,"WILLOW GROVE NAS","PA","",0,0]
["Bluefield Mercer Co  Nrel, WV","Wilmington International Arpt, NC","Wilmington International Arpt","NC",30,-77.900000000000006,34.270000000000003,-5,27.679999828338623,91.039998626708993,77.539998626708979,2350.8000000000002,1971,44.240000343322755,47.480000686645511,53.780000686645508,63.680000686645506,70.880000686645502,76.819999313354487,80.599999999999994,78.260001373291018,74.3,62.6,57.559999656677249,48.919999313354495,63.336767351855968,58.938861589234413,58.876002192354399,61.539902439569211,66.236175679496881,71.740665920388949,76.618542954194609,79.598312961691931,79.903252970780954,77.453875668824836,72.888648995625218,67.397569635824169,62.411972044648181,1,1,1,1,0,0,0,0,0,1,1,1,0,0,0,0,1,1,1,1,1,0,0,0,1,1,1,1,1,0,0,0,0,1,1,1,0,0,0,1,1,1,1,1,1,1,0,0,0.85,0.85,0.85,0.85,0.85,0.7,0.7,0.7,0.7,0.85,0.85,0.85,1,null,214,151,"Hot-Humid","3A",null,null,"WILMINGTON INTERNATIONAL ARPT","NC","",0,0]
["Charleston Yeager Arpt, WV","Wilmington New Castle Cnty Ap, DE","Wilmington New Castle Cnty Ap","DE",75,-75.599999999999994,39.67,-5,16.159999656677247,89.239998626708982,74.119999313354498,4932,1170,28.039999914169311,36.139999914169309,44.779999828338624,53.419999313354495,63.319999313354494,72.5,76.280000686645508,74.83999862670899,65.83999862670899,54.5,45.320000171661377,33.259999978542325,54.109424355421979,49.114960979898179,48.069722678502032,50.16281815661408,54.848649822286731,60.905783441010641,66.755333791810884,70.87252543145182,72.184148911217306,70.348309358376838,65.84354664352216,59.844096588774896,53.913808305228848,1,1,1,1,1,0,0,0,1,1,1,1,0,0,0,0,0,1,1,1,0,0,0,0,1,1,1,1,1,1,0,0,1,1,1,1,0,0,0,0,1,1,1,1,1,0,0,0,0.85,0.85,0.85,0.85,0.85,0.85,0.7,0.7,0.85,0.85,0.85,0.85,1,null,153,212,"Mixed-Humid","4A",null,null,"WILMINGTON NEW CASTLE CNTY AP","DE","",0,0]
["Elkins Elkins Randolph Co Arp, WV","Winchester Rgnl, VA","Winchester Rgnl","VA",728,-78.150000000000006,39.15,-5,18.140000343322754,90.679997253417966,73.760001373291018,4980.6000000000004,1252.8,34.880000042915341,35.23999991416931,39.200000000000003,53.059999656677249,62.060001373291016,71.780000686645508,76.639998626708987,77.180000686645513,66.380000686645502,53.959999656677248,40.459999656677248,38.120000171661374,54.192767220523258,50.529750993712256,49.619355116019818,51.465082044578921,55.585814611947683,60.90742037203038,66.042740775034318,69.653175420233623,70.797608878875067,69.177726933710304,65.215776776882933,59.944501772270073,54.737940982630761,1,1,1,1,1,0,0,0,0,1,1,1,0,0,0,0,0,1,1,1,1,0,0,0,1,1,1,1,1,1,0,0,0,1,1,1,0,0,0,0,1,1,1,1,1,1,0,0,0.85,0.85,0.85,0.85,0.85,0.85,0.7,0.7,0.7,0.85,0.85,0.85,1,null,184,181,"Mixed-Humid","4A",null,null,"WINCHESTER RGNL","VA","",0,0]
["Harrison Marion Rgn, WV","Wink Winkler County Ap, TX","Wink Winkler County Ap","TX",2808,-103.2,31.78,-6,23.720000171661376,102.02000274658204,66.919999313354495,2388.6,3040.2000000000003,47.480000686645511,48.380000686645509,53.240000343322755,71.599999999999994,79.880000686645502,83.66000137329101,86.180000686645513,82.760001373291018,76.819999313354487,64.039998626708979,55.219999313354492,44.059999656677249,66.193096118038653,59.412046982821543,59.664366649293676,63.182492725359594,69.049371433328773,75.735710426631428,81.498612407060349,84.835888164409013,84.877625343548303,81.612944505546182,75.89283502108249,69.208331576838091,63.301853006871525,1,1,1,0,0,0,0,0,0,1,1,1,0,0,0,1,1,1,1,1,1,0,0,0,1,1,1,1,0,0,0,0,0,1,1,1,0,0,1,1,1,1,1,1,1,1,0,0,0.85,0.85,0.85,0.85,0.7,0.7,0.7,0.7,0.7,0.85,0.85,0.85,1,null,245,120,"Hot-Dry","3B",null,null,"WINK WINKLER COUNTY AP","TX","",0,0]
["Huntington Tri State Arpt, WV","Winnemucca Municipal Arpt, NV","Winnemucca Municipal Arpt","NV",4297,-117.8,40.9,-8,8.2400003433227536,95,61.339998626708983,5918.4000000000005,826.2,28.220000171661376,35.960000085830686,37.939999914169313,50.359999656677246,57.559999656677249,68.360001373291013,74.66000137329101,72.680000686645513,61.339998626708983,46.940000343322751,37.939999914169313,32.360000005364419,50.432986455380103,46.92807581553437,45.654524877151857,47.1905460502553,51.135751745272501,56.461763300337132,61.780273727299111,65.704931322644185,67.212713603341371,65.910593882298684,62.137989731078193,56.878288559285295,51.50251253179637,1,1,1,1,1,0,0,0,1,1,1,1,0,0,0,0,0,1,1,1,0,0,0,0,1,1,1,1,1,1,0,0,1,1,1,1,0,0,0,0,1,1,1,1,1,0,0,0,0.85,0.85,0.85,0.85,0.85,0.85,0.7,0.7,0.85,0.85,0.85,0.85,1,null,153,212,"Cold","5B",null,null,"WINNEMUCCA MUNICIPAL ARPT","NV","",0,0]
["Lewisburg Greenbrie, WV","Winona Muni AWOS, MN","Winona Muni AWOS","MN",656,-91.7,44.08,-6,-4.3600013732910163,89.060001373291016,73.039998626708979,7495.2,685.80000000000007,17.779999828338624,18.320000171661377,36.139999914169309,51.080000686645505,56.3,68.900000000000006,69.8,70.519999313354489,65.3,46.4,37.579999828338622,9.6800006866455064,45.764328800750107,41.081617652639366,39.079310906096538,40.383549555838108,44.654363698882968,50.778499813608306,57.159607445916706,62.134352555601765,64.405991166681375,63.382385668166961,59.330354607484544,53.306122324289781,46.879997799427002,1,1,1,1,1,0,0,0,1,1,1,1,0,0,0,0,0,1,1,1,0,0,0,0,1,1,1,1,1,1,0,0,1,1,1,1,0,0,0,0,1,1,1,1,1,0,0,0,0.85,0.85,0.85,0.85,0.85,0.85,0.7,0.7,0.85,0.85,0.85,0.85,1,null,153,212,"Cold","6A",null,null,"WINONA MUNI AWOS","MN","",0,0]
["Martinsburg Eastern Wv Reg Ap, WV","Winslow Municipal Ap, AZ","Winslow Municipal Ap","AZ",4887,-110.72,35.03,-7,15.259999656677246,94.820002746582034,60.440000343322751,4426.2,1371.6000000000001,36.320000171661377,39.200000000000003,40.820000171661377,59.180000686645506,66.019999313354489,74.66000137329101,79.7,76.280000686645508,66.019999313354489,55.4,43.879999828338626,33.799999999999997,56.022849442991493,51.004864636085898,50.170692516552243,52.425967747161899,57.182818084213139,63.201297182070931,68.912595716308289,72.827975710201699,73.926833030510707,71.922733582792887,67.338076772203223,61.367924048121985,55.568487720919329,1,1,1,1,0,0,0,0,0,1,1,1,0,0,0,0,1,1,1,1,1,0,0,0,1,1,1,1,1,0,0,0,0,1,1,1,0,0,0,1,1,1,1,1,1,1,0,0,0.85,0.85,0.85,0.85,0.85,0.7,0.7,0.7,0.7,0.85,0.85,0.85,1,null,214,151,"Cold","5B",null,null,"WINSLOW MUNICIPAL AP","AZ","",0,0]
["Morgantown Hart Field, WV","Winston Salem Reynolds Ap, NC","Winston Salem Reynolds Ap","NC",971,-80.22,36.130000000000003,-5,22.820000171661377,90.320002746582034,73.939998626708984,3051,1303.2,37.76000008583069,44.959999656677248,54.859999656677246,62.960001373291014,66.919999313354495,71.960001373291021,75.919999313354495,75.019999313354489,68.360001373291013,57.740000343322755,55.219999313354492,42.8,59.604109677223313,55.580373422646318,55.171005524362684,57.48118700252391,61.908733453873054,67.29953666530983,72.248400704981108,75.465327896643203,76.111776593440766,74.01923998047755,69.733169972887737,64.370796768487736,59.329905579676897,1,1,1,1,0,0,0,0,0,1,1,1,0,0,0,0,1,1,1,1,1,0,0,0,1,1,1,1,1,0,0,0,0,1,1,1,0,0,0,1,1,1,1,1,1,1,0,0,0.85,0.85,0.85,0.85,0.85,0.7,0.7,0.7,0.7,0.85,0.85,0.85,1,null,214,151,"Mixed-Humid","4A",null,null,"WINSTON SALEM REYNOLDS AP","NC","",0,0]
["Parkersburg Wood County Ap, WV","Wiscasset, ME","Wiscasset","ME",69,-69.72,43.97,-5,1.0399986267089836,81.860001373291013,69.260001373291018,6566.4000000000005,363.6,27.679999828338623,23.720000171661376,36.139999914169309,42.8,53.419999313354495,59.180000686645506,68.180000686645513,68.719999313354492,62.419999313354495,49.819999313354494,41.540000343322752,33.619999957084659,47.417369762250821,45.056141909569554,43.652084654702051,44.793499450715871,48.182858941295549,52.936674343610719,57.815790414535073,61.548390360727538,63.16151448510675,62.234677125658017,59.009472723117717,54.326600506912278,49.406723285440926,1,1,1,1,1,1,0,0,1,1,1,1,0,0,0,0,0,0,1,1,0,0,0,0,1,1,1,1,1,1,1,0,1,1,1,1,0,0,0,0,0,1,1,1,1,0,0,0,0.85,0.85,0.85,0.85,0.85,0.85,0.85,0.7,0.85,0.85,0.85,0.85,1,null,122,243,"Cold","6A",null,null,"WISCASSET","ME","",0,0]
["Wheeling Ohio County Ap, WV","Wise Lonesome Pine, VA","Wise Lonesome Pine","VA",2680,-82.53,36.979999999999997,-5,11.840000343322753,83.66000137329101,69.080000686645505,4770,757.80000000000007,33.619999957084659,39.559999656677249,37.76000008583069,49.1,61.7,68,69.619999313354498,71.419999313354495,69.980000686645511,56.480000686645511,51.619999313354491,31.459999978542328,53.404219095249701,50.475453173366034,49.561594206860669,51.213367096954734,55.000211785254464,59.935028846711447,64.731482166424044,68.139302271026111,69.270188334155648,67.829357475976209,64.192384463547867,59.307302360010745,54.447483097045748,1,1,1,1,1,0,0,0,0,1,1,1,0,0,0,0,0,1,1,1,1,0,0,0,1,1,1,1,1,1,0,0,0,1,1,1,0,0,0,0,1,1,1,1,1,1,0,0,0.85,0.85,0.85,0.85,0.85,0.85,0.7,0.7,0.7,0.85,0.85,0.85,1,null,184,181,"Mixed-Humid","4A",null,null,"WISE LONESOME PINE","VA","",0,0]
["Casper Natrona Co Intl Ap, WY","Wittman Rgnl, WI","Wittman Rgnl","WI",830,-88.55,43.98,-6,-0.21999931335449299,84.380000686645502,72.319999313354487,7741.8,426.6,15.799999999999999,16.519999313354493,39.740000343322755,47.480000686645511,52.7,65.3,67.280000686645508,69.080000686645505,60.440000343322751,44.6,39.920000171661378,12.2,44.384000191884496,40.877081052578873,38.935008083232901,39.977291341315983,43.732243633537564,49.221078779363687,55.01304731252479,59.598383377915567,61.781848467924199,60.994288758624386,57.440993824907622,52.048184749179612,46.221580322732294,1,1,1,1,1,1,0,0,1,1,1,1,0,0,0,0,0,0,1,1,0,0,0,0,1,1,1,1,1,1,1,0,1,1,1,1,0,0,0,0,0,1,1,1,1,0,0,0,0.85,0.85,0.85,0.85,0.85,0.85,0.85,0.7,0.85,0.85,0.85,0.85,1,null,122,243,"Cold","6A",null,null,"WITTMAN RGNL","WI","",0,0]
["Cheyenne Municipal Arpt, WY","Wolf Point Intl  Fort Peck   S, MT","Wolf Point Intl  Fort Peck   S","MT",2080,-105.1,48.31,-7,-18.580000686645509,89.779997253417974,66.380000686645502,8728.2000000000007,289.8,17.059999656677245,8.4199993133544915,24.8,48.019999313354489,54.319999313354494,62.239998626708989,65.66000137329101,65.119999313354498,55.040000343322752,44.6,31.639999994635581,16.159999656677247,41.269260021448133,38.773385918092288,36.697051567247314,37.376526272653692,40.634694481325084,45.622264439779357,51.039149177565783,55.4733542110597,57.769035665112938,57.327788791204426,54.264631386838587,49.378022634147854,43.9417324094414,1,1,1,1,1,1,1,1,1,1,1,1,0,0,0,0,0,0,1,1,0,0,0,0,1,1,1,1,1,1,1,1,1,1,1,1,0,0,0,0,0,0,1,1,0,0,0,0,0.85,0.85,0.85,0.85,0.85,0.85,0.85,0.85,0.85,0.85,0.85,0.85,1,null,62,303,"Cold","6B",null,null,"WOLF POINT INTL [FORT PECK   SURFRAD]","MT",false,0,0]
["Cody Muni AWOS, WY","Worchester Regional Arpt, MA","Worchester Regional Arpt","MA",984,-71.88,42.27,-5,6.2599996566772456,83.119999313354498,69.980000686645511,6942.6,378,19.759999656677245,25.160000085830688,32.540000021457672,43.7,57.559999656677249,63.86000137329102,70.519999313354489,66.019999313354489,59.359999656677246,49.640000343322754,38.660000085830688,28.939999914169313,46.428109536072981,43.307672124294101,41.670400683550085,42.83729183652774,46.504177421866444,51.715227203330308,57.11210075067283,61.288019805440342,63.154466713147109,62.224923324481871,58.741689448397452,53.612723672954111,48.174969967276262,1,1,1,1,1,1,0,0,1,1,1,1,0,0,0,0,0,0,1,1,0,0,0,0,1,1,1,1,1,1,1,0,1,1,1,1,0,0,0,0,0,1,1,1,1,0,0,0,0.85,0.85,0.85,0.85,0.85,0.85,0.85,0.7,0.85,0.85,0.85,0.85,1,null,122,243,"Cold","5A",null,null,"WORCHESTER REGIONAL ARPT","MA","",0,0]
["Evanston Burns Fld, WY","Worland Municipal, WY","Worland Municipal","WY",4244,-107.95,43.97,-7,-9.5800006866455085,93.020002746582037,62.780000686645508,7293.6,662.4,19.759999656677245,24.440000343322755,37.579999828338622,46.759999656677245,54.680000686645506,64.580000686645505,71.060001373291016,74.119999313354498,61.880000686645509,46.220000171661376,32.9,19.579999828338622,46.249096074300269,42.509739443253466,40.740675443030369,41.971458630478047,45.881266400845206,51.45094710682411,57.228677641023573,61.708403502181831,63.722415109922807,62.745729301830465,59.032934284967958,53.551827296383635,47.731143339067458,1,1,1,1,1,1,0,0,1,1,1,1,0,0,0,0,0,0,1,1,0,0,0,0,1,1,1,1,1,1,1,0,1,1,1,1,0,0,0,0,0,1,1,1,1,0,0,0,0.85,0.85,0.85,0.85,0.85,0.85,0.85,0.7,0.85,0.85,0.85,0.85,1,null,122,243,"Cold","6B",null,null,"WORLAND MUNICIPAL","WY","",0,0]
["Gillette Gillette C, WY","Worthington AWOS, MN","Worthington AWOS","MN",1574,-95.58,43.65,-6,-6.5199993133544929,85.1,70.880000686645502,7655.4000000000005,718.2,13.819999313354492,27.139999914169312,25.7,44.959999656677248,58.280000686645508,67.280000686645508,72.680000686645513,70.33999862670899,64.760001373291018,45.859999656677246,31.459999978542328,21.379999828338622,45.37967126356412,41.18366742230635,39.225260880484136,40.435088710145401,44.497790643477735,50.35436081342614,56.478193952715323,61.273018582464289,63.488989772444789,62.54848048283867,58.696648953668657,52.937534431533535,46.772338867269056,1,1,1,1,1,0,0,0,1,1,1,1,0,0,0,0,0,1,1,1,0,0,0,0,1,1,1,1,1,1,0,0,1,1,1,1,0,0,0,0,1,1,1,1,1,0,0,0,0.85,0.85,0.85,0.85,0.85,0.85,0.7,0.7,0.85,0.85,0.85,0.85,1,null,153,212,"Cold","6A",null,null,"WORTHINGTON AWOS","MN","",0,0]
["Jackson Hole, WY","Wrangell, AK","Wrangell","AK",43,-132.37,56.48,-9,15.259999656677246,67.639998626708987,57.559999656677249,7792.2,9,30.2,32.720000010728839,35.779999828338624,41,44.420000171661378,54.319999313354494,56.3,58.459999656677248,51.080000686645505,44.059999656677249,36.5,31.279999989271165,43.064821859402201,44.567222480981634,43.573729725638891,44.011574755252774,45.76662651545827,48.381403718791518,51.17432439226728,53.417370722133704,54.525858116120851,54.210842252678155,52.554436871153349,49.988409560220475,47.181634882152018,1,1,1,1,1,1,1,1,1,1,1,1,0,0,0,0,0,0,1,1,0,0,0,0,1,1,1,1,1,1,1,1,1,1,1,1,0,0,0,0,0,0,1,1,0,0,0,0,0.85,0.85,0.85,0.85,0.85,0.85,0.85,0.85,0.85,0.85,0.85,0.85,1,null,62,303,"Very Cold",7,null,null,"WRANGELL","AK","",1,0]
["Lander Hunt Field, WY","Yakima Air Terminal, WA","Yakima Air Terminal","WA",1063,-120.55,46.57,-8,12.019999313354491,92.479997253417977,65.3,5821.2,545.4,29.480000042915343,36.5,42.620000171661374,52.880000686645509,57.559999656677249,66.560001373291016,72.139998626708987,67.460001373291021,60.259999656677245,48.380000686645509,36.5,28.4,49.959561832310399,47.137488508409689,45.909576349698689,47.30134778199475,50.950016133622903,55.904499771049977,60.873336183276628,64.561321587369051,66.007125754175135,64.833877547100258,61.347402191620617,56.456503217353564,51.436068812976458,1,1,1,1,1,0,0,0,1,1,1,1,0,0,0,0,0,1,1,1,0,0,0,0,1,1,1,1,1,1,0,0,1,1,1,1,0,0,0,0,1,1,1,1,1,0,0,0,0.85,0.85,0.85,0.85,0.85,0.85,0.7,0.7,0.85,0.85,0.85,0.85,1,null,153,212,"Cold","5B",null,null,"YAKIMA AIR TERMINAL","WA","",0,0]
["Laramie General Brees Field, WY","Yakutat State Arpt, AK","Yakutat State Arpt","AK",26,-139.63,59.52,-9,6.2599996566772456,64.039998626708979,55.219999313354492,8771.4,0,26.960000085830689,28.039999914169311,30.559999978542329,39.920000171661378,44.779999828338624,50.9,55.040000343322752,54.319999313354494,50.180000686645506,40.820000171661377,32.360000005364419,29.839999914169312,40.377643869037499,42.357425735654708,41.32634488785984,41.61196296238252,43.13982920659064,45.51168173879983,48.109260645135841,50.255466953759552,51.390858916287826,51.219479120767915,49.786000351944658,47.464080941488355,44.858964965595661,1,1,1,1,1,1,1,1,1,1,1,1,0,0,0,0,0,0,1,1,0,0,0,0,1,1,1,1,1,1,1,1,1,1,1,1,0,0,0,0,0,0,1,1,0,0,0,0,0.85,0.85,0.85,0.85,0.85,0.85,0.85,0.85,0.85,0.85,0.85,0.85,1,null,62,303,"Very Cold",7,null,null,"YAKUTAT STATE ARPT","AK","",0,0]
["Rawlins Municipal Ap, WY","Youngstown Regional Airport, OH","Youngstown Regional Airport","OH",1181,-80.67,41.25,-5,6.9800006866455071,85.819999313354487,71.060001373291016,6391.8,603,25.160000085830688,25.520000171661376,39.559999656677249,46.759999656677245,56.659999656677243,66.2,71.599999999999994,68.360001373291013,61.880000686645509,49.1,42.440000343322751,27.860000085830688,48.548657676749031,45.592578905272077,44.204771405417432,45.513257266297927,49.176959483897576,54.240877615838855,59.385023363690678,63.268495864589909,64.879008165054373,63.796755415222229,60.303843472356924,55.310753661768686,50.119011788430448,1,1,1,1,1,0,0,0,1,1,1,1,0,0,0,0,0,1,1,1,0,0,0,0,1,1,1,1,1,1,0,0,1,1,1,1,0,0,0,0,1,1,1,1,1,0,0,0,0.85,0.85,0.85,0.85,0.85,0.85,0.7,0.7,0.85,0.85,0.85,0.85,1,null,153,212,"Cold","5A",null,null,"YOUNGSTOWN REGIONAL AIRPORT","OH","",0,0]
["Riverton Municipl Ap, WY","Yuba Co, CA","Yuba Co","CA",62,-121.57,39.1,-8,30.019999957084657,102.37999725341797,62.780000686645508,2514.6,1504.8,44.420000171661378,51.619999313354491,55.4,61.880000686645509,67.099999999999994,74.3,77.360001373291013,75.380000686645502,73.039998626708979,62.419999313354495,49.819999313354494,46.220000171661376,61.627013678877319,58.556871175545993,58.359042047976089,60.577052549766655,64.632744063049529,69.468938094789422,73.825006142607378,76.565471940799043,76.975990847209474,74.94955478259493,71.014385535522223,66.196245613034606,61.751057435712198,1,1,1,1,0,0,0,0,0,1,1,1,0,0,0,0,1,1,1,1,1,0,0,0,1,1,1,1,1,0,0,0,0,1,1,1,0,0,0,1,1,1,1,1,1,1,0,0,0.85,0.85,0.85,0.85,0.85,0.7,0.7,0.7,0.7,0.85,0.85,0.85,1,null,214,151,"Hot-Dry","3B",null,null,"YUBA CO","CA","",0,0]
["Rock Springs Arpt  Green River, WY","Yuma Intl Arpt, AZ","Yuma Intl Arpt","AZ",207,-114.6,32.67,-7,44.779999828338624,108.67999725341797,73.219999313354492,518.4,4636.8,61.160001373291017,58.459999656677248,67.819999313354487,73.219999313354492,78.619999313354498,86.719999313354492,94.460001373291021,96.079997253417972,88.33999862670899,75.739998626708982,67.460001373291021,59,75.694136613819694,68.230287810937241,69.606549967948226,74.133627859554338,80.631468868926362,87.406310602210496,92.69218615815484,95.11125061529448,94.032937543964266,89.738325863513836,83.346872290421913,76.5246076937959,71.049860475026165,1,1,0,0,0,0,0,0,0,0,0,1,0,0,1,1,1,1,1,1,1,1,1,0,1,1,1,0,0,0,0,0,0,0,0,1,0,1,1,1,1,1,1,1,1,1,1,1,0.85,0.85,0.85,0.7,0.7,0.7,0.7,0.7,0.7,0.7,0.7,0.85,1,null,334,31,"Hot-Dry","2B",null,null,"YUMA INTL AIRPORT","AZ",false,1,0]
["Sheridan County Arpt, WY","Yuma Mcas, AZ","Yuma Mcas","AZ",213,-114.62,32.65,-7,44.6,108.67999725341797,73.219999313354492,644.4,4573.8,60.440000343322751,58.459999656677248,68,72.139998626708987,79.7,86.719999313354492,94.100000000000009,93.560001373291016,88.16000137329101,75.739998626708982,68.360001373291013,55.4,75.160054853779002,67.420637238103751,68.762495038723898,73.33596785731801,79.948909524370009,86.877554885846948,92.315845754622842,94.846207809152148,93.809063185862215,89.474759613695994,82.973100112378503,75.998842424533876,70.369934293063082,1,1,0,0,0,0,0,0,0,0,0,1,0,0,1,1,1,1,1,1,1,1,1,0,1,1,1,0,0,0,0,0,0,0,0,1,0,1,1,1,1,1,1,1,1,1,1,1,0.85,0.85,0.85,0.7,0.7,0.7,0.7,0.7,0.7,0.7,0.7,0.85,1,null,334,31,"Hot-Dry","2B",null,null,"YUMA MCAS","AZ","",0,0]
["Worland Municipal, WY","Zanesville Municipal Ap, OH","Zanesville Municipal Ap","OH",879,-81.900000000000006,39.950000000000003,-5,9.5,87.8,73.039998626708979,4761,777.6,37.579999828338622,35.960000085830686,42.8,55.4,65.119999313354498,66.2,73.039998626708979,69.080000686645505,64.039998626708979,52.159999656677243,45.140000343322754,33.799999999999997,53.455506610870358,50.674869352643462,49.780845004284529,51.408670294730491,55.134027476479559,59.985844790616895,64.699421285444558,68.046090609173191,69.153491828837517,67.732963750962668,64.154788910047031,59.35167371971869,54.575624172582316,1,1,1,1,1,0,0,0,1,1,1,1,0,0,0,0,0,1,1,1,0,0,0,0,1,1,1,1,1,1,0,0,1,1,1,1,0,0,0,0,1,1,1,1,1,0,0,0,0.85,0.85,0.85,0.85,0.85,0.85,0.7,0.7,0.85,0.85,0.85,0.85,1,null,153,212,"Cold","5A",null,null,"ZANESVILLE MUNICIPAL AP","OH","",0,0]
[null,null,null,null,null,null,null,null,null,null,null,null,null,null,null,null,null,null,null,null,null,null,null,null,null,null,null,null,null,null,null,null,null,null,null,null,null,null,null,null,null,null,null,null,null,null,null,null,null,null,null,null,null,null,null,null,null,null,null,null,null,null,null,null,null,null,null,null,null,null,null,null,null,null,null,null,null,null,null,null,null,null,null,null,null,null,null,null,null,null,null,null,null,null,null,null,null,null,null,null,null,null,"Hot-Humid","1A",null,null,"SAN JUAN INTL ARPT","PR",{"$f":"IF(AND(C1013=DC1013,D1013=DD1013),\"\",FALSE)","v":false},{"$f":"SUM(DF3:DF1012)","v":188},{"$f":"SUM(DG3:DG1012)","v":0}]
[null,null,null,null,null,null,null,null,null,null,null,null,null,null,null,null,null,null,null,null,null,null,null,null,null,null,null,null,null,null,null,null,null,null,null,null,null,null,null,null,null,null,null,null,null,null,null,null,null,null,null,null,null,null,null,null,null,null,null,null,null,null,null,null,null,null,null,null,null,null,null,null,null,null,null,null,null,null,null,null,null,null,null,null,null,null,null,null,null,null,null,null,null,null,null,null,null,null,null,null,null,null,"Hot-Humid","1A",null,null,"SAN JUAN L M MARIN INTL AP","PR",{"$f":"IF(AND(C1014=DC1014,D1014=DD1014),\"\",FALSE)","v":false},{"$f":"COUNT(DF3:DF1012)","v":1010}]
[null,null,null,null,null,null,null,null,null,null,null,null,null,null,null,null,null,null,null,null,null,null,null,null,null,null,null,null,null,null,null,null,null,null,null,null,null,null,null,null,null,null,null,null,null,null,null,null,null,null,null,null,null,null,null,null,null,null,null,null,null,null,null,null,null,null,null,null,null,null,null,null,null,null,null,null,null,null,null,null,null,null,null,null,null,null,null,null,null,null,null,null,null,null,null,null,null,null,null,null,null,null,"Cold","6A",null,null,"ANDERSEN AFB","Guam",{"$f":"IF(AND(C1015=DC1015,D1015=DD1015),\"\",FALSE)","v":false},{"$f":"IF(DE1015=FALSE,\"not okay\",\"\")","v":"not okay"}]
[null,null,null,null,null,null,null,null,null,null,null,null,null,null,null,null,null,null,null,null,null,null,null,null,null,null,null,null,null,null,null,null,null,null,null,null,null,null,null,null,null,null,null,null,null,null,null,null,null,null,null,null,null,null,null,null,null,null,null,null,null,null,null,null,null,null,null,null,null,null,null,null,null,null,null,null,null,null,null,null,null,null,null,null,null,null,null,null,null,null,null,null,null,null,null,null,null,null,null,null,null,null,"Cold","6A",null,null,"GUAM WFO","Guam",{"$f":"IF(AND(C1016=DC1016,D1016=DD1016),\"\",FALSE)","v":false},{"$f":"IF(DE1016=FALSE,\"not okay\",\"\")","v":"not okay"}]
[null,null,null,null,null,null,null,null,null,null,null,null,null,null,null,null,null,null,null,null,null,null,null,null,null,null,null,null,null,null,null,null,null,null,null,null,null,null,null,null,null,null,null,null,null,null,null,null,null,null,null,null,null,null,null,null,null,null,null,null,null,null,null,null,null,null,null,null,null,null,null,null,null,null,null,null,null,null,null,null,null,null,null,null,null,null,null,null,null,null,null,null,null,null,null,null,null,null,null,null,null,null,null,null,null,null,null,null,null,{"$f":"COUNTIF($DF$3:$DF$1012,\"=0\")","v":822}]
[null,null,null,null,null,null,null,null,null,null,null,null,null,null,null,null,null,null,null,null,null,null,null,null,null,null,null,null,null,null,null,null,null,null,null,null,null,null,null,null,null,null,null,null,null,null,null,null,null,null,null,null,null,null,null,null,null,null,null,null,null,null,null,null,null,null,null,null,null,null,null,null,null,null,null,null,null,null,null,null,null,null,null,null,null,null,null,null,null,null,null,null,null,null,null,null,null,null,null,null,null,null,null,null,null,null,null,null,null,{"$f":"(DF1014-DF1017)/DF1014","v":0.18613861386138614}]
[null,null,null,null,null,null,null,null,null,null,null,null,null,null,null,null,null,null,null,null,null,null,null,null,null,null,null,null,null,null,null,null,null,null,null,null,null,null,null,null,null,null,null,null,null,null,null,null,null,null,null,null,null,null,null,null,null,null,null,null,null,null,null,null,null,null,null,null,null,null,null,null,null,null,null,null,null,null,null,null,null,null,null,null,null,null,null,null,null,null,null,null,null,null,null,null,null,null,null,null,null,null,null,null,null,null,null,null,null,{"$f":"COUNTIF($DF$3:$DF$1012,\"=2\")","v":0}]
[null,null,null,null,null,null,null,null,null,null,null,null,null,null,null,null,null,null,null,null,null,null,null,null,null,null,null,null,null,null,null,null,null,null,null,null,null,null,null,null,null,null,null,null,null,null,null,null,null,null,null,null,null,null,null,null,null,null,null,null,null,null,null,null,null,null,null,null,null,null,null,null,null,null,null,null,null,null,null,null,null,null,null,null,null,null,null,null,null,null,null,null,null,null,null,null,null,null,null,null,null,null,null,null,null,null,null,null,null,{"$f":"DF1019/DF1014","v":0}]

{"sheet":"Neutral Cost","index":12,"n_rows":80,"n_cols":14,"rows_kept":80,"cut":false,"hidden":true,"merged":[[3,8,5,8],[3,10,5,10],[3,11,5,11],[19,10,19,12],[2,2,2,4],[2,5,2,7],[3,2,5,2],[3,3,5,3],[3,4,5,4],[3,5,5,5],[3,6,5,6],[3,7,5,7]]}
[null,"Neutral Cost Analysis Worksheet"]
[null,"Updated January 16, 2009 (not currently maintained, use at own risk)"]
[null,null,"Annual Electric Energy (Site)",null,null,"Annual Gas Energy (Site)"]
[null,null,"Benchmark","Builder Standard Practice (Optional)","NCTH House","Benchmark","Builder Standard Practice (Optional)","NCTH House","Annual Utility Bill Reduction vs Benchmark",null,"Local Marginal Electricity Price ","Local Marginal Gas Price "]
[]
[]
[null,"End Use","(kWh/yr)","(kWh/yr)","(kWh/yr)","(therms/yr)","(therms/yr)","(therms/yr)","($/yr)",null,"($/kWh)","($/therm)"]
[null,"Space Heating",85,53,51,85,53,35,{"$f":"(C8-E8)*K$8+(F8-H8)*L$8","v":64.42},null,0.13,1.2]
[null,"Space Cooling",62,30,24,62,30,24,{"$f":"(C9-E9)*K$8+(F9-H9)*L$8","v":50.54}]
[null,"DHW",37,34,26,37,34,26,14.629999999999999]
[null,"Lighting",24,25,22,24,25,22,2.66]
[null,"Appliances and MELs",72,72,71,72,72,71,1.33]
[null,"Ventilation",72,72,71,72,72,40,38.53]
[null,"Total Usage",{"$f":"SUM(C8:C13)","v":352},286,265,352,286,218,172.10999999999999]
[null,"Site Generation",0,0,50,0,0,0,{"$f":"(E15)*K$8","v":6.5}]
[null,"Net Energy Use",{"$f":"C14-C15","v":352},286,215,352,286,218,178.60999999999999]
[null,"Added Annual Mortgage Cost w/o Site Gen.",null,null,null,null,null,null,{"$f":"G72","v":52.69195761819126}]
[null,"Net Cash Flow to Consumer w/o Site Gen. ",null,null,null,null,null,null,{"$f":"I14-I17","v":119.41804238180873}]
[null,"Added Annual Mortgage Cost with Site Gen.",null,null,null,null,null,null,{"$f":"G74","v":52.69195761819126}]
[null,"Net Cash Flow to Consumer with Site Gen.",null,null,null,null,null,null,{"$f":"I16-I19","v":125.91804238180873},null,"Neutral Cost Criteria Met?",null,null,{"$f":"(IF(I20>0,\"Yes\",\"No\"))","v":"Yes"}]
[]
[null,"Measure","Builder Standard Practice (Optional)","Code Minimum House*","NCTH House* ","Total Incremental  Cost + 10% markup)","Amortized Annual Cost (30 year mortgage, 7% interest)","Footnotes","  * The Code Minimum House costs may be entered as zeroes, with incremental costs entered for the NCTH House"]
[null,"Thermal Enclosure:",{"$f":"SUM(C24,C29,C34,C38,C39)","v":0},{"$f":"SUM(D24,D29,D34,D38,D39)","v":0},{"$f":"SUM(E24,E29,E34,E38,E39)","v":500},{"$f":"(E23-D23)*1.1","v":550},{"$f":" F23*( 0.07/12/(1 - (1 + 0.07/12) ^(-360)))*12","v":43.909964681826054}]
[null,"Roof / Attic",{"$f":"SUM(C25:C28)","v":0},{"$f":"SUM(D25:D28)","v":0},{"$f":"SUM(E25:E28)","v":0},{"$f":"(E24-D24)*1.1","v":0},{"$f":" F24*( 0.07/12/(1 - (1 + 0.07/12) ^(-360)))*12","v":0}]
[null,"Cathedral Roof",0,0,0,0,0]
[null,"Flat Ceiling",0,0,0,0,0]
[null,"Radiant Barrier",0,0,0,0,0]
[null,"Other Roof Attic Measure",0,0,0,0,0]
[null,"Wall",{"$f":"SUM(C30:C33)","v":0},{"$f":"SUM(D30:D33)","v":0},{"$f":"SUM(E30:E33)","v":0},0,0]
[null,"Cavity Insulation",0,0,0,0,0]
[null,"Insulating Sheathing",0,0,0,0,0]
[null,"Advanced Framing",0,0,0,0,0]
[null,"Other Wall Measure",0,0,0,0,0]
[null,"Foundation",{"$f":"SUM(C35:C37)","v":0},{"$f":"SUM(D35:D37)","v":0},{"$f":"SUM(E35:E37)","v":500},550,43.909964681826054]
[null,"Slab",0,0,500,550,43.909964681826054]
[null,"Crawlspace",0,0,0,0,0]
[null,"Basement",0,0,0,0,0]
[null,"Air Infiltration Reduction",0,0,0,0,0]
[null,"Other Enclosure Measures",0,0,0,0,0]
[null,"Windows:",{"$f":"SUM(C41:C47)","v":0},{"$f":"SUM(D41:D47)","v":0},{"$f":"SUM(E41:E47)","v":0},0,0]
[null,"Glazing: U-Factor / SHGC",0,0,0,0,0]
[null,"Slider (horz)",0,0,0,0,0]
[null,"Slider (vert)",0,0,0,0,0]
[null,"Fixed",0,0,0,0,0]
[null,"Patio",0,0,0,0,0]
[null,"French",0,0,0,0,0]
[null,"Other Window Measures",0,0,0,0,0]
[null,"HVAC System:",{"$f":"SUM(C49:C53)","v":0},{"$f":"SUM(D49:D53)","v":0},{"$f":"SUM(E49:E53)","v":100},110.00000000000001,8.7819929363652118]
[null,"Furnace: AFUE",0,0,0,0,0]
[null,"A/C: SEER",0,0,0,0,0]
[null,"Ducts",0,0,100,110.00000000000001,8.7819929363652118]
[null,"Ventilation",0,0,0,0,0]
[null,"Other HVAC Measures",0,0,0,0,0]
[null,"Water Heating:",{"$f":"SUM(C55:C59)","v":0},{"$f":"SUM(D55:D59)","v":0},{"$f":"SUM(E55:E59)","v":0},0,0]
[null,"Water Heater Size",0,0,0,0,0]
[null,"Solar System",0,0,0,0,0]
[null,"Tankless",0,0,0,0,0]
[null,"Distribution Type",0,0,0,0,0]
[null,"Other Water Heating",0,0,0,0,0]
[null,"Lighting:",{"$f":"SUM(C61:C63)","v":0},{"$f":"SUM(D61:D63)","v":0},{"$f":"SUM(E61:E63)","v":0},0,0]
[null,"Hard Wired Fluorescents",0,0,0,0,0]
[null,"Compact Fluorescents",0,0,0,0,0]
[null,"Other Lighting Measures",0,0,0,0,0]
[null,"Appliances:",{"$f":"SUM(C65:C66)","v":0},{"$f":"SUM(D65:D66)","v":0},{"$f":"SUM(E65:E66)","v":0},0,0]
[null,"Energy Star",0,0,0,0,0]
[null,"Other Appliance Measures",0,0,0,0,0]
[null,"Misc Electric Loads:",{"$f":"SUM(C68:C69)","v":0},{"$f":"SUM(D68:D69)","v":0},{"$f":"SUM(E68:E69)","v":0},0,0]
[null,"Home Automation",0,0,0,0,0]
[null,"Other MEL Measures",0,0,0,0,0]
[null,"Other Measures",0,0,0,0,0]
[null,"3rd Party Inspections and QA Testing",0,0,0,0,0]
[null,"Total Energy Efficiency Investment",{"$f":"SUM(C23,C40,C48,C54,C60,C64,C67,C70,C71)","v":0},{"$f":"SUM(D23,D40,D48,D54,D60,D64,D67,D70,D71)","v":0},{"$f":"SUM(E23,E40,E48,E54,E60,E64,E67,E70,E71)","v":600},660,52.69195761819126]
[null,"Site Generation",0,0,0,{"$f":"(E73-D73)*1.1","v":0},0]
[null,"Total with Site Generation",{"$f":"C72+C73","v":0},{"$f":"D72+D73","v":0},{"$f":"E72+E73","v":600},660,52.69195761819126]
[null,"REBATES / INCENTIVES",{"$f":"SUM(C76:C79)","v":0},{"$f":"SUM(D76:D79)","v":0},{"$f":"SUM(E76:E79)","v":0},0,0]
[null,"SMUD Rule 15 Hook Up Fee Discount",0,0,0,0,0]
[null,"Incentive for Lighting and Energy Star",0,0,0,0,0]
[null,"SMUD PV Buydown",0,0,0,0,0]
[null,"Other",0,0,0,0,0]
[null,"Total Incremental Cost to Buyer Including Incentives",{"$f":"SUM(C74:C75)","v":0},{"$f":"SUM(D74:D75)","v":0},{"$f":"SUM(E74:E75)","v":600},660,52.69195761819126]